BEGIN:VCALENDAR
VERSION:2.0
PRODID:-//UP BAR REVIEW - ECPv6.14.2//NONSGML v1.0//EN
CALSCALE:GREGORIAN
METHOD:PUBLISH
X-ORIGINAL-URL:https://upbarreview.com
X-WR-CALDESC:Events for UP BAR REVIEW
REFRESH-INTERVAL;VALUE=DURATION:PT1H
X-Robots-Tag:noindex
X-PUBLISHED-TTL:PT1H
BEGIN:VTIMEZONE
TZID:UTC
BEGIN:STANDARD
TZOFFSETFROM:+0000
TZOFFSETTO:+0000
TZNAME:UTC
DTSTART:20240101T000000
END:STANDARD
END:VTIMEZONE
BEGIN:VEVENT
DTSTART;TZID=UTC:20240901T080000
DTEND;TZID=UTC:20240901T120000
DTSTAMP:20260420T213014
CREATED:20240827T004747Z
LAST-MODIFIED:20240827T011903Z
UID:10001491-1725177600-1725192000@upbarreview.com
SUMMARY:Twin Bridge Rescue Squad - Annual Breakfast - Crivitz
DESCRIPTION:Join us for our annual breakfast.We will be serving scrambled eggs\, pancakes\, sausage\, hashbrowns\, coffee\, milk\, and juice.There will be bucket raffles\, a 50/50 raffle\, and calendar raffle tickets available.
URL:https://upbarreview.com/event/twin-bridge-rescue-squad-annual-breakfast-crivitz/
LOCATION:W11280 CR-X\, Crivitz\, WI\, 54114
CATEGORIES:Menominee
END:VEVENT
END:VCALENDAR