BEGIN:VCALENDAR
VERSION:2.0
PRODID:-//UP BAR REVIEW - ECPv6.14.2//NONSGML v1.0//EN
CALSCALE:GREGORIAN
METHOD:PUBLISH
X-ORIGINAL-URL:https://upbarreview.com
X-WR-CALDESC:Events for UP BAR REVIEW
REFRESH-INTERVAL;VALUE=DURATION:PT1H
X-Robots-Tag:noindex
X-PUBLISHED-TTL:PT1H
BEGIN:VTIMEZONE
TZID:UTC
BEGIN:STANDARD
TZOFFSETFROM:+0000
TZOFFSETTO:+0000
TZNAME:UTC
DTSTART:20240101T000000
END:STANDARD
END:VTIMEZONE
BEGIN:VEVENT
DTSTART;TZID=UTC:20240921T090000
DTEND;TZID=UTC:20240921T160000
DTSTAMP:20260420T211710
CREATED:20240827T025406Z
LAST-MODIFIED:20240827T025422Z
UID:10001619-1726909200-1726934400@upbarreview.com
SUMMARY:Wheels\, Wings\, & Things - Oconto
DESCRIPTION:MARK YOUR CALENDARS\, 16th annual Wheels\, Wings & Things car show! Last three years we had 350 cars\, 60+ airplanes\, seven food vendors\, remote control\, airshow by the Northern Aces remote control airplane group\, and many other things to see. We also will have craft vendors\, helicopter and airplane rides\, monster truck rides\, and an airshow.All this for only five dollars per show car with two people. Spectators are seven dollars each children under 12 free. ￼ veterans ceremony at 10 AM.Great oldies played all day. So much more than just a boring old car show.Saturday\, September 21\, 9 AM till 4 PM!
URL:https://upbarreview.com/event/wheels-wings-things-oconto/
LOCATION:J. Douglas Bake Municipal Airport\, 2981 Airport Rd\, Oconto\, WI\, 54153
CATEGORIES:Menominee
END:VEVENT
END:VCALENDAR