BEGIN:VCALENDAR
VERSION:2.0
PRODID:-//UP BAR REVIEW - ECPv6.14.2//NONSGML v1.0//EN
CALSCALE:GREGORIAN
METHOD:PUBLISH
X-ORIGINAL-URL:https://upbarreview.com
X-WR-CALDESC:Events for UP BAR REVIEW
REFRESH-INTERVAL;VALUE=DURATION:PT1H
X-Robots-Tag:noindex
X-PUBLISHED-TTL:PT1H
BEGIN:VTIMEZONE
TZID:UTC
BEGIN:STANDARD
TZOFFSETFROM:+0000
TZOFFSETTO:+0000
TZNAME:UTC
DTSTART:20240101T000000
END:STANDARD
END:VTIMEZONE
BEGIN:VEVENT
DTSTART;TZID=UTC:20240901T140000
DTEND;TZID=UTC:20240901T180000
DTSTAMP:20260420T212824
CREATED:20240827T003506Z
LAST-MODIFIED:20240827T003522Z
UID:10001487-1725199200-1725213600@upbarreview.com
SUMMARY:Bobbi Js Roadside Saloon - End of Summer Bash - Crivitz
DESCRIPTION:Pulled pork\, corn on the cob\, potato salad\, and Booya Music by Eddy’s Crew
URL:https://upbarreview.com/event/bobbi-js-roadside-saloon-end-of-summer-bash/
LOCATION:Bobbi Js Roadside Saloon\, N9464 Parkway Rd\, Crivitz\, WI\, 54114
CATEGORIES:Menominee
END:VEVENT
END:VCALENDAR