BEGIN:VCALENDAR
VERSION:2.0
PRODID:-//UP BAR REVIEW - ECPv6.14.2//NONSGML v1.0//EN
CALSCALE:GREGORIAN
METHOD:PUBLISH
X-WR-CALNAME:UP BAR REVIEW
X-ORIGINAL-URL:https://upbarreview.com
X-WR-CALDESC:Events for UP BAR REVIEW
REFRESH-INTERVAL;VALUE=DURATION:PT1H
X-Robots-Tag:noindex
X-PUBLISHED-TTL:PT1H
BEGIN:VTIMEZONE
TZID:UTC
BEGIN:STANDARD
TZOFFSETFROM:+0000
TZOFFSETTO:+0000
TZNAME:UTC
DTSTART:20240101T000000
END:STANDARD
END:VTIMEZONE
BEGIN:VEVENT
DTSTART;TZID=UTC:20240818T140000
DTEND;TZID=UTC:20240818T163000
DTSTAMP:20260421T001644
CREATED:20240626T180300Z
LAST-MODIFIED:20240626T180457Z
UID:10000747-1723989600-1723998600@upbarreview.com
SUMMARY:Bob Berndt Theatre - Grand Opening - Crivitz
DESCRIPTION:Join us for our first ever music in the park! Enjoy some food\, drinks\, and melodies woven by the N.E.W Concert Band and Daze2Nights. Remember to bring your seats\, friends\, and dancing shoes as we commemorate the unveiling of the Bob Berndt Theater.
URL:https://upbarreview.com/event/bob-berndt-theatre-grand-opening-crivitz/
LOCATION:Bob Berndt Theatre\, 515 Park Place\, Crivitz\, WI\, 54114
CATEGORIES:Menominee
END:VEVENT
END:VCALENDAR