BEGIN:VCALENDAR
VERSION:2.0
PRODID:-//UP BAR REVIEW - ECPv6.14.2//NONSGML v1.0//EN
CALSCALE:GREGORIAN
METHOD:PUBLISH
X-WR-CALNAME:UP BAR REVIEW
X-ORIGINAL-URL:https://upbarreview.com
X-WR-CALDESC:Events for UP BAR REVIEW
REFRESH-INTERVAL;VALUE=DURATION:PT1H
X-Robots-Tag:noindex
X-PUBLISHED-TTL:PT1H
BEGIN:VTIMEZONE
TZID:UTC
BEGIN:STANDARD
TZOFFSETFROM:+0000
TZOFFSETTO:+0000
TZNAME:UTC
DTSTART:20240101T000000
END:STANDARD
END:VTIMEZONE
BEGIN:VEVENT
DTSTART;TZID=UTC:20240914T090000
DTEND;TZID=UTC:20240914T150000
DTSTAMP:20260420T211703
CREATED:20240814T212553Z
LAST-MODIFIED:20240814T212553Z
UID:10001445-1726304400-1726326000@upbarreview.com
SUMMARY:Auntie & Eve Candle Co- Fall Vintage Market - Marinette
DESCRIPTION:Get ready to immerse yourself in all things fall at our 5th Annual Fall Vintage Market!  Gather your besties and join us for a day filled with treasures\, nostalgia\, and autumnal vibes. Our curated lineup of vendors promises unique finds\, while our festive fall photo area will provide the perfect backdrop for making memories. Mark your calendars for Saturday\, September 14th\, from 9 AM to 3 PM\, and join us at The Junky Artisan in Marinette\, Wisconsin. Trust us\, this is one event you won’t want to miss! Stay tuned for more updates as we count down to the biggest market of the season. See you there! #FallVintageMarket #VintageFinds #AutumnTreasures
URL:https://upbarreview.com/event/auntie-eve-candle-co-fall-vintage-market-marinette/
LOCATION:Auntie & Eve Candle Co\, N4184 Schacht rd\, Marinette\, WI\, 54143
CATEGORIES:Menominee
END:VEVENT
END:VCALENDAR