BEGIN:VCALENDAR
VERSION:2.0
PRODID:-//UP BAR REVIEW - ECPv6.14.2//NONSGML v1.0//EN
CALSCALE:GREGORIAN
METHOD:PUBLISH
X-ORIGINAL-URL:https://upbarreview.com
X-WR-CALDESC:Events for UP BAR REVIEW
REFRESH-INTERVAL;VALUE=DURATION:PT1H
X-Robots-Tag:noindex
X-PUBLISHED-TTL:PT1H
BEGIN:VTIMEZONE
TZID:UTC
BEGIN:STANDARD
TZOFFSETFROM:+0000
TZOFFSETTO:+0000
TZNAME:UTC
DTSTART:20250101T000000
END:STANDARD
END:VTIMEZONE
BEGIN:VEVENT
DTSTART;TZID=UTC:20250829T090000
DTEND;TZID=UTC:20250901T170000
DTSTAMP:20260424T162100
CREATED:20250904T022417Z
LAST-MODIFIED:20250904T022417Z
UID:10005904-1756458000-1756746000@upbarreview.com
SUMMARY:Downsizing
DESCRIPTION:
URL:https://upbarreview.com/event/downsizing/
CATEGORIES:Menominee
END:VEVENT
BEGIN:VEVENT
DTSTART;TZID=UTC:20250829T103000
DTEND;TZID=UTC:20250829T113000
DTSTAMP:20260424T162100
CREATED:20250904T025650Z
LAST-MODIFIED:20250904T025650Z
UID:10006203-1756463400-1756467000@upbarreview.com
SUMMARY:Storytime
DESCRIPTION:Join Miss Amanda in the Children’s area to listen to stories and make a project.  Storytime is a great way to introduce children to the Library and encourage their love of reading.  Storytime is every Friday at 10:30 AM.  Children must be accompanied by a caregiver.
URL:https://upbarreview.com/event/storytime/
CATEGORIES:Menominee
END:VEVENT
BEGIN:VEVENT
DTSTART;TZID=UTC:20250829T170000
DTEND;TZID=UTC:20250829T190000
DTSTAMP:20260424T162100
CREATED:20250403T021557Z
LAST-MODIFIED:20250403T021615Z
UID:10003970-1756486800-1756494000@upbarreview.com
SUMMARY:Forever Friendship Drop-in Center - Mens Social Sober Club - Kingsford
DESCRIPTION:A safe and sober space for men to get together and hangout or talk about issues that affect men in our society. We have different games\, community outings and events depending on wether.
URL:https://upbarreview.com/event/forever-friendship-drop-in-center-mens-social-sober-club-iron-mountain/2025-08-29/
LOCATION:Forever Friendship Drop-in Center\, 501 S Carpenter Ave\, Kingsford\, MI
CATEGORIES:Ironmountain
END:VEVENT
BEGIN:VEVENT
DTSTART;TZID=UTC:20250829T170000
DTEND;TZID=UTC:20250829T190000
DTSTAMP:20260424T162100
CREATED:20250904T023719Z
LAST-MODIFIED:20250904T023719Z
UID:10006078-1756486800-1756494000@upbarreview.com
SUMMARY:Men's Social Sober Club
DESCRIPTION:A safe and sober space for men to get together and hangout or talk about issues that affect men in our society. We have different games\, community outings and events depending on wether.
URL:https://upbarreview.com/event/mens-social-sober-club/
CATEGORIES:Ironmountain
END:VEVENT
BEGIN:VEVENT
DTSTART;TZID=UTC:20250829T170000
DTEND;TZID=UTC:20250829T200000
DTSTAMP:20260424T162100
CREATED:20250619T192236Z
LAST-MODIFIED:20250619T192236Z
UID:10004835-1756486800-1756497600@upbarreview.com
SUMMARY:Upperhand Brewery - Friday Live Music - Escanaba
DESCRIPTION:Join us for live music every Sunday 2-5p and Friday 5-8p. Beginning June 1st through August 31st.
URL:https://upbarreview.com/event/upperhand-brewery-friday-live-music-escanaba/2025-08-29/
LOCATION:Upper Hand Brewery\, 3525 Airport Rd\, Escanaba\, WI\, 49829
CATEGORIES:Menominee
END:VEVENT
BEGIN:VEVENT
DTSTART;TZID=UTC:20250829T190000
DTEND;TZID=UTC:20250829T220000
DTSTAMP:20260424T162100
CREATED:20250801T181809Z
LAST-MODIFIED:20250801T181809Z
UID:10005821-1756494000-1756504800@upbarreview.com
SUMMARY:Adrian & Meredith Band
DESCRIPTION:Adrian Krygowski’s gritty vocals\, Meredith’s Krygowski’s fiery fiddling\, and the band’s distinctive\, foot-stomping bounce and sense of eclecticism—all of it has ferocious intentionality. The band will be LIVE at the Ore Dock Brewing Co!\nDoors open @ 7pm\nShow starts @ 8pm\n$10 • No Refunds \nadrianandmeredith.com
URL:https://upbarreview.com/event/adrian-meredith-band/
CATEGORIES:Marquette
END:VEVENT
BEGIN:VEVENT
DTSTART;TZID=UTC:20250829T190000
DTEND;TZID=UTC:20250829T220000
DTSTAMP:20260424T162100
CREATED:20250904T023704Z
LAST-MODIFIED:20250904T023704Z
UID:10006075-1756494000-1756504800@upbarreview.com
SUMMARY:Dinner with Cats Meows
DESCRIPTION:Dinner with the famous Cats Meows and all her fans!\n#aprilengman304\n#engmansafc\n#aprilengman\n#nicholasengman\n#lucasengman\n#catsmeows\n#ThirstTrap\n#attentionwhore
URL:https://upbarreview.com/event/dinner-with-cats-meows-2/
CATEGORIES:Ironmountain
END:VEVENT
BEGIN:VEVENT
DTSTART;TZID=UTC:20250829T190000
DTEND;TZID=UTC:20250829T230000
DTSTAMP:20260424T162100
CREATED:20250904T022931Z
LAST-MODIFIED:20250904T022931Z
UID:10005977-1756494000-1756508400@upbarreview.com
SUMMARY:FRI 8.29.25 the 4onthefloor @ GLADSTONE\, MI (Wally's)
DESCRIPTION:The 4onthefloor are returning to Wally’s for a night of rock’n’roll! Multiple sets\, let’s party!!
URL:https://upbarreview.com/event/fri-8-29-25-the-4onthefloor-gladstone-mi-wallys/
CATEGORIES:Menominee
END:VEVENT
BEGIN:VEVENT
DTSTART;TZID=UTC:20250829T190000
DTEND;TZID=UTC:20250829T230000
DTSTAMP:20260424T162100
CREATED:20250904T025615Z
LAST-MODIFIED:20250904T025620Z
UID:10006189-1756494000-1756508400@upbarreview.com
SUMMARY:Oconto Falls vs. St. Mary's Springs | High-School Football
DESCRIPTION:Oconto Falls vs St. Mary’s Springs | High-School Football\n🔴 𝐖𝐀𝐓𝐂𝐇 𝐋𝐈𝐕𝐄 : https://faiz.usaenginesports.com/hs-football.php\nThe St. Mary’s Springs (Fond du Lac\, WI) varsity football team has a home non-conference game vs. Oconto Falls (WI) on Friday\, August 29 @ 7p. \nPlease Like And Share This Event\, Thank You\nHave a good time watching…! \n#hsfootball #football
URL:https://upbarreview.com/event/oconto-falls-vs-st-marys-springs-high-school-football/
CATEGORIES:Menominee
END:VEVENT
BEGIN:VEVENT
DTSTART;TZID=UTC:20250829T190000
DTEND;TZID=UTC:20250830T000000
DTSTAMP:20260424T162100
CREATED:20250904T022021Z
LAST-MODIFIED:20250904T022021Z
UID:10005872-1756494000-1756512000@upbarreview.com
SUMMARY:Menominee v. Marinette Hs*(Football)
DESCRIPTION:Menominee vs. Marinette Hs*(Football)playfootball.highschoolive.com\nThe Marinette (WI) varsity football team has a home non-conference game vs. Menominee (MI) on Friday\, August 29 @ 7p. \nWe present online services For high school sports new season\nIn the form of live streaming with the best quality full HD quality\nenjoy your favorite Sports! \nMenominee vs Marinette\nMenominee vs. Marinette\nMenominee @ Marinette\nMenominee v Marinette\nMenominee – Marinette\nMenominee Marinette\nMarinette vs Menominee\nMarinette vs. Menominee\nMarinette @ Menominee\nMarinette v Menominee\nMarinette – Menominee\nMarinette Menominee
URL:https://upbarreview.com/event/menominee-v-marinette-hsfootball/
CATEGORIES:Menominee
END:VEVENT
BEGIN:VEVENT
DTSTART;TZID=UTC:20250829T190000
DTEND;TZID=UTC:20250830T000000
DTSTAMP:20260424T162100
CREATED:20250904T022107Z
LAST-MODIFIED:20250904T022107Z
UID:10005886-1756494000-1756512000@upbarreview.com
SUMMARY:Menominee V-s Marinette H*S_Football
DESCRIPTION:Menominee vs. Marinette H*S_Footballhtb.highschoolive.com\nThe Marinette (WI) varsity football team has a home non-conference game vs. Menominee (MI) on Friday\, August 29 @ 7p. \nWe present online services For high school sports new season\nIn the form of live streaming with the best quality full HD quality\nenjoy your favorite Sports! \nMenominee vs Marinette\nMenominee vs. Marinette\nMenominee @ Marinette\nMenominee v Marinette\nMenominee – Marinette\nMenominee Marinette\nMarinette vs Menominee\nMarinette vs. Menominee\nMarinette @ Menominee\nMarinette v Menominee\nMarinette – Menominee\nMarinette Menominee
URL:https://upbarreview.com/event/menominee-v-s-marinette-hs_football/
CATEGORIES:Menominee
END:VEVENT
BEGIN:VEVENT
DTSTART;TZID=UTC:20250829T190000
DTEND;TZID=UTC:20250830T000000
DTSTAMP:20260424T162100
CREATED:20250904T022108Z
LAST-MODIFIED:20250904T022108Z
UID:10005887-1756494000-1756512000@upbarreview.com
SUMMARY:Menominee V𝐒. Marinette Live_Football_2025
DESCRIPTION:Menominee vs. Marinette Live_Football_2025stream.sporthighschool.com\nThe Marinette (WI) varsity football team has a home non-conference game vs. Menominee (MI) on Friday\, August 29 @ 7p. \nMenominee vs Marinette\nMenominee vs. Marinette\nMenominee @ Marinette\nMenominee v Marinette\nMenominee – Marinette\nMenominee Marinette\nMarinette vs Menominee\nMarinette vs. Menominee\nMarinette @ Menominee\nMarinette v Menominee\nMarinette – Menominee\nMarinette Menominee
URL:https://upbarreview.com/event/menominee-v%f0%9d%90%92-marinette-live_football_2025/
CATEGORIES:Menominee
END:VEVENT
BEGIN:VEVENT
DTSTART;TZID=UTC:20250829T190000
DTEND;TZID=UTC:20250830T000000
DTSTAMP:20260424T162100
CREATED:20250904T023056Z
LAST-MODIFIED:20250904T023056Z
UID:10006000-1756494000-1756512000@upbarreview.com
SUMMARY:Mountain Iron-Buhl V𝐒. Cherry Live_Football_2025
DESCRIPTION:Mountain Iron-Buhl vs. Cherry Live_Football_2025stream.sporthighschool.com\nThe Cherry (Iron\, MN) varsity football team has a home conference game vs. Mountain Iron-Buhl (Mountain Iron\, MN) on Friday\, August 29 @ 7p. \nMountain Iron-Buhl vs Cherry\nMountain Iron-Buhl vs. Cherry\nMountain Iron-Buhl @ Cherry\nMountain Iron-Buhl v Cherry\nMountain Iron-Buhl – Cherry\nMountain Iron-Buhl Cherry\nCherry vs Mountain Iron-Buhl\nCherry vs. Mountain Iron-Buhl\nCherry @ Mountain Iron-Buhl\nCherry v Mountain Iron-Buhl\nCherry – Mountain Iron-Buhl\nCherry Mountain Iron-Buhl
URL:https://upbarreview.com/event/mountain-iron-buhl-v%f0%9d%90%92-cherry-live_football_2025/
CATEGORIES:Ironmountain
END:VEVENT
BEGIN:VEVENT
DTSTART;TZID=UTC:20250829T200000
DTEND;TZID=UTC:20250829T230000
DTSTAMP:20260424T162100
CREATED:20250207T191746Z
LAST-MODIFIED:20250207T191746Z
UID:10002969-1756497600-1756508400@upbarreview.com
SUMMARY:The Granada - Karaoke Night - Escanaba
DESCRIPTION:Welcome to the Hottest Karaoke show in Town! Every Friday at The Granada in Escanaba\, MI Starts at 9:00 pm\nCreate your FREE Performer Account with Songbooks Online App to Browse the Karaoke song library\, keep a favorites list and submit your song requests remotely! Use Show ID: MSK23 after you create your account. You can also just tell me your name and the song you want if you don’t know how to install an app.
URL:https://upbarreview.com/event/the-granada-karaoke-night-escanaba/2025-08-29/
LOCATION:The Granada\, 330 S 10th St\, Escanaba\, MI
CATEGORIES:Menominee
END:VEVENT
BEGIN:VEVENT
DTSTART;TZID=UTC:20250829T200000
DTEND;TZID=UTC:20250829T230000
DTSTAMP:20260424T162100
CREATED:20250904T022716Z
LAST-MODIFIED:20250904T022716Z
UID:10005945-1756497600-1756508400@upbarreview.com
SUMMARY:Karaoke at The Granada in Escanaba\, MI \, Every Friday
DESCRIPTION:Welcome to the Hottest Karaoke show in Town! Every Friday at The Granada in Escanaba\, MI Starts at 9:00 pm\nCreate your FREE Performer Account with Songbooks Online App to Browse the Karaoke song library\, keep a favorites list and submit your song requests remotely! Use Show ID: MSK23 after you create your account. You can also just tell me your name and the song you want if you don’t know how to install an app.
URL:https://upbarreview.com/event/karaoke-at-the-granada-in-escanaba-mi-every-friday/
LOCATION:The Granada\, 330 S 10th St\, Escanaba\, MI
CATEGORIES:Menominee
END:VEVENT
BEGIN:VEVENT
DTSTART;TZID=UTC:20250829T210000
DTEND;TZID=UTC:20250830T010000
DTSTAMP:20260424T162100
CREATED:20250904T023158Z
LAST-MODIFIED:20250904T023158Z
UID:10006020-1756501200-1756515600@upbarreview.com
SUMMARY:Karaoke at Round 2\, 9pm-1am central\, Every Other Friday
DESCRIPTION:Karaoke at Round 2\, 9pm-1am central\, Every Other Friday
URL:https://upbarreview.com/event/karaoke-at-round-2-9pm-1am-central-every-other-friday-2/
LOCATION:Round 2\, 407 S Stephenson Ave\, Iron Mountain\, MI\, 49801
CATEGORIES:Ironmountain
END:VEVENT
BEGIN:VEVENT
DTSTART;TZID=UTC:20250829T220000
DTEND;TZID=UTC:20250830T010000
DTSTAMP:20260424T162100
CREATED:20250904T022626Z
LAST-MODIFIED:20250904T022626Z
UID:10005937-1756504800-1756515600@upbarreview.com
SUMMARY:Late night with Lance
DESCRIPTION:Dancing the night away!
URL:https://upbarreview.com/event/late-night-with-lance/
CATEGORIES:Menominee
END:VEVENT
BEGIN:VEVENT
DTSTART;TZID=UTC:20250829T220000
DTEND;TZID=UTC:20250830T170000
DTSTAMP:20260424T162100
CREATED:20250904T022823Z
LAST-MODIFIED:20250904T022823Z
UID:10005967-1756504800-1756573200@upbarreview.com
SUMMARY:UP STEAM AND GAS TRACTOR SHOW
DESCRIPTION:Our 50th Annual Show is happening this weekend in Escanaba! 🎉If you’re nearby\, stop in and join the fun — hope to see you there!
URL:https://upbarreview.com/event/up-steam-and-gas-tractor-show/
CATEGORIES:Menominee
END:VEVENT
BEGIN:VEVENT
DTSTART;TZID=UTC:20250830T080000
DTEND;TZID=UTC:20250830T110000
DTSTAMP:20260424T162100
CREATED:20250724T002033Z
LAST-MODIFIED:20250724T002033Z
UID:10005546-1756540800-1756551600@upbarreview.com
SUMMARY:Escanaba Farmers Market
DESCRIPTION:Open 9am to Noon every Saturday through the end of October.
URL:https://upbarreview.com/event/escanaba-farmers-market-3/2025-08-30/
LOCATION:1501 Ludington St\, Escanaba\, MI
CATEGORIES:Menominee
END:VEVENT
BEGIN:VEVENT
DTSTART;TZID=UTC:20250830T080000
DTEND;TZID=UTC:20250830T110000
DTSTAMP:20260424T162100
CREATED:20250904T022716Z
LAST-MODIFIED:20250904T022716Z
UID:10005946-1756540800-1756551600@upbarreview.com
SUMMARY:Farmer's Market
DESCRIPTION:Open 9am to Noon every Saturday through the end of October.
URL:https://upbarreview.com/event/farmers-market/
CATEGORIES:Menominee
END:VEVENT
BEGIN:VEVENT
DTSTART;TZID=UTC:20250830T080000
DTEND;TZID=UTC:20250830T110000
DTSTAMP:20260424T162100
CREATED:20250904T023538Z
LAST-MODIFIED:20250904T025208Z
UID:10006058-1756540800-1756551600@upbarreview.com
SUMMARY:Labor Day sale
DESCRIPTION:Labor Day sale!!!!Clothing\, toys\, shoes and more .\nCome out and see what you find. \nAcross from Lawrys pasty shop in Ishpeming 🙂
URL:https://upbarreview.com/event/labor-day-sale/
CATEGORIES:Marquette
END:VEVENT
BEGIN:VEVENT
DTSTART;TZID=UTC:20250830T080000
DTEND;TZID=UTC:20250830T110000
DTSTAMP:20260424T162100
CREATED:20250904T032207Z
LAST-MODIFIED:20250904T032207Z
UID:10006258-1756540800-1756551600@upbarreview.com
SUMMARY:Hancock Summer Tori Satuday's 9-12
DESCRIPTION:Hyvää päivää (Good day)\, Hancock! 👋 Get ready for the vibrant atmosphere and local treasures at the Hancock Tori Market!Join us at\n📍 Quincy Green in Hancock\n🗓️ Saturday Mornings from\n⏰ 9 – 12 for a wonderful community experience. \nOur Tori Market is your go-to spot for: \n🥕 Fresh & Local Produce: Stock up on seasonal fruits\, vegetables\, and more from our hardworking local farmers.\nartisanal breads\, pastries\, jams\, and other delicious treats. \n🎨 Handcrafted Goods: Discover unique creations from talented local artisans – jewelry\, crafts\, home décor\, and more! \n☕ Delicious Bites & Sips: Grab a tasty snack or dessert for later from our diverse food vendors. \n🤝 Community Spirit: Connect with neighbors\, support local entrepreneurs\, and enjoy the friendly\, welcoming vibe of a traditional Tori. \nWhether you’re looking for the freshest ingredients\, a unique gift\, or just a delightful way to spend your day\, the Hancock Tori Market has something for everyone!\nMark yourself as “Going” or “Interested” to get reminders\, and don’t forget to invite your friends and family! Let’s celebrate our community and support local. Nähdään siellä (See you there)! \n#HancockToriMarket #ShopLocal #SupportLocalHancock #Keweenaw #UpperPeninsula #FinnishAmerican #CommunityMarket #hancocktori #HandmadeMarket #FreshProduce
URL:https://upbarreview.com/event/hancock-summer-tori-satudays-9-12/
CATEGORIES:Houghton
END:VEVENT
BEGIN:VEVENT
DTSTART;TZID=UTC:20250830T080000
DTEND;TZID=UTC:20250830T120000
DTSTAMP:20260424T162100
CREATED:20250620T154032Z
LAST-MODIFIED:20250620T154032Z
UID:10004997-1756540800-1756555200@upbarreview.com
SUMMARY:Iron Mountain Farmers & Artisans Market
DESCRIPTION:Buy local\, shop and support 30-40 fine vendors from the Iron Mountain area. The Downtown Farmers & Artisans Market (FAM) is held Saturdays in the parking lot across from Dickinson County Library at the corner of A Street and Iron Mountain Street in Downtown Iron Mountain MI. If you need help finding parking\, please go to downtownironmountain.com/parking to see the map.\nThe FAM is a great place to enjoy a sense of community while supporting local vendors and downtown businesses. The FAM offers a unique combination of local and organic produce\, seasonal plants\, honey & maple syrup\, flowers\, locally made baked goods\, and locally made crafts. To see the full vendor list\, go to downtiwnironmountain.com/farmers-artisans-market
URL:https://upbarreview.com/event/iron-mountain-farmers-artisans-market/2025-08-30/
LOCATION:501 S Stephenson Ave\, Iron Mountain\, MI
CATEGORIES:Ironmountain
END:VEVENT
BEGIN:VEVENT
DTSTART;TZID=UTC:20250830T080000
DTEND;TZID=UTC:20250830T120000
DTSTAMP:20260424T162100
CREATED:20250904T023056Z
LAST-MODIFIED:20250904T023056Z
UID:10006001-1756540800-1756555200@upbarreview.com
SUMMARY:Farmers & Artisans Market Saturday
DESCRIPTION:Buy local\, shop and support 30-40 fine vendors from the Iron Mountain area. The Downtown Farmers & Artisans Market (FAM) is held Saturdays in the parking lot across from Dickinson County Library at the corner of A Street and Iron Mountain Street in Downtown Iron Mountain MI. If you need help finding parking\, please go to downtownironmountain.com/parking to see the map.\nThe FAM is a great place to enjoy a sense of community while supporting local vendors and downtown businesses. The FAM offers a unique combination of local and organic produce\, seasonal plants\, honey & maple syrup\, flowers\, locally made baked goods\, and locally made crafts. To see the full vendor list\, go to downtiwnironmountain.com/farmers-artisans-market
URL:https://upbarreview.com/event/farmers-artisans-market-saturday/
CATEGORIES:Ironmountain
END:VEVENT
BEGIN:VEVENT
DTSTART;TZID=UTC:20250830T080000
DTEND;TZID=UTC:20250830T150000
DTSTAMP:20260424T162100
CREATED:20250904T022423Z
LAST-MODIFIED:20250904T022423Z
UID:10005909-1756540800-1756566000@upbarreview.com
SUMMARY:Flea\, Farmer & Maker’s Market
DESCRIPTION:Outdoor flea market located on the grounds of Front Porch Market in Coleman\, WI with a wide variety of vendors! Last year we averaged 50 different vendors per market. Vintage\, antique & collectibles\, artisan: jewelry\, garden art\, candles and home decor; bakery\, maple syrup and honey…. New vendors welcomed.  Vendor set begins at 6am the day of market and market is open from 8am-3pm. Email frontporchmarketllc@gmail.com for registration info and to be prepared the day of the market. We will send a form to have filled out upon arrival. At this point we DO NOT take reservations over the phone or online. If someone is trying to sign you up for the market and take your money\, it is a scam.
URL:https://upbarreview.com/event/flea-farmer-makers-market-2/
CATEGORIES:Menominee
END:VEVENT
BEGIN:VEVENT
DTSTART;TZID=UTC:20250830T080000
DTEND;TZID=UTC:20250830T150000
DTSTAMP:20260424T162100
CREATED:20250904T023212Z
LAST-MODIFIED:20250904T023212Z
UID:10006024-1756540800-1756566000@upbarreview.com
SUMMARY:Yard sale!
DESCRIPTION:Yard sale with some furniture\, home decor\, above-stove microwave\, men’s and women’s clothing. Make sure to stop by ESPECIALLY if you need really nice big and tall men’s clothing.\nPriced to sell. All reasonable offers will be considered.
URL:https://upbarreview.com/event/yard-sale/
CATEGORIES:Ironmountain
END:VEVENT
BEGIN:VEVENT
DTSTART;TZID=UTC:20250830T080000
DTEND;TZID=UTC:20250830T170000
DTSTAMP:20260424T162100
CREATED:20250904T024031Z
LAST-MODIFIED:20250904T024031Z
UID:10006136-1756540800-1756573200@upbarreview.com
SUMMARY:Saturday Morning Group Run - QCRC MQT
DESCRIPTION:Join us at the store at 9am\, bring a buddy or meet a buddy and let’s get a run in together!\nAs usual\, the group will meet at the store at 9am for an easy Saturday morning run. Feel free to join the group for however long you feel like\, and as always we encourage walkers and runners of any pace to come on out. The store will be open if you have any belongings you don’t want to carry with you\, or if you need to use the restroom. \nWe can’t wait to see you out there!
URL:https://upbarreview.com/event/saturday-morning-group-run-qcrc-mqt-2/
END:VEVENT
BEGIN:VEVENT
DTSTART;TZID=UTC:20250830T090000
DTEND;TZID=UTC:20250830T120000
DTSTAMP:20260424T162100
CREATED:20250428T124102Z
LAST-MODIFIED:20250428T124921Z
UID:10004231-1756544400-1756555200@upbarreview.com
SUMMARY:Menominee Historic Downtown Farmers Market
DESCRIPTION:The countdown is on! Join us at Spies Public Library Parking Lot on May 24\, 2025\, from 9 AM to 12 PM for the grand opening of the Menominee Historic Downtown Farmers Market—and don’t forget\, we’ll be here every Saturday after that!\nEach week\, we’ll spotlight one of our amazing returning vendors\, and this week\, we’re thrilled to feature Rabbitry & Yarn LLC! ��\nGet ready for a stunning selection of: � Handspun yarn & handmade knitwear/crochet items\, designed and created with love � Naturally dyed mill-spun wool yarns using plants and insects for a truly one-of-a-kind touch � A special mill-spun blend of local sheep & angora fiber (if the mill finishes it in time!) � Beautiful handmade wood items—bowls\, honey dippers\, toys\, all crafted from local woods � A custom-designed organic cotton tote bag (because\, of course\, it features an adorable rabbit!)\nDon’t miss out on this fantastic opportunity to shop local\, support artisans\, and be part of something special. Mark your calendars and we’ll see you there!\n#FarmersMarket #ShopLocal #HandmadeGoods #RabbitryAndYarn #MenomineeMarket
URL:https://upbarreview.com/event/menominee-historic-downtown-farmers-market-5/2025-08-30/
LOCATION:Spies Public Library\, 940 1st St.\, Menominee\, MI\, 49858
CATEGORIES:Menominee
END:VEVENT
BEGIN:VEVENT
DTSTART;TZID=UTC:20250830T090000
DTEND;TZID=UTC:20250830T120000
DTSTAMP:20260424T162100
CREATED:20250904T021800Z
LAST-MODIFIED:20250904T021800Z
UID:10005833-1756544400-1756555200@upbarreview.com
SUMMARY:Menominee Historic Downtown Farmers Market
DESCRIPTION:� Labor Day Weekend Sweetness at the Market ��\nThis Saturday\, August 30\, the Menominee Historic Downtown Farmers Market brings the flavor and the fun to the Spies Public Library parking lot from 9 AM to Noon—940 1st Street\, Menominee. \nWe’re celebrating the long weekend with sunshine\, live music\, and a lineup of vendors that’ll make your heart (and pantry) full. \n� Vendor Spotlight: HQ Maple & Matt HQ Maple is serving up their beloved maple syrup in: \nClassic bottles � \nGingerbread cookie jars—adorable and perfect for gifting! \nAnd maybe a few bottles of their Bourbon-infused maple syrup… if they haven’t sold out! \nAs for Matt—his garden’s been unpredictable\, so you’ll have to come down and see what surprises he might bring. That’s the magic of market mornings! \n� Payment Options HQ Maple & Matt accept: \nCash  Debit/ Credit \nSNAP \nUP Fresh Food Access Program \nOnly three Saturdays left this season—don’t miss your chance to stock up and support local! \n� Snap a photo\, tag us\, and share the love: #MenomineeMarket #LoveWhereYouLive #LaborDayLocal #FreshFromTheUP #SupportLocal #lwylmenomineemi #BABO #Everyone
URL:https://upbarreview.com/event/menominee-historic-downtown-farmers-market-6/
CATEGORIES:Menominee
END:VEVENT
BEGIN:VEVENT
DTSTART;TZID=UTC:20250830T090000
DTEND;TZID=UTC:20250830T140000
DTSTAMP:20260424T162100
CREATED:20250904T021909Z
LAST-MODIFIED:20250904T021909Z
UID:10005857-1756544400-1756562400@upbarreview.com
SUMMARY:Rummage Sale
DESCRIPTION:Rummage sale Saturday 8/30 only! 9am-2pmN1142 R3 Drive Menominee\n*Lots of baby girls clothes from 0-3 months all the way up to 5t\, some 6. Baby boy clothes 0-9 months. Some older boy clothes size 16-18 or men’s small. Some older girls clothes xs and small. Women’s Xl to 2x. Some odds and ends too.
URL:https://upbarreview.com/event/rummage-sale/
CATEGORIES:Menominee
END:VEVENT
END:VCALENDAR