BEGIN:VCALENDAR
VERSION:2.0
PRODID:-//UP BAR REVIEW - ECPv6.14.2//NONSGML v1.0//EN
CALSCALE:GREGORIAN
METHOD:PUBLISH
X-WR-CALNAME:UP BAR REVIEW
X-ORIGINAL-URL:https://upbarreview.com
X-WR-CALDESC:Events for UP BAR REVIEW
REFRESH-INTERVAL;VALUE=DURATION:PT1H
X-Robots-Tag:noindex
X-PUBLISHED-TTL:PT1H
BEGIN:VTIMEZONE
TZID:UTC
BEGIN:STANDARD
TZOFFSETFROM:+0000
TZOFFSETTO:+0000
TZNAME:UTC
DTSTART:20250101T000000
END:STANDARD
END:VTIMEZONE
BEGIN:VEVENT
DTSTART;TZID=UTC:20251011T080000
DTEND;TZID=UTC:20251011T120000
DTSTAMP:20260424T143741
CREATED:20251006T131945Z
LAST-MODIFIED:20251006T131945Z
UID:10006504-1760169600-1760184000@upbarreview.com
SUMMARY:Farmers & Artisans Market Saturday
DESCRIPTION:Buy local\, shop and support 30-40 fine vendors from the Iron Mountain area. The Downtown Farmers & Artisans Market (FAM) is held Saturdays in the parking lot across from Dickinson County Library at the corner of A Street and Iron Mountain Street in Downtown Iron Mountain MI. If you need help finding parking\, please go to downtownironmountain.com/parking to see the map.\nThe FAM is a great place to enjoy a sense of community while supporting local vendors and downtown businesses. The FAM offers a unique combination of local and organic produce\, seasonal plants\, honey & maple syrup\, flowers\, locally made baked goods\, and locally made crafts. To see the full vendor list\, go to downtiwnironmountain.com/farmers-artisans-market
URL:https://upbarreview.com/event/farmers-artisans-market-saturday-2/
CATEGORIES:Ironmountain
END:VEVENT
BEGIN:VEVENT
DTSTART;TZID=UTC:20251011T080000
DTEND;TZID=UTC:20251011T120000
DTSTAMP:20260424T143741
CREATED:20251006T141504Z
LAST-MODIFIED:20251006T141504Z
UID:10006562-1760169600-1760184000@upbarreview.com
SUMMARY:Native Plants at the Marquette Farmers Market
DESCRIPTION:Meet us at the Saturday Marquette Market to shop the best of the nursery. Native plants for landscaping and habitat creation\, easy native plant garden kits\, and native shrubs for landscaping and wildlife. We will be there to answer all your questions and help you find the perfect plants!
URL:https://upbarreview.com/event/native-plants-at-the-marquette-farmers-market-3/
CATEGORIES:Marquette
END:VEVENT
BEGIN:VEVENT
DTSTART;TZID=UTC:20251011T080000
DTEND;TZID=UTC:20251011T120000
DTSTAMP:20260424T143741
CREATED:20251006T152935Z
LAST-MODIFIED:20251006T152935Z
UID:10006773-1760169600-1760184000@upbarreview.com
SUMMARY:FALL RUMMAGE AND BAKE SALE
DESCRIPTION:
URL:https://upbarreview.com/event/fall-rummage-and-bake-sale/
CATEGORIES:Houghton
END:VEVENT
BEGIN:VEVENT
DTSTART;TZID=UTC:20251011T080000
DTEND;TZID=UTC:20251011T150000
DTSTAMP:20260424T143741
CREATED:20251003T193402Z
LAST-MODIFIED:20251003T193402Z
UID:10006447-1760169600-1760194800@upbarreview.com
SUMMARY:Flea\, Farmer & Maker’s Market
DESCRIPTION:
URL:https://upbarreview.com/event/flea-farmer-makers-market-3/
CATEGORIES:Menominee
END:VEVENT
BEGIN:VEVENT
DTSTART;TZID=UTC:20251011T080000
DTEND;TZID=UTC:20251011T160000
DTSTAMP:20260424T143741
CREATED:20251006T150619Z
LAST-MODIFIED:20251006T150619Z
UID:10006758-1760169600-1760198400@upbarreview.com
SUMMARY:Concealed Pistol License Training Class
DESCRIPTION:If you are interested in getting your Michigan Concealed Pistol License\, and firearm safety\, this class is for you. This class will cover all the necessary information to obtain a CPL and basic firearms safety and handling in a safe and comfortable environment. Classes last 8 hours. The class consists of 5 hours of classroom instruction covering ammunition knowledge\, the fundamentals of pistol shooting\, pistol shooting positions\, firearms law\, avoiding a criminal attack\, and controlling a violent confrontation. The class also includes 3 hours of instruction on a shooting range.This class will require using a firearm; if you do not have a firearm or any other necessary equipment (50 rounds of ammunition\, safety glasses\, and hearing protection) please contact me and I will bring equipment for you to borrow. To reserve a seat\, or if you have any questions\, please contact me directly at upfirearmstraining@protonmail.com or (541) 272-2308 (call or text)\, or visit https://upfirearmstraining.com/.\nThe class cost is $125. A deposit of $25 will be required in advance.   Cancellations made 7 or more days in advance of the class date\, will receive a 100% refund.\nVisit https://upfirearmstraining.com/class-registration-form/ to register.\nThis CPL class is through Michigan Coalition for Responsible Gun Owners (MCRGO)\, a non-profit\, non-partisan organization.\nFor more information about the steps to getting your Michigan CPL visit https://mcrgo.org/yourcpl/.
URL:https://upbarreview.com/event/concealed-pistol-license-training-class-2/
CATEGORIES:Houghton
END:VEVENT
BEGIN:VEVENT
DTSTART;TZID=UTC:20251011T080000
DTEND;TZID=UTC:20251011T170000
DTSTAMP:20260424T143741
CREATED:20251006T142007Z
LAST-MODIFIED:20251006T142007Z
UID:10006631-1760169600-1760202000@upbarreview.com
SUMMARY:Saturday Morning Group Run - QCRC MQT
DESCRIPTION:Join us at the store at 9am\, bring a buddy or meet a buddy and let’s get a run in together!\nAs usual\, the group will meet at the store at 9am for an easy Saturday morning run. Feel free to join the group for however long you feel like\, and as always we encourage walkers and runners of any pace to come on out. The store will be open if you have any belongings you don’t want to carry with you\, or if you need to use the restroom. \nWe can’t wait to see you out there!
URL:https://upbarreview.com/event/saturday-morning-group-run-qcrc-mqt-3/
END:VEVENT
BEGIN:VEVENT
DTSTART;TZID=UTC:20251011T083000
DTEND;TZID=UTC:20251011T113000
DTSTAMP:20260424T143741
CREATED:20251006T145228Z
LAST-MODIFIED:20251006T145228Z
UID:10006698-1760171400-1760182200@upbarreview.com
SUMMARY:Volunteer Work Day and Picnic
DESCRIPTION:Come help clean up the trails and riverbanks at the Dead River Community Forest! Afterwards\, join UPLC staff and volunteers for a potluck and picnic to celebrate all the hard work we’ve accomplished this summer at the Preserve. \nRegister ahead so we can get you more details!\nhttps://www.uplandconservancy.org/volunteer
URL:https://upbarreview.com/event/volunteer-work-day-and-picnic/
END:VEVENT
BEGIN:VEVENT
DTSTART;TZID=UTC:20251011T090000
DTEND;TZID=UTC:20251011T120000
DTSTAMP:20260424T143741
CREATED:20251003T183315Z
LAST-MODIFIED:20251003T183315Z
UID:10006414-1760173200-1760184000@upbarreview.com
SUMMARY:Becoming an Outdoor Woman
DESCRIPTION:A full-day workshop designed to inspire and empower women to explore the outdoors with confidence. Hands-on sessions will cover skills like fishing\, Archery\, pellet guns\, and outdoor cooking\, with guidance from DNR instructors.\nSign up Link: (Posted soon)
URL:https://upbarreview.com/event/becoming-an-outdoor-woman/
CATEGORIES:Menominee
END:VEVENT
BEGIN:VEVENT
DTSTART;TZID=UTC:20251011T090000
DTEND;TZID=UTC:20251011T120000
DTSTAMP:20260424T143741
CREATED:20251006T141504Z
LAST-MODIFIED:20251006T141504Z
UID:10006561-1760173200-1760184000@upbarreview.com
SUMMARY:Fall Fest @ Marquette Mountain
DESCRIPTION:🍁 Fall Fest Fun is BACK at Marquette Mountain! 🧀\nForget the summer blues—it’s time to celebrate autumn with a full day of fun at our Fall Festival! \nWe’ve got everything you need for the perfect fall day\, whether you’re racing down the hill or just here for the good times: \nScenic Chairlift Rides: See the stunning fall colors from above! Get a breathtaking view of Marquette and Lake Superior. \nLive Music: Enjoy the vibes with great bands playing all afternoon. \nComfort Food & Drinks: Indulge in warm treats and ice-cold beverages to keep you fueled up. \nGames & Family Activities: Plenty of fun to keep the whole crew entertained! \nAnd\, of course\, the chaos returns with the second annual Legendary Cheese Roll! 🏃💨 Watch (or join!) the chase as competitors sprint down the hill after a rolling wheel of cheese. It’s the silliest\, cheesiest spectacle of the season! \nSpectator Admission is FREE! Bring your friends\, bring your family\, and bring your best cheering voice. \n📅 When: 10/11 Starting at 10am\n📍 Where: Marquette Mountain Resort \nWant to roll? You can still register to race! Check out the details and fees on our website https://www.marquettemountain.com/2025/08/12/marquette-mountain-resort-cheese-roll/. \nDon’t miss the best way to kick off fall! Tag a friend who needs to be there! 👇 \n#MarquetteMountain #FallFest #CheeseRoll #MarquetteMI #UpperPeninsula #FallColors #FamilyFun #MichiganEvents #EveryDayWines
URL:https://upbarreview.com/event/fall-fest-marquette-mountain/
CATEGORIES:Marquette
END:VEVENT
BEGIN:VEVENT
DTSTART;TZID=UTC:20251011T090000
DTEND;TZID=UTC:20251011T130000
DTSTAMP:20260424T143741
CREATED:20251006T150622Z
LAST-MODIFIED:20251006T150622Z
UID:10006760-1760173200-1760187600@upbarreview.com
SUMMARY:Calumet Farmers Market
DESCRIPTION:Saturdays are made for a day in the park! Join us at our location on Agassiz Park for your Farmers Market fix.\nFrom June to October\, the best of the Keweenaw’s growers\, artisans\, and chefs will bring their goods each Saturday to Agassiz Park. \nRegular Hours: 10AM-2PM \nFind Vendor Maps on our Homepage: fromthegroundfmc.org\nCustomers can use credit/debit cards to purchase tokens at the Market Table to be used as cash with market vendors.  \nMany of our market vendors accept cash\, check\, or card in addition to Michigan and Keweenaw food assistance programs.
URL:https://upbarreview.com/event/calumet-farmers-market-2/
CATEGORIES:Houghton
END:VEVENT
BEGIN:VEVENT
DTSTART;TZID=UTC:20251011T090000
DTEND;TZID=UTC:20251011T140000
DTSTAMP:20260424T143741
CREATED:20251006T144940Z
LAST-MODIFIED:20251006T144940Z
UID:10006682-1760173200-1760191200@upbarreview.com
SUMMARY:VFW Fall Craft Show
DESCRIPTION:Join us for a fun filled day of  crafts\, vendors and and amazing soup luncheon.
URL:https://upbarreview.com/event/vfw-fall-craft-show/
CATEGORIES:Marquette
END:VEVENT
BEGIN:VEVENT
DTSTART;TZID=UTC:20251011T090000
DTEND;TZID=UTC:20251011T150000
DTSTAMP:20260424T143741
CREATED:20251003T175204Z
LAST-MODIFIED:20251003T175204Z
UID:10006325-1760173200-1760194800@upbarreview.com
SUMMARY:Fall Frenzy Craft Show
DESCRIPTION:🍁 𝐅𝐚𝐥𝐥 𝐅𝐫𝐞𝐧𝐳𝐲 𝐂𝐫𝐚𝐟𝐭 𝐒𝐡𝐨𝐰 🍁\nJoin us at the Fall Frenzy Craft Show and shop a wide variety of unique\, handmade items perfect for the season! From home décor and doormats to gnomes\, lawn décor\, and so much more\, you’ll find plenty of fall-inspired treasures to brighten your home and yard. \n𝐃𝐚𝐭𝐞:  Saturday\, October 11\n𝐓𝐢𝐦𝐞:  9:00 AM – 3:00 PM\n𝐋𝐨𝐜𝐚𝐭𝐢𝐨𝐧: Community REC Center\n𝐅𝐫𝐞𝐞 𝐀𝐝𝐦𝐢𝐬𝐬𝐢𝐨𝐧 \n👉 Interested in being a vendor? Please contact Skatzbeck@marinette.wi.us directly. \n⚠️ 𝐈𝐦𝐩𝐨𝐫𝐭𝐚𝐧𝐭: If anyone reaches out claiming to represent this event and is not from this official page\, it is a scam. We will never ask you to share personal details. Please do not share any personal information with anyone.
URL:https://upbarreview.com/event/fall-frenzy-craft-show/
CATEGORIES:Menominee
END:VEVENT
BEGIN:VEVENT
DTSTART;TZID=UTC:20251011T090000
DTEND;TZID=UTC:20251011T150000
DTSTAMP:20260424T143741
CREATED:20251006T141652Z
LAST-MODIFIED:20251006T141652Z
UID:10006583-1760173200-1760194800@upbarreview.com
SUMMARY:Oscar Mayer Wienermobile @ Fall Fest!
DESCRIPTION:The Wienermobile’s Rolling into Town!\nGuess what’s rolling into Marquette Mountain? 🌭 It’s the Oscar Mayer Wienermobile! \nCome check out this legendary ride\, get a tour inside\, and snag some awesome free swag! We’re talking famous Wienermobile Whistles and other goodies. \n📅 When: Saturday\, October 11th from 10 AM – 4 PM\n📍 Where: Marquette Mountain \nBring the family to Fall Fest for a seriously fun time! We’ll have other activities going on\,  including the Cheese Roll\, live music\, chair lift rides to see the colors\, and much more! \nDon’t miss your chance to see the Wienermobile in person! \n@OscarMayer \n#Wienermobile #OscarMayer #MarquetteMI #MarquetteMountain #FreeSwag #UPEvents #RoadTrip #HotDog
URL:https://upbarreview.com/event/oscar-mayer-wienermobile-fall-fest/
CATEGORIES:Marquette
END:VEVENT
BEGIN:VEVENT
DTSTART;TZID=UTC:20251011T100000
DTEND;TZID=UTC:20251011T110000
DTSTAMP:20260424T143741
CREATED:20250618T023538Z
LAST-MODIFIED:20250618T023618Z
UID:10004623-1760176800-1760180400@upbarreview.com
SUMMARY:Spies Library - Magic The Gathering Club - Menominee
DESCRIPTION:Are you a planeswalker in the making? Ready to cast spells\, summon creatures\, and battle for glory?\nCome join our Magic: The Gathering Club — a fun\, casual meet-up for ages 13 and up! Whether you’re a seasoned player or totally new to the game\, all are welcome.\nNo cards? No problem! We can provide all the supplies you need!
URL:https://upbarreview.com/event/spies-library-magic-the-gathering-club-menominee/2025-10-11/
LOCATION:Spies Public Library\, 940 1st St.\, Menominee\, MI\, 49858
CATEGORIES:Menominee
END:VEVENT
BEGIN:VEVENT
DTSTART;TZID=UTC:20251011T100000
DTEND;TZID=UTC:20251011T110000
DTSTAMP:20260424T143741
CREATED:20251006T135516Z
LAST-MODIFIED:20251006T135601Z
UID:10006551-1760176800-1760180400@upbarreview.com
SUMMARY:Intro to Therapy Dog Work
DESCRIPTION:Join us for our next D&D Pop Up: Intro to Therapy Dog Work!\nWant to see if your dog has what it takes and start the beginning stages of therapy dog training? This is the class for you!  \nSpots are limited! Contact today to enroll!
URL:https://upbarreview.com/event/intro-to-therapy-dog-work/
CATEGORIES:Menominee
END:VEVENT
BEGIN:VEVENT
DTSTART;TZID=UTC:20251011T100000
DTEND;TZID=UTC:20251011T130000
DTSTAMP:20260424T143741
CREATED:20251006T141835Z
LAST-MODIFIED:20251006T141835Z
UID:10006594-1760176800-1760187600@upbarreview.com
SUMMARY:Fall Color Tours: Ride Up\, Hike Down!
DESCRIPTION:Fall Color ToursRide Up. Hike Down. Soak it All In.\nTake a chairlift ride to the summit for unbeatable views of Lake Superior and Marquette. In the fall\, witness the Upper Peninsula’s stunning color display from above—then hike down scenic trails like Ridge or Weasel Gulch. \nFriday\, October 3: 10:00 am – 6:00 pm\nSaturday\, October 5: 10:00 am – 5:00 pm\nSunday\, October 6: 10:00 am – 4:00 pm\nSaturday\, October 11: 11am-4pm\nSaturday\, October 19: TBA \nhttps://shop.marquettemountain.com/scenictour
URL:https://upbarreview.com/event/fall-color-tours-ride-up-hike-down/
END:VEVENT
BEGIN:VEVENT
DTSTART;TZID=UTC:20251011T100000
DTEND;TZID=UTC:20251011T150000
DTSTAMP:20260424T143742
CREATED:20251006T134117Z
LAST-MODIFIED:20251006T134117Z
UID:10006540-1760176800-1760194800@upbarreview.com
SUMMARY:Art & Artisan Market - Leif Erikson Festival Norway\, MI
DESCRIPTION:
URL:https://upbarreview.com/event/art-artisan-market-leif-erikson-festival-norway-mi/
CATEGORIES:Ironmountain
END:VEVENT
BEGIN:VEVENT
DTSTART;TZID=UTC:20251011T100000
DTEND;TZID=UTC:20251011T150000
DTSTAMP:20260424T143742
CREATED:20251006T134120Z
LAST-MODIFIED:20251006T134120Z
UID:10006544-1760176800-1760194800@upbarreview.com
SUMMARY:Art & Artisan Market Norway MI
DESCRIPTION:
URL:https://upbarreview.com/event/art-artisan-market-norway-mi/
CATEGORIES:Ironmountain
END:VEVENT
BEGIN:VEVENT
DTSTART;TZID=UTC:20251011T100000
DTEND;TZID=UTC:20251011T150000
DTSTAMP:20260424T143742
CREATED:20251006T141504Z
LAST-MODIFIED:20251006T141504Z
UID:10006559-1760176800-1760194800@upbarreview.com
SUMMARY:2nd Annual Marquette Mountain Cheese Roll and Fall Fest
DESCRIPTION:Rolling downhill has never been this much fun!\nNow in its second year\, the legendary Cheese Roll is back at Marquette Mountain Resort—and you’re invited to be part of the chase\, the cheers\, and the cheese. \nFor racers:\nThink you’ve got what it takes to catch a rolling wheel of cheese? Choose your division—Men’s\, Women’s\, Junior\, or Youth—and sprint your way to glory (and dairy). Winners take home the cheese and the bragging rights until next year. \nFor spectators:\nSkip the running\, keep the fun. Watch the chaos unfold from the sidelines while enjoying: \n• Live music\n• Fall color lift rides\n• Comfort food & ice-cold drinks\n• Games and family activities \nIt’s all part of our Fall Festival\, so even if you’re not racing\, there’s plenty to do. Bring your friends\, bring your family\, and bring your love of cheese. Admission is free for spectators—just bring your best cheering voice. \nEvent Details: \n• Registration Fees:\n      • Ages 12 & Under (Uphill): $5.15\n      • Ages 13–17 (Downhill): $10.30\n      • Ages 18+: $25.75 \nSpectators are Free! \nWhether you’re sprinting\, cheering\, or just here for the snacks\, the Cheese Roll is guaranteed to be the cheesiest good time you’ll have all fall. \nRegister today: https://shop.marquettemountain.com/cheese_roll
URL:https://upbarreview.com/event/2nd-annual-marquette-mountain-cheese-roll-and-fall-fest/
CATEGORIES:Marquette
END:VEVENT
BEGIN:VEVENT
DTSTART;TZID=UTC:20251011T100000
DTEND;TZID=UTC:20251011T160000
DTSTAMP:20260424T143742
CREATED:20251003T195839Z
LAST-MODIFIED:20251003T202841Z
UID:10006467-1760176800-1760198400@upbarreview.com
SUMMARY:Wine\, Wings & Whiskey - Customer Appreciation & Open House
DESCRIPTION:HAPPY 19th BIRTHDAY TO US! It’s that time of year again to celebrate our gratitude to you for all the love over the years! Come and enjoy 🤩 FREE 🤩 chicken wings along with our usual 🤩 FREE 🤩 samples of wine and whiskey! There will also be all kinds of other goodies to feast on as well as some 🤩 HUGE DISCOUNTS 🤩! See you there!
URL:https://upbarreview.com/event/wine-wings-whiskey-customer-appreciation-open-house/
CATEGORIES:Menominee
END:VEVENT
BEGIN:VEVENT
DTSTART;TZID=UTC:20251011T110000
DTEND;TZID=UTC:20251011T133000
DTSTAMP:20260424T143742
CREATED:20251006T141510Z
LAST-MODIFIED:20251006T141510Z
UID:10006570-1760180400-1760189400@upbarreview.com
SUMMARY:Fall Color Tour
DESCRIPTION:Fall Color TourSaturday\, October 11\, Noon-2:30 pm.\nMeet at the North-most Sugarloaf parking lot off of CR-550.Tour will include the whole Sugarloaf summit hike. Hike difficulty: rugged and up-hill\, please wear appropriate gear. \nJoin MooseWood volunteer and forester\, Sean Fischer for a fall color tour at the Sugarloaf Mountain trailhead where we will observe the spectacular peak fall colors. Learn how to identify different UP species of trees\, the ecology of UP forests\, and how we coexist with these forests. This tour is not handicapped-accessible.  \nSuggested age range: 12 years and up\, but all are welcome. Children must be accompanied by an adult.  Registration email: moosewoodnc@gmail.com. Registration is not required\, but appreciated.
URL:https://upbarreview.com/event/fall-color-tour/
CATEGORIES:Marquette
END:VEVENT
BEGIN:VEVENT
DTSTART;TZID=UTC:20251011T110000
DTEND;TZID=UTC:20251011T140000
DTSTAMP:20260424T143742
CREATED:20251003T175203Z
LAST-MODIFIED:20251003T175203Z
UID:10006322-1760180400-1760191200@upbarreview.com
SUMMARY:Girls Day Out: Grand Opening
DESCRIPTION:Join us for the grand opening of our new location in Marinette\, hosted by The Creative Company and The Glow Room!\nExperience an exciting afternoon filled with a diverse range of vendors. Arrive early\, as the first ten attendees will receive a **complimentary goodie bag**! \nPrepare for a day full of: \nDelicious food\nA trucker hat bar\nPermanent jewelry\nFine line tattoo artistry\nPersonal Stylist & Color Analysis\nMany other incredible women-owned businesses
URL:https://upbarreview.com/event/girls-day-out-grand-opening/
CATEGORIES:Menominee
END:VEVENT
BEGIN:VEVENT
DTSTART;TZID=UTC:20251011T110000
DTEND;TZID=UTC:20251011T140000
DTSTAMP:20260424T143742
CREATED:20251006T142008Z
LAST-MODIFIED:20251006T142008Z
UID:10006633-1760180400-1760191200@upbarreview.com
SUMMARY:3rd/4th GJV Away Round #2 Playoff Game 10-11-25
DESCRIPTION:3rd/4th Grayling Junior Vikings Football & Cheer. Away Game @ Sault Ste Marie\nVS. Alpena B\n12 pm Game Time. \n3/4 NMYC Playoffs\nRound #2\n@ Sault Ste Marie
URL:https://upbarreview.com/event/3rd-4th-gjv-away-round-2-playoff-game-10-11-25/
END:VEVENT
BEGIN:VEVENT
DTSTART;TZID=UTC:20251011T120000
DTEND;TZID=UTC:20251011T130000
DTSTAMP:20260424T143742
CREATED:20251006T160515Z
LAST-MODIFIED:20251006T160515Z
UID:10006779-1760184000-1760187600@upbarreview.com
SUMMARY:Trick Dog Class -Mighty Pet
DESCRIPTION:Our Trick Dog Class teaches fun skills like spin\, shake\, bow\, and hoop jump while boosting your dog’s confidence and creativity. By the end\, you’ll have a routine of tricks and the option to test for an AKC Novice Trick Dog title.Prerequisite: Foundation\, CGC\, or private trainingCost $165Sign up:New clients → https://form.jotform.com/202575559999175Current/former clients → Call/text Meghan at 906-424-0356
URL:https://upbarreview.com/event/trick-dog-class-mighty-pet/2025-10-11/
LOCATION:Mighty Pet\, 1207 8th Ave\, Menominee\, MI\, 49858
CATEGORIES:Menominee
END:VEVENT
BEGIN:VEVENT
DTSTART;TZID=UTC:20251011T120000
DTEND;TZID=UTC:20251011T150000
DTSTAMP:20260424T143742
CREATED:20251003T183741Z
LAST-MODIFIED:20251003T183741Z
UID:10006437-1760184000-1760194800@upbarreview.com
SUMMARY:Lego Club: "Spooky"
DESCRIPTION:Lego Club’s theme for October is “Spooky” and we’d love to see your imagination at work! Build something using the theme or come up with your own creation.You can be entered into a prize drawing\, taking place at the end of the session.\nPlease bring one container of Legos per child attending.
URL:https://upbarreview.com/event/lego-club-spooky/
END:VEVENT
BEGIN:VEVENT
DTSTART;TZID=UTC:20251011T120000
DTEND;TZID=UTC:20251011T160000
DTSTAMP:20260424T143742
CREATED:20251006T133030Z
LAST-MODIFIED:20251006T133030Z
UID:10006526-1760184000-1760198400@upbarreview.com
SUMMARY:Grape Stomp at Cedars Edge
DESCRIPTION:
URL:https://upbarreview.com/event/grape-stomp-at-cedars-edge/
CATEGORIES:Ironmountain
END:VEVENT
BEGIN:VEVENT
DTSTART;TZID=UTC:20251011T130000
DTEND;TZID=UTC:20251011T160000
DTSTAMP:20260424T143742
CREATED:20251003T183238Z
LAST-MODIFIED:20251003T183238Z
UID:10006396-1760187600-1760198400@upbarreview.com
SUMMARY:Escanaba Community to Cheer Peter Frank Home from the Great Loop at Escanaba Beach 🚣‍♂️🌊🎉
DESCRIPTION:📣✨ All are welcome to gather on the Escanaba beach and cheer Peter home! Bring your voices\, signs\, cameras\, and drones. Let’s make this a moment to remember by giving him a proper community welcome! 🩵\nPeter has officially made it back to Lake Michigan and is on the final stretch of his Clockwise Great Loop journey by canoe — paddling against the current! 💪🏽 🛶  \nWe are estimating his arrival back in Escanaba sometime during the first week of October\, when he will step foot on the very same beach he departed from on June 27\, 2024. As we get closer and have a clearer idea of the exact day/time\, this event page will be updated. Stay tuned for updates! \n📌 Important Note: Peter’s official Welcome Home Party will take place on Saturday\, October 11th\, 2-7 PM at the Escanaba Country Club. That event has its own separate event page for RSVPs and is posted in Peter’s Voyage. Both the beach arrival and the party are open to the public\, and we’d love to see you at both! \nPeter Frank left Escanaba Beach on June 27\, 2024 and has spent over a year paddling against the current on the Great Loop. Peter will be the youngest documented to have navigated The Great Loop solo and unsupported in any vessel and he did it in a canoe. At 22 years old\, Peter embarked on this ambitious journey starting from Escanaba\, Michigan. He is now 24-years-old. His route spans approximately 6\,000 miles\, navigating through the Atlantic and Gulf Intracoastal Waterways\, the Great Lakes\, Canadian Heritage Canals\, and various inland U.S. rivers. \nPeter is notably one of few documented people to have paddled the Great Loop solo in a clockwise direction\, which is considered the more challenging route. This direction requires paddling against the current on several major rivers by man-power alone. Most other solo circumnavigations of the Great Loop are completed counterclockwise\, utilizing the natural flow of these rivers.  \nFor more detailed information about Peter’s adventures and to follow his progress\, you can visit his facebook group and official website: https://www.facebook.com/share/g/14RTnKgXMAw/?mibextid=wwXIfr  \nwhereispeterfrank.com \n🛶
URL:https://upbarreview.com/event/escanaba-community-to-cheer-peter-frank-home-from-the-great-loop-at-escanaba-beach-%f0%9f%9a%a3%e2%99%82%ef%b8%8f%f0%9f%8c%8a%f0%9f%8e%89/
CATEGORIES:Menominee
END:VEVENT
BEGIN:VEVENT
DTSTART;TZID=UTC:20251011T140000
DTEND;TZID=UTC:20251011T170000
DTSTAMP:20260424T143742
CREATED:20251003T183243Z
LAST-MODIFIED:20251003T183243Z
UID:10006403-1760191200-1760202000@upbarreview.com
SUMMARY:Escanaba Wrestling Reunion
DESCRIPTION:Sandy Shores will be hosting its 1st Annual Escanaba Wrestling Reunion!\nDate: Saturday\, October 11th\nTime: 3pm – ? \nThere will be a beach bonfire\, big screen with a vision quest\, and a scale available for those who want to weigh in and weigh out.  \nRules:\n– Bring food!\n– Bring your own drinks! \nPlease Share to get the word out to all of Escanaba’s Wrestling Alumni!
URL:https://upbarreview.com/event/escanaba-wrestling-reunion/
LOCATION:Sandy Shores Cottages\, 4728 M-35\, Escanaba\, MI
CATEGORIES:Menominee
END:VEVENT
BEGIN:VEVENT
DTSTART;TZID=UTC:20251011T150000
DTEND;TZID=UTC:20251011T200000
DTSTAMP:20260424T143742
CREATED:20251006T141851Z
LAST-MODIFIED:20251006T141851Z
UID:10006604-1760194800-1760212800@upbarreview.com
SUMMARY:Farmer's Market Specials - The Delft Bistro
DESCRIPTION:Weekly Delft specials\, fresh from Downtown Marquette Farmer’s Market every Saturday until sold out.
URL:https://upbarreview.com/event/farmers-market-specials-the-delft-bistro-2/
END:VEVENT
BEGIN:VEVENT
DTSTART;TZID=UTC:20251011T153000
DTEND;TZID=UTC:20251011T173000
DTSTAMP:20260424T143742
CREATED:20251006T142016Z
LAST-MODIFIED:20251006T142016Z
UID:10006634-1760196600-1760203800@upbarreview.com
SUMMARY:1975 NMU Championship Football Reunion Tailgate
DESCRIPTION:Join us for a lively tailgate before NMU takes on Grand Valley State\, as part of the NMU Football Reunion celebrating the 50th anniversary of the 1975 Championship Team. Featuring a DJ\, face painting\, and a food truck\, feel free to bring your own food and drinks.\nBring the Wildcat pride to the tailgate before the football game and witness a moment in history as Steve Mariucci’s iconic #18 jersey rises to the rafters of the Superior Dome.
URL:https://upbarreview.com/event/1975-nmu-championship-football-reunion-tailgate/
END:VEVENT
END:VCALENDAR