BEGIN:VCALENDAR
VERSION:2.0
PRODID:-//UP BAR REVIEW - ECPv6.14.2//NONSGML v1.0//EN
CALSCALE:GREGORIAN
METHOD:PUBLISH
X-WR-CALNAME:UP BAR REVIEW
X-ORIGINAL-URL:https://upbarreview.com
X-WR-CALDESC:Events for UP BAR REVIEW
REFRESH-INTERVAL;VALUE=DURATION:PT1H
X-Robots-Tag:noindex
X-PUBLISHED-TTL:PT1H
BEGIN:VTIMEZONE
TZID:UTC
BEGIN:STANDARD
TZOFFSETFROM:+0000
TZOFFSETTO:+0000
TZNAME:UTC
DTSTART:20250101T000000
END:STANDARD
END:VTIMEZONE
BEGIN:VEVENT
DTSTART;TZID=UTC:20250227T173000
DTEND;TZID=UTC:20250227T200000
DTSTAMP:20260423T114559
CREATED:20250207T181427Z
LAST-MODIFIED:20250207T181427Z
UID:10002896-1740677400-1740686400@upbarreview.com
SUMMARY:NWTC - This Girl Can - Marinette
DESCRIPTION:This Girl Can…Pursue a Career in Manufacturing!Girls in 7\, 8\, & 9\, join NWTC Marinette Campus and Samuel Pressure Vessel Group\, Marinette WI\, to learn about careers in welding.\nThis is a FREE Event\, that REQUIRES registration\, with a limited capacity! Call 715-735-9361 TODAY to guarantee a spot!\nTuesday\, February 25th\, 5:30pm-8:00pm–Dinner and Tour at Samuel Pressure Vessel Group-2121 Cleveland Ave\, Marinette\nThursday\, February 27th \, 5:30pm-8:00pm–Dinner and Welding at the NWTC Marinette Campus\nParticipants MUST be accompanied by an adult to participate
URL:https://upbarreview.com/event/nwtc-this-girl-can-marinette/2025-02-27/
LOCATION:NWTC\, 1601 University Dr\, Marinette\, WI\, 54143
CATEGORIES:Menominee
END:VEVENT
BEGIN:VEVENT
DTSTART;TZID=UTC:20250227T170000
DTEND;TZID=UTC:20250227T203000
DTSTAMP:20260423T114559
CREATED:20250207T170015Z
LAST-MODIFIED:20250207T170455Z
UID:10002819-1740675600-1740688200@upbarreview.com
SUMMARY:The Craft Cave - Rain Boots & Pine Cones - Marinette
DESCRIPTION:Rain boot transfer in few colors to choose. Painted hanger approximately 10-11 in. Painted pine cone flowers added to boots. Adult class\, BYOB cost 20$. Call to pre pay and sign up at 715-587-4643
URL:https://upbarreview.com/event/the-craft-cave-rain-boots-pine-cones-marinette/2025-02-27/
LOCATION:The Craft Cave\, 605 Main St.\, Marinette\, WI\, 54143\, United States
CATEGORIES:Menominee
END:VEVENT
BEGIN:VEVENT
DTSTART;TZID=UTC:20250227T130000
DTEND;TZID=UTC:20250227T160000
DTSTAMP:20260423T114559
CREATED:20250207T184328Z
LAST-MODIFIED:20250207T184328Z
UID:10002909-1740661200-1740672000@upbarreview.com
SUMMARY:Upper Hand Brewery - New Beer Release - Escanaba
DESCRIPTION:New Blackberry Porter release in the Taproom Thursday\, February 27\, 2P. Draft only\, 19.2oz Tall Boys available to go.\n21+
URL:https://upbarreview.com/event/upper-hand-brewery-new-beer-release-escanaba/
LOCATION:Upper Hand Brewery\, 3525 Airport Rd\, Escanaba\, WI\, 49829
CATEGORIES:Menominee
END:VEVENT
BEGIN:VEVENT
DTSTART;TZID=UTC:20250227T130000
DTEND;TZID=UTC:20250227T140000
DTSTAMP:20260423T114559
CREATED:20250207T202257Z
LAST-MODIFIED:20250207T202257Z
UID:10003145-1740661200-1740664800@upbarreview.com
SUMMARY:Farnsworth Public Library - Silk Floral Design Workshop - Oconto
DESCRIPTION:Join us for a free 60-minute tutorial on how to create your own silk floral arrangement. Supplies will be provided for eachperson to create one arrangement. You are encouraged to bring your own additional flowers and accents.Registration is recommended but not required. Call 920-834-7730This event is free and open to adults
URL:https://upbarreview.com/event/farnsworth-public-library-silk-floral-design-workshop-oconto/
LOCATION:Farnsworth Public Library\, 715 Main St\, Oconto\, WI
CATEGORIES:Menominee
END:VEVENT
BEGIN:VEVENT
DTSTART;TZID=UTC:20250227T100000
DTEND;TZID=UTC:20250227T233000
DTSTAMP:20260423T114559
CREATED:20241029T145445Z
LAST-MODIFIED:20241029T145445Z
UID:10002235-1740650400-1740699000@upbarreview.com
SUMMARY:Alibi's - Free Pool Thursdays - Marinette
DESCRIPTION:Free Pool!!
URL:https://upbarreview.com/event/alibis-free-pool-thursdays-marinette/2025-02-27/
LOCATION:ALiBi Bar & Grill\, 829 Main St\, Marinette\, WI\, 54143\, United States
CATEGORIES:Menominee
END:VEVENT
BEGIN:VEVENT
DTSTART;TZID=UTC:20250227T090000
DTEND;TZID=UTC:20250227T100000
DTSTAMP:20260423T114559
CREATED:20250207T195324Z
LAST-MODIFIED:20250207T195324Z
UID:10003084-1740646800-1740650400@upbarreview.com
SUMMARY:Hummingbird Cafe - Bible Study w/ Nancy - Crivitz
DESCRIPTION:A casual group Bible study where we can give information\, discuss anything\, and answer any questions you have or if you want support we are here.
URL:https://upbarreview.com/event/hummingbird-cafe-bible-study-w-nancy-crivitz/2025-02-27/
LOCATION:Hummingibird Cafe\, 508 Henriette Ave\, Crivitz\, WI
CATEGORIES:Menominee
END:VEVENT
BEGIN:VEVENT
DTSTART;TZID=UTC:20250227T090000
DTEND;TZID=UTC:20250227T100000
DTSTAMP:20260423T114559
CREATED:20241203T012051Z
LAST-MODIFIED:20241203T012113Z
UID:10002653-1740646800-1740650400@upbarreview.com
SUMMARY:Hummingbird Cafe - Bible Study with Nancy - Crivitz
DESCRIPTION:A casual group Bible study where we can give information\, discuss anything\, and answer any questions you have or if you want support we are here.
URL:https://upbarreview.com/event/hummingbird-cafe-bible-study-with-nancy-crivitz/2025-02-27/
LOCATION:Hummingibird Cafe\, 508 Henriette Ave\, Crivitz\, WI
CATEGORIES:Menominee
END:VEVENT
BEGIN:VEVENT
DTSTART;TZID=UTC:20250227T080000
DTEND;TZID=UTC:20250227T170000
DTSTAMP:20260423T114559
CREATED:20241202T212718Z
LAST-MODIFIED:20241202T212718Z
UID:10002536-1740643200-1740675600@upbarreview.com
SUMMARY:Biehl Bridges to Recovery - Overeaters Anonymous - Marinette
DESCRIPTION:A new year! A new you! Want to know if you’re an overeater? Struggling to find support? Wanting support? Come join us on Thursday evenings from 5:30pm-6:30pm.
URL:https://upbarreview.com/event/biehl-bridges-to-recovery-overeaters-anonymous-marinette/2025-02-27/
LOCATION:Biehl Bridge To Recovery\, 3123 Shore Dr\, Marinette\, WI\, 54143
CATEGORIES:Menominee
END:VEVENT
BEGIN:VEVENT
DTSTART;TZID=UTC:20250226T173000
DTEND;TZID=UTC:20250226T203000
DTSTAMP:20260423T114559
CREATED:20250207T170015Z
LAST-MODIFIED:20250207T170455Z
UID:10002816-1740591000-1740601800@upbarreview.com
SUMMARY:The Craft Cave - Rain Boots & Pine Cones - Marinette
DESCRIPTION:Rain boot transfer in few colors to choose. Painted hanger approximately 10-11 in. Painted pine cone flowers added to boots. Adult class\, BYOB cost 20$. Call to pre pay and sign up at 715-587-4643
URL:https://upbarreview.com/event/the-craft-cave-rain-boots-pine-cones-marinette/2025-02-26/
LOCATION:The Craft Cave\, 605 Main St.\, Marinette\, WI\, 54143\, United States
CATEGORIES:Menominee
END:VEVENT
BEGIN:VEVENT
DTSTART;TZID=UTC:20250226T173000
DTEND;TZID=UTC:20250226T190000
DTSTAMP:20260423T114559
CREATED:20250207T195116Z
LAST-MODIFIED:20250207T195116Z
UID:10003080-1740591000-1740596400@upbarreview.com
SUMMARY:Lavender Spirit Healing & Massage - February Book Club - Crivitz
DESCRIPTION:Join to discuss the book of the month!\nCheck our page for more info!
URL:https://upbarreview.com/event/lavender-spirit-healing-massage-february-book-club-crivitz/
LOCATION:Lavender Spirit Healing & Massage\, 544 Van Buren St.\, Wausaukee\, WI
CATEGORIES:Menominee
END:VEVENT
BEGIN:VEVENT
DTSTART;TZID=UTC:20250225T173000
DTEND;TZID=UTC:20250225T200000
DTSTAMP:20260423T114559
CREATED:20250207T181427Z
LAST-MODIFIED:20250207T181427Z
UID:10002895-1740504600-1740513600@upbarreview.com
SUMMARY:NWTC - This Girl Can - Marinette
DESCRIPTION:This Girl Can…Pursue a Career in Manufacturing!Girls in 7\, 8\, & 9\, join NWTC Marinette Campus and Samuel Pressure Vessel Group\, Marinette WI\, to learn about careers in welding.\nThis is a FREE Event\, that REQUIRES registration\, with a limited capacity! Call 715-735-9361 TODAY to guarantee a spot!\nTuesday\, February 25th\, 5:30pm-8:00pm–Dinner and Tour at Samuel Pressure Vessel Group-2121 Cleveland Ave\, Marinette\nThursday\, February 27th \, 5:30pm-8:00pm–Dinner and Welding at the NWTC Marinette Campus\nParticipants MUST be accompanied by an adult to participate
URL:https://upbarreview.com/event/nwtc-this-girl-can-marinette/2025-02-25/
LOCATION:NWTC\, 1601 University Dr\, Marinette\, WI\, 54143
CATEGORIES:Menominee
END:VEVENT
BEGIN:VEVENT
DTSTART;TZID=UTC:20250225T170000
DTEND;TZID=UTC:20250225T200000
DTSTAMP:20260423T114559
CREATED:20241029T131610Z
LAST-MODIFIED:20241029T131610Z
UID:10002169-1740502800-1740513600@upbarreview.com
SUMMARY:Biehl Bridges to Recovery - All Recovery Meeting - Marinette
DESCRIPTION:This is a meeting for anyone in recovery to talk about Recovery!
URL:https://upbarreview.com/event/biehl-bridges-to-recovery-all-recovery-meeting-marinette/2025-02-25/
LOCATION:Biehl Bridge To Recovery\, 3123 Shore Dr\, Marinette\, WI\, 54143
CATEGORIES:Menominee
END:VEVENT
BEGIN:VEVENT
DTSTART;TZID=UTC:20250225T120000
DTEND;TZID=UTC:20250225T193000
DTSTAMP:20260423T114559
CREATED:20241030T021353Z
LAST-MODIFIED:20241030T021353Z
UID:10002409-1740484800-1740511800@upbarreview.com
SUMMARY:Oak Crest Golf Course - Tuesday Mexican Nights - Norway
DESCRIPTION:It’s back by popular demand. Featuring items such as; tacos\, tostadas\, chimichangas\, taco salad\, quesadillas\, nachos\, and burritos. We will have some Mexican beers to wash it all down. Hope to see you
URL:https://upbarreview.com/event/oak-crest-golf-course-tuesday-mexican-nights-norway-2/2025-02-25/
LOCATION:Oak Crest Golf Course\, N1475 US-8\, Norway\, MI\, 49870
CATEGORIES:Ironmountain
END:VEVENT
BEGIN:VEVENT
DTSTART;TZID=UTC:20250225T100000
DTEND;TZID=UTC:20250225T130000
DTSTAMP:20260423T114559
CREATED:20250207T193742Z
LAST-MODIFIED:20250207T193742Z
UID:10003012-1740477600-1740488400@upbarreview.com
SUMMARY:Escanaba Public Library - Tech Help Tuesdays - Escanaba
DESCRIPTION:Need help printing from your phone? Setting up Libby on your personal device? Using Zoom? How about getting started on your Chromebook or iPad? Using a Wi-Fi hotspot? Creating an email address? Google searches? or how to use the library’s online catalog?\nWe have the answers and assistance you need! Make an appointment or stop in at the circulation desk. Appointments are one hour (maximum).\nThe Escanaba Public Library staff do not repair computers/devices. The library assumes no liability for personal patron devices.
URL:https://upbarreview.com/event/escanaba-public-library-tech-help-tuesdays-escanaba/2025-02-25/
LOCATION:Escanaba Public Library\, 400 Ludington St\, Escanaba\, WI\, 49829
CATEGORIES:Menominee
END:VEVENT
BEGIN:VEVENT
DTSTART;TZID=UTC:20250224T180000
DTEND;TZID=UTC:20250224T190000
DTSTAMP:20260423T114559
CREATED:20241029T123253Z
LAST-MODIFIED:20241029T123253Z
UID:10002099-1740420000-1740423600@upbarreview.com
SUMMARY:Military 20 Year Club - Monthly Meeting - Menominee
DESCRIPTION:Open to any honor discharged Veteran. Meeting at Menominee American Legion. New members are always welcome.
URL:https://upbarreview.com/event/military-20-year-club-monthly-meeting-menominee/2025-02-24/
LOCATION:American Legion Post 146\, 818 1st St\, Menominee\, MI\, 49858
CATEGORIES:Menominee
END:VEVENT
BEGIN:VEVENT
DTSTART;TZID=UTC:20250224T170000
DTEND;TZID=UTC:20250224T200000
DTSTAMP:20260423T114559
CREATED:20250207T195503Z
LAST-MODIFIED:20250207T195514Z
UID:10003090-1740416400-1740427200@upbarreview.com
SUMMARY:Judy Bloom Studio - Beginner Acrylic Painting Class - Canoe - Crivitz
DESCRIPTION:Have you ever wanted to learn to paint with acrylic? Here is your chance. Come join artist Judy Bloom as she guides you to create this beautiful work of art. Class fee is $40. and will include all materials to create your 11×14″ painting ready for framing. Feel free to bring snacks\, drinks and friends for a fun evening. Painting is a great stress reliever and a relaxing hobby.Call or text me at 931-787-6559 to pre-register for this class. Payment due at event\, cash or check only.
URL:https://upbarreview.com/event/judy-bloom-studio-beginner-acrylic-painting-class-canoe-crivitz/
LOCATION:800 Henriette Ave\, Crivitz\, WI
CATEGORIES:Menominee
END:VEVENT
BEGIN:VEVENT
DTSTART;TZID=UTC:20250224T170000
DTEND;TZID=UTC:20250224T183000
DTSTAMP:20260423T114559
CREATED:20250207T193951Z
LAST-MODIFIED:20250207T193951Z
UID:10003067-1740416400-1740421800@upbarreview.com
SUMMARY:The Bar - Yin Yoga - Escanaba
DESCRIPTION:Our Monday Yin Yoga classes will be a slow paced\, more meditative practice where we will hold deep stretches for longer lengths of time. This type of yoga targets the connective tissue of the body and will encourage deep relaxation.\nThese classes are suitable for all levels.\n$10 each (or all 7 classes in our winter series for $60)\nBring a yoga mat. You may also bring a block\, a strap\, bottle of water. We do have extra mats\, blocks\, and straps
URL:https://upbarreview.com/event/the-bar-yin-yoga-escanaba-3/
LOCATION:The Bar\, 3400 Ludington St\, Escanaba\, MI
CATEGORIES:Menominee
END:VEVENT
BEGIN:VEVENT
DTSTART;TZID=UTC:20250224T080000
DTEND;TZID=UTC:20250224T100000
DTSTAMP:20260423T114559
CREATED:20250207T175526Z
LAST-MODIFIED:20250207T175526Z
UID:10002872-1740384000-1740391200@upbarreview.com
SUMMARY:Little River Country Club - Winter Simulator League - Marinette
DESCRIPTION:Call 715-735-7234 or email adrys17@outlook.com to sign up by 12/18!
URL:https://upbarreview.com/event/little-river-country-club-winter-simulator-league-marinette/2025-02-24/
LOCATION:Little River Country Club\, N2235 Shore Dr\, Marinette\, WI\, 54143
CATEGORIES:Menominee
END:VEVENT
BEGIN:VEVENT
DTSTART;TZID=UTC:20250223T143000
DTEND;TZID=UTC:20250223T153000
DTSTAMP:20260423T114559
CREATED:20250207T201910Z
LAST-MODIFIED:20250207T201910Z
UID:10003140-1740321000-1740324600@upbarreview.com
SUMMARY:Machickanee Players Annual Meeting - Oconto
DESCRIPTION:The Machickanee Players will be hosting our annual board meeting and election of board members. Members will be providing a pot luck style meal for everyone to snack on during the meeting.All are welcome to attend.
URL:https://upbarreview.com/event/machickanee-players-annual-meeting-oconto/
LOCATION:408 Park Ave\, Oconto\, WI
CATEGORIES:Menominee
END:VEVENT
BEGIN:VEVENT
DTSTART;TZID=UTC:20250222T190000
DTEND;TZID=UTC:20250222T230000
DTSTAMP:20260423T114559
CREATED:20250207T194915Z
LAST-MODIFIED:20250207T194915Z
UID:10003078-1740250800-1740265200@upbarreview.com
SUMMARY:The Backwater Bar & Grill - Fish O Rama - Crivitz
DESCRIPTION:PARTY UP Y’ALL. FISH-O-RAMA ICE FISHING TOURNAMENT! HOPE TO SEE YA FOR SOME FUN!!! For more info\, see: https://www.facebook.com/lakenoquebay/
URL:https://upbarreview.com/event/the-backwater-bar-grill-fish-o-rama-crivitz/
CATEGORIES:Menominee
END:VEVENT
BEGIN:VEVENT
DTSTART;TZID=UTC:20250222T183000
DTEND;TZID=UTC:20250222T210000
DTSTAMP:20260423T114559
CREATED:20250207T174142Z
LAST-MODIFIED:20250207T174142Z
UID:10002857-1740249000-1740258000@upbarreview.com
SUMMARY:Little River Country Club - Night of Fun for a Good Cause - Marinette
DESCRIPTION:Join us for a night of fun while supporting a good cause! Enjoy live music by Piano Fondue at Little River Country Club. Tickets are available at Jacks in Menominee and Roosevelt Rd or by calling 715-735-3684. All proceeds will go towards helping our shelter.
URL:https://upbarreview.com/event/little-river-country-club-night-of-fun-for-a-good-cause-marinette/
LOCATION:Little River Country Club\, N2235 Shore Dr\, Marinette\, WI\, 54143
CATEGORIES:Menominee
END:VEVENT
BEGIN:VEVENT
DTSTART;TZID=UTC:20250222T180000
DTEND;TZID=UTC:20250222T203000
DTSTAMP:20260423T114559
CREATED:20250207T190725Z
LAST-MODIFIED:20250207T190725Z
UID:10002930-1740247200-1740256200@upbarreview.com
SUMMARY:UP Pro Wrestling - Hometown Throwdown - Escanaba
DESCRIPTION:More info coming soon!
URL:https://upbarreview.com/event/up-pro-wrestling-hometown-throwdown-escanaba/
LOCATION:Delta County Chamber of Commerce\, 1001 N Lincoln Rd\, Escanaba\, MI
CATEGORIES:Menominee
END:VEVENT
BEGIN:VEVENT
DTSTART;TZID=UTC:20250222T173000
DTEND;TZID=UTC:20250222T210000
DTSTAMP:20260423T114559
CREATED:20250207T172454Z
LAST-MODIFIED:20250207T172454Z
UID:10002842-1740245400-1740258000@upbarreview.com
SUMMARY:McCrafties - Blood & Bisque - Menominee
DESCRIPTION:Join us on February 22nd at 5:30 PM for Blood and Bisque Night! Unleash your inner artist while indulging in true crime stories. For $25\, you can paint your very own ceramic mug or bowl. Add an extra $5 to enjoy a delicious pizza with us. We’ll have popular true crime shows playing in the background. Bring your favorite drinks and your friends for a night of chilling crimes and creative vibes!\nPRE-PAYMENT of $25 and the $5 for pizza is required to save your spot. Feel free to call the studio with any questions or to sign up. 715-440-5959\nOr use our easy to navigate website.\nhttps://mccraftiellc.square.site/\n-All skill levels are welcome-We provide all the necessary suppliesWe look forward to painting with you!\nCLASS REFUND POLICY:\n-full in studio credit if cancellation is 1 week prior to the class-50% in studio credit up to 24 hours prior to the class-less than 24 hours’ notice\, no credit-NO SHOW/NO CALL/NO CREDIT
URL:https://upbarreview.com/event/mccrafties-blood-bisque-menominee/
LOCATION:McCrafties\, 625 1st St\, Menominee\, MI\, 49858\, United States
CATEGORIES:Menominee
END:VEVENT
BEGIN:VEVENT
DTSTART;TZID=UTC:20250222T140000
DTEND;TZID=UTC:20250222T163000
DTSTAMP:20260423T114559
CREATED:20250207T182148Z
LAST-MODIFIED:20250207T182148Z
UID:10002902-1740232800-1740241800@upbarreview.com
SUMMARY:The Sacred Space 1712 Suite - Self Hypnotic Sound Bath - Marinette
DESCRIPTION: Reconnect with the Love Within You \nOn February 22nd at 2 PM\, Danielle from LifeSpark Hypnotherapy and Kaitlyn from Sacred Healing Massage & Bodywork are coming together to create a transformative healing experience like no other.\nThrough the power of hypnotherapy\, you’ll gently release any emotional or mental blocks that have kept you from fully embracing yourself. As you journey inward\, Kaitlyn Halwani will weave the soothing vibrations of sound bowls into the session\, allowing the frequencies to deepen your relaxation and amplify your healing.\nThis is your time to rediscover that loving spark within—to let go of self-doubt\, release limiting beliefs\, and step into the full embrace of who you truly are. \n Guided Hypnotherapy for Self-Love & Inner Healing Live Sound Bowl Meditation for Deep Relaxation A Safe & Supportive Space for Transformation\nSeating is limited for this intimate event—reserve your spot today!\n Date: February 22nd Time: 2:00 PM Location: The Sacred Space Reserve your spot at: https://www.lifesparkhypnotherapy.com/…/self-love…\nCome as you are\, leave feeling lighter\, freer\, and more connected to yourself than ever before. We can’t wait to share this journey with you! 
URL:https://upbarreview.com/event/the-sacred-space-1712-suite-self-hypnotic-sound-bath-marinette/
LOCATION:The Scared Space 1712 Suite #2\, 1843 Dunlap Ave\, Marinette
CATEGORIES:Menominee
END:VEVENT
BEGIN:VEVENT
DTSTART;TZID=UTC:20250222T130000
DTEND;TZID=UTC:20250222T190000
DTSTAMP:20260423T114559
CREATED:20250207T184148Z
LAST-MODIFIED:20250207T184148Z
UID:10002907-1740229200-1740250800@upbarreview.com
SUMMARY:Upper Hand Brewery - Service Industry Weekend - Escanaba
DESCRIPTION:Shout out to ALL the amazing service industry workers! This weekend is for YOU!\nThursday – $5 PINTSFriday – 20% OFF your total purchaseSaturday – $5 60oz. pitchers\nAll industries welcome!21+
URL:https://upbarreview.com/event/upper-hand-brewery-service-industry-weekend-escanaba/2025-02-22/
LOCATION:Upper Hand Brewery\, 3525 Airport Rd\, Escanaba\, WI\, 49829
CATEGORIES:Menominee
END:VEVENT
BEGIN:VEVENT
DTSTART;TZID=UTC:20250222T130000
DTEND;TZID=UTC:20250222T170000
DTSTAMP:20260423T114559
CREATED:20250207T195005Z
LAST-MODIFIED:20250207T195005Z
UID:10003079-1740229200-1740243600@upbarreview.com
SUMMARY:Grace Lutheran Church - Winter Olympics Bible Camp - Crivitz
DESCRIPTION:Compete in winter events like the bobsled\, hockey and biathlon and connect those events to truths of the Bible!\nRefreshments will be enjoyed as well as the hockey stick craft that all children can take home with them.\nFor any children ages 4-12.\nIt will take place at Grace Lutheran Church on Saturday\, Feb. 22 from 1-5 p.m. Parents/Grandparents and friends are invited to join us at 4:30 p.m. for pizza and our closing medal ceremony.\nThere is no cost to attend. Come and invite a friend!\nFollow the link to register your child to help with planning for the day!\nhttps://vbsmate.com/events/gracecrivitz/30084\nFor any questions or for more information\, you can contact Minister Dan (262-305-9483)
URL:https://upbarreview.com/event/grace-lutheran-church-winter-olympics-bible-camp-crivitz/
LOCATION:Grace Lutheran Church\, 716 Henriette Ave\, Crivitz\, WI\, 54114
CATEGORIES:Menominee
END:VEVENT
BEGIN:VEVENT
DTSTART;TZID=UTC:20250222T130000
DTEND;TZID=UTC:20250222T153000
DTSTAMP:20260423T114559
CREATED:20250207T180358Z
LAST-MODIFIED:20250207T180358Z
UID:10002886-1740229200-1740238200@upbarreview.com
SUMMARY:Mariner Theatre - Screening w/ Filmmaker Pete Schwaba - Marinette
DESCRIPTION:Come join us for a special screening (followed by a Q&A hosted by Nite Lite Host Pete Schwaba) of our award winning WI film FEBRUARY\, part of a series based on the months of the year and all set in Wisconsin. Admission is free.
URL:https://upbarreview.com/event/mariner-theatre-screening-w-filmmaker-pete-schwaba-marinette/
LOCATION:Mariner Theatre\, 2000 Ella Ct\, Marinette\, WI\, 54143\, United States
CATEGORIES:Menominee
END:VEVENT
BEGIN:VEVENT
DTSTART;TZID=UTC:20250222T130000
DTEND;TZID=UTC:20250222T150000
DTSTAMP:20260423T114559
CREATED:20250207T170804Z
LAST-MODIFIED:20250207T171120Z
UID:10002827-1740229200-1740236400@upbarreview.com
SUMMARY:The Craft Cave - Spring Chicken - Marinette
DESCRIPTION:Everyone needs a chicken ! Wood chicken painted and decorated to your liking.Approximately 12 in hanger or lean. Adult class BYOB cost 25$. Call to pre pay and sign up for class at 715-587-4643
URL:https://upbarreview.com/event/the-craft-cave-spring-chicken-marinette/2025-02-22/
LOCATION:The Craft Cave\, 605 Main St.\, Marinette\, WI\, 54143\, United States
CATEGORIES:Menominee
END:VEVENT
BEGIN:VEVENT
DTSTART;TZID=UTC:20250222T120000
DTEND;TZID=UTC:20250222T143000
DTSTAMP:20260423T114559
CREATED:20250207T180540Z
LAST-MODIFIED:20250207T180540Z
UID:10002887-1740225600-1740234600@upbarreview.com
SUMMARY:Cozzy's - ATV/UTV Ride & Meat Raffle - Marinette
DESCRIPTION:Join us for a fun-filled day of riding and prizes! We’ll start at Koehne Powersports\, stop at several locations along the way\, and end at Loopy’s in Loomis where they’ll be holding a meat raffle. Prizes and 50/50 drawings will also be part of the fun\, and all proceeds from the 50/50 drawings will go to the Marinette County Sherriff’s Drone department funds. Don’t miss out!
URL:https://upbarreview.com/event/cozzys-atv-utv-ride-meat-raffle-marinette/
LOCATION:W1740 US Highway 41\, Marinette
CATEGORIES:Menominee
END:VEVENT
BEGIN:VEVENT
DTSTART;TZID=UTC:20250222T110000
DTEND;TZID=UTC:20250222T130000
DTSTAMP:20260423T114559
CREATED:20250207T175110Z
LAST-MODIFIED:20250207T175110Z
UID:10002866-1740222000-1740229200@upbarreview.com
SUMMARY:Cozzy's - Koehne Powersports Winter Ride - Marinette
DESCRIPTION:Join us for a fun-filled day of riding ATVs and UTVs\, supporting local businesses\, and celebrating Chumly’s birthday! We will also be donating to the Marinette County Sheriff Department drone funds. All brand ATV and UTV’s are welcome. 
URL:https://upbarreview.com/event/cozzys-koehne-powersports-winter-ride-marinette/
LOCATION:W1740 US Highway 41\, Marinette
CATEGORIES:Menominee
END:VEVENT
END:VCALENDAR