BEGIN:VCALENDAR
VERSION:2.0
PRODID:-//UP BAR REVIEW - ECPv6.14.2//NONSGML v1.0//EN
CALSCALE:GREGORIAN
METHOD:PUBLISH
X-ORIGINAL-URL:https://upbarreview.com
X-WR-CALDESC:Events for UP BAR REVIEW
REFRESH-INTERVAL;VALUE=DURATION:PT1H
X-Robots-Tag:noindex
X-PUBLISHED-TTL:PT1H
BEGIN:VTIMEZONE
TZID:UTC
BEGIN:STANDARD
TZOFFSETFROM:+0000
TZOFFSETTO:+0000
TZNAME:UTC
DTSTART:20250101T000000
END:STANDARD
END:VTIMEZONE
BEGIN:VEVENT
DTSTART;TZID=UTC:20250821T180000
DTEND;TZID=UTC:20250821T200000
DTSTAMP:20260424T143749
CREATED:20250428T134637Z
LAST-MODIFIED:20250430T013053Z
UID:10004251-1755799200-1755806400@upbarreview.com
SUMMARY:Elks Lodge - Music Bingo - Marinette
DESCRIPTION:Join us on the 3rd Thursday of the month for Music Bingo!
URL:https://upbarreview.com/event/elks-lodge-music-bingo-marinette/2025-08-21/
LOCATION:Elks Lodge #1313\, 430 Bridge St\, Marinette\, WI\, 54143
CATEGORIES:Menominee
END:VEVENT
BEGIN:VEVENT
DTSTART;TZID=UTC:20250821T180000
DTEND;TZID=UTC:20250821T200000
DTSTAMP:20260424T143749
CREATED:20250619T181241Z
LAST-MODIFIED:20250619T181241Z
UID:10004781-1755799200-1755806400@upbarreview.com
SUMMARY:Harmony Arboretum - "Plein Air" Art Therapy Group - Peshtigo
DESCRIPTION: Experience Creativity in the Open Air! \nReady to embrace nature and creativity this summer? Join us for En Plein Air Art Therapy + Mindfulness at Harmony Arboretum in Peshtigo\, WI! This unique outdoor art therapy group blends:\n Eco art therapy – using natural inspiration to guide your creativity Mindfulness practices – deepen your connection to nature En plein air art-making – create surrounded by the beauty of the outdoors\n Dates: 1st & 3rd Thursdays (June through August) Time: 6:00 PM – 8:00 PM Location: Harmony Arboretum\, N3890 County Road E\, Peshtigo\, WI 54157 Cost: $20 per participant\n Reserve Your Spot!\nCome breathe in the fresh air\, immerse yourself in nature\, and create something beautiful! 
URL:https://upbarreview.com/event/harmony-arboretum-plein-air-art-therapy-group-peshtigo/2025-08-21/
LOCATION:Harmony Arboretum\, N3890 County E\, Peshtigo\, WI\, 54157\, United States
CATEGORIES:Menominee
END:VEVENT
BEGIN:VEVENT
DTSTART;TZID=UTC:20250821T180000
DTEND;TZID=UTC:20250821T200000
DTSTAMP:20260424T143749
CREATED:20250619T201330Z
LAST-MODIFIED:20250619T201330Z
UID:10004852-1755799200-1755806400@upbarreview.com
SUMMARY:Chenier's Reef - Thursday Night Bean Bags - Escanaba
DESCRIPTION:Bean Bag Tournament$5 EntryBlind Draw Partnerssign ups start @ 6:30pn and tournament starts at 7pm
URL:https://upbarreview.com/event/cheniers-reef-thursday-night-bean-bags-escanaba/2025-08-21/
LOCATION:Cheniers Reef\, 1629 Sheridan Rd\, Escanaba\, MI
CATEGORIES:Menominee
END:VEVENT
BEGIN:VEVENT
DTSTART;TZID=UTC:20250821T180000
DTEND;TZID=UTC:20250821T200000
DTSTAMP:20260424T143749
CREATED:20250723T174347Z
LAST-MODIFIED:20250723T174347Z
UID:10005382-1755799200-1755806400@upbarreview.com
SUMMARY:Concert in The Park Series - Daizy Roots Band - Marinette
DESCRIPTION:Join us for the M/M Concert in the Park Series!We’re a lively 5-piece cover band specializing in light rock\, country\, and blues\, perfect for any event!
URL:https://upbarreview.com/event/concert-in-the-park-series-daizy-roots-band-marinette/
CATEGORIES:Menominee
END:VEVENT
BEGIN:VEVENT
DTSTART;TZID=UTC:20250821T180000
DTEND;TZID=UTC:20250821T200000
DTSTAMP:20260424T143749
CREATED:20250723T204541Z
LAST-MODIFIED:20250723T204541Z
UID:10005445-1755799200-1755806400@upbarreview.com
SUMMARY:Menominee Marina - Concerts in the Park - Dizzy Roots Band
DESCRIPTION:Free Community Concert
URL:https://upbarreview.com/event/menominee-marina-concerts-in-the-park-dizzy-roots-band/
LOCATION:The Argonaut\, 432 10th Ave\, Menominee\, MI
CATEGORIES:Menominee
END:VEVENT
BEGIN:VEVENT
DTSTART;TZID=UTC:20250821T180000
DTEND;TZID=UTC:20250821T210000
DTSTAMP:20260424T143749
CREATED:20241001T040448Z
LAST-MODIFIED:20241001T040448Z
UID:10001900-1755799200-1755810000@upbarreview.com
SUMMARY:Spirit House -Trivia Night! - Menominee
DESCRIPTION:Trivia Night Thursday at Spirit House\, come check out this awesome event!!!!
URL:https://upbarreview.com/event/spirit-house-trivia-night-menominee/2025-08-21/
LOCATION:Spirit House\, 533 10th Ave\, Menominee\, MI 49858\, Menominee\, MI\, 49858\, United States
CATEGORIES:Menominee
END:VEVENT
BEGIN:VEVENT
DTSTART;TZID=UTC:20250821T180000
DTEND;TZID=UTC:20250821T210000
DTSTAMP:20260424T143750
CREATED:20250801T161141Z
LAST-MODIFIED:20250801T161141Z
UID:10005725-1755799200-1755810000@upbarreview.com
SUMMARY:Moors & McCumber LIVE @ Rainbow's End Alpaca Farm
DESCRIPTION:Moors & McCumber Live in Concert at Rainbow’s End Alpaca Farm. Thursday\, August 21\, 2025. 6pm Doors\, 7pm Concert
URL:https://upbarreview.com/event/moors-mccumber-live-rainbows-end-alpaca-farm/
CATEGORIES:Ironmountain
END:VEVENT
BEGIN:VEVENT
DTSTART;TZID=UTC:20250821T190000
DTEND;TZID=UTC:20250821T203000
DTSTAMP:20260424T143750
CREATED:20250801T161404Z
LAST-MODIFIED:20250801T161404Z
UID:10005739-1755802800-1755808200@upbarreview.com
SUMMARY:Norway Music in the Park
DESCRIPTION:Hey All\, If you like Oldies from the 50’s and 60’s\,  then you do not want to miss this performance. We will be playing in the City of Norway on main street\, Thursday August 21st from 7:00 to 8:30 CST. So bring your Family & Friends\, and enjoy a night out. We will bring you back in Time if only for a little while. We start playing for you at 7
URL:https://upbarreview.com/event/norway-music-in-the-park/
CATEGORIES:Ironmountain
END:VEVENT
BEGIN:VEVENT
DTSTART;TZID=UTC:20250821T193000
DTEND;TZID=UTC:20250821T220000
DTSTAMP:20260424T143750
CREATED:20250724T010714Z
LAST-MODIFIED:20250724T010714Z
UID:10005576-1755804600-1755813600@upbarreview.com
SUMMARY:Island Resort Casino - Chris Canas - Escanaba
DESCRIPTION:The Chris Canas Band take over Island Resort Casino for a heaping helping of #BLUES\, #FUNK\, & #SOUL for our Escanaba\, MI fans. Come and get some of this Detroit Juke Joint Blues.\nFor booking head on over to www.chriscanas.com
URL:https://upbarreview.com/event/island-resort-casino-chris-canas-escanaba/
LOCATION:Island Resort & Casino\, W 399 US-2\, Harris\, MI\, 49845\, United States
CATEGORIES:Menominee
END:VEVENT
BEGIN:VEVENT
DTSTART;TZID=UTC:20250822T080000
DTEND;TZID=UTC:20250822T090000
DTSTAMP:20260424T143750
CREATED:20250723T204444Z
LAST-MODIFIED:20250723T204444Z
UID:10005443-1755849600-1755853200@upbarreview.com
SUMMARY:The Argonaut - Sunrise Flow Yoga w/ Mary - Menominee
DESCRIPTION:Start your day grounded\, energized\, and inspired! Join Mary every Thursday and Friday morning at 8:00 AM for Sunrise Flow Yoga—a rejuvenating class designed for all levels. Whether you’re new to yoga or deepening your practice\, Mary’s welcoming guidance will help you stretch\, strengthen\, and center your mind. Expect gentle movement\, mindful breathing\, and a supportive community vibe. Bring your mat\, an open heart\, and let’s greet the day together!
URL:https://upbarreview.com/event/the-argonaut-sunrise-flow-yoga-w-mary-menominee/2025-08-22/
LOCATION:The Argonaut\, 432 10th Ave\, Menominee\, MI
CATEGORIES:Menominee
END:VEVENT
BEGIN:VEVENT
DTSTART;TZID=UTC:20250822T130000
DTEND;TZID=UTC:20250822T150000
DTSTAMP:20260424T143750
CREATED:20250403T022458Z
LAST-MODIFIED:20250403T022458Z
UID:10004112-1755867600-1755874800@upbarreview.com
SUMMARY:Forever Friendship Drop-in Center - Budgeting 101 - Kingsford
DESCRIPTION:
URL:https://upbarreview.com/event/forever-friendship-drop-in-center-budgeting-101-kingsford-2/2025-08-22/
LOCATION:Forever Friendship Drop-in Center\, 501 S Carpenter Ave\, Kingsford\, MI
CATEGORIES:Ironmountain
END:VEVENT
BEGIN:VEVENT
DTSTART;TZID=UTC:20250822T153000
DTEND;TZID=UTC:20250822T173000
DTSTAMP:20260424T143750
CREATED:20250801T181212Z
LAST-MODIFIED:20250801T181212Z
UID:10005790-1755876600-1755883800@upbarreview.com
SUMMARY:NMU Alumni Happy Hour: Blackrocks Brewery
DESCRIPTION:Wildcats\, let’s get together! Join NMU Alumni & Friends at Blackrocks for a fun and lively happy hour to celebrate the re-release of Wildcat Gold Lager! Pre-register and you’ll be entered into NMU giveaways.
URL:https://upbarreview.com/event/nmu-alumni-happy-hour-blackrocks-brewery/
CATEGORIES:Marquette
END:VEVENT
BEGIN:VEVENT
DTSTART;TZID=UTC:20250822T170000
DTEND;TZID=UTC:20250822T190000
DTSTAMP:20260424T143750
CREATED:20250403T021557Z
LAST-MODIFIED:20250403T021615Z
UID:10003969-1755882000-1755889200@upbarreview.com
SUMMARY:Forever Friendship Drop-in Center - Mens Social Sober Club - Kingsford
DESCRIPTION:A safe and sober space for men to get together and hangout or talk about issues that affect men in our society. We have different games\, community outings and events depending on wether.
URL:https://upbarreview.com/event/forever-friendship-drop-in-center-mens-social-sober-club-iron-mountain/2025-08-22/
LOCATION:Forever Friendship Drop-in Center\, 501 S Carpenter Ave\, Kingsford\, MI
CATEGORIES:Ironmountain
END:VEVENT
BEGIN:VEVENT
DTSTART;TZID=UTC:20250822T170000
DTEND;TZID=UTC:20250822T200000
DTSTAMP:20260424T143750
CREATED:20250619T192236Z
LAST-MODIFIED:20250619T192236Z
UID:10004834-1755882000-1755892800@upbarreview.com
SUMMARY:Upperhand Brewery - Friday Live Music - Escanaba
DESCRIPTION:Join us for live music every Sunday 2-5p and Friday 5-8p. Beginning June 1st through August 31st.
URL:https://upbarreview.com/event/upperhand-brewery-friday-live-music-escanaba/2025-08-22/
LOCATION:Upper Hand Brewery\, 3525 Airport Rd\, Escanaba\, WI\, 49829
CATEGORIES:Menominee
END:VEVENT
BEGIN:VEVENT
DTSTART;TZID=UTC:20250822T170000
DTEND;TZID=UTC:20250822T200000
DTSTAMP:20260424T143750
CREATED:20250801T181913Z
LAST-MODIFIED:20250801T181913Z
UID:10005822-1755882000-1755892800@upbarreview.com
SUMMARY:Guilty Gear Strive Monthly!
DESCRIPTION:Marquette’s Guilty Gear Strive local! Come down and match up with some of Marquette’s fiercest fighters at Four Swords Retropub @6pm every third Friday of the month.\nThere is no venue fee\, only a $6 cash pool ($7 if using a card to pay). Cash pool split 50/30/20% 💰 \nRULES: BO3 until FINALS then BO5\nDouble-Elimination bracket or Round Robin depending on how many people enter.\nWe have controllers but feel free to bring your own! \nPre-Register here:\nhttps://www.start.gg/fsr-ggst \nYou can also show up 10-15 mins early to get added to the bracket manually. \nWant to play arcade games in between matches or bring a friend who doesn’t want to compete? Take advantage of our Game Time Special: unlimited arcade play for just $9 from 6–9 PM on all tournament nights!
URL:https://upbarreview.com/event/guilty-gear-strive-monthly/
CATEGORIES:Marquette
END:VEVENT
BEGIN:VEVENT
DTSTART;TZID=UTC:20250822T173000
DTEND;TZID=UTC:20250822T190000
DTSTAMP:20260424T143750
CREATED:20250724T003035Z
LAST-MODIFIED:20250724T003035Z
UID:10005559-1755883800-1755889200@upbarreview.com
SUMMARY:Lakeside Christian Church - MPK Christian Celtic Band - Escanaba
DESCRIPTION:FREE concert\, featuring MPK Christian Celtic Band\, donations accepted for this wonderful event\, designed to uplift the name of Jesus and encourage the audience.
URL:https://upbarreview.com/event/lakeside-christian-church-mpk-christian-celtic-band-escanaba/
CATEGORIES:Menominee
END:VEVENT
BEGIN:VEVENT
DTSTART;TZID=UTC:20250822T180000
DTEND;TZID=UTC:20250822T210000
DTSTAMP:20260424T143750
CREATED:20250731T202434Z
LAST-MODIFIED:20250731T202434Z
UID:10005685-1755885600-1755896400@upbarreview.com
SUMMARY:Todd Wangerin
DESCRIPTION:
URL:https://upbarreview.com/event/todd-wangerin/
CATEGORIES:Ironmountain
END:VEVENT
BEGIN:VEVENT
DTSTART;TZID=UTC:20250822T190000
DTEND;TZID=UTC:20250822T210000
DTSTAMP:20260424T143750
CREATED:20250723T232320Z
LAST-MODIFIED:20250723T232320Z
UID:10005524-1755889200-1755896400@upbarreview.com
SUMMARY:Forgotten Fire Winery - Broadway Singo - Peshtigo
DESCRIPTION:Welcome to Broadway Singo at Forgotten Fire Winery! Get ready for a night of singing\, laughter\, and fun on August 22\, 2025 at 7:00 PM. Join us for a unique twist on bingo where you sing your favorite Broadway tunes instead of calling out numbers. It’s a musical extravaganza you won’t want to miss!\nMark your calendars and bring your friends for a memorable evening filled with music and entertainment. See you there!
URL:https://upbarreview.com/event/forgotten-fire-winery-broadway-singo-peshtigo/
LOCATION:Forgotten Fire Winery\, N2393 Schacht Road\, Marinette\, WI\, 54143\, United States
CATEGORIES:Menominee
END:VEVENT
BEGIN:VEVENT
DTSTART;TZID=UTC:20250822T193000
DTEND;TZID=UTC:20250822T210000
DTSTAMP:20260424T143750
CREATED:20250724T002413Z
LAST-MODIFIED:20250724T002413Z
UID:10005556-1755891000-1755896400@upbarreview.com
SUMMARY:Island Resort and Casino - Chris Canas - Escanaba
DESCRIPTION:The Chris Canas Band take over Island Resort Casino for a heaping helping of #BLUES\, #FUNK\, & #SOUL for our Escanaba\, MI fans. Come and get some of this Detroit Juke Joint Blues.\nFor booking head on over to www.chriscanas.com
URL:https://upbarreview.com/event/island-resort-and-casino-chris-canas-escanaba/
LOCATION:Island Resort & Casino\, W 399 US-2\, Harris\, MI\, 49845\, United States
CATEGORIES:Menominee
END:VEVENT
BEGIN:VEVENT
DTSTART;TZID=UTC:20250822T200000
DTEND;TZID=UTC:20250822T230000
DTSTAMP:20260424T143750
CREATED:20250207T191746Z
LAST-MODIFIED:20250207T191746Z
UID:10002968-1755892800-1755903600@upbarreview.com
SUMMARY:The Granada - Karaoke Night - Escanaba
DESCRIPTION:Welcome to the Hottest Karaoke show in Town! Every Friday at The Granada in Escanaba\, MI Starts at 9:00 pm\nCreate your FREE Performer Account with Songbooks Online App to Browse the Karaoke song library\, keep a favorites list and submit your song requests remotely! Use Show ID: MSK23 after you create your account. You can also just tell me your name and the song you want if you don’t know how to install an app.
URL:https://upbarreview.com/event/the-granada-karaoke-night-escanaba/2025-08-22/
LOCATION:The Granada\, 330 S 10th St\, Escanaba\, MI
CATEGORIES:Menominee
END:VEVENT
BEGIN:VEVENT
DTSTART;TZID=UTC:20250822T200000
DTEND;TZID=UTC:20250822T230000
DTSTAMP:20260424T143750
CREATED:20250801T181226Z
LAST-MODIFIED:20250801T181226Z
UID:10005792-1755892800-1755903600@upbarreview.com
SUMMARY:Harborfest 2025
DESCRIPTION:BN90’s is thrilled to bring the 90’s party to Marquette’s legendary Harborfest
URL:https://upbarreview.com/event/harborfest-2025/
CATEGORIES:Marquette
END:VEVENT
BEGIN:VEVENT
DTSTART;TZID=UTC:20250822T200000
DTEND;TZID=UTC:20250822T230000
DTSTAMP:20260424T143750
CREATED:20250801T181621Z
LAST-MODIFIED:20250801T181621Z
UID:10005808-1755892800-1755903600@upbarreview.com
SUMMARY:Gizzae
DESCRIPTION:Live at the Ore Dock Brewing Co – Gizzae returns to MQT!\nGizzae is a musical tapestry woven from the diverse experiences of its members\, who hail from across the globe. With over 35 years of grooving\, they’ve won Grammys and Chicago Music Awards\, and they’ve shared stages with reggae royalty Ziggy Marley\, the Rolling Stones and Toots & the Maytals. \n21+ • Doors 8:30 • Show 9pm • $10 • No Refunds \ngizzae.com
URL:https://upbarreview.com/event/gizzae/
CATEGORIES:Marquette
END:VEVENT
BEGIN:VEVENT
DTSTART;TZID=UTC:20250823T050000
DTEND;TZID=UTC:20250901T170000
DTSTAMP:20260424T143750
CREATED:20250904T021825Z
LAST-MODIFIED:20250904T021825Z
UID:10005844-1755925200-1756746000@upbarreview.com
SUMMARY:Annual Pool Shutdown
DESCRIPTION:Our pool will be shut down as we refurbish\, and renew! Please check out all of the other programs and areas our Y has to offer during this time.\n Our pool will re-open September 2 after the holiday.
URL:https://upbarreview.com/event/annual-pool-shutdown/
CATEGORIES:Menominee
END:VEVENT
BEGIN:VEVENT
DTSTART;TZID=UTC:20250823T080000
DTEND;TZID=UTC:20250823T110000
DTSTAMP:20260424T143750
CREATED:20250724T002033Z
LAST-MODIFIED:20250724T002033Z
UID:10005545-1755936000-1755946800@upbarreview.com
SUMMARY:Escanaba Farmers Market
DESCRIPTION:Open 9am to Noon every Saturday through the end of October.
URL:https://upbarreview.com/event/escanaba-farmers-market-3/2025-08-23/
LOCATION:1501 Ludington St\, Escanaba\, MI
CATEGORIES:Menominee
END:VEVENT
BEGIN:VEVENT
DTSTART;TZID=UTC:20250823T080000
DTEND;TZID=UTC:20250823T120000
DTSTAMP:20260424T143750
CREATED:20250620T154032Z
LAST-MODIFIED:20250620T154032Z
UID:10004996-1755936000-1755950400@upbarreview.com
SUMMARY:Iron Mountain Farmers & Artisans Market
DESCRIPTION:Buy local\, shop and support 30-40 fine vendors from the Iron Mountain area. The Downtown Farmers & Artisans Market (FAM) is held Saturdays in the parking lot across from Dickinson County Library at the corner of A Street and Iron Mountain Street in Downtown Iron Mountain MI. If you need help finding parking\, please go to downtownironmountain.com/parking to see the map.\nThe FAM is a great place to enjoy a sense of community while supporting local vendors and downtown businesses. The FAM offers a unique combination of local and organic produce\, seasonal plants\, honey & maple syrup\, flowers\, locally made baked goods\, and locally made crafts. To see the full vendor list\, go to downtiwnironmountain.com/farmers-artisans-market
URL:https://upbarreview.com/event/iron-mountain-farmers-artisans-market/2025-08-23/
LOCATION:501 S Stephenson Ave\, Iron Mountain\, MI
CATEGORIES:Ironmountain
END:VEVENT
BEGIN:VEVENT
DTSTART;TZID=UTC:20250823T090000
DTEND;TZID=UTC:20250823T120000
DTSTAMP:20260424T143750
CREATED:20250428T124102Z
LAST-MODIFIED:20250428T124921Z
UID:10004213-1755939600-1755950400@upbarreview.com
SUMMARY:Menominee Historic Downtown Farmers Market
DESCRIPTION:The countdown is on! Join us at Spies Public Library Parking Lot on May 24\, 2025\, from 9 AM to 12 PM for the grand opening of the Menominee Historic Downtown Farmers Market—and don’t forget\, we’ll be here every Saturday after that!\nEach week\, we’ll spotlight one of our amazing returning vendors\, and this week\, we’re thrilled to feature Rabbitry & Yarn LLC! ��\nGet ready for a stunning selection of: � Handspun yarn & handmade knitwear/crochet items\, designed and created with love � Naturally dyed mill-spun wool yarns using plants and insects for a truly one-of-a-kind touch � A special mill-spun blend of local sheep & angora fiber (if the mill finishes it in time!) � Beautiful handmade wood items—bowls\, honey dippers\, toys\, all crafted from local woods � A custom-designed organic cotton tote bag (because\, of course\, it features an adorable rabbit!)\nDon’t miss out on this fantastic opportunity to shop local\, support artisans\, and be part of something special. Mark your calendars and we’ll see you there!\n#FarmersMarket #ShopLocal #HandmadeGoods #RabbitryAndYarn #MenomineeMarket
URL:https://upbarreview.com/event/menominee-historic-downtown-farmers-market-5/2025-08-23/
LOCATION:Spies Public Library\, 940 1st St.\, Menominee\, MI\, 49858
CATEGORIES:Menominee
END:VEVENT
BEGIN:VEVENT
DTSTART;TZID=UTC:20250823T090000
DTEND;TZID=UTC:20250823T160000
DTSTAMP:20260424T143750
CREATED:20250801T181753Z
LAST-MODIFIED:20250801T181753Z
UID:10005813-1755939600-1755964800@upbarreview.com
SUMMARY:Downhill Gravity Camp - Lift Served
DESCRIPTION:❗️❗️Please note camp runs from 9:00 a.m. – 4:00 p.m. Eastern Time. \nWe are delighted to partner with Marquette Mountain for year 2! \nJoin us for a fun day growing confidence in lift served gravity riding. \nExpect to ride and session on intermediate to advanced terrain with experienced certified Coaches. \nWe’ll session on techincal sections\, improve cornering and descending with flow. \nOptional Downhill race registration is included in your ticket if a race is running that day. Participation is optional. Your $200 gets you a full day of small group Coaching. \nThere will be a beginner to intermediate group riding green and blue terrain. There will be a second group focused on advanced and possibly expert terrain with an experienced set of Coaches. \nRequired: full face helmet\, flats\, dropper post. Pads highly encouraged. \nFor the Love of BIKE’s waiver is required prior to participating. \nPlan to purchase your lift ticket and lunch directly through Marquette Mountain. Carry in food is not permitted.
URL:https://upbarreview.com/event/downhill-gravity-camp-lift-served-2/
CATEGORIES:Marquette
END:VEVENT
BEGIN:VEVENT
DTSTART;TZID=UTC:20250823T100000
DTEND;TZID=UTC:20250823T140000
DTSTAMP:20260424T143750
CREATED:20250801T181808Z
LAST-MODIFIED:20250801T181808Z
UID:10005819-1755943200-1755957600@upbarreview.com
SUMMARY:1075th Reunion
DESCRIPTION:Bring your pictures and memories of our 1075th fun through the years.\nBring your own drinks and food \nFriday night Happy Hour where and when TBD \nCannot wait to see everyone!!  \nIf you know of any of our 1075th friends not on Facebook please invite them!
URL:https://upbarreview.com/event/1075th-reunion/
CATEGORIES:Marquette
END:VEVENT
BEGIN:VEVENT
DTSTART;TZID=UTC:20250823T110000
DTEND;TZID=UTC:20250823T133000
DTSTAMP:20260424T143750
CREATED:20250724T013154Z
LAST-MODIFIED:20250724T013154Z
UID:10005591-1755946800-1755955800@upbarreview.com
SUMMARY:Escanaba Public Library - Coffee & Chat w/ Author J. L. Hyde - Escanaba
DESCRIPTION:Come to the Escanaba Public Library on Saturday\, August 23 from 12-2 pm for the kickoff event of J. L. Hyde’s Fall Tour for her latest book\, “To All Those I’ve Killed Before.”\nBooks will be available for purchase at the event. You can bring any of your other J. L. Hyde books for signing\, too.\nCoffee and treats will be available for your enjoyment as well
URL:https://upbarreview.com/event/escanaba-public-library-coffee-chat-w-author-j-l-hyde-escanaba/
LOCATION:Escanaba Public Library\, 400 Ludington St\, Escanaba\, WI\, 49829
CATEGORIES:Menominee
END:VEVENT
BEGIN:VEVENT
DTSTART;TZID=UTC:20250823T160000
DTEND;TZID=UTC:20250823T190000
DTSTAMP:20260424T143750
CREATED:20250723T190321Z
LAST-MODIFIED:20250723T190321Z
UID:10005402-1755964800-1755975600@upbarreview.com
SUMMARY:Three Bridge Brewing Company - Drink\, Link\, & Ink - Menominee
DESCRIPTION:Get ready for the perfect summer evening at Three Bridge Brewing Company! Yummy drinks\, permanent jewelry AND mini permanent tattoos.\nKnotted Chain Permanent Jewelry will be joining again with Permanent Bracelets\, Anklets\, Necklaces & Rings will be available! Over 40+ Chains and 100+ charms. Quality gold-filled\, rose gold-filled and sterling silver.\nAlso joining will be Raesha from Sugar Ink Fineline Tattoo who will be doing some mini tattoos this day! Flash sheet of available tattoos will be posted closer to the event.\nThree Bridge Brewing Co. will be featuring specialty brews this day like the Lovely Lady Pina Colada Ale and Basic “B” Blueberry Lager. Food from Yooper Dogz will be available!!\nBe sure to come visit us all and enjoy all that Three Bridge Brewing Co. has to offer! Bring your family or grab a friend and be sure to help spread the word!
URL:https://upbarreview.com/event/three-bridge-brewing-company-drink-link-ink-menominee/
LOCATION:Three Bridge Brewing Company\, 2221 13th St\, Menominee\, MI\, 49858\, United States
CATEGORIES:Menominee
END:VEVENT
END:VCALENDAR