BEGIN:VCALENDAR
VERSION:2.0
PRODID:-//UP BAR REVIEW - ECPv6.14.2//NONSGML v1.0//EN
CALSCALE:GREGORIAN
METHOD:PUBLISH
X-ORIGINAL-URL:https://upbarreview.com
X-WR-CALDESC:Events for UP BAR REVIEW
REFRESH-INTERVAL;VALUE=DURATION:PT1H
X-Robots-Tag:noindex
X-PUBLISHED-TTL:PT1H
BEGIN:VTIMEZONE
TZID:UTC
BEGIN:STANDARD
TZOFFSETFROM:+0000
TZOFFSETTO:+0000
TZNAME:UTC
DTSTART:20250101T000000
END:STANDARD
END:VTIMEZONE
BEGIN:VEVENT
DTSTART;TZID=UTC:20250801T103000
DTEND;TZID=UTC:20250801T133000
DTSTAMP:20260423T102338
CREATED:20250724T181418Z
LAST-MODIFIED:20250724T181418Z
UID:10005606-1754044200-1754055000@upbarreview.com
SUMMARY:Farnsworth Public Library - Einstein Project - Oconto
DESCRIPTION:Use your imagination to create something great-and take it home with you! Come tinker\, craft and create with all the fun pieces from the Einstein Mobile Makerspace. Children\, Tweens and Teens are all invited to come build for a few minutes or the full 2 hours. Please plan to arrive by 1 PM so you have time to build.*Please note this event will be at Holtwood Sports Complex\, Lions Pavillion
URL:https://upbarreview.com/event/farnsworth-public-library-einstein-project-oconto/
LOCATION:Farnsworth Public Library\, 715 Main St\, Oconto\, WI
CATEGORIES:Menominee
END:VEVENT
BEGIN:VEVENT
DTSTART;TZID=UTC:20250801T120000
DTEND;TZID=UTC:20250814T170000
DTSTAMP:20260423T102338
CREATED:20250801T181211Z
LAST-MODIFIED:20250801T181211Z
UID:10005787-1754049600-1755190800@upbarreview.com
SUMMARY:Drive for $25 – Supporting SAIL Disability Network of the U.P.
DESCRIPTION:🚗 Drive for $25 – Supporting SAIL Disability Network of the U.P. All August Long! 💙\nThis August\, Fox Motors dealerships across the Upper Peninsula are proud to partner with SAIL Disability Network of the U.P.\, helping advance independence\, access\, and inclusion for people with disabilities across our region. \n📍 Participating Dealerships:\nFox Marquette Chevrolet\nFox Marquette Subaru\nFox Marquette Ford\nFox Negaunee Chrysler Dodge Jeep Ram\nFox Negaunee Chevrolet GMC \n📅 August 1 – August 31\n🛞 For every vehicle sold\, we’re donating $25 to SAIL\, supporting their vital work in advocacy\, peer support\, independent living skills\, and community transition services. \nWhether you’re shopping\, test driving\, or just stopping in to learn more\, your visit can help drive progress for U.P. residents with disabilities. Let’s make every mile matter this August. \n#DriveFor25 #FoxMotorsCares #GiveBackLocal #UpperPeninsulaMI #SAILDisabilityNetwork #AccessibilityForAll #FoxMotors\n📲 Learn more about SAIL: https://www.upsail.org
URL:https://upbarreview.com/event/drive-for-25-supporting-sail-disability-network-of-the-u-p/
CATEGORIES:Marquette
END:VEVENT
BEGIN:VEVENT
DTSTART;TZID=UTC:20250801T150000
DTEND;TZID=UTC:20250801T170000
DTSTAMP:20260423T102338
CREATED:20250619T211717Z
LAST-MODIFIED:20250619T211717Z
UID:10004896-1754060400-1754067600@upbarreview.com
SUMMARY:Michigan DNR Pocket Park - Hook Line and Sinker - Escanaba
DESCRIPTION:Learn basic fishing techniques in this interactive and educational session. Perfect for beginners looking to get started in Michigan’s favorite pastime.
URL:https://upbarreview.com/event/michigan-dnr-pocket-park-hook-line-and-sinker-escanaba/2025-08-01/
LOCATION:Michigan DNR Pocket Park\, 2401 12th Avenue North\, Escanaba\, MI\, 49829
CATEGORIES:Menominee
END:VEVENT
BEGIN:VEVENT
DTSTART;TZID=UTC:20250801T170000
DTEND;TZID=UTC:20250801T190000
DTSTAMP:20260423T102338
CREATED:20250403T021557Z
LAST-MODIFIED:20250403T021615Z
UID:10003966-1754067600-1754074800@upbarreview.com
SUMMARY:Forever Friendship Drop-in Center - Mens Social Sober Club - Kingsford
DESCRIPTION:A safe and sober space for men to get together and hangout or talk about issues that affect men in our society. We have different games\, community outings and events depending on wether.
URL:https://upbarreview.com/event/forever-friendship-drop-in-center-mens-social-sober-club-iron-mountain/2025-08-01/
LOCATION:Forever Friendship Drop-in Center\, 501 S Carpenter Ave\, Kingsford\, MI
CATEGORIES:Ironmountain
END:VEVENT
BEGIN:VEVENT
DTSTART;TZID=UTC:20250801T170000
DTEND;TZID=UTC:20250801T190000
DTSTAMP:20260423T102338
CREATED:20250801T155942Z
LAST-MODIFIED:20250801T155942Z
UID:10005707-1754067600-1754074800@upbarreview.com
SUMMARY:Budgeting 101
DESCRIPTION:Learn how to make the most of a limited income while living within your means.Open to individuals employed or on visibility.\nWe will offer night and day options to include more people but keep the groups small and confidential.
URL:https://upbarreview.com/event/budgeting-101/
CATEGORIES:Ironmountain
END:VEVENT
BEGIN:VEVENT
DTSTART;TZID=UTC:20250801T170000
DTEND;TZID=UTC:20250801T200000
DTSTAMP:20260423T102338
CREATED:20250619T192236Z
LAST-MODIFIED:20250619T192236Z
UID:10004831-1754067600-1754078400@upbarreview.com
SUMMARY:Upperhand Brewery - Friday Live Music - Escanaba
DESCRIPTION:Join us for live music every Sunday 2-5p and Friday 5-8p. Beginning June 1st through August 31st.
URL:https://upbarreview.com/event/upperhand-brewery-friday-live-music-escanaba/2025-08-01/
LOCATION:Upper Hand Brewery\, 3525 Airport Rd\, Escanaba\, WI\, 49829
CATEGORIES:Menominee
END:VEVENT
BEGIN:VEVENT
DTSTART;TZID=UTC:20250801T180000
DTEND;TZID=UTC:20250801T210000
DTSTAMP:20260423T102338
CREATED:20250731T201617Z
LAST-MODIFIED:20250731T201617Z
UID:10005669-1754071200-1754082000@upbarreview.com
SUMMARY:Goodfellas
DESCRIPTION:
URL:https://upbarreview.com/event/goodfellas/
CATEGORIES:Ironmountain
END:VEVENT
BEGIN:VEVENT
DTSTART;TZID=UTC:20250801T180000
DTEND;TZID=UTC:20250801T220000
DTSTAMP:20260423T102338
CREATED:20250620T154502Z
LAST-MODIFIED:20250620T155057Z
UID:10005031-1754071200-1754085600@upbarreview.com
SUMMARY:Sandstone Terrace - Live Music - Iron Mountain
DESCRIPTION:Great way to spend your time after dinner with friend’s and family!
URL:https://upbarreview.com/event/sandstone-terrace-saturday-night-live-music-iron-mountain/2025-08-01/
LOCATION:Sandstone Terrace Rooftop Bar\, 220 Iron Mountain St\, Iron Mountain\, MI\, 49801
CATEGORIES:Ironmountain
END:VEVENT
BEGIN:VEVENT
DTSTART;TZID=UTC:20250801T183000
DTEND;TZID=UTC:20250801T200000
DTSTAMP:20260423T102338
CREATED:20250723T192108Z
LAST-MODIFIED:20250723T192108Z
UID:10005414-1754073000-1754078400@upbarreview.com
SUMMARY:Three Bridges Brewing - Strikes & Pints - Menominee
DESCRIPTION:+ = The perfect combo.\nFinal Round Kickboxing & Three Bridge Brewing are teaming up for Strikes & Pints — a one-of-a-kind workout and wind-down event.\n 2221 13th St\, Menominee MI August 1st |  6:30PM $20 ticket (drinks sold separately)\n Grab your ticket now: manitowockickboxing.com/product/strikes-pints We will bring the gloves &Focus Mitts – you bring the energy!!\nPSSS:  Manitowoc friends if you wish to attend contact me we will figure out a car pool\nTag your workout buddy & your beer buddy — and if it’s the same person\, even better
URL:https://upbarreview.com/event/three-bridges-brewing-strikes-pints-menominee/
LOCATION:Three Bridge Brewing Company\, 2221 13th St\, Menominee\, MI\, 49858\, United States
CATEGORIES:Menominee
END:VEVENT
BEGIN:VEVENT
DTSTART;TZID=UTC:20250801T190000
DTEND;TZID=UTC:20250801T203000
DTSTAMP:20260423T102338
CREATED:20250731T201522Z
LAST-MODIFIED:20250731T201522Z
UID:10005646-1754074800-1754080200@upbarreview.com
SUMMARY:An Evening with Bob Milne
DESCRIPTION:
URL:https://upbarreview.com/event/an-evening-with-bob-milne/
CATEGORIES:Ironmountain
END:VEVENT
BEGIN:VEVENT
DTSTART;TZID=UTC:20250801T190000
DTEND;TZID=UTC:20250801T220000
DTSTAMP:20260423T102338
CREATED:20250731T201603Z
LAST-MODIFIED:20250731T201603Z
UID:10005666-1754074800-1754085600@upbarreview.com
SUMMARY:FRIDAY NIGHT WITH DEWIE & EVAN!
DESCRIPTION:
URL:https://upbarreview.com/event/friday-night-with-dewie-evan/
END:VEVENT
BEGIN:VEVENT
DTSTART;TZID=UTC:20250801T190000
DTEND;TZID=UTC:20250801T220000
DTSTAMP:20260423T102338
CREATED:20250801T160005Z
LAST-MODIFIED:20250801T160005Z
UID:10005714-1754074800-1754085600@upbarreview.com
SUMMARY:Dinner with Cats Meows
DESCRIPTION:Dinner with the famous Cats Meows and all her fans!\n#aprilengman304\n#engmansafc\n#aprilengman\n#nicholasengman\n#lucasengman\n#catsmeows\n#ThirstTrap\n#attentionwhore
URL:https://upbarreview.com/event/dinner-with-cats-meows/
CATEGORIES:Ironmountain
END:VEVENT
BEGIN:VEVENT
DTSTART;TZID=UTC:20250801T190000
DTEND;TZID=UTC:20250801T230000
DTSTAMP:20260423T102338
CREATED:20250723T174922Z
LAST-MODIFIED:20250723T174922Z
UID:10005387-1754074800-1754089200@upbarreview.com
SUMMARY:The Lodge - Hale & Hall - Marinette
DESCRIPTION:For the past 3 years\, Hale & Hall has been turning what everyone thinks acoustic music is on its side and serving it up in a brand new way. Spanning almost 100 years of musical history\, this duo has found a way to bring the best of every sound in music to their community. They have aptly chosen the slogan\, “every genre\, every decade\, every time\,” to represent everything they are. Come experience the new side of acoustic music with Aviva and Ron of Hale & Hall.
URL:https://upbarreview.com/event/the-lodge-hale-hall-marinette-2/
LOCATION:The Lodge\, 1333 Main St\, Marinette\, WI
CATEGORIES:Menominee
END:VEVENT
BEGIN:VEVENT
DTSTART;TZID=UTC:20250801T200000
DTEND;TZID=UTC:20250801T230000
DTSTAMP:20260423T102338
CREATED:20250207T191746Z
LAST-MODIFIED:20250207T191746Z
UID:10002965-1754078400-1754089200@upbarreview.com
SUMMARY:The Granada - Karaoke Night - Escanaba
DESCRIPTION:Welcome to the Hottest Karaoke show in Town! Every Friday at The Granada in Escanaba\, MI Starts at 9:00 pm\nCreate your FREE Performer Account with Songbooks Online App to Browse the Karaoke song library\, keep a favorites list and submit your song requests remotely! Use Show ID: MSK23 after you create your account. You can also just tell me your name and the song you want if you don’t know how to install an app.
URL:https://upbarreview.com/event/the-granada-karaoke-night-escanaba/2025-08-01/
LOCATION:The Granada\, 330 S 10th St\, Escanaba\, MI
CATEGORIES:Menominee
END:VEVENT
BEGIN:VEVENT
DTSTART;TZID=UTC:20250801T210000
DTEND;TZID=UTC:20250801T233000
DTSTAMP:20260423T102338
CREATED:20250403T021054Z
LAST-MODIFIED:20250403T021054Z
UID:10003930-1754082000-1754091000@upbarreview.com
SUMMARY:Round 2 - Karaoke - Iron Mountain
DESCRIPTION:Karaoke Every Other Friday at Round 2 9pm to 1am
URL:https://upbarreview.com/event/round-2-karaoke-iron-mountain/2025-08-01/
LOCATION:Round 2\, 407 S Stephenson Ave\, Iron Mountain\, MI\, 49801
CATEGORIES:Ironmountain
END:VEVENT
BEGIN:VEVENT
DTSTART;TZID=UTC:20250801T210000
DTEND;TZID=UTC:20250802T010000
DTSTAMP:20260423T102338
CREATED:20250731T202638Z
LAST-MODIFIED:20250731T202638Z
UID:10005693-1754082000-1754096400@upbarreview.com
SUMMARY:Karaoke at Round 2\, 9pm-1am central\, Every Other Friday
DESCRIPTION:
URL:https://upbarreview.com/event/karaoke-at-round-2-9pm-1am-central-every-other-friday/
LOCATION:Round 2\, 407 S Stephenson Ave\, Iron Mountain\, MI\, 49801
END:VEVENT
BEGIN:VEVENT
DTSTART;TZID=UTC:20250801T210000
DTEND;TZID=UTC:20250802T010000
DTSTAMP:20260423T102338
CREATED:20250801T180716Z
LAST-MODIFIED:20250801T180716Z
UID:10005754-1754082000-1754096400@upbarreview.com
SUMMARY:Late Night Tamales @ The Delft
DESCRIPTION:Yep! Every Fri/Sat: stop by our marque for late-night tamales. $3 or three for $8. Goes until they sell out!
URL:https://upbarreview.com/event/late-night-tamales-the-delft-2/
CATEGORIES:Marquette
END:VEVENT
BEGIN:VEVENT
DTSTART;TZID=UTC:20250802T010000
DTEND;TZID=UTC:20250802T040000
DTSTAMP:20260423T102338
CREATED:20250731T202450Z
LAST-MODIFIED:20250731T202450Z
UID:10005692-1754096400-1754107200@upbarreview.com
SUMMARY:Learn to Play Warhammer
DESCRIPTION:
URL:https://upbarreview.com/event/learn-to-play-warhammer/
CATEGORIES:Ironmountain
END:VEVENT
BEGIN:VEVENT
DTSTART;TZID=UTC:20250802T073000
DTEND;TZID=UTC:20250802T180000
DTSTAMP:20260423T102338
CREATED:20250724T005026Z
LAST-MODIFIED:20250724T005026Z
UID:10005570-1754119800-1754157600@upbarreview.com
SUMMARY:Up State Fairgrounds - Summerfest Series - Escanaba
DESCRIPTION:https://www.timzhsm.com/events.html
URL:https://upbarreview.com/event/up-state-fairgrounds-summerfest-series-escanaba/2025-08-02/
LOCATION:UP State Fairgrounds\, 2401 12th Avenue North\, Escanaba
CATEGORIES:Menominee
END:VEVENT
BEGIN:VEVENT
DTSTART;TZID=UTC:20250802T074500
DTEND;TZID=UTC:20250802T114500
DTSTAMP:20260423T102338
CREATED:20250801T180949Z
LAST-MODIFIED:20250801T180949Z
UID:10005767-1754120700-1754135100@upbarreview.com
SUMMARY:Honey Haven @ Marquette Farmers Market
DESCRIPTION:🐝 Come See Us at the Marquette Farmers Market! 🍞🌻We’ll be at the Saturday Morning Farmers Market in Marquette — and we’re bringing all your Honey Haven favorites! \n🗓 When: Saturday\, 9AM–1 PM\n📍 Where: Downtown Marquette Farmers Market\n🥖 What’s coming: \nFresh sourdough loaves \nCupcakes \nCake Slices \nAnd more safe\, sweet goodies — all free from gluten\, dairy\, eggs\, soy\, peanuts\, and dyes!
URL:https://upbarreview.com/event/honey-haven-marquette-farmers-market/
CATEGORIES:Marquette
END:VEVENT
BEGIN:VEVENT
DTSTART;TZID=UTC:20250802T080000
DTEND;TZID=UTC:20250802T110000
DTSTAMP:20260423T102338
CREATED:20250724T002033Z
LAST-MODIFIED:20250724T002033Z
UID:10005542-1754121600-1754132400@upbarreview.com
SUMMARY:Escanaba Farmers Market
DESCRIPTION:Open 9am to Noon every Saturday through the end of October.
URL:https://upbarreview.com/event/escanaba-farmers-market-3/2025-08-02/
LOCATION:1501 Ludington St\, Escanaba\, MI
CATEGORIES:Menominee
END:VEVENT
BEGIN:VEVENT
DTSTART;TZID=UTC:20250802T080000
DTEND;TZID=UTC:20250802T110000
DTSTAMP:20260423T102338
CREATED:20250731T202449Z
LAST-MODIFIED:20250731T202449Z
UID:10005688-1754121600-1754132400@upbarreview.com
SUMMARY:DCRC Group Run Hosted By Queen City Running Company IM
DESCRIPTION:
URL:https://upbarreview.com/event/dcrc-group-run-hosted-by-queen-city-running-company-im/
CATEGORIES:Ironmountain
END:VEVENT
BEGIN:VEVENT
DTSTART;TZID=UTC:20250802T080000
DTEND;TZID=UTC:20250802T120000
DTSTAMP:20260423T102338
CREATED:20250620T154032Z
LAST-MODIFIED:20250620T154032Z
UID:10004993-1754121600-1754136000@upbarreview.com
SUMMARY:Iron Mountain Farmers & Artisans Market
DESCRIPTION:Buy local\, shop and support 30-40 fine vendors from the Iron Mountain area. The Downtown Farmers & Artisans Market (FAM) is held Saturdays in the parking lot across from Dickinson County Library at the corner of A Street and Iron Mountain Street in Downtown Iron Mountain MI. If you need help finding parking\, please go to downtownironmountain.com/parking to see the map.\nThe FAM is a great place to enjoy a sense of community while supporting local vendors and downtown businesses. The FAM offers a unique combination of local and organic produce\, seasonal plants\, honey & maple syrup\, flowers\, locally made baked goods\, and locally made crafts. To see the full vendor list\, go to downtiwnironmountain.com/farmers-artisans-market
URL:https://upbarreview.com/event/iron-mountain-farmers-artisans-market/2025-08-02/
LOCATION:501 S Stephenson Ave\, Iron Mountain\, MI
CATEGORIES:Ironmountain
END:VEVENT
BEGIN:VEVENT
DTSTART;TZID=UTC:20250802T080000
DTEND;TZID=UTC:20250802T120000
DTSTAMP:20260423T102338
CREATED:20250723T191835Z
LAST-MODIFIED:20250723T191835Z
UID:10005410-1754121600-1754136000@upbarreview.com
SUMMARY:Menominee Twin County Airport - Freedom of Flight
DESCRIPTION:AUGUST 2ND & 3RD!FANTASTIC EVENT!Mark your Calendars! We’ll see you there! Please share! Great family event!
URL:https://upbarreview.com/event/menominee-twin-county-airport-freedom-of-flight/
LOCATION:Menominee-Marinette Twin County Airport\, 2801 22nd St\, Menominee\, MI\, 49858
CATEGORIES:Menominee
END:VEVENT
BEGIN:VEVENT
DTSTART;TZID=UTC:20250802T080000
DTEND;TZID=UTC:20250802T120000
DTSTAMP:20260423T102338
CREATED:20250724T181043Z
LAST-MODIFIED:20250724T181043Z
UID:10005603-1754121600-1754136000@upbarreview.com
SUMMARY:Bellin Oconto - 2025 Emplify Health Triathlon - Oconto
DESCRIPTION:SAVE THE DATE!\nWe are thrilled to announce our 3rd annual Bellin Health Kids Triathlon\, the ultimate endurance event for our community’s youth!\n\nLocated at Bellin Health Fitness Oconto\, our promise is to provide children with the opportunity to build confidence by setting and achieving a goal – even one they think is beyond their reach!\n\n– open to kids ages 3 years old to 14 years old –\n4 COURSE LENGTHS based on age and ability\, with each including a swimming leg\, biking leg\, and running leg of the race.\nEARLY BIRD REGISTRATION:May 1st – June 30th$15 entry fee per participant\nPre-Registration:July 1st – July 31st$20 entry fee per participant\nWalk-In Registration:August 2nd$25 entry fee per participant\nREGISTER A RACER  https://raceroster.com/…/2025-emplify-health-by-bellin…\nSIGN-UP TO VOLUNTEER  https://raceroster.com/…/2025-emplify-health…/volunteer\nInterested in becoming an event sponsor? Please contact Kasey at kasey.eischermis@emplifyhealth.org.\nOur goal is to make the Bellin Health Kids Triathlon accessible to all families\, regardless of financial situation. If your family is unable to afford the entry fee\, scholarships are available to cover the cost – please contact Aly Eichman at alyssa.eichman@emplifyhealth.org prior to registration to get started
URL:https://upbarreview.com/event/bellin-oconto-2025-emplify-health-triathlon-oconto/
LOCATION:Bellin Health Fitness Oconto\, 1201 Park Ave\, Oconto\, WI
CATEGORIES:Menominee
END:VEVENT
BEGIN:VEVENT
DTSTART;TZID=UTC:20250802T080000
DTEND;TZID=UTC:20250802T170000
DTSTAMP:20260423T102339
CREATED:20250723T191955Z
LAST-MODIFIED:20250723T191955Z
UID:10005412-1754121600-1754154000@upbarreview.com
SUMMARY:Menominee Twin County Airport - B-25 Miss Mitchell Flight Experiences
DESCRIPTION:The B-25 Miss Mitchell will be in Menominee\, MI August 1-3\, 2025 for the Menominee Airport Day Event\nWe will be offering History Flight Experiences Saturday and Sunday. Exact times to be scheduled the week prior.\nPassenger weight restrictions apply.Passenger must be able to get in and out of the aircraft on their own.Passenger must be 12 years of age or older to fly.
URL:https://upbarreview.com/event/menominee-twin-county-airport-b-25-miss-mitchell-flight-experiences/2025-08-02/
LOCATION:Menominee-Marinette Twin County Airport\, 2801 22nd St\, Menominee\, MI\, 49858
CATEGORIES:Menominee
END:VEVENT
BEGIN:VEVENT
DTSTART;TZID=UTC:20250802T080000
DTEND;TZID=UTC:20250802T170000
DTSTAMP:20260423T102339
CREATED:20250801T181012Z
LAST-MODIFIED:20250801T181012Z
UID:10005776-1754121600-1754154000@upbarreview.com
SUMMARY:Saturday Morning Group Run - QCRC MQT
DESCRIPTION:Join us at the store at 9am\, bring a buddy or meet a buddy and let’s get a run in together!\nAs usual\, the group will meet at the store at 9am for an easy Saturday morning run. Feel free to join the group for however long you feel like\, and as always we encourage walkers and runners of any pace to come on out. The store will be open if you have any belongings you don’t want to carry with you\, or if you need to use the restroom. \nWe can’t wait to see you out there!
URL:https://upbarreview.com/event/saturday-morning-group-run-qcrc-mqt/
CATEGORIES:Marquette
END:VEVENT
BEGIN:VEVENT
DTSTART;TZID=UTC:20250802T090000
DTEND;TZID=UTC:20250802T100000
DTSTAMP:20260423T102339
CREATED:20250730T184635Z
LAST-MODIFIED:20250730T184635Z
UID:10005641-1754125200-1754128800@upbarreview.com
SUMMARY:Yoga at the Market Square - Gladstone
DESCRIPTION:Join Brooke for a Vinyasa Flow Yoga Session!\nBeginner friendly vinyasa flow style yoga class that will link movement with breath\, energizing and restoring body and mind. A recommended donation of $12 is encouraged for the class\, and participants must bring their own yoga mat or towel and water bottle.\nPlease pre-register by emailing yogawithbrooke01@gmail.com.
URL:https://upbarreview.com/event/yoga-at-the-market-square-gladstone/
CATEGORIES:Menominee
END:VEVENT
BEGIN:VEVENT
DTSTART;TZID=UTC:20250802T090000
DTEND;TZID=UTC:20250802T120000
DTSTAMP:20260423T102339
CREATED:20250428T124102Z
LAST-MODIFIED:20250428T124921Z
UID:10004210-1754125200-1754136000@upbarreview.com
SUMMARY:Menominee Historic Downtown Farmers Market
DESCRIPTION:The countdown is on! Join us at Spies Public Library Parking Lot on May 24\, 2025\, from 9 AM to 12 PM for the grand opening of the Menominee Historic Downtown Farmers Market—and don’t forget\, we’ll be here every Saturday after that!\nEach week\, we’ll spotlight one of our amazing returning vendors\, and this week\, we’re thrilled to feature Rabbitry & Yarn LLC! ��\nGet ready for a stunning selection of: � Handspun yarn & handmade knitwear/crochet items\, designed and created with love � Naturally dyed mill-spun wool yarns using plants and insects for a truly one-of-a-kind touch � A special mill-spun blend of local sheep & angora fiber (if the mill finishes it in time!) � Beautiful handmade wood items—bowls\, honey dippers\, toys\, all crafted from local woods � A custom-designed organic cotton tote bag (because\, of course\, it features an adorable rabbit!)\nDon’t miss out on this fantastic opportunity to shop local\, support artisans\, and be part of something special. Mark your calendars and we’ll see you there!\n#FarmersMarket #ShopLocal #HandmadeGoods #RabbitryAndYarn #MenomineeMarket
URL:https://upbarreview.com/event/menominee-historic-downtown-farmers-market-5/2025-08-02/
LOCATION:Spies Public Library\, 940 1st St.\, Menominee\, MI\, 49858
CATEGORIES:Menominee
END:VEVENT
BEGIN:VEVENT
DTSTART;TZID=UTC:20250802T090000
DTEND;TZID=UTC:20250802T120000
DTSTAMP:20260423T102339
CREATED:20250723T233343Z
LAST-MODIFIED:20250723T233343Z
UID:10005527-1754125200-1754136000@upbarreview.com
SUMMARY:Someplace Special Ranch - Mini Event - Peshtigo
DESCRIPTION:Someplace Special Ranch will be putting on a Fund Raiser Horse Show for Birchwood Pony Club. We would like to invite you to come and watch our show\, we will have Dressage Riding\, Stadium Jumping and Cross Country riding going on for you to watch. We will also have a food booth for your enjoyment. Our show starts at 9:00am and will go until 5:00pm. Come watch there is not charge\, admission is free\, just bring a chair and sit back and enjoy our show. If you know of a Rider that would like to do our show we would love to have them join us.
URL:https://upbarreview.com/event/someplace-special-ranch-mini-event-peshtigo/
LOCATION:Someplace Special Ranch\, W2065 Rader Rd\, Marinette\, WI
CATEGORIES:Menominee
END:VEVENT
END:VCALENDAR