BEGIN:VCALENDAR
VERSION:2.0
PRODID:-//UP BAR REVIEW - ECPv6.14.2//NONSGML v1.0//EN
CALSCALE:GREGORIAN
METHOD:PUBLISH
X-ORIGINAL-URL:https://upbarreview.com
X-WR-CALDESC:Events for UP BAR REVIEW
REFRESH-INTERVAL;VALUE=DURATION:PT1H
X-Robots-Tag:noindex
X-PUBLISHED-TTL:PT1H
BEGIN:VTIMEZONE
TZID:UTC
BEGIN:STANDARD
TZOFFSETFROM:+0000
TZOFFSETTO:+0000
TZNAME:UTC
DTSTART:20250101T000000
END:STANDARD
END:VTIMEZONE
BEGIN:VEVENT
DTSTART;TZID=UTC:20250726T130000
DTEND;TZID=UTC:20250726T160000
DTSTAMP:20260423T125328
CREATED:20250724T004202Z
LAST-MODIFIED:20250724T004202Z
UID:10005563-1753534800-1753545600@upbarreview.com
SUMMARY:Ludington Park - Jesus Festival - Escanaba
DESCRIPTION:FREE FOOD\, live music\, & family fun. We want to bless YOU! Come encounter God and experience hope. EVERYTHING is FREE! Bounce houses\, Smashbrothers tournament\, kiddie games\, face painting & more!\nArt Thomas will share a life changing message you don’t want to miss.\nFood by Drifters Restaurant and Dominos.
URL:https://upbarreview.com/event/ludington-park-jesus-festival-escanaba/2025-07-26/
LOCATION:Ludington Park\, Es
CATEGORIES:Menominee
END:VEVENT
BEGIN:VEVENT
DTSTART;TZID=UTC:20250726T130000
DTEND;TZID=UTC:20250726T213000
DTSTAMP:20260423T125328
CREATED:20250724T010125Z
LAST-MODIFIED:20250724T010125Z
UID:10005572-1753534800-1753565400@upbarreview.com
SUMMARY:Marinafest - Escanaba
DESCRIPTION:Food vendors and live music.2-3:30 – ToHuBoHu4-5:30 – Union Suits6-7:30 – Karlee Metzger & Friends8- 9:30 – Polar Blues Band
URL:https://upbarreview.com/event/marinafest-escanaba/
LOCATION:Escanaba Marina\, Escanaba
CATEGORIES:Menominee
END:VEVENT
BEGIN:VEVENT
DTSTART;TZID=UTC:20250726T140000
DTEND;TZID=UTC:20250726T153000
DTSTAMP:20260423T125328
CREATED:20250620T163139Z
LAST-MODIFIED:20250620T163210Z
UID:10005283-1753538400-1753543800@upbarreview.com
SUMMARY:Georgia Peach Stop Event - Kingsford
DESCRIPTION:Peach season is back!  We grow and hand-pick our peaches just for you\, letting them tree ripen for longer and delivering them sometimes in less than 24-hours of harvest. Click the “Going” or “Interested” button and join us at this date and time!\nImportant Details: Available fruit and pricing below. Join us at any of our 200+ locations and 400+ dates across the Midwest to enjoy the freshest Georgia peaches directly from Pearson Farm\, https://tree-ripe.com/fruit-stops/ Can’t make it to a truck? We ship nationally and offer free shipping for WI\, IL\, IA\, and MN. For more info: www.tree-ripe.com/shop.\nWE DO NOT ACCEPT PRE-ORDERS. We take and prefer credit or debit but also accept cash and check.\nAvailable fruit at this Location:– Georgia Peaches: 1/2 bushel box (approx 25lb) for $52– Georgia Pecans: 1lb Bag for $14– New Mexico Pistachios: 1lb Bag for $14– Michigan Blueberries: 5lb Box for $22 (when in-season in July)\nPLEASE NOTE: This event is from 2:00 PM – 3:30 PM CENTRAL TIME. Facebook may show a different time depending on the settings on your device
URL:https://upbarreview.com/event/georgia-peach-stop-event-kingsford/2025-07-26/
LOCATION:Kingsford Ace Hardware\, Kingsford\, MI
CATEGORIES:Ironmountain
END:VEVENT
BEGIN:VEVENT
DTSTART;TZID=UTC:20250726T150000
DTEND;TZID=UTC:20250726T180000
DTSTAMP:20260423T125328
CREATED:20250619T212315Z
LAST-MODIFIED:20250619T212315Z
UID:10004946-1753542000-1753552800@upbarreview.com
SUMMARY:Michigan DNR Pocket Park - Survival Skills Saturday - Escanaba
DESCRIPTION:Get hands-on with the basics of wilderness survival\, including shelter building\, fire safety\, and more. Ideal for People looking to build outdoor confidence.
URL:https://upbarreview.com/event/michigan-dnr-pocket-park-survival-skills-saturday-escanaba/2025-07-26/
LOCATION:Michigan DNR Pocket Park\, 2401 12th Avenue North\, Escanaba\, MI\, 49829
CATEGORIES:Menominee
END:VEVENT
BEGIN:VEVENT
DTSTART;TZID=UTC:20250726T180000
DTEND;TZID=UTC:20250726T190000
DTSTAMP:20260423T125328
CREATED:20250723T231254Z
LAST-MODIFIED:20250723T231254Z
UID:10005506-1753552800-1753556400@upbarreview.com
SUMMARY:The Argonaut - Guided Meditation w/ Kirston - Menominee
DESCRIPTION:Embark on a journey into self as Kirston Ann guides into dimensions of the soul yet to be explored and sure to leave you feeling more whole
URL:https://upbarreview.com/event/the-argonaut-guided-meditation-w-kirston-menominee/2025-07-26/
LOCATION:The Argonaut\, 432 10th Ave\, Menominee\, MI
CATEGORIES:Menominee
END:VEVENT
BEGIN:VEVENT
DTSTART;TZID=UTC:20250726T180000
DTEND;TZID=UTC:20250726T193000
DTSTAMP:20260423T125328
CREATED:20250723T152650Z
LAST-MODIFIED:20250723T152650Z
UID:10005366-1753552800-1753558200@upbarreview.com
SUMMARY:Sno-Haven Pottery - Adult Wheel Night - Marinette
DESCRIPTION:Saturday Nights are great fun at Sno-Haven Pottery . Learning to throw on a potter’s wheel in this one time lesson. The cost of the evening is $45.00 plus tax. Which includes entrance to our Glaze Studio 2 weeks later or on any Sunday Afternoon from 1-4pm\, to complete your pottery. NO EXPERIENCE is neccessary as we go step by step to help you create your very own wheel thrown pottery. Be sure to reserve your place in the class by calling 715-587-2163 .
URL:https://upbarreview.com/event/sno-haven-pottery-adult-wheel-night-marinette-2/
LOCATION:Sno Haven Pottery\, 1215 9th St\, Marinette\, WI\, 54143
CATEGORIES:Menominee
END:VEVENT
BEGIN:VEVENT
DTSTART;TZID=UTC:20250726T180000
DTEND;TZID=UTC:20250726T210000
DTSTAMP:20260423T125328
CREATED:20250724T181618Z
LAST-MODIFIED:20250724T181618Z
UID:10005608-1753552800-1753563600@upbarreview.com
SUMMARY:The Garage - Steven James Band - Oconto
DESCRIPTION:’70s-’90s + Rock + Power Pop + Rockin’ Country
URL:https://upbarreview.com/event/the-garage-steven-james-band-oconto/
LOCATION:The Garage\, 1200 Main St\, Oconto\, WI\, 54153\, United States
CATEGORIES:Menominee
END:VEVENT
BEGIN:VEVENT
DTSTART;TZID=UTC:20250726T180000
DTEND;TZID=UTC:20250726T210000
DTSTAMP:20260423T125328
CREATED:20250724T183325Z
LAST-MODIFIED:20250724T183325Z
UID:10005622-1753552800-1753563600@upbarreview.com
SUMMARY:The Garage - The Steven James Band - Oconto
DESCRIPTION:Music\, Food\, Drinks!
URL:https://upbarreview.com/event/the-garage-the-steven-james-band-oconto/
LOCATION:The Garage\, 1200 Main St\, Oconto\, WI\, 54153\, United States
CATEGORIES:Menominee
END:VEVENT
BEGIN:VEVENT
DTSTART;TZID=UTC:20250726T180000
DTEND;TZID=UTC:20250726T220000
DTSTAMP:20260423T125328
CREATED:20250620T154502Z
LAST-MODIFIED:20250620T155057Z
UID:10005028-1753552800-1753567200@upbarreview.com
SUMMARY:Sandstone Terrace - Live Music - Iron Mountain
DESCRIPTION:Great way to spend your time after dinner with friend’s and family!
URL:https://upbarreview.com/event/sandstone-terrace-saturday-night-live-music-iron-mountain/2025-07-26/
LOCATION:Sandstone Terrace Rooftop Bar\, 220 Iron Mountain St\, Iron Mountain\, MI\, 49801
CATEGORIES:Ironmountain
END:VEVENT
BEGIN:VEVENT
DTSTART;TZID=UTC:20250726T180000
DTEND;TZID=UTC:20250726T220000
DTSTAMP:20260423T125328
CREATED:20250723T152859Z
LAST-MODIFIED:20250723T152859Z
UID:10005368-1753552800-1753567200@upbarreview.com
SUMMARY:Rec Center - Hotel California Eagles Tribute Band - Marinette
DESCRIPTION:𝙏𝙖𝙠𝙚 𝙞𝙩 𝙚𝙖𝙨𝙮\, 𝙖𝙣𝙙 𝙟𝙤𝙞𝙣 𝙪𝙨…\nfor an unforgettable evening under the stars with 𝗔𝗺𝗲𝗿𝗶𝗰𝗮’𝘀 #𝟭 𝗘𝗮𝗴𝗹𝗲𝘀 𝘁𝗿𝗶𝗯𝘂𝘁𝗲 𝗯𝗮𝗻𝗱! Sing along to classics like “𝙏𝙖𝙠𝙚 𝙄𝙩 𝙀𝙖𝙨𝙮\,” “𝙇𝙮𝙞𝙣’ 𝙀𝙮𝙚𝙨\,” and more as you relive the soundtrack of the good ol’ days. Bring your lawn chairs\, soak in the summer vibes\, and enjoy this 𝗙𝗥𝗘𝗘 concert—you won’t want to miss it!\nEagles Tribute Band – Live Outdoor Concert\n Date: Saturday\, July 26\, 2025\n Time: Doors open at 6:00PM\, Show starts at 7:00PM\n Location: Community REC Center\n Admission: FREE\n What to Bring: Lawn chairs or blankets\n All ages welcome!\nWe can’t wait to see you all there!\nIf you have any questions\, please call (715)732-5162 or email skatzbeck@marinette.wi.us
URL:https://upbarreview.com/event/rec-center-hotel-california-eagles-tribute-band-marinette/
LOCATION:Marinette Recreation Center\, 2501 Pierce Avenue\, Marinette\, WI\, 54143\, United States
CATEGORIES:Menominee
END:VEVENT
BEGIN:VEVENT
DTSTART;TZID=UTC:20250726T190000
DTEND;TZID=UTC:20250726T210000
DTSTAMP:20260423T125328
CREATED:20250723T192313Z
LAST-MODIFIED:20250723T192313Z
UID:10005415-1753556400-1753563600@upbarreview.com
SUMMARY:Riverside Country Club - Free Comedy Show - Menominee
DESCRIPTION: FREE Comedy Show – This Saturday at 7PM!Get ready to laugh! We’re hosting a free comedy show this Saturday at 7pm. If the weather cooperates\, we’ll be out on the patio! \nGrab your friends\, grab a drink\, and enjoy a great night of laughs — you don’t want to miss it!\n\nhttps://jayharriscomedy.com/
URL:https://upbarreview.com/event/riverside-country-club-free-comedy-show-menominee/
LOCATION:Riverside Country Club\, 3459 14th Ave\, Menominee\, MI\, 49585
CATEGORIES:Menominee
END:VEVENT
BEGIN:VEVENT
DTSTART;TZID=UTC:20250726T190000
DTEND;TZID=UTC:20250726T210000
DTSTAMP:20260423T125328
CREATED:20250724T004047Z
LAST-MODIFIED:20250724T004047Z
UID:10005562-1753556400-1753563600@upbarreview.com
SUMMARY:South City Pub - The Failsafe - Escanaba
DESCRIPTION:The Failsafe will be back in town Saturday\, July 26th!Pickstop will be opening for them at 8pm!
URL:https://upbarreview.com/event/south-city-pub-the-failsafe-escanaba/
LOCATION:South City Pub\, 1117 Ludington St\, Escanaba\, MI\, 49829
CATEGORIES:Menominee
END:VEVENT
BEGIN:VEVENT
DTSTART;TZID=UTC:20250726T190000
DTEND;TZID=UTC:20250726T220000
DTSTAMP:20260423T125328
CREATED:20250723T173705Z
LAST-MODIFIED:20250723T173705Z
UID:10005377-1753556400-1753567200@upbarreview.com
SUMMARY:The Lodge - Safe Sax - Marinette
DESCRIPTION:We’re thrilled to welcome Michael back to the stage! This multi-talented performer brings the energy\, the vocals\, and the songs we all know and love. If you’ve seen him before\, you already know it’s a night you don’t want to miss. If you haven’t—now’s the time!\nCome early\, grab a bite\, and settle in for an unforgettable evening.Let’s pack the house and show Michael the love!
URL:https://upbarreview.com/event/the-lodge-safe-sax-marinette-3/
LOCATION:The Lodge\, 1333 Main St\, Marinette\, WI
CATEGORIES:Menominee
END:VEVENT
BEGIN:VEVENT
DTSTART;TZID=UTC:20250726T190000
DTEND;TZID=UTC:20250726T220000
DTSTAMP:20260423T125328
CREATED:20250723T175015Z
LAST-MODIFIED:20250723T175015Z
UID:10005388-1753556400-1753567200@upbarreview.com
SUMMARY:The Outback - Remedy - Marinette
DESCRIPTION:Summer’s just heating up and so are we. It’s going to rock!
URL:https://upbarreview.com/event/the-outback-remedy-marinette/
LOCATION:The Outback\, 1997 Old Peshtigo Rd\, Marinette\, WI\, 54143\, United States
CATEGORIES:Menominee
END:VEVENT
BEGIN:VEVENT
DTSTART;TZID=UTC:20250726T210000
DTEND;TZID=UTC:20250726T233000
DTSTAMP:20260423T125328
CREATED:20250403T020116Z
LAST-MODIFIED:20250403T020116Z
UID:10003888-1753563600-1753572600@upbarreview.com
SUMMARY:Wild Horse Saloon - Karaoke - Iron Mountain
DESCRIPTION:Welcome to the Hottest Karaoke show in Town! Every Saturday at The Wild Horse Saloon\, in Iron Mountain\, MI Starts at 9:00 pm\nCreate your FREE Performer Account with Songbooks Online App to Browse the Karaoke song library\, keep a favorites list and submit your song requests remotely!\nUse Show ID: MSK23 after you create your account. You can also just tell me your name and the song you want if you don’t know how to install an app.
URL:https://upbarreview.com/event/wild-horse-saloon-karaoke-iron-mountain-2/2025-07-26/
LOCATION:Wild Horse Saloon\, 713 River Ave\, Iron Mountain\, MI\, 49801
CATEGORIES:Ironmountain
END:VEVENT
BEGIN:VEVENT
DTSTART;TZID=UTC:20250727T080000
DTEND;TZID=UTC:20250727T090000
DTSTAMP:20260423T125328
CREATED:20250723T231540Z
LAST-MODIFIED:20250723T231652Z
UID:10005516-1753603200-1753606800@upbarreview.com
SUMMARY:The Argonaut - Yoga w/ CiCi - Menominee
DESCRIPTION:Join us for Yoga with CiCi at The Argonaut Studio!  Led by the wonderful instructor\, Cionarah Oliveira Courinho (CiCi)\, this class is $20 per person\, welcomes all levels\, and please bring your own mat. Come unwind\, connect with your breath\, and find your inner peace in a supportive community. We can’t wait to see you there!
URL:https://upbarreview.com/event/the-argonaut-yoga-w-cici-menominee-2/2025-07-27/
LOCATION:The Argonaut\, 432 10th Ave\, Menominee\, MI
CATEGORIES:Menominee
END:VEVENT
BEGIN:VEVENT
DTSTART;TZID=UTC:20250727T100000
DTEND;TZID=UTC:20250727T120000
DTSTAMP:20260423T125328
CREATED:20250619T212205Z
LAST-MODIFIED:20250619T212205Z
UID:10004935-1753610400-1753617600@upbarreview.com
SUMMARY:Michigan DNR Pocket Park - Open Archery - Escanaba
DESCRIPTION:Take aim and sharpen your skills at the Pocket Park Archery Range. This supervised open session is perfect for beginners and enthusiasts alike.\nWe have all the equipment necessary.
URL:https://upbarreview.com/event/michigan-dnr-pocket-park-open-archery-escanaba/2025-07-27/
LOCATION:Michigan DNR Pocket Park\, 2401 12th Avenue North\, Escanaba\, MI\, 49829
CATEGORIES:Menominee
END:VEVENT
BEGIN:VEVENT
DTSTART;TZID=UTC:20250727T100000
DTEND;TZID=UTC:20250727T120000
DTSTAMP:20260423T125328
CREATED:20250724T014050Z
LAST-MODIFIED:20250724T014050Z
UID:10005599-1753610400-1753617600@upbarreview.com
SUMMARY:Ludington Park - Blessing of The Pets - Escanaba
DESCRIPTION:The Bay De Noc Unitarian Universalist congregation is hosting a Blessing of the Pets service. It will be on Sunday\, July 27th in the shelter at Ludington Park\, Escanaba. All pets and their humans are welcome! The service will begin at 11am with special musical guest\, Phil Lynch! Following service\, the blessing will be at Noon\, ending with a free picnic lunch in the park! (Rain or shine) Pets need to be leashed/secured. The BDNUU will collect a free will donation at the event\, with all proceeds benefitting the Delta Animal Shelter.
URL:https://upbarreview.com/event/ludington-park-blessing-of-the-pets-escanaba/
LOCATION:Ludington Park\, Es
CATEGORIES:Menominee
END:VEVENT
BEGIN:VEVENT
DTSTART;TZID=UTC:20250727T120000
DTEND;TZID=UTC:20250727T150000
DTSTAMP:20260423T125328
CREATED:20250620T155250Z
LAST-MODIFIED:20250620T155250Z
UID:10005254-1753617600-1753628400@upbarreview.com
SUMMARY:Sandstone Terrace - Live Music - Iron Mountain
DESCRIPTION:Stop by the Terrace for your favorite drink and some great music. See you on the Terrace!
URL:https://upbarreview.com/event/sandstone-terrace-live-music-iron-mountain-2/2025-07-27/
LOCATION:Sandstone Terrace Rooftop Bar\, 220 Iron Mountain St\, Iron Mountain\, MI\, 49801
CATEGORIES:Ironmountain
END:VEVENT
BEGIN:VEVENT
DTSTART;TZID=UTC:20250727T120000
DTEND;TZID=UTC:20250727T153000
DTSTAMP:20260423T125328
CREATED:20250724T013510Z
LAST-MODIFIED:20250724T013510Z
UID:10005593-1753617600-1753630200@upbarreview.com
SUMMARY:Escanaba Country Club - 5th Annual Elk's Auxiliary Golf Scramble - Escanaba
DESCRIPTION:Sunday\, July 27thEscanaba Country Club1 PM Shotgun Start; Noon Registration$200 per TeamFood & Beer provided!Prizes!Card Raffle\, 50/50\, and Cash prizes!
URL:https://upbarreview.com/event/escanaba-country-club-5th-annual-elks-auxiliary-golf-scramble-escanaba/
LOCATION:Escanaba Elks #354\, 1800 11th Ave\, Escanaba\, MI
CATEGORIES:Menominee
END:VEVENT
BEGIN:VEVENT
DTSTART;TZID=UTC:20250727T130000
DTEND;TZID=UTC:20250727T150000
DTSTAMP:20260423T125328
CREATED:20250403T001956Z
LAST-MODIFIED:20250403T001956Z
UID:10003745-1753621200-1753628400@upbarreview.com
SUMMARY:Country Roads Bar & Grill - Bingo Sunday - Wausaukee
DESCRIPTION:Sunday Funday Bingo! $1/game per board. Come for all the games or jump in whenever!
URL:https://upbarreview.com/event/country-roads-bar-grill-bingo-sunday-wausaukee/2025-07-27/
LOCATION:Country Roads Bar & Grill\, W8901 Co Rd C\, Wausaukee\, WI
CATEGORIES:Menominee
END:VEVENT
BEGIN:VEVENT
DTSTART;TZID=UTC:20250727T130000
DTEND;TZID=UTC:20250727T150000
DTSTAMP:20260423T125328
CREATED:20250723T190054Z
LAST-MODIFIED:20250723T190054Z
UID:10005400-1753621200-1753628400@upbarreview.com
SUMMARY:Music in The Opera House - Menominee
DESCRIPTION:The Menominee Opera House is hosting Live Music Sunday\, July 26th… The event is FREE\, but donations at the doors are encouraged and welcomed!
URL:https://upbarreview.com/event/music-in-the-opera-house-menominee/
LOCATION:Menominee Opera House\, 122 5th Ave\, Menominee\, MI
CATEGORIES:Menominee
END:VEVENT
BEGIN:VEVENT
DTSTART;TZID=UTC:20250727T130000
DTEND;TZID=UTC:20250727T160000
DTSTAMP:20260423T125328
CREATED:20250619T185505Z
LAST-MODIFIED:20250619T185505Z
UID:10004815-1753621200-1753632000@upbarreview.com
SUMMARY:Upper Hand Brewery - Sunday Live Music - Escanaba
DESCRIPTION:Live music every Sunday 2-5p and Friday 5-8p. June 1st through Aug 31st.
URL:https://upbarreview.com/event/upper-hand-brewery-sunday-live-music-escanaba/2025-07-27/
LOCATION:Upper Hand Brewery\, 3525 Airport Rd\, Escanaba\, WI\, 49829
CATEGORIES:Menominee
END:VEVENT
BEGIN:VEVENT
DTSTART;TZID=UTC:20250727T130000
DTEND;TZID=UTC:20250727T160000
DTSTAMP:20260423T125328
CREATED:20250724T004202Z
LAST-MODIFIED:20250724T004202Z
UID:10005564-1753621200-1753632000@upbarreview.com
SUMMARY:Ludington Park - Jesus Festival - Escanaba
DESCRIPTION:FREE FOOD\, live music\, & family fun. We want to bless YOU! Come encounter God and experience hope. EVERYTHING is FREE! Bounce houses\, Smashbrothers tournament\, kiddie games\, face painting & more!\nArt Thomas will share a life changing message you don’t want to miss.\nFood by Drifters Restaurant and Dominos.
URL:https://upbarreview.com/event/ludington-park-jesus-festival-escanaba/2025-07-27/
LOCATION:Ludington Park\, Es
CATEGORIES:Menominee
END:VEVENT
BEGIN:VEVENT
DTSTART;TZID=UTC:20250727T130000
DTEND;TZID=UTC:20250727T163000
DTSTAMP:20260423T125328
CREATED:20250723T153245Z
LAST-MODIFIED:20250723T153245Z
UID:10005371-1753621200-1753633800@upbarreview.com
SUMMARY:1911 Grill & Tap - Silver Cream Band - Marinette
DESCRIPTION:Silver Cream Band performing classic rock n’ roll outside.5pm
URL:https://upbarreview.com/event/1911-grill-tap-silver-cream-band-marinette/
LOCATION:1911 Grill & Taphouse\, W1911 Flame Rd\, Marinette\, WI
CATEGORIES:Menominee
END:VEVENT
BEGIN:VEVENT
DTSTART;TZID=UTC:20250727T140000
DTEND;TZID=UTC:20250727T160000
DTSTAMP:20260423T125328
CREATED:20250724T014216Z
LAST-MODIFIED:20250724T014216Z
UID:10005600-1753624800-1753632000@upbarreview.com
SUMMARY:UP State Fairgrounds - Mission of Hope 2025 - Escanaba
DESCRIPTION:Mission of HOPE 2025Sunday\, July 27 | 3:00–5:00 PMU.P. State Fairgrounds – Ruth Butler Building\nHOPE LOOKS LIKE THIS.\nHundreds of families.New school shoes.Backpacks and supplies.Fresh haircuts. Family photos.Food. Laughter. Prayer.And an unforgettable day of real love in action.\nJoin us for Mission of HOPE 2025—a completely free community outreach event designed to give kids in Delta County the confidence and support they need as they head into a new school year.\nWhether you’re a family in need\, a volunteer ready to serve\, or a local partner looking to give back\, there’s a place for you at Mission of HOPE.\nTogether\, we’re not just handing out supplies—we’re restoring dignity\, building connection\, and sharing hope that lasts.\nThis is what community is all about.
URL:https://upbarreview.com/event/up-state-fairgrounds-mission-of-hope-2025-escanaba/
LOCATION:UP State Fairgrounds\, 2401 12th Avenue North\, Escanaba
CATEGORIES:Menominee
END:VEVENT
BEGIN:VEVENT
DTSTART;TZID=UTC:20250727T140000
DTEND;TZID=UTC:20250727T170000
DTSTAMP:20260423T125328
CREATED:20250724T183742Z
LAST-MODIFIED:20250724T183742Z
UID:10005624-1753624800-1753635600@upbarreview.com
SUMMARY:The Garage - Safe Sax - Oconto
DESCRIPTION:Music\, Food\, Drinks!
URL:https://upbarreview.com/event/the-garage-safe-sax-oconto/
LOCATION:The Garage\, 1200 Main St\, Oconto\, WI\, 54153\, United States
CATEGORIES:Menominee
END:VEVENT
BEGIN:VEVENT
DTSTART;TZID=UTC:20250727T150000
DTEND;TZID=UTC:20250727T170000
DTSTAMP:20260423T125328
CREATED:20250619T202527Z
LAST-MODIFIED:20250619T202527Z
UID:10004868-1753628400-1753635600@upbarreview.com
SUMMARY:Michigan DNR Pocket Park - Nature Art - Escanaba
DESCRIPTION:Create your own artwork using natural materials or draw inspiration from the beauty of the outdoors. This creative session encourages self-expression while deepening your connection with nature.\n– Different activities each week
URL:https://upbarreview.com/event/michigan-dnr-pocket-park-nature-art-escanaba/2025-07-27/
LOCATION:Michigan DNR Pocket Park\, 2401 12th Avenue North\, Escanaba\, MI\, 49829
CATEGORIES:Menominee
END:VEVENT
BEGIN:VEVENT
DTSTART;TZID=UTC:20250727T170000
DTEND;TZID=UTC:20250727T193000
DTSTAMP:20260423T125328
CREATED:20250724T182252Z
LAST-MODIFIED:20250724T182252Z
UID:10005612-1753635600-1753644600@upbarreview.com
SUMMARY:Oconto United Methodist Church - 2025 Road Trip VBS
DESCRIPTION:OUMC and FPC invites children of all ages to Road Trip VBS—where we will be On the Go with God! Join us as we transform our church into a journey with God. This includes exciting new music\, amazing science\, creative crafts\, fun recreation\, and memorable Bible stories that show children that God is with them wherever they go all the time!\nThis adventure runs July 27th – July 31st\, 5:00p dinner\, adventure 5:30-7:30p at OUMC\, 641 Washington Street\, Oconto WI.\nJoin us for our kickoff service at FPC on July 27th at 10:30a.\nDon’t forget to join us for our VBS Celebration Sunday Service at OUMC on August 3rd at 10:30a\, potluck following service.\nSign up today!!\nhttps://docs.google.com/…/1FAIpQLSdTIi1Ic2x2Qi…/viewform
URL:https://upbarreview.com/event/oconto-united-methodist-church-2025-road-trip-vbs/
LOCATION:Oconto United Methodist Church\, 641 Washington St\, Oconto\, WI
CATEGORIES:Menominee
END:VEVENT
BEGIN:VEVENT
DTSTART;TZID=UTC:20250727T170000
DTEND;TZID=UTC:20250727T210000
DTSTAMP:20260423T125328
CREATED:20250724T013326Z
LAST-MODIFIED:20250724T013326Z
UID:10005592-1753635600-1753650000@upbarreview.com
SUMMARY:Escanaba Country Club - WallWalkers - Escanaba
DESCRIPTION:Fun times this Sunday July 27th at Mulligans on the patio in the Escanaba Country Club. Music all day and The WallWalkers closing out the party starting at 6pm Et.
URL:https://upbarreview.com/event/escanaba-country-club-wallwalkers-escanaba/
LOCATION:Escanaba Country Club\, 1800 11th Ave\, Escanaba\, MI
CATEGORIES:Menominee
END:VEVENT
END:VCALENDAR