BEGIN:VCALENDAR
VERSION:2.0
PRODID:-//UP BAR REVIEW - ECPv6.14.2//NONSGML v1.0//EN
CALSCALE:GREGORIAN
METHOD:PUBLISH
X-ORIGINAL-URL:https://upbarreview.com
X-WR-CALDESC:Events for UP BAR REVIEW
REFRESH-INTERVAL;VALUE=DURATION:PT1H
X-Robots-Tag:noindex
X-PUBLISHED-TTL:PT1H
BEGIN:VTIMEZONE
TZID:UTC
BEGIN:STANDARD
TZOFFSETFROM:+0000
TZOFFSETTO:+0000
TZNAME:UTC
DTSTART:20250101T000000
END:STANDARD
END:VTIMEZONE
BEGIN:VEVENT
DTSTART;TZID=UTC:20250712T100000
DTEND;TZID=UTC:20250712T140000
DTSTAMP:20260423T102700
CREATED:20250207T201054Z
LAST-MODIFIED:20250207T201054Z
UID:10003121-1752314400-1752328800@upbarreview.com
SUMMARY:Blazing Bear Homestead - Baby Goat Cuddle Sessions - Peshtigo
DESCRIPTION:Tiny hooves\, big hearts: Get your cuddles & giggles in with our baby goats!\nBlazing Bear Homestead is excited to offer Baby Goat Cuddle Sessions again in 2025! Immerse yourself in a world of cuddly goats\, where soft fur\, warm snuggles\, and contagious laughter await. Bring your loved ones or come solo – our friendly goats are here to make your heart happy. Casi will be there to answer any questions you have\, help you get some great pictures\, and tell you all about our little herd.\nPrice is per person participating\, maximum of 6 per time slot. Each person will get a small cup of grain to feed to the goats that are old enough to have them. We provide benches for you to sit on and each guest gets a complimentary beverage to enjoy.\nIf you would like a private session\, you are welcome to buy out all tickets for that time slot\, or contact us to set up a special session time. Please arrive 5 minutes early to sign waivers. Adults MUST accompany children 12 years of age and under at all times. Children 24 months and under get in free. Human attendees only\, no dogs/pets/outside animals of any kind.\nNOTE: These tickets are non-refundable. Baby Goat Cuddle Sessions are held in our detached garage\, rain or shine. The room is not climate controlled so please dress for the weather. We do not yet have a public restroom\, so please plan accordingly.\nSaturdaysMarch-July30 minute sessions starting at 10am\, 10:40am\, 11:20am\, 12pm\, 12:40pm\, 1:20pm\, and 2pm.\nBuy tickets here: https://www.blazingbearhomestead.net/goatevents
URL:https://upbarreview.com/event/blazing-bear-homestead-baby-goat-cuddle-sessions-peshtigo/2025-07-12/
LOCATION:Blazing Bear Homestead\, W3070 Hale School Rd\, Peshtigo\, WI\, 54157
CATEGORIES:Menominee
END:VEVENT
BEGIN:VEVENT
DTSTART;TZID=UTC:20250712T100000
DTEND;TZID=UTC:20250712T150000
DTSTAMP:20260423T102700
CREATED:20250620T160904Z
LAST-MODIFIED:20250620T160904Z
UID:10005272-1752314400-1752332400@upbarreview.com
SUMMARY:Echo Boutique - Epic Dollar Sale - Iron Mountain
DESCRIPTION: Echo Boutique’s Storewide Dollar Sale!  Echo Boutique | Modern • Trendy • Fun\nGet ready for one of our biggest events of the year — our STOREWIDE DOLLAR SALE is happening Saturday\, July 12th from 10AM–3PM! \nYou’ll find amazing deals starting at just $1 on: Apparel (Men’s\, Women’s\, Children’s\, Maternity) Shoes Purses Jewelry…and so much more!\n Want first dibs?Join us for exclusive early access at our Pre-Sale Event on Friday\, July 11th from 6:30–8:30PM! Pre-sale tickets are $10 each – Purchase your ticket in store or online at:https://echoboutiqueim.com/products/pre-sale-tickets\nMark your calendars\, tag your shopping besties\, and don’t miss out on these incredible savings!
URL:https://upbarreview.com/event/echo-boutique-epic-dollar-sale-iron-mountain/
LOCATION:Echo Boutique\, 408 S Stephenson Ave\, Iron Mountain\, MI\, 49801
CATEGORIES:Ironmountain
END:VEVENT
BEGIN:VEVENT
DTSTART;TZID=UTC:20250712T120000
DTEND;TZID=UTC:20250712T150000
DTSTAMP:20260423T102700
CREATED:20250618T013920Z
LAST-MODIFIED:20250618T013920Z
UID:10004555-1752321600-1752332400@upbarreview.com
SUMMARY:Ravenswood Garden - Backstage Pass One Man Band - Menominee
DESCRIPTION:“You’ll Know Every Song “
URL:https://upbarreview.com/event/ravenswood-garden-backstage-pass-one-man-band-menominee/
LOCATION:Ravenswood Garden
CATEGORIES:Menominee
END:VEVENT
BEGIN:VEVENT
DTSTART;TZID=UTC:20250712T120000
DTEND;TZID=UTC:20250712T160000
DTSTAMP:20260423T102700
CREATED:20250619T181752Z
LAST-MODIFIED:20250619T181752Z
UID:10004784-1752321600-1752336000@upbarreview.com
SUMMARY:The Outback - Classic Car Cruise and Poker Run - Peshtigo
DESCRIPTION:Come join in the classic car cruise or stop in and check out their cars!
URL:https://upbarreview.com/event/the-outback-classic-car-cruise-and-poker-run-peshtigo/
LOCATION:The Outback\, 1997 Old Peshtigo Rd\, Marinette\, WI\, 54143\, United States
CATEGORIES:Menominee
END:VEVENT
BEGIN:VEVENT
DTSTART;TZID=UTC:20250712T130000
DTEND;TZID=UTC:20250712T160000
DTSTAMP:20260423T102700
CREATED:20250618T021631Z
LAST-MODIFIED:20250618T021631Z
UID:10004604-1752325200-1752336000@upbarreview.com
SUMMARY:McCrafties - Stars\, Stripes & Shoreline - Menominee
DESCRIPTION: Stars\, Stripes & Shorelines\n July 12 | 1:00 PM \nCreate a stunning 12 x 12 woodform piece using epoxy\, glass\, glitter and mica powders—an elegant fusion of “Patriotism and coastal charm!”\n $50 per person No experience needed—just bring your creativity!\nSpots are limitedreserve yours today by calling 715-440-5959 or use our easy to use website https://mccraftiellc.square.site/and make a masterpiece that waves with pride and shimmer!\nPRE-PAYMENT of $50 is required to save your spot.\n-All skill levels are welcome-We provide all the necessary suppliesWe look forward to making memories with you\nCLASS REFUND POLICY:\n-full in studio credit if cancellation is 1 week prior to the class-50% in studio credit up to 24 hours prior to the class-less than 24 hours’ notice\, no credit-NO SHOW/NO CALL/NO CREDIT
URL:https://upbarreview.com/event/mccrafties-stars-stripes-shoreline-menominee/
LOCATION:McCrafties\, 625 1st St\, Menominee\, MI\, 49858\, United States
CATEGORIES:Menominee
END:VEVENT
BEGIN:VEVENT
DTSTART;TZID=UTC:20250712T150000
DTEND;TZID=UTC:20250712T163000
DTSTAMP:20260423T102700
CREATED:20250620T161200Z
LAST-MODIFIED:20250620T161200Z
UID:10005275-1752332400-1752337800@upbarreview.com
SUMMARY:The Braumart - Hansel & Gretel - Iron Mountain
DESCRIPTION:Extra! Extra! Big news from the Wildwood! The mystery is solved!\nHansel and Gretel return safely from their perilous adventure deep in the woods and bring with them the age-old secret of the Wildwood Witch! Don’t miss a moment as the truth is revealed. It’s amazing. It’s shocking. And\, it’s very very funny. HANSEL AND GRETEL will be performed on Saturday\, July 12 at the Braumart at 3pm and 5:30pm. Don’t miss it!\nThis production is part of the Missoula Children’s Theatre’s unique international touring project and is presented in Iron Mountain by The Braumart and sponsored by the Dickinson Area Community Foundation.\n——————————————-\nAre you a student in grades 1 through 12 who’s interested in participating? Read the details below:\nThe audition for the Missoula Children’s Theatre production of HANSEL AND GRETEL will be held on Monday\, July 7 from 10:00am to 12:00pm CST at the Braumart. Those auditioning should arrive at 9:00am and plan to stay for the full two+ hours. Some of the cast members will be asked to stay for a rehearsal immediately following the auditions.\nThis workshop week is FREE and there are roles for those students entering grades 1 through 12. Approximately 50-60 local students will be cast to appear in the show. Up to 4 students will be cast as Assistant Directors. Please remember there is no guarantee that everyone who auditions will be cast in the play. Students wishing to audition must arrive by the scheduled starting time and stay for the entire two+ hour session. The first rehearsal begins approximately 15-minutes after the audition.\nThis is a group audition–no advance preparation is necessary. Students should just be ready to come and have a good time!\nRehearsals will be conducted every day from 10:00am to 2:15pm at the Braumart\, 106 East B St\, Iron Mountain. Although not all cast members will be needed at every session\, those auditioning must have a clear schedule for the entire week and if selected\, be able to attend all rehearsals required for their role and be available for all scheduled performances. A detailed rehearsal schedule will be distributed at the conclusion of the audition. Cast members scheduled for the full 4 hours and 15 minutes will be asked to bring a sack lunch\, dinner or snack to be eaten during the 15-minute break between sessions.\nThe performances will be held on Saturday\, July 12 at 3:00pm and 5:30pm and will be presented at the Braumart auditorium.\nThe Missoula Children’s Theatre is a non-profit organization based in Missoula\, Montana. This coming year\, more than 65\,000 cast members across the globe will take to the stage to the delight and applause of their families\, friends\, community\, neighbors\, and teachers! The residency in Iron Mountain is made possible by ‘Friends of the Braumart’. This year all workshop registration fees are generously sponsored by the Dickinson Area Community Foundation.\nFor any questions\, please contact Jinx Brew the Braumart at 906-239-9002
URL:https://upbarreview.com/event/the-braumart-hansel-gretel-iron-mountain/
LOCATION:The Braumart Theatre\, 106 E B St\, Iron Mountain\, MI\, 49801
CATEGORIES:Ironmountain
END:VEVENT
BEGIN:VEVENT
DTSTART;TZID=UTC:20250712T150000
DTEND;TZID=UTC:20250712T173000
DTSTAMP:20260423T102700
CREATED:20250619T163605Z
LAST-MODIFIED:20250619T163605Z
UID:10004765-1752332400-1752341400@upbarreview.com
SUMMARY:Tonys Dockside Bar - CK Siblings - Crivitz
DESCRIPTION:Come check out this very talented band
URL:https://upbarreview.com/event/tonys-dockside-bar-ck-siblings-crivitz/
LOCATION:Tony’s Dockside Bar & Grill\, W12327 Eagle Rd\, Crivitz\, WI\, 54114
CATEGORIES:Menominee
END:VEVENT
BEGIN:VEVENT
DTSTART;TZID=UTC:20250712T150000
DTEND;TZID=UTC:20250712T180000
DTSTAMP:20260423T102700
CREATED:20250619T212315Z
LAST-MODIFIED:20250619T212315Z
UID:10004944-1752332400-1752343200@upbarreview.com
SUMMARY:Michigan DNR Pocket Park - Survival Skills Saturday - Escanaba
DESCRIPTION:Get hands-on with the basics of wilderness survival\, including shelter building\, fire safety\, and more. Ideal for People looking to build outdoor confidence.
URL:https://upbarreview.com/event/michigan-dnr-pocket-park-survival-skills-saturday-escanaba/2025-07-12/
LOCATION:Michigan DNR Pocket Park\, 2401 12th Avenue North\, Escanaba\, MI\, 49829
CATEGORIES:Menominee
END:VEVENT
BEGIN:VEVENT
DTSTART;TZID=UTC:20250712T160000
DTEND;TZID=UTC:20250712T190000
DTSTAMP:20260423T102700
CREATED:20250620T183125Z
LAST-MODIFIED:20250620T183125Z
UID:10005318-1752336000-1752346800@upbarreview.com
SUMMARY:Big 10 Sports Bar - Live Music & Silent Auction - Quinnesec
DESCRIPTION:Come enjoy music from the band\, “Day Dreamers” at Big 10 Bar on July 12th from 4-7 PM. Light hors-devours\, silent auction\, and cash bar also available.\nAdmission: $15 ea or $25 for two!\nYou can pay in advance via: https://secure.actblue.com/donate/music-social\n1157 Quinnesec Ave\, Quinnesec\, MI 49876 on the patio.\n$15 each or $25 for two people
URL:https://upbarreview.com/event/big-10-sports-bar-live-music-silent-auction-quinnesec/
LOCATION:The Big 10 Sports Bar & Grill\, 1272 Quinnesec Ave\, Quinnesec\, MI\, 49876
CATEGORIES:Ironmountain
END:VEVENT
BEGIN:VEVENT
DTSTART;TZID=UTC:20250712T170000
DTEND;TZID=UTC:20250712T200000
DTSTAMP:20260423T102700
CREATED:20250620T160153Z
LAST-MODIFIED:20250620T160153Z
UID:10005265-1752339600-1752350400@upbarreview.com
SUMMARY:Venue 906 - Puzzle Competition - Iron Mountain
DESCRIPTION:Join us for our July puzzle competition!!
URL:https://upbarreview.com/event/venue-906-puzzle-competition-iron-mountain/
LOCATION:Venue 906\, 900 Breitung Ave\, Kingsford\, MI\, 49802
CATEGORIES:Ironmountain
END:VEVENT
BEGIN:VEVENT
DTSTART;TZID=UTC:20250712T180000
DTEND;TZID=UTC:20250712T220000
DTSTAMP:20260423T102700
CREATED:20250619T163659Z
LAST-MODIFIED:20250619T163659Z
UID:10004766-1752343200-1752357600@upbarreview.com
SUMMARY:Firelane Bar & Grill - Bullets & Booze Band - Athelstane
DESCRIPTION:Come out and have a great time!
URL:https://upbarreview.com/event/firelane-bar-grill-bullets-booze-band-athelstane/
LOCATION:Firelane Bar & Grill\, W10876 County Road C\, Athelstane\, WI
CATEGORIES:Menominee
END:VEVENT
BEGIN:VEVENT
DTSTART;TZID=UTC:20250712T180000
DTEND;TZID=UTC:20250712T220000
DTSTAMP:20260423T102700
CREATED:20250620T154502Z
LAST-MODIFIED:20250620T155057Z
UID:10005020-1752343200-1752357600@upbarreview.com
SUMMARY:Sandstone Terrace - Live Music - Iron Mountain
DESCRIPTION:Great way to spend your time after dinner with friend’s and family!
URL:https://upbarreview.com/event/sandstone-terrace-saturday-night-live-music-iron-mountain/2025-07-12/
LOCATION:Sandstone Terrace Rooftop Bar\, 220 Iron Mountain St\, Iron Mountain\, MI\, 49801
CATEGORIES:Ironmountain
END:VEVENT
BEGIN:VEVENT
DTSTART;TZID=UTC:20250712T190000
DTEND;TZID=UTC:20250712T230000
DTSTAMP:20260423T102700
CREATED:20250618T031355Z
LAST-MODIFIED:20250618T031355Z
UID:10004676-1752346800-1752361200@upbarreview.com
SUMMARY:The Lodge - Rapid Transit Band - Marinette
DESCRIPTION:This will be a show to remember – Rapid Transit Band! A talented 4-piece band serving up a crowd-pleasing mix of country\, classic rock\, and oldies. Fun\, danceable music! Grab a drink\, hit the dance floor\, and enjoy a great Saturday night at The Lodge on Main!
URL:https://upbarreview.com/event/the-lodge-rapid-transit-band-marinette/
LOCATION:The Lodge\, 1333 Main St\, Marinette\, WI
CATEGORIES:Menominee
END:VEVENT
BEGIN:VEVENT
DTSTART;TZID=UTC:20250712T190000
DTEND;TZID=UTC:20250712T230000
DTSTAMP:20260423T102700
CREATED:20250619T180952Z
LAST-MODIFIED:20250619T180952Z
UID:10004776-1752346800-1752361200@upbarreview.com
SUMMARY:Kross Roads Pub & Grub - Daizy Roots - Peshtigo
DESCRIPTION:Mark your calendars to join us on Saturday\, July 12th for our live band! We will be hosting Daizy Roots 7:00-11:00 pm. Daizy Roots is a lively 5-piece band specializing in county\, light rock\, and blues!
URL:https://upbarreview.com/event/kross-roads-pub-grub-daizy-roots-peshtigo/
LOCATION:Kross Roads Pub & Grill\, W3109 WI-64\, Marinette\, WI
CATEGORIES:Menominee
END:VEVENT
BEGIN:VEVENT
DTSTART;TZID=UTC:20250712T203000
DTEND;TZID=UTC:20250712T223000
DTSTAMP:20260423T102700
CREATED:20250619T190229Z
LAST-MODIFIED:20250619T190229Z
UID:10004825-1752352200-1752359400@upbarreview.com
SUMMARY:Karas Bandshell - Movie Night - Escanaba
DESCRIPTION:Movie Night in Ludington Park showing Moana 2 at dusk. Highline is sponsoring the Movie Night. Feel free to bring a blanket\, cooler/chair and wear your pajamas.
URL:https://upbarreview.com/event/karas-bandshell-movie-night-escanaba/
LOCATION:Karas Bandshell\, Loren W Jenkins Memorial Dr\, Escanaba\, MI\, 49829
CATEGORIES:Menominee
END:VEVENT
BEGIN:VEVENT
DTSTART;TZID=UTC:20250712T210000
DTEND;TZID=UTC:20250712T233000
DTSTAMP:20260423T102700
CREATED:20250403T020116Z
LAST-MODIFIED:20250403T020116Z
UID:10003886-1752354000-1752363000@upbarreview.com
SUMMARY:Wild Horse Saloon - Karaoke - Iron Mountain
DESCRIPTION:Welcome to the Hottest Karaoke show in Town! Every Saturday at The Wild Horse Saloon\, in Iron Mountain\, MI Starts at 9:00 pm\nCreate your FREE Performer Account with Songbooks Online App to Browse the Karaoke song library\, keep a favorites list and submit your song requests remotely!\nUse Show ID: MSK23 after you create your account. You can also just tell me your name and the song you want if you don’t know how to install an app.
URL:https://upbarreview.com/event/wild-horse-saloon-karaoke-iron-mountain-2/2025-07-12/
LOCATION:Wild Horse Saloon\, 713 River Ave\, Iron Mountain\, MI\, 49801
CATEGORIES:Ironmountain
END:VEVENT
BEGIN:VEVENT
DTSTART;TZID=UTC:20250713T073000
DTEND;TZID=UTC:20250713T150000
DTSTAMP:20260423T102700
CREATED:20250619T201834Z
LAST-MODIFIED:20250619T201834Z
UID:10004858-1752391800-1752418800@upbarreview.com
SUMMARY:UP State Fairgrounds - Silver Spur Saddle Club - Escanaba
DESCRIPTION:Silver Spur Saddle Club hosted UPHA Show!Full set of classes both Saturday and Sunday\nStall info:Dianne LaChance11876 Friday Q.1 RoadRapid River MI\, 49878\n(text) 906-235-1842Home 906-359-4955\nOverall Weekend High PointAge Division High Points
URL:https://upbarreview.com/event/up-state-fairgrounds-silver-spur-saddle-club-escanaba/2025-07-13/
LOCATION:UP State Fairgrounds\, 2401 12th Avenue North\, Escanaba
CATEGORIES:Menominee
END:VEVENT
BEGIN:VEVENT
DTSTART;TZID=UTC:20250713T100000
DTEND;TZID=UTC:20250713T120000
DTSTAMP:20260423T102700
CREATED:20250619T212205Z
LAST-MODIFIED:20250619T212205Z
UID:10004925-1752400800-1752408000@upbarreview.com
SUMMARY:Michigan DNR Pocket Park - Open Archery - Escanaba
DESCRIPTION:Take aim and sharpen your skills at the Pocket Park Archery Range. This supervised open session is perfect for beginners and enthusiasts alike.\nWe have all the equipment necessary.
URL:https://upbarreview.com/event/michigan-dnr-pocket-park-open-archery-escanaba/2025-07-13/
LOCATION:Michigan DNR Pocket Park\, 2401 12th Avenue North\, Escanaba\, MI\, 49829
CATEGORIES:Menominee
END:VEVENT
BEGIN:VEVENT
DTSTART;TZID=UTC:20250713T103000
DTEND;TZID=UTC:20250713T190000
DTSTAMP:20260423T102700
CREATED:20250618T032210Z
LAST-MODIFIED:20250618T032210Z
UID:10004691-1752402600-1752433200@upbarreview.com
SUMMARY:Calvary Church - The BIG Serve - Marinette
DESCRIPTION:The BIG Serve is coming July 13th-17th! What is this?? The Big Serve is a focused\, several-day service effort to our community. This year\, we are assisting organizations that serve our community\, including the Boys and Girls Club of Menominee\, Abundant Life Mission\, Bay Area Pregnancy Services\, and the Marinette Parks Department.\nThere are three intentional ways to be involved:\nGiving – Every Sunday\, during our regular Tithes and Offerings for the rest of June\, people can give towards the projects we will be undertaking\, and designate the amount by writing “The BIG Serve”.\nServing – Plan on joining the Convoy of Hope/Calvary Church team by working and serving.– You can help serve and work on the projects.– Help by cooking and/or serving evening meals for the Convoy of Hope Team here at the church.\nLoving – Showing the love of Jesus through our acts of service and conversations with others.\nContact the Church office for more info. Join us as we serve our community in a massive way!
URL:https://upbarreview.com/event/calvary-church-the-big-serve-marinette/2025-07-13/
CATEGORIES:Menominee
END:VEVENT
BEGIN:VEVENT
DTSTART;TZID=UTC:20250713T120000
DTEND;TZID=UTC:20250713T150000
DTSTAMP:20260423T102700
CREATED:20250620T155250Z
LAST-MODIFIED:20250620T155250Z
UID:10005252-1752408000-1752418800@upbarreview.com
SUMMARY:Sandstone Terrace - Live Music - Iron Mountain
DESCRIPTION:Stop by the Terrace for your favorite drink and some great music. See you on the Terrace!
URL:https://upbarreview.com/event/sandstone-terrace-live-music-iron-mountain-2/2025-07-13/
LOCATION:Sandstone Terrace Rooftop Bar\, 220 Iron Mountain St\, Iron Mountain\, MI\, 49801
CATEGORIES:Ironmountain
END:VEVENT
BEGIN:VEVENT
DTSTART;TZID=UTC:20250713T130000
DTEND;TZID=UTC:20250713T150000
DTSTAMP:20260423T102700
CREATED:20250403T001956Z
LAST-MODIFIED:20250403T001956Z
UID:10003743-1752411600-1752418800@upbarreview.com
SUMMARY:Country Roads Bar & Grill - Bingo Sunday - Wausaukee
DESCRIPTION:Sunday Funday Bingo! $1/game per board. Come for all the games or jump in whenever!
URL:https://upbarreview.com/event/country-roads-bar-grill-bingo-sunday-wausaukee/2025-07-13/
LOCATION:Country Roads Bar & Grill\, W8901 Co Rd C\, Wausaukee\, WI
CATEGORIES:Menominee
END:VEVENT
BEGIN:VEVENT
DTSTART;TZID=UTC:20250713T130000
DTEND;TZID=UTC:20250713T160000
DTSTAMP:20260423T102700
CREATED:20250619T185505Z
LAST-MODIFIED:20250619T185505Z
UID:10004813-1752411600-1752422400@upbarreview.com
SUMMARY:Upper Hand Brewery - Sunday Live Music - Escanaba
DESCRIPTION:Live music every Sunday 2-5p and Friday 5-8p. June 1st through Aug 31st.
URL:https://upbarreview.com/event/upper-hand-brewery-sunday-live-music-escanaba/2025-07-13/
LOCATION:Upper Hand Brewery\, 3525 Airport Rd\, Escanaba\, WI\, 49829
CATEGORIES:Menominee
END:VEVENT
BEGIN:VEVENT
DTSTART;TZID=UTC:20250713T130000
DTEND;TZID=UTC:20250713T160000
DTSTAMP:20260423T102700
CREATED:20250620T182629Z
LAST-MODIFIED:20250620T182629Z
UID:10005313-1752411600-1752422400@upbarreview.com
SUMMARY:Cedars Edge Wine & Gifts - Champagne and Chips - Niagara
DESCRIPTION:Champagne is the perfect way to celebrate a special occasion. Who knew it is also a great wine to enjoy with chips\, popcorn and even fried food. You got it\, anything salty is perfect with Champagne.\nJoin us at Cedars Edge as we explore four different styles of Champagne\, from a variety of producers with wonderful salty delights.\nYou will relax and come away with* a new appreciation for Champagne food pairing.* the ability to recognize Champagne sweetness levels.* an appreciation for how Champagne is made and where Champagne comes from
URL:https://upbarreview.com/event/cedars-edge-wine-gifts-champagne-and-chips-niagara/
LOCATION:Cedars Edge Wine & Gifts\, W6014 Chapman Rd\, Niagara\, WI\, 54151
CATEGORIES:Ironmountain
END:VEVENT
BEGIN:VEVENT
DTSTART;TZID=UTC:20250713T130000
DTEND;TZID=UTC:20250713T190000
DTSTAMP:20260423T102700
CREATED:20250620T184417Z
LAST-MODIFIED:20250620T184417Z
UID:10005363-1752411600-1752433200@upbarreview.com
SUMMARY:Alpha Michigan Brewing - Food Truck Therman Chaos - Alpha
DESCRIPTION:We welcome back Kenny & crew from Thermal Chaos July 13th 1-7pm
URL:https://upbarreview.com/event/alpha-michigan-brewing-food-truck-therman-chaos-alpha/
LOCATION:Alpha Michigan Brewing\, 529 5th St\, Alpha\, MI
CATEGORIES:Ironmountain
END:VEVENT
BEGIN:VEVENT
DTSTART;TZID=UTC:20250713T140000
DTEND;TZID=UTC:20250713T180000
DTSTAMP:20260423T102700
CREATED:20250619T155159Z
LAST-MODIFIED:20250619T155159Z
UID:10004735-1752415200-1752429600@upbarreview.com
SUMMARY:Loopy's in Loomis - Eight Second Ride - Crivitz
DESCRIPTION:Wisconsin’s hottest country dance band playing some of the best tunes from the 90’s & up through some of the current artists of today! Come sing along\, raise some drinks & dance the night away!
URL:https://upbarreview.com/event/loopys-in-loomis-eight-second-ride-crivitz/
LOCATION:Loopy’s Bar & Grill\, Loomis Rd\, Porterfield\, WI\, 54159
CATEGORIES:Menominee
END:VEVENT
BEGIN:VEVENT
DTSTART;TZID=UTC:20250713T140000
DTEND;TZID=UTC:20250713T180000
DTSTAMP:20260423T102700
CREATED:20250619T161024Z
LAST-MODIFIED:20250619T161024Z
UID:10004745-1752415200-1752429600@upbarreview.com
SUMMARY:Loopys in Loomis - Eight Second Ride - Crivitz
DESCRIPTION:You will enjoy this duo! They are two of the top country\, vocalist\, and guitarist in the area! Ricky Dean/lead singer for the country band Eight Second Ride And freelance guitarist Josh Van Noie will play you some of the great country hits from the 60s to the hottest artist of today! Come on out\, grab a drink and enjoy the show
URL:https://upbarreview.com/event/loopys-in-loomis-eight-second-ride-crivitz-2/
LOCATION:Loopy’s Bar & Grill\, Loomis Rd\, Porterfield\, WI\, 54159
CATEGORIES:Menominee
END:VEVENT
BEGIN:VEVENT
DTSTART;TZID=UTC:20250713T150000
DTEND;TZID=UTC:20250713T170000
DTSTAMP:20260423T102700
CREATED:20250514T000931Z
LAST-MODIFIED:20250514T000931Z
UID:10004378-1752418800-1752426000@upbarreview.com
SUMMARY:Sidetrack Restaurant - Summer Concert Series
DESCRIPTION:Live music on weekends all summer. Check out the facebook page for whos playing on what day
URL:https://upbarreview.com/event/sidetrack-restaurant-summer-concert-series/2025-07-13/
LOCATION:Sidetrack Restaurant\, N15903 Pine St\, Powers\, MI
CATEGORIES:Menominee
END:VEVENT
BEGIN:VEVENT
DTSTART;TZID=UTC:20250713T150000
DTEND;TZID=UTC:20250713T170000
DTSTAMP:20260423T102700
CREATED:20250619T202527Z
LAST-MODIFIED:20250619T202527Z
UID:10004866-1752418800-1752426000@upbarreview.com
SUMMARY:Michigan DNR Pocket Park - Nature Art - Escanaba
DESCRIPTION:Create your own artwork using natural materials or draw inspiration from the beauty of the outdoors. This creative session encourages self-expression while deepening your connection with nature.\n– Different activities each week
URL:https://upbarreview.com/event/michigan-dnr-pocket-park-nature-art-escanaba/2025-07-13/
LOCATION:Michigan DNR Pocket Park\, 2401 12th Avenue North\, Escanaba\, MI\, 49829
CATEGORIES:Menominee
END:VEVENT
BEGIN:VEVENT
DTSTART;TZID=UTC:20250713T150000
DTEND;TZID=UTC:20250713T210000
DTSTAMP:20260423T102700
CREATED:20250618T025433Z
LAST-MODIFIED:20250618T025433Z
UID:10004659-1752418800-1752440400@upbarreview.com
SUMMARY:13th Annual Marinette Logging Heritage Fest - Marinette
DESCRIPTION: 𝟏𝟑𝐭𝐡 𝐀𝐧𝐧𝐮𝐚𝐥 𝐋𝐨𝐠𝐠𝐢𝐧𝐠 & 𝐇𝐞𝐫𝐢𝐭𝐚𝐠𝐞 𝐅𝐞𝐬𝐭\nJoin us on 𝐒𝐚𝐭𝐮𝐫𝐝𝐚𝐲\, 𝐉𝐮𝐥𝐲 𝟏𝟐𝐭𝐡 𝐚𝐧𝐝 𝐒𝐮𝐧𝐝𝐚𝐲\, 𝐉𝐮𝐥𝐲 𝟏𝟑𝐭𝐡 𝐚𝐭 𝐒𝐭𝐞𝐩𝐡𝐞𝐧𝐬𝐨𝐧 𝐈𝐬𝐥𝐚𝐧𝐝 for a day full of family fun and community pride as we celebrate Marinette’s rich logging history at the 𝟭𝟯𝘁𝗵 𝗔𝗻𝗻𝘂𝗮𝗹 𝗟𝗼𝗴𝗴𝗶𝗻𝗴 & 𝗛𝗲𝗿𝗶𝘁𝗮𝗴𝗲 𝗙𝗲𝘀𝘁!\nEnjoy an action-packed day featuring thrilling BMX stunt shows\, a fun-filled kids’ petting zoo\, and a craft show with unique items from local vendors and artisans. The event also includes logging and lumberjack games\, live music\, delicious food and refreshments\, kids’ activities\, historical displays\, chainsaw carving demonstrations\, and so much more — all set against the scenic backdrop of the Menominee River.\n – 𝗙𝗥𝗘𝗘 𝗔𝗱𝗺𝗶𝘀𝘀𝗶𝗼𝗻 – 𝗦𝗮𝘁𝘂𝗿𝗱𝗮𝘆\, 𝗝𝘂𝗹𝘆 𝟭𝟮𝘁𝗵 & 𝗦𝘂𝗻𝗱𝗮𝘆\, 𝗝𝘂𝗹𝘆 𝟭𝟯– 𝗦𝘁𝗲𝗽𝗵𝗲𝗻𝘀𝗼𝗻 𝗜𝘀𝗹𝗮𝗻𝗱 – 𝗠𝗮𝗿𝗶𝗻𝗲𝘁𝘁𝗲\, 𝗪𝗜\nDon’t miss this unforgettable day of tradition\, entertainment\, and small-town charm — perfect for the whole family!\nStay tuned for the entire event schedule and more exciting details.\nFor Questions\, please get in touch with lbero@marinette.wi.us or call (715) 732-5141\, or for Craft Show inquiries\, please email krogers@marinette.wi.us or call/text (715)923-7640\n#LoggingAndHeritageFest #MarinetteWI #StephensonIsland #FamilyFun #WisconsinFestivals
URL:https://upbarreview.com/event/13th-annual-marinette-logging-heritage-fest-marinette/2025-07-13/
LOCATION:Stephenson Island\, Marinette\, WI\, 54143
CATEGORIES:Menominee
END:VEVENT
BEGIN:VEVENT
DTSTART;TZID=UTC:20250714T080000
DTEND;TZID=UTC:20250714T170000
DTSTAMP:20260423T102700
CREATED:20250618T032210Z
LAST-MODIFIED:20250618T032210Z
UID:10004692-1752480000-1752512400@upbarreview.com
SUMMARY:Calvary Church - The BIG Serve - Marinette
DESCRIPTION:The BIG Serve is coming July 13th-17th! What is this?? The Big Serve is a focused\, several-day service effort to our community. This year\, we are assisting organizations that serve our community\, including the Boys and Girls Club of Menominee\, Abundant Life Mission\, Bay Area Pregnancy Services\, and the Marinette Parks Department.\nThere are three intentional ways to be involved:\nGiving – Every Sunday\, during our regular Tithes and Offerings for the rest of June\, people can give towards the projects we will be undertaking\, and designate the amount by writing “The BIG Serve”.\nServing – Plan on joining the Convoy of Hope/Calvary Church team by working and serving.– You can help serve and work on the projects.– Help by cooking and/or serving evening meals for the Convoy of Hope Team here at the church.\nLoving – Showing the love of Jesus through our acts of service and conversations with others.\nContact the Church office for more info. Join us as we serve our community in a massive way!
URL:https://upbarreview.com/event/calvary-church-the-big-serve-marinette/2025-07-14/
CATEGORIES:Menominee
END:VEVENT
END:VCALENDAR