BEGIN:VCALENDAR
VERSION:2.0
PRODID:-//UP BAR REVIEW - ECPv6.14.2//NONSGML v1.0//EN
CALSCALE:GREGORIAN
METHOD:PUBLISH
X-ORIGINAL-URL:https://upbarreview.com
X-WR-CALDESC:Events for UP BAR REVIEW
REFRESH-INTERVAL;VALUE=DURATION:PT1H
X-Robots-Tag:noindex
X-PUBLISHED-TTL:PT1H
BEGIN:VTIMEZONE
TZID:UTC
BEGIN:STANDARD
TZOFFSETFROM:+0000
TZOFFSETTO:+0000
TZNAME:UTC
DTSTART:20250101T000000
END:STANDARD
END:VTIMEZONE
BEGIN:VEVENT
DTSTART;TZID=UTC:20250628T150000
DTEND;TZID=UTC:20250628T180000
DTSTAMP:20260423T102859
CREATED:20250619T212315Z
LAST-MODIFIED:20250619T212315Z
UID:10004942-1751122800-1751133600@upbarreview.com
SUMMARY:Michigan DNR Pocket Park - Survival Skills Saturday - Escanaba
DESCRIPTION:Get hands-on with the basics of wilderness survival\, including shelter building\, fire safety\, and more. Ideal for People looking to build outdoor confidence.
URL:https://upbarreview.com/event/michigan-dnr-pocket-park-survival-skills-saturday-escanaba/2025-06-28/
LOCATION:Michigan DNR Pocket Park\, 2401 12th Avenue North\, Escanaba\, MI\, 49829
CATEGORIES:Menominee
END:VEVENT
BEGIN:VEVENT
DTSTART;TZID=UTC:20250628T150000
DTEND;TZID=UTC:20250703T150000
DTSTAMP:20260423T102859
CREATED:20250620T143941Z
LAST-MODIFIED:20250620T143941Z
UID:10004979-1751122800-1751554800@upbarreview.com
SUMMARY:Gladstone Sports Park - Major Boys District Tournament
DESCRIPTION:Come out to the Gladstone Sports Park and cheer on the local AllStar Teams for the Major Boys District Tournament June 28th to July 3rd!!
URL:https://upbarreview.com/event/gladstone-sports-park-major-boys-district-tournament/
LOCATION:Gladstone Sports Park\, Gladstone\, MI
CATEGORIES:Menominee
END:VEVENT
BEGIN:VEVENT
DTSTART;TZID=UTC:20250628T160000
DTEND;TZID=UTC:20250628T223000
DTSTAMP:20260423T102859
CREATED:20250620T182515Z
LAST-MODIFIED:20250620T182515Z
UID:10005312-1751126400-1751149800@upbarreview.com
SUMMARY:Heights Park - Annual Community Picnic - Niagara
DESCRIPTION:Announcing our picnic raffle!! Help support our annual community picnic and win some cash with our picnic and fireworks raffle!! Tickets available at Best Buy Party Store\, Big Ten Sports Bar\, Bob and Gerry’s Bar\, C & R Bar\, City Hall – Niagara\, Country Bar\, Forward Financial in Niagara\, Iron Mountain\, and Pembine\, Nev’s North Star\, Nicolet Bank in Niagara\, Northwoods IGA\, Pit Stop Bar and Grill\, Tripp’s Tavern\, Uptown Lanes\, and the Wild Horse Saloon. Please support our donors.
URL:https://upbarreview.com/event/heights-park-annual-community-picnic-niagara/2025-06-28/
LOCATION:Niagara Heights Park\, 1201 Grant Street\, Niagara\, wi\, 54151
CATEGORIES:Ironmountain
END:VEVENT
BEGIN:VEVENT
DTSTART;TZID=UTC:20250628T170000
DTEND;TZID=UTC:20250628T200000
DTSTAMP:20260423T102859
CREATED:20250619T192754Z
LAST-MODIFIED:20250619T192754Z
UID:10004839-1751130000-1751140800@upbarreview.com
SUMMARY:Wellspring Community Church - Level Up Mother and Son Night - Escanaba
DESCRIPTION: LEVEL UP: MOTHER AND SON NIGHT \nGet ready for an unforgettable night of fun\, laughter\, and connection at LEVEL UP: Mother and Son Night—an epic evening packed with everything boys love and moms will treasure!\nJoin us on Saturday\, June 28 from 6:00 to 9:00 PM at Wellspring Community Church for an adventure like no other. This isn’t your average night out—it’s a full-on experience designed to make memories that will last a lifetime.\nYou’ll enjoy:\n Dancing to awesome tunes LEGO building challenges Video game stations Gourmet pizza dinner and desserts An incredible photo booth experience And so much more!\nTickets are just $40 per Mother/Son duo\, and every dollar supports Mission of HOPE\, helping real families in our community.\nWhether you’re busting a move on the dance floor or teaming up to crush a LEGO masterpiece\, you’ll leave feeling closer than ever. Don’t miss this powerful chance to bond\, laugh\, and LEVEL UP together!
URL:https://upbarreview.com/event/wellspring-community-church-level-up-mother-and-son-night-escanaba/
LOCATION:Wellspring Community Church\, 301 North Lincoln Rd\, Escanaba\, MI
CATEGORIES:Menominee
END:VEVENT
BEGIN:VEVENT
DTSTART;TZID=UTC:20250628T180000
DTEND;TZID=UTC:20250628T193000
DTSTAMP:20260423T102859
CREATED:20250618T032308Z
LAST-MODIFIED:20250618T032308Z
UID:10004695-1751133600-1751139000@upbarreview.com
SUMMARY:Sno-Haven Pottery - Adult Wheel Night - Marinette
DESCRIPTION:Saturday Nights are great fun at Sno-Haven Pottery . Learning to throw on a potter’s wheel in this one time lesson. The cost of the evening is $45.00 plus tax. Which includes entrance to our Glaze Studio 2 weeks later or on any Sunday Afternoon from 1-4pm\, to complete your pottery. NO EXPERIENCE is neccessary as we go step by step to help you create your very own wheel thrown pottery. Be sure to reserve your place in the class by calling 715-587-2163
URL:https://upbarreview.com/event/sno-haven-pottery-adult-wheel-night-marinette/
LOCATION:Sno Haven Pottery\, 1215 9th St\, Marinette\, WI\, 54143
CATEGORIES:Menominee
END:VEVENT
BEGIN:VEVENT
DTSTART;TZID=UTC:20250628T180000
DTEND;TZID=UTC:20250628T203000
DTSTAMP:20260423T102859
CREATED:20250619T181856Z
LAST-MODIFIED:20250619T181856Z
UID:10004785-1751133600-1751142600@upbarreview.com
SUMMARY:The Outback - Bobby Darren & Sheila - Peshtigo
DESCRIPTION:Check out their classic country hits!
URL:https://upbarreview.com/event/the-outback-bobby-darren-sheila-peshtigo/
LOCATION:The Outback\, 1997 Old Peshtigo Rd\, Marinette\, WI\, 54143\, United States
CATEGORIES:Menominee
END:VEVENT
BEGIN:VEVENT
DTSTART;TZID=UTC:20250628T180000
DTEND;TZID=UTC:20250628T210000
DTSTAMP:20260423T102859
CREATED:20250620T175411Z
LAST-MODIFIED:20250620T175411Z
UID:10005304-1751133600-1751144400@upbarreview.com
SUMMARY:Mister Mom's - Niel Holub - Norway
DESCRIPTION:Saturday June 28th\, I will be playing all your favorite Classic Country tunes at Mister Mom’s in n beautiful downtown Norway\, MI from 6:00-9:00
URL:https://upbarreview.com/event/mister-moms-niel-holub-norway/
LOCATION:Mister Moms\, 1009 Main St\, Norway\, MI\, 49870
CATEGORIES:Ironmountain
END:VEVENT
BEGIN:VEVENT
DTSTART;TZID=UTC:20250628T180000
DTEND;TZID=UTC:20250628T220000
DTSTAMP:20260423T102859
CREATED:20250618T031830Z
LAST-MODIFIED:20250618T031830Z
UID:10004680-1751133600-1751148000@upbarreview.com
SUMMARY:1911 Grille - The Bad Mother Truckers - Peshtigo
DESCRIPTION:The Bad Mother Truckers Live at 1911 Grille & Taphouse – Let’s Rock Peshtigo!\nGet ready for a night of high-octane rock at 1911 Grille & Taphouse as The Bad Mother Truckers bring their electrifying sound back to Peshtigo! With roaring guitar riffs\, driving beats\, and the kind of energy that fills the room\, this band always brings the party—and the crowd!\nCome early to grab a bite\, a cold drink\, and a good seat—because when the Truckers take the stage\, it won’t take long to pack the place!\nAnd don’t miss your chance to grab our limited-edition summer merch\, including brand-new shirts in sizes XS to 4XL—perfect for repping your favorite band in style.\nLet’s turn up the volume and make it a night to remember at 1911!
URL:https://upbarreview.com/event/1911-grille-the-bad-mother-truckers-peshtigo/
LOCATION:1911 Grill & Taphouse\, W1911 Flame Rd\, Marinette\, WI
CATEGORIES:Menominee
END:VEVENT
BEGIN:VEVENT
DTSTART;TZID=UTC:20250628T180000
DTEND;TZID=UTC:20250628T220000
DTSTAMP:20260423T102859
CREATED:20250619T161841Z
LAST-MODIFIED:20250619T161841Z
UID:10004752-1751133600-1751148000@upbarreview.com
SUMMARY:The Garage - Sweet Acoustics - Oconto
DESCRIPTION:Acoustic classic rock band\, Sweet Acoustics\, is back at The Garage in downtown Oconto for their fantastic set list and mix of songs from The Beatles to modern.
URL:https://upbarreview.com/event/the-garage-sweet-acoustics-oconto-2/
LOCATION:The Garage\, 1200 Main St\, Oconto\, WI\, 54153\, United States
CATEGORIES:Menominee
END:VEVENT
BEGIN:VEVENT
DTSTART;TZID=UTC:20250628T180000
DTEND;TZID=UTC:20250628T220000
DTSTAMP:20260423T102859
CREATED:20250620T154502Z
LAST-MODIFIED:20250620T155057Z
UID:10005012-1751133600-1751148000@upbarreview.com
SUMMARY:Sandstone Terrace - Live Music - Iron Mountain
DESCRIPTION:Great way to spend your time after dinner with friend’s and family!
URL:https://upbarreview.com/event/sandstone-terrace-saturday-night-live-music-iron-mountain/2025-06-28/
LOCATION:Sandstone Terrace Rooftop Bar\, 220 Iron Mountain St\, Iron Mountain\, MI\, 49801
CATEGORIES:Ironmountain
END:VEVENT
BEGIN:VEVENT
DTSTART;TZID=UTC:20250628T183000
DTEND;TZID=UTC:20250628T213000
DTSTAMP:20260423T102859
CREATED:20250620T155544Z
LAST-MODIFIED:20250620T155544Z
UID:10005260-1751135400-1751146200@upbarreview.com
SUMMARY:The Braumart - Salsa Manzana - Iron Mountain
DESCRIPTION:Salsa from the Fox Valley!\nSalsa Manzana is a traditional Latin music ensemble based out of Appleton\, Wisconsin. Founders\, Carlos Mendez and Mark Te Tai have been entertaining crowds since 2012. With Carlos’ authentic Puerto Rican heritage and Mark’s long-standing relationship with the local music community\, the two assembled a band of top musicians from Oshkosh to Green Bay.\nThe 12-piece band features some of the Fox Valley’s premier musicians. Through local events such as Appleton’s Octoberfest\, Fox Jazz Festival\, and Oshkosh’s Waterfest\, they help grow the Fox Valley’s growing culture of diversity. The events Salsa Manzana performs vary from multi-cultural festivals\, charity fundraisers\, and educational school events to Cinco de Mayo celebrations\, Latin-flavored weddings\, and quinceañeras.\nSalsa Manzana enjoys entertaining and educating audiences throughout all Northeastern Wisconsin by promoting Salsa\, Mambo\, Merengue\, Cha Cha\, Bachata\, Bolero\, Latin Jazz. We hope you can see us soon!\nSays the band about their return to the Braumart stage this summer: “The Braumart is one of our favorite places to play. There will be a mini-workshop for salsa dancing just before we start!”\nMembers of the Fox Valley Latin Dancers will be joining Salsa Manzana to teach Salsa lessons for all attendees!\nTickets are $32.00 online. Day of Show tickets will be $35.00 at The Braumart Box Office while supplies last.\nWatch Salsa Manzana perform at Jazz in the Park:https://www.youtube.com/watch?v=ujmJeo-uz90&t=1s
URL:https://upbarreview.com/event/the-braumart-salsa-manzana-iron-mountain/
LOCATION:The Braumart Theatre\, 106 E B St\, Iron Mountain\, MI\, 49801
CATEGORIES:Ironmountain
END:VEVENT
BEGIN:VEVENT
DTSTART;TZID=UTC:20250628T190000
DTEND;TZID=UTC:20250628T210000
DTSTAMP:20260423T102859
CREATED:20250618T030935Z
LAST-MODIFIED:20250618T030935Z
UID:10004672-1751137200-1751144400@upbarreview.com
SUMMARY:The Lodge - Logan Spicer - Marinette
DESCRIPTION: IF YOU KNOW\, YOU KNOW. Logan Spicer is back at The Lodge on Main Saturday\, June 28th @ 7pm – and if you’ve seen him live\, you already know he is amazing ! \nIf you haven’t? Well\, here’s your chance to find out what the hype is all about. Pull up\, grab a drink\, and let’s listen to him sing some great tunes. \n#IfYouKnowYouKnow #LoganSpicerLive #TheLodgeOnMain #GoodMusicGoodTimes
URL:https://upbarreview.com/event/the-lodge-logan-spicer-marinette/
LOCATION:The Lodge\, 1333 Main St\, Marinette\, WI
CATEGORIES:Menominee
END:VEVENT
BEGIN:VEVENT
DTSTART;TZID=UTC:20250628T190000
DTEND;TZID=UTC:20250628T220000
DTSTAMP:20260423T102859
CREATED:20250619T160734Z
LAST-MODIFIED:20250619T160734Z
UID:10004743-1751137200-1751148000@upbarreview.com
SUMMARY:The Blind Walleye - Acoustic Mayhem - Crivitz
DESCRIPTION:Join us for some summer patio vibes at this great spot right on the water! Acoustic tunes and friends will make this a fun night!
URL:https://upbarreview.com/event/the-blind-walleye-acoustic-mayhem-crivitz/
LOCATION:The Blind Walleye\, 15463 County Hwy W\, Crivitz\, WI\, 54114
CATEGORIES:Menominee
END:VEVENT
BEGIN:VEVENT
DTSTART;TZID=UTC:20250628T190000
DTEND;TZID=UTC:20250628T230000
DTSTAMP:20260423T102859
CREATED:20250619T164805Z
LAST-MODIFIED:20250619T164805Z
UID:10004775-1751137200-1751151600@upbarreview.com
SUMMARY:The Rustic Inn Silvercliff - The Missing Miles - Athelstane
DESCRIPTION:
URL:https://upbarreview.com/event/the-rustic-inn-silvercliff-the-missing-miles-athelstane/
CATEGORIES:Menominee
END:VEVENT
BEGIN:VEVENT
DTSTART;TZID=UTC:20250628T200000
DTEND;TZID=UTC:20250628T220000
DTSTAMP:20260423T102859
CREATED:20250514T000931Z
LAST-MODIFIED:20250514T000931Z
UID:10004377-1751140800-1751148000@upbarreview.com
SUMMARY:Sidetrack Restaurant - Summer Concert Series
DESCRIPTION:Live music on weekends all summer. Check out the facebook page for whos playing on what day
URL:https://upbarreview.com/event/sidetrack-restaurant-summer-concert-series/2025-06-28/
LOCATION:Sidetrack Restaurant\, N15903 Pine St\, Powers\, MI
CATEGORIES:Menominee
END:VEVENT
BEGIN:VEVENT
DTSTART;TZID=UTC:20250628T210000
DTEND;TZID=UTC:20250628T233000
DTSTAMP:20260423T102859
CREATED:20250403T020116Z
LAST-MODIFIED:20250403T020116Z
UID:10003884-1751144400-1751153400@upbarreview.com
SUMMARY:Wild Horse Saloon - Karaoke - Iron Mountain
DESCRIPTION:Welcome to the Hottest Karaoke show in Town! Every Saturday at The Wild Horse Saloon\, in Iron Mountain\, MI Starts at 9:00 pm\nCreate your FREE Performer Account with Songbooks Online App to Browse the Karaoke song library\, keep a favorites list and submit your song requests remotely!\nUse Show ID: MSK23 after you create your account. You can also just tell me your name and the song you want if you don’t know how to install an app.
URL:https://upbarreview.com/event/wild-horse-saloon-karaoke-iron-mountain-2/2025-06-28/
LOCATION:Wild Horse Saloon\, 713 River Ave\, Iron Mountain\, MI\, 49801
CATEGORIES:Ironmountain
END:VEVENT
BEGIN:VEVENT
DTSTART;TZID=UTC:20250629T090000
DTEND;TZID=UTC:20250629T160000
DTSTAMP:20260423T102859
CREATED:20250618T025848Z
LAST-MODIFIED:20250618T025848Z
UID:10004663-1751187600-1751212800@upbarreview.com
SUMMARY:Rec Center - Trains\, Games\, & Automobiles - Marinette
DESCRIPTION: 𝐓𝐫𝐚𝐢𝐧𝐬\, 𝐆𝐚𝐦𝐞𝐬 & 𝐀𝐮𝐭𝐨𝐦𝐨𝐛𝐢𝐥𝐞𝐬 \n June 28 & 29\, 2025 Community REC Center | 2501 Pierce Ave\, Marinette\, WI\n\nGet ready for a weekend of FREE fun\, featuring model trains\, classic cars\, and gaming excitement! This event is perfect for all ages\, with activities for collectors\, gamers\, and car enthusiasts alike.\nLook forward to…\n 𝗠𝗼𝗱𝗲𝗹 𝗧𝗿𝗮𝗶𝗻𝘀 – Detailed displays\, operating models\, and trains for sale! 𝗖𝗹𝗮𝘀𝘀𝗶𝗰 𝗖𝗮𝗿 𝗦𝗵𝗼𝘄 (Saturday Only\, Outdoors) – Admire vintage and custom cars!𝗦𝘁𝗿𝗮𝘁𝗲𝗴𝗶𝗰 𝗧𝗮𝗯𝗹𝗲𝘁𝗼𝗽 – Play strategy board games! 𝗠𝗮𝗴𝗶𝗰 𝘁𝗵𝗲 𝗚𝗮𝘁𝗵𝗲𝗿𝗶𝗻𝗴 𝗧𝗼𝘂𝗿𝗻𝗮𝗺𝗲𝗻𝘁𝘀 – Test your skills in exciting competitions! 𝗙𝗼𝗼𝗱 𝗧𝗿𝘂𝗰𝗸𝘀 – Grab delicious eats while you explore! 𝗩𝗲𝗻𝗱𝗼𝗿𝘀 – Shop for model trains\, custom dice & more! 𝗔𝗻𝗱 𝗺𝘂𝗰𝗵 𝗺𝗼𝗿𝗲 𝘁𝗼 𝗰𝗼𝗺𝗲!\n\nDon’t miss this action-packed event—mark your calendar and bring the whole family!\n#TrainsGamesAutoMobiles #FamilyFun #ModelTrains #ClassicCars #Gaming #TabletopStrategicGames #CommunityEvent\nFor more information\, please go to: https://tinyurl.com/2j4tfmp6\nFor any questions or inquiries on becoming a vendor\, please get in touch with Dave Rickaby at wmwestdiv@yahoo.com or call (715) 584-9310
URL:https://upbarreview.com/event/rec-center-trains-games-automobiles-marinette/2025-06-29/
LOCATION:Marinette Recreation Center\, 2501 Pierce Avenue\, Marinette\, WI\, 54143\, United States
CATEGORIES:Menominee
END:VEVENT
BEGIN:VEVENT
DTSTART;TZID=UTC:20250629T100000
DTEND;TZID=UTC:20250629T120000
DTSTAMP:20260423T102859
CREATED:20250619T212205Z
LAST-MODIFIED:20250619T212205Z
UID:10004915-1751191200-1751198400@upbarreview.com
SUMMARY:Michigan DNR Pocket Park - Open Archery - Escanaba
DESCRIPTION:Take aim and sharpen your skills at the Pocket Park Archery Range. This supervised open session is perfect for beginners and enthusiasts alike.\nWe have all the equipment necessary.
URL:https://upbarreview.com/event/michigan-dnr-pocket-park-open-archery-escanaba/2025-06-29/
LOCATION:Michigan DNR Pocket Park\, 2401 12th Avenue North\, Escanaba\, MI\, 49829
CATEGORIES:Menominee
END:VEVENT
BEGIN:VEVENT
DTSTART;TZID=UTC:20250629T100000
DTEND;TZID=UTC:20250629T160000
DTSTAMP:20260423T102859
CREATED:20250618T021449Z
LAST-MODIFIED:20250618T021449Z
UID:10004603-1751191200-1751212800@upbarreview.com
SUMMARY:Menominee Marina - Art for All
DESCRIPTION:One-day art show and sale featuring area artists. Find pottery\, photography\, paintings\, metal art\, glass\, yard art\, and many other one-of-a-kind pieces.Artist can apply online:https://www.artforallinc.com/
URL:https://upbarreview.com/event/menominee-marina-art-for-all/
LOCATION:Menominee Marina
CATEGORIES:Menominee
END:VEVENT
BEGIN:VEVENT
DTSTART;TZID=UTC:20250629T120000
DTEND;TZID=UTC:20250629T130000
DTSTAMP:20260423T102859
CREATED:20250619T211115Z
LAST-MODIFIED:20250619T211115Z
UID:10004886-1751198400-1751202000@upbarreview.com
SUMMARY:Michigan DNR Pocket Park - What Are Macroinvertebrate - Escanaba
DESCRIPTION:Wade into the world of small but mighty creatures like mayflies and caddisflies. Learn how these organisms help scientists measure water quality.
URL:https://upbarreview.com/event/michigan-dnr-pocket-park-what-are-macroinvertebrate-escanaba/
LOCATION:Michigan DNR Pocket Park\, 2401 12th Avenue North\, Escanaba\, MI\, 49829
CATEGORIES:Menominee
END:VEVENT
BEGIN:VEVENT
DTSTART;TZID=UTC:20250629T120000
DTEND;TZID=UTC:20250629T140000
DTSTAMP:20260423T102859
CREATED:20250619T194132Z
LAST-MODIFIED:20250619T194132Z
UID:10004840-1751198400-1751205600@upbarreview.com
SUMMARY:Ludington Park - The Climb - Escanaba
DESCRIPTION:This is a free family event. There will be other community programs present whom also support women and families in the Upper Peninsula. For those who would like to participate there will be a walk\, door prizes and other activities. If you are not able to attend\, please help by sharing our information. Yes\, this is a fundraiser but the main goal is to provide support and remove any bias to parents that are affected with Perinatal Mental Health Disorders (PMHD).Please join our team. https://give.postpartum.net/team/639514
URL:https://upbarreview.com/event/ludington-park-the-climb-escanaba/
LOCATION:Ludington Park\, Es
CATEGORIES:Menominee
END:VEVENT
BEGIN:VEVENT
DTSTART;TZID=UTC:20250629T120000
DTEND;TZID=UTC:20250629T150000
DTSTAMP:20260423T102859
CREATED:20250620T155250Z
LAST-MODIFIED:20250620T155250Z
UID:10005250-1751198400-1751209200@upbarreview.com
SUMMARY:Sandstone Terrace - Live Music - Iron Mountain
DESCRIPTION:Stop by the Terrace for your favorite drink and some great music. See you on the Terrace!
URL:https://upbarreview.com/event/sandstone-terrace-live-music-iron-mountain-2/2025-06-29/
LOCATION:Sandstone Terrace Rooftop Bar\, 220 Iron Mountain St\, Iron Mountain\, MI\, 49801
CATEGORIES:Ironmountain
END:VEVENT
BEGIN:VEVENT
DTSTART;TZID=UTC:20250629T120000
DTEND;TZID=UTC:20250629T170000
DTSTAMP:20260423T102859
CREATED:20250619T155002Z
LAST-MODIFIED:20250619T155002Z
UID:10004733-1751198400-1751216400@upbarreview.com
SUMMARY:Crivitz Highschool - MLB Pitch\, Hit\, & Run
DESCRIPTION:SAVE THE DATE!!OPEN TO ALL ATHLETES IN THE U.P. AND WISCONSIN AGES 7-14DELTA\, MARINETTE AND LANGLADE COUNTY MLB PHR EVENT!!REGISTER TODAY!!REGISTER FOR THIS EXCITING FREE EVENT POWERED BY THE 906 SPORTS ACADEMY!!!MLB’s Pitch Hit & Run (PHR) is an exciting program that allows kids aged 7 to 14 to showcase their baseball and softball skills.MLB PHR EVENT:DELTA COUNTY-12 NOON CST (1PM EST)\, AUGUST 3RDMARINETTE COUNTY-12 NOON CST\, JUNE 29THLANGLADE COUNTY-12 NOON\, AUGUST 17THHere’s how it works:Participation: Boys and girls in the specified age range (7-14) can participate in PHR events. These events are FREE and provide an opportunity for young athletes to demonstrate their abilities.FOR NOVICE TO ADVANCED ATHLETES!Skills Testing: Participants are tested in three fundamental areas:Pitching: Accuracy and speed of throwing.Hitting: Ability to hit a baseball or softball.Running: Speed and agility on the basepaths.Advancement: Based on their scores\, participants can advance from local events to Team Championships held in Major League Baseball (MLB) stadiums. (Milwaukee Brewers)World Series Opportunity: The top scores qualify for an all-expenses-paid trip for two to compete at the PHR Finals\, which take place during the MLB World Series. Imagine being on the same stage as professional baseball players!
URL:https://upbarreview.com/event/crivitz-highschool-mlb-pitch-hit-run/
LOCATION:Crivitz Highschool\, 718 Hall Hay St\, Crivitz\, WI
CATEGORIES:Menominee
END:VEVENT
BEGIN:VEVENT
DTSTART;TZID=UTC:20250629T130000
DTEND;TZID=UTC:20250629T150000
DTSTAMP:20260423T102859
CREATED:20250403T001956Z
LAST-MODIFIED:20250403T001956Z
UID:10003741-1751202000-1751209200@upbarreview.com
SUMMARY:Country Roads Bar & Grill - Bingo Sunday - Wausaukee
DESCRIPTION:Sunday Funday Bingo! $1/game per board. Come for all the games or jump in whenever!
URL:https://upbarreview.com/event/country-roads-bar-grill-bingo-sunday-wausaukee/2025-06-29/
LOCATION:Country Roads Bar & Grill\, W8901 Co Rd C\, Wausaukee\, WI
CATEGORIES:Menominee
END:VEVENT
BEGIN:VEVENT
DTSTART;TZID=UTC:20250629T140000
DTEND;TZID=UTC:20250629T153000
DTSTAMP:20260423T102859
CREATED:20250619T183629Z
LAST-MODIFIED:20250619T183629Z
UID:10004798-1751205600-1751211000@upbarreview.com
SUMMARY:Eden Restored Lifestyle Center - Free Class Lyme Disease - Wausaukee
DESCRIPTION:Dr. Karen Himmel\, herbalist Will Westerhout\, and others will besharing their knowledge and expertise on Lyme Disease and othertick-borne illnesses. Come hear how to protect yourself in our “UpNorth”\, wooded areas and what to do if you get Lyme!\nFree Class!
URL:https://upbarreview.com/event/eden-restored-lifestyle-center-free-class-lyme-disease-wausaukee/
LOCATION:Eden Restored Health Market\, 528 Harrison Ave\, Wausaukee\, WI
CATEGORIES:Menominee
END:VEVENT
BEGIN:VEVENT
DTSTART;TZID=UTC:20250629T140000
DTEND;TZID=UTC:20250629T173000
DTSTAMP:20260423T102859
CREATED:20250619T182758Z
LAST-MODIFIED:20250619T182758Z
UID:10004792-1751205600-1751218200@upbarreview.com
SUMMARY:Peshtigo Pub & Grill - The Remedy
DESCRIPTION:Relax to a Sunday of good ol’ Rock starting at 2pmMesquite smoked brats
URL:https://upbarreview.com/event/peshtigo-pub-grill-the-remedy/
LOCATION:Peshtigo Pub & Grill\, 350 Oconto Ave\, Peshtigo\, WI\, 54157
CATEGORIES:Menominee
END:VEVENT
BEGIN:VEVENT
DTSTART;TZID=UTC:20250629T150000
DTEND;TZID=UTC:20250629T170000
DTSTAMP:20260423T102859
CREATED:20250619T202527Z
LAST-MODIFIED:20250619T202527Z
UID:10004864-1751209200-1751216400@upbarreview.com
SUMMARY:Michigan DNR Pocket Park - Nature Art - Escanaba
DESCRIPTION:Create your own artwork using natural materials or draw inspiration from the beauty of the outdoors. This creative session encourages self-expression while deepening your connection with nature.\n– Different activities each week
URL:https://upbarreview.com/event/michigan-dnr-pocket-park-nature-art-escanaba/2025-06-29/
LOCATION:Michigan DNR Pocket Park\, 2401 12th Avenue North\, Escanaba\, MI\, 49829
CATEGORIES:Menominee
END:VEVENT
BEGIN:VEVENT
DTSTART;TZID=UTC:20250630T140000
DTEND;TZID=UTC:20250630T163000
DTSTAMP:20260423T102859
CREATED:20250618T022354Z
LAST-MODIFIED:20250618T022354Z
UID:10004609-1751292000-1751301000@upbarreview.com
SUMMARY:Three Bridge Brewing Company - Doug Sheen - Menominee
DESCRIPTION:I will be performing at Three Bridge Brewing Company in Menominee\, MI for Yooper Dogz “Shop with a Cop” event on Monday\, June 30th from 2:00 – 4:30PM
URL:https://upbarreview.com/event/three-bridge-brewing-company-doug-sheen-menominee/
LOCATION:Three Bridge Brewing Company\, 2221 13th St\, Menominee\, MI\, 49858\, United States
CATEGORIES:Menominee
END:VEVENT
BEGIN:VEVENT
DTSTART;TZID=UTC:20250630T140000
DTEND;TZID=UTC:20250630T170000
DTSTAMP:20260423T102859
CREATED:20250619T185302Z
LAST-MODIFIED:20250619T185302Z
UID:10004810-1751292000-1751302800@upbarreview.com
SUMMARY:Gladstone Farmers Market
DESCRIPTION:Members of the Michigan DNR from the Upper peninsula Pocket park will be at the Gladstone Farmers Market for Family Day. We will have coloring activities and an interactive fur and bone workshop.
URL:https://upbarreview.com/event/gladstone-farmers-market-2/
LOCATION:Michigan DNR Pocket Park\, 2401 12th Avenue North\, Escanaba\, MI\, 49829
CATEGORIES:Menominee
END:VEVENT
BEGIN:VEVENT
DTSTART;TZID=UTC:20250630T150000
DTEND;TZID=UTC:20250630T180000
DTSTAMP:20260423T102859
CREATED:20250514T013812Z
LAST-MODIFIED:20250514T013812Z
UID:10004469-1751295600-1751306400@upbarreview.com
SUMMARY:Gladstone Farmers Market
DESCRIPTION:Join us every Monday from June through September at the Gladstone Farmers Market—where community\, creativity\, and fresh local flavor come together!\nLocated at the Market Square (907 Delta Ave) in the heart of downtown\, our market is more than just a place to shop—it’s an experience. Stroll through a vibrant selection of locally grown produce\, mouthwatering baked goods\, and one-of-a-kind artisan creations while enjoying the sounds of live music from talented local bands.\nWhether you’re a market regular or visiting for the first time\, we invite you to make Mondays in Gladstone a tradition! Come for the goods\, stay for the music\, and connect with friends and neighbors in a welcoming\, lively atmosphere.\nWe can’t wait to see you there!\nhttps://www.gladstonemi.gov/dda/page/farmers-market
URL:https://upbarreview.com/event/gladstone-farmers-market/2025-06-30/
CATEGORIES:Menominee
END:VEVENT
END:VCALENDAR