BEGIN:VCALENDAR
VERSION:2.0
PRODID:-//UP BAR REVIEW - ECPv6.14.2//NONSGML v1.0//EN
CALSCALE:GREGORIAN
METHOD:PUBLISH
X-ORIGINAL-URL:https://upbarreview.com
X-WR-CALDESC:Events for UP BAR REVIEW
REFRESH-INTERVAL;VALUE=DURATION:PT1H
X-Robots-Tag:noindex
X-PUBLISHED-TTL:PT1H
BEGIN:VTIMEZONE
TZID:UTC
BEGIN:STANDARD
TZOFFSETFROM:+0000
TZOFFSETTO:+0000
TZNAME:UTC
DTSTART:20250101T000000
END:STANDARD
END:VTIMEZONE
BEGIN:VEVENT
DTSTART;TZID=UTC:20250610T100000
DTEND;TZID=UTC:20250610T173000
DTSTAMP:20260424T102632
CREATED:20250514T021159Z
LAST-MODIFIED:20250514T021159Z
UID:10004502-1749549600-1749576600@upbarreview.com
SUMMARY:Ericson Jewelers - Luxury Watch Event - Iron Mountain
DESCRIPTION:Erickson Jewelers is partnering with Swiss Crown and bringing in a collection of independently certified\, pre-owned Rlex watches.\nEach watch has a 2 year warranty.
URL:https://upbarreview.com/event/ericson-jewelers-luxury-watch-event-iron-mountain/2025-06-10/
LOCATION:Erikson Jewelers\, 511 S Stephenson Ave\, Iron Mountain\, MI\, 49801
CATEGORIES:Ironmountain
END:VEVENT
BEGIN:VEVENT
DTSTART;TZID=UTC:20250610T130000
DTEND;TZID=UTC:20250610T150000
DTSTAMP:20260424T102632
CREATED:20250513T233410Z
LAST-MODIFIED:20250513T233410Z
UID:10004335-1749560400-1749567600@upbarreview.com
SUMMARY:Farnsworth Public Library - Girls Therapeutic Art Club - Oconto
DESCRIPTION:About the Group:Hey changemakers\, creators\, and future leaders! Ready to tap into your strength and shine? Join us for Girls Art Club – a FREE weekly therapeutic art group designed to empower girls and women (ages 9 and up) through creativity\, connection\, and self-expression.\nLed by a licensed art therapist\, each session includes guided art activities that foster confidence\, leadership skills\, and emotional well-being. Whether you’re here to make art\, make friends\, or just take a break – this space is for you._____________________________________\nWhat to Expect: All art supplies and materials provided Reflective and empowering art directives Supportive group conversations A final art exhibition to celebrate your work\n_____________________________________\nWho Can Join: Girls and women ages 9+ All identities and experience levels welcome FREE to attend – but signed consent forms are required\nPlease contact us at 906.330.0082 or info@creativeroutes.org for more info and consent forms!_____________________________________\nSpecial Thanks:This program is made possible through generous support from local partners and funders who believe in the power of creativity and community. Huge thanks to Women’s Fund\, the Greater Green Bay Community Foundation\, and other generous supporters for helping make this safe and inspiring space a reality. \nTogether\, we’re empowering the next generation of artists\, leaders\, and changemakers.
URL:https://upbarreview.com/event/farnsworth-public-library-girls-therapeutic-art-club-oconto/2025-06-10/
LOCATION:Farnsworth Public Library\, 715 Main St\, Oconto\, WI
CATEGORIES:Menominee
END:VEVENT
BEGIN:VEVENT
DTSTART;TZID=UTC:20250610T170000
DTEND;TZID=UTC:20250610T200000
DTSTAMP:20260424T102632
CREATED:20250514T011428Z
LAST-MODIFIED:20250514T011428Z
UID:10004432-1749574800-1749585600@upbarreview.com
SUMMARY:Mr Bike & Ski - Tuesday Road Ride - Escanaba
DESCRIPTION:This is an unofficial Mr. Bike and Ski group ride\, meaning there isn’t always a shop crew member in the pack. Riders should be comfortable with group dynamics\, pacing\, and route navigation.\nAll groups require a road bike—if you’re unsure what that means\, you probably don’t have one! Road bikes are built for speed and efficiency on pavement\, designed to take you as far and as fast as your legs can push. Curious about road cycling? Swing by the shop—we’re happy to help get you rolling.\nRide Season:These rides roll out as soon as the weather allows\, so keep an eye out for early-season meetups. Plan on riding every Tuesday from the week after Memorial Day through Labor Day.\nPro Tip:Got pre-ride jitters? Channel that energy into your legs and send it! Show up early\, introduce yourself\, and chat with the group about your riding experience. They’ll help you find the right pack. Not sure where you fit? Ask! Or\, if you’re feeling strong\, jump in\, hammer the pedals\, and drop some watts.\n22-Mile C Group – M35/Hyde Cut Across RouteThe C Group is ideal for newer riders looking to build endurance and confidence in a group setting. Expect a 15 mph average over 22 miles. Be ready to roll at 6:00 PM—arrive early to check your gear and meet the crew. A helmet and road bike are required.\n30-Mile B Group – M35+ RouteThe B Group is for intermediate riders looking for a solid\, steady ride. Expect a 15-19 mph average over 30 miles. This group focuses on smooth pacing and efficient drafting. Arrive at 6:00 PM to meet the group and check your setup. A helmet and road bike are required.\n40+ Mile A Group – Advanced RideThe A Group is for experienced riders who thrive on high-speed\, long-distance efforts. Expect a 20+ mph pace over 40+ miles. Routes vary weekly\, and the ride is often a drop ride—come prepared to hold the pace and work with the pack. A helmet and road bike are required
URL:https://upbarreview.com/event/mr-bike-ski-tuesday-road-ride-escanaba/2025-06-10/
CATEGORIES:Menominee
END:VEVENT
BEGIN:VEVENT
DTSTART;TZID=UTC:20250610T180000
DTEND;TZID=UTC:20250610T200000
DTSTAMP:20260424T102632
CREATED:20250402T234345Z
LAST-MODIFIED:20250402T234345Z
UID:10003357-1749578400-1749585600@upbarreview.com
SUMMARY:Mo's Pub - Trivia Night - Escanaba
DESCRIPTION:Join us for our Tuesday Trivia!!!! We will start at 7pm and we’ll be in the back room of the pub. TRIVIA TIME!!!! Trivia starts at 7pm!!!!6 Prizes given out.1st place $50 Mos Card 2nd place $25 Mos Card 3rd place $15 Mos Card 4th\, 5th and last place a free appetizer. $2 domestic beer. $3.50 rail\, $2.00 off Specialty Pizza\, $1.00 off specialty burger. We are looking forward to spending the time with you!!!
URL:https://upbarreview.com/event/mos-pub-trivia-night-escanaba/2025-06-10/
LOCATION:Mo’s Pub\, 2116 Ludington St\, Escanaba\, MI\, 49829
CATEGORIES:Menominee
END:VEVENT
BEGIN:VEVENT
DTSTART;TZID=UTC:20250610T180000
DTEND;TZID=UTC:20250610T200000
DTSTAMP:20260424T102632
CREATED:20250513T232918Z
LAST-MODIFIED:20250513T232918Z
UID:10004323-1749578400-1749585600@upbarreview.com
SUMMARY:Oconto Tunes on Tuesday
DESCRIPTION:O.T.T. Is a summer series of music that brings some of the greatest music acts in Wisconsin to Oconto
URL:https://upbarreview.com/event/oconto-tunes-on-tuesday/2025-06-10/
LOCATION:917 Park Ave\, Oconto\, WI
CATEGORIES:Menominee
END:VEVENT
BEGIN:VEVENT
DTSTART;TZID=UTC:20250610T200000
DTEND;TZID=UTC:20250610T233000
DTSTAMP:20260424T102632
CREATED:20250403T021715Z
LAST-MODIFIED:20250403T021741Z
UID:10003996-1749585600-1749598200@upbarreview.com
SUMMARY:Forever Friendship Drop-in Center - Mindfulness\, Meditation\, Mandalas - Kingsford
DESCRIPTION:Art Therapy Style Group\nMindfulness is the practice of purposely bringing one’s attention in the present moment without judgment.\nJoin each week to create a unique art project to help you cope with your mental health
URL:https://upbarreview.com/event/forever-friendship-drop-in-center-mindfulness-meditation-mandalas-kingsford-2/2025-06-10/
LOCATION:Forever Friendship Drop-in Center\, 501 S Carpenter Ave\, Kingsford\, MI
CATEGORIES:Ironmountain
END:VEVENT
BEGIN:VEVENT
DTSTART;TZID=UTC:20250611T100000
DTEND;TZID=UTC:20250611T173000
DTSTAMP:20260424T102632
CREATED:20250514T021159Z
LAST-MODIFIED:20250514T021159Z
UID:10004503-1749636000-1749663000@upbarreview.com
SUMMARY:Ericson Jewelers - Luxury Watch Event - Iron Mountain
DESCRIPTION:Erickson Jewelers is partnering with Swiss Crown and bringing in a collection of independently certified\, pre-owned Rlex watches.\nEach watch has a 2 year warranty.
URL:https://upbarreview.com/event/ericson-jewelers-luxury-watch-event-iron-mountain/2025-06-11/
LOCATION:Erikson Jewelers\, 511 S Stephenson Ave\, Iron Mountain\, MI\, 49801
CATEGORIES:Ironmountain
END:VEVENT
BEGIN:VEVENT
DTSTART;TZID=UTC:20250611T130000
DTEND;TZID=UTC:20250611T160000
DTSTAMP:20260424T102632
CREATED:20250403T015518Z
LAST-MODIFIED:20250403T015518Z
UID:10003835-1749646800-1749657600@upbarreview.com
SUMMARY:Bored Bard Games - Board Games - Iron Mountain
DESCRIPTION:Come join us for unique and engaging games and make a few new friends along the way. Plus it is all FUN & FREE!
URL:https://upbarreview.com/event/bored-bard-games-board-games-iron-mountain/2025-06-11/
LOCATION:Bored Bard Games\, 224 E Hughitt St\, Iron Mountain\, mi\, 49801
CATEGORIES:Ironmountain
END:VEVENT
BEGIN:VEVENT
DTSTART;TZID=UTC:20250611T160000
DTEND;TZID=UTC:20250611T170000
DTSTAMP:20260424T102632
CREATED:20250207T201806Z
LAST-MODIFIED:20250207T201806Z
UID:10003133-1749657600-1749661200@upbarreview.com
SUMMARY:Farnsworth Public Library - 1903 Book Club - Oconto
DESCRIPTION:The 1903 Book Club meets the 2nd Wednesday of each month. At our February meeting we will be discussing Lessons in Chemistry by Bonnie Garmus. Join us for great discussions of some wonderful books!
URL:https://upbarreview.com/event/farnsworth-public-library-1903-book-club-oconto-2/2025-06-11/
LOCATION:Farnsworth Public Library\, 715 Main St\, Oconto\, WI
CATEGORIES:Menominee
END:VEVENT
BEGIN:VEVENT
DTSTART;TZID=UTC:20250611T160000
DTEND;TZID=UTC:20250611T210000
DTSTAMP:20260424T102632
CREATED:20250403T022035Z
LAST-MODIFIED:20250403T022035Z
UID:10004071-1749657600-1749675600@upbarreview.com
SUMMARY:Knights of Columbus - Super Bingo - Kingsford
DESCRIPTION:Super Bingo$2\,535 Regular Pay Out(Attendance Permitting)22 Games for $12.00 Per PackPull Tab GamesHot BallComplete Concession StandDoors open at 4:00Early bird games start at 6:00Regular bingo starts at 6:30
URL:https://upbarreview.com/event/knights-of-columbus-super-bingo-kingsford/2025-06-11/
LOCATION:Knights of Columbus Kingsford\, 520 West Breitung Ave\, Kingsford\, MI
CATEGORIES:Ironmountain
END:VEVENT
BEGIN:VEVENT
DTSTART;TZID=UTC:20250611T180000
DTEND;TZID=UTC:20250611T193000
DTSTAMP:20260424T102632
CREATED:20250514T011616Z
LAST-MODIFIED:20250514T011616Z
UID:10004446-1749664800-1749670200@upbarreview.com
SUMMARY:All American Circus - Escanaba
DESCRIPTION:Escanaba\, MI – We are coming to you in 2025… REAL. FAMILY. CIRCUS. \nThis year\, Oscar Garcia presents an ALL-NEW show\, perfect for the whole family\n PRE-SALE DISCOUNT DEALS: AllAmericanCircus.com/tour-dates/\nMake the most of our online special prices with tickets starting at $5 per person when you purchase a Family Saver (offer LIMITED and only available online\, so be quick)\nSHOW DETAILS: \nUpper Peninsula State Fair\, 2401 12th Ave N\, Escanaba\, MI 49829\n SHOWTIMESWednesday\, June 11 | 7:00PM\nArrive early and enjoy a little extra circus fun at the kids fun zone before showtime \n BUY ONLINE & SAVE TODAY – AllAmericanCircus.com/tour-dates/ \nHave questions about the show?? Visit our FAQ’s allamericancircus.com/faq/ or feel free to message the page and we will get back to you \n‘INVITE’ your friends and family along by ‘SHARING’ this eventWe will see you soon 
URL:https://upbarreview.com/event/all-american-circus-escanaba/
LOCATION:UP State Fairgrounds\, 2401 12th Avenue North\, Escanaba
CATEGORIES:Menominee
END:VEVENT
BEGIN:VEVENT
DTSTART;TZID=UTC:20250612T080000
DTEND;TZID=UTC:20250612T170000
DTSTAMP:20260424T102632
CREATED:20241202T212718Z
LAST-MODIFIED:20241202T212718Z
UID:10002551-1749715200-1749747600@upbarreview.com
SUMMARY:Biehl Bridges to Recovery - Overeaters Anonymous - Marinette
DESCRIPTION:A new year! A new you! Want to know if you’re an overeater? Struggling to find support? Wanting support? Come join us on Thursday evenings from 5:30pm-6:30pm.
URL:https://upbarreview.com/event/biehl-bridges-to-recovery-overeaters-anonymous-marinette/2025-06-12/
LOCATION:Biehl Bridge To Recovery\, 3123 Shore Dr\, Marinette\, WI\, 54143
CATEGORIES:Menominee
END:VEVENT
BEGIN:VEVENT
DTSTART;TZID=UTC:20250612T100000
DTEND;TZID=UTC:20250612T233000
DTSTAMP:20260424T102632
CREATED:20241029T145445Z
LAST-MODIFIED:20241029T145445Z
UID:10002250-1749722400-1749771000@upbarreview.com
SUMMARY:Alibi's - Free Pool Thursdays - Marinette
DESCRIPTION:Free Pool!!
URL:https://upbarreview.com/event/alibis-free-pool-thursdays-marinette/2025-06-12/
LOCATION:ALiBi Bar & Grill\, 829 Main St\, Marinette\, WI\, 54143\, United States
CATEGORIES:Menominee
END:VEVENT
BEGIN:VEVENT
DTSTART;TZID=UTC:20250612T140000
DTEND;TZID=UTC:20250612T153000
DTSTAMP:20260424T102632
CREATED:20250207T202405Z
LAST-MODIFIED:20250207T202405Z
UID:10003150-1749736800-1749742200@upbarreview.com
SUMMARY:Farnsworth Public Library - 2nd Thursday Book Club - Oconto
DESCRIPTION:Participants share and discuss books they are reading from all genres and authors. There is no assigned reading – just a great discussion each month about any and all types of books. Join us!
URL:https://upbarreview.com/event/farnsworth-public-library-2nd-thursday-book-club-oconto/2025-06-12/
LOCATION:Farnsworth Public Library\, 715 Main St\, Oconto\, WI
CATEGORIES:Menominee
END:VEVENT
BEGIN:VEVENT
DTSTART;TZID=UTC:20250612T150000
DTEND;TZID=UTC:20250612T190000
DTSTAMP:20260424T102632
CREATED:20250428T124346Z
LAST-MODIFIED:20250428T124346Z
UID:10004216-1749740400-1749754800@upbarreview.com
SUMMARY:Menominee Waterfront Market
DESCRIPTION: Join us on Thursday\, May 29\, from 3 PM to 7 PM\, and every Thursday through August 28\, 2025.\nExplore a vibrant marketplace featuring farmers\, crafters\, artists\, food trucks\, and more! Leading up to the Grand Opening\, we’ll spotlight one of our returning vendors each week.\nThis week\, we’re highlighting Schwittay Farms—a long-standing name in the farming community and the founder of Harmony Market in 2021. Now\, you have the opportunity to experience their farm-fresh market at the Menominee Waterfront Market every Thursday! Come check out their meats\, eggs\, fruits\, vegetables\, seafood\, and more. Help us welcome them back at our Grand Opening!\nWe’re still looking for more vendors! If you’re a farmer\, crafter\, direct sales vendor\, nonprofit\, school\, or church group\, we’d love for you to join us at our Thursday Market.\nFind our application on our website: https://menomineefarmersmarket.com.\nSee you at the market!”
URL:https://upbarreview.com/event/menominee-waterfront-market/2025-06-12/
LOCATION:Downtown Menominee
CATEGORIES:Menominee
END:VEVENT
BEGIN:VEVENT
DTSTART;TZID=UTC:20250612T160000
DTEND;TZID=UTC:20250612T180000
DTSTAMP:20260424T102632
CREATED:20250207T193316Z
LAST-MODIFIED:20250207T193355Z
UID:10002997-1749744000-1749751200@upbarreview.com
SUMMARY:Escanaba Public Library - Fiber Arts a la Carte - Escanaba
DESCRIPTION:Fiber Arts a la Carte\, a social gathering for fiber artists ages 16+\, meets at the Escanaba Public Library on the second Thursday of each month.\nIf you crochet\, embroider\, knit\, quilt\, sew\, weave\, or do any other craft that does not involve a machine\, you are welcome! From beginners to the most experienced fiber worker\, join us for a time of socializing\, learning\, and teaching.\nIf you have extra craft materials\, feel free to bring them to swap and share
URL:https://upbarreview.com/event/escanaba-public-library-fiber-arts-a-la-carte-escanaba/2025-06-12/
LOCATION:Escanaba Public Library\, 400 Ludington St\, Escanaba\, WI\, 49829
CATEGORIES:Menominee
END:VEVENT
BEGIN:VEVENT
DTSTART;TZID=UTC:20250612T160000
DTEND;TZID=UTC:20250612T200000
DTSTAMP:20260424T102632
CREATED:20250514T023421Z
LAST-MODIFIED:20250514T023435Z
UID:10004523-1749744000-1749758400@upbarreview.com
SUMMARY:Car & Offroad Meet Up - Norway
DESCRIPTION:Rev it up—Thursday Nights at Norway Mountain are for the gearheads!\nGot a car\, side-by-side\, Jeep\, or off-road rig you love to show off? Or just want to hang with others who share your passion for horsepower and mud?\nJoin us every Thursday from 4–8 PM at Norway Mountain for an open\, no-entry-fee vehicle meetup!Cruise in\, park\, chat\, and check out some awesome rides—come and go as you please.\nAnd while you’re here\, head upstairs to Moosehead Bar & Restaurant for some great food\, cold drinks\, and unbeatable views.\nLet’s make Thursday nights the best pit stop of the week!
URL:https://upbarreview.com/event/car-offroad-meet-up-norway/2025-06-12/
CATEGORIES:Ironmountain
END:VEVENT
BEGIN:VEVENT
DTSTART;TZID=UTC:20250612T163000
DTEND;TZID=UTC:20250612T183000
DTSTAMP:20260424T102632
CREATED:20250514T005826Z
LAST-MODIFIED:20250514T005826Z
UID:10004414-1749745800-1749753000@upbarreview.com
SUMMARY:Escanaba Public Library - Author Mike Fornes "101 Things that Happened on The Mackinac Bridge - Escanaba
DESCRIPTION:Come to the Escanaba Public Library for an entertaining\, informative presentation about Michigan’s iconic five-mile span that has seen historic\, tragic\, and hilarious events.\nAuthor Mike Fornes\, a resident of Mackinaw City\, is frequently in demand as a guest speaker and presenter to tour groups\, cruise ship organizations and historical societies. He is the author of “Mackinac Bridge – A 50 Year Chronicle 1957-2007”; “Mackinac Bridge”; “USCGC Mackinaw (WAGB-83)”; “USCGC Mackinaw (WLBB-30)”; “Mackinac Island’s Grand Hotel”; and his most recent publication\, “It Happened on the Mackinac Bridge.”\nThis event is free and open to the public. It is sponsored by the Friends of the Escanaba Public Library.
URL:https://upbarreview.com/event/escanaba-public-library-author-mike-fornes-101-things-that-happened-on-the-mackinac-bridge-escanaba/
LOCATION:Escanaba Public Library\, 400 Ludington St\, Escanaba\, WI\, 49829
CATEGORIES:Menominee
END:VEVENT
BEGIN:VEVENT
DTSTART;TZID=UTC:20250612T170000
DTEND;TZID=UTC:20250612T190000
DTSTAMP:20260424T102632
CREATED:20250402T212045Z
LAST-MODIFIED:20250402T212045Z
UID:10003234-1749747600-1749754800@upbarreview.com
SUMMARY:Rec Center - Queer Craft: Open Art Studio - Marinette
DESCRIPTION: Queer Craft: A Monthly LGBTQ+ Open Art Studio & Support Group \nLooking for a space to get creative\, connect with community\, and just be yourself? Queer Craft is a relaxed\, welcoming monthly open art studio for LGBTQ+ folks and allies. Whether you’re here to express yourself through art\, process big feelings\, or simply enjoy a chill creative night with like-minded people\, you’re in the right place!\n No art experience? No worries! We’ve got a diverse selection of materials—paint\, markers\, collage supplies\, and more—so you can create however you like. Each month\, we’ll offer an optional creative prompt for inspiration\, but you’re always free to do your own thing.\n Facilitated by a Licensed Art Therapist – Queer Craft is led by a licensed art therapist\, ensuring a supportive\, affirming space for creative self-expression and connection. Whether you’re making art for fun\, self-care\, or personal exploration\, you’ll have guidance from a professional who understands the power of creative expression.\n Pay What You Can – We want Queer Craft to be accessible to everyone\, no matter their financial situation. A suggested donation of $10 helps cover the cost of art supplies\, utility fees\, and facilitation. If you can give more\, your generosity helps keep this space open for others! If funds are tight\, no worries—pay what you can\, and come create with us. No one will be turned away for lack of funds.\n Where: Marinette Community REC Center (Room 124) When:2nd Thursdays Each Month from 5-7 PM Who: Open to all LGBTQ+ individuals and allies Cost: Suggested $10 Donation\nCome craft\, connect\, and celebrate community with us!
URL:https://upbarreview.com/event/rec-center-queer-craft-open-art-studio-marinette/2025-06-12/
LOCATION:Marinette Recreation Center\, 2501 Pierce Avenue\, Marinette\, WI\, 54143\, United States
CATEGORIES:Menominee
END:VEVENT
BEGIN:VEVENT
DTSTART;TZID=UTC:20250612T170000
DTEND;TZID=UTC:20250612T190000
DTSTAMP:20260424T102632
CREATED:20250403T021855Z
LAST-MODIFIED:20250403T021855Z
UID:10004034-1749747600-1749754800@upbarreview.com
SUMMARY:Forever Friendship Drop-in Center - Womens Discussion Group- Kingsford
DESCRIPTION:Safe space for women with mental health diagnoses to discuss issues real women face in society.Play games\, enjoy community outings and events.
URL:https://upbarreview.com/event/forever-friendship-drop-in-center-womens-discussion-group-kingsford-2/2025-06-12/
LOCATION:Forever Friendship Drop-in Center\, 501 S Carpenter Ave\, Kingsford\, MI
CATEGORIES:Ironmountain
END:VEVENT
BEGIN:VEVENT
DTSTART;TZID=UTC:20250612T180000
DTEND;TZID=UTC:20250612T200000
DTSTAMP:20260424T102632
CREATED:20250514T013631Z
LAST-MODIFIED:20250514T013631Z
UID:10004455-1749751200-1749758400@upbarreview.com
SUMMARY:Gladstone Beach - Summer Concert Series - Gladstone
DESCRIPTION:Summer concert every thursday night at gladstone beach
URL:https://upbarreview.com/event/gladstone-beach-summer-concert-series-gladstone/2025-06-12/
LOCATION:Gladstone Beach\, Gladstone\, MI
CATEGORIES:Menominee
END:VEVENT
BEGIN:VEVENT
DTSTART;TZID=UTC:20250612T180000
DTEND;TZID=UTC:20250612T210000
DTSTAMP:20260424T102632
CREATED:20241001T040448Z
LAST-MODIFIED:20241001T040448Z
UID:10001890-1749751200-1749762000@upbarreview.com
SUMMARY:Spirit House -Trivia Night! - Menominee
DESCRIPTION:Trivia Night Thursday at Spirit House\, come check out this awesome event!!!!
URL:https://upbarreview.com/event/spirit-house-trivia-night-menominee/2025-06-12/
LOCATION:Spirit House\, 533 10th Ave\, Menominee\, MI 49858\, Menominee\, MI\, 49858\, United States
CATEGORIES:Menominee
END:VEVENT
BEGIN:VEVENT
DTSTART;TZID=UTC:20250613T130000
DTEND;TZID=UTC:20250613T150000
DTSTAMP:20260424T102632
CREATED:20250403T022352Z
LAST-MODIFIED:20250403T022352Z
UID:10004101-1749819600-1749826800@upbarreview.com
SUMMARY:Forever Friendship Drop-in Center - Budgeting 101 - Kingsford
DESCRIPTION:Learn how to make the most of a limited income while living within your means.Open to individuals employed or on visibility.We will offer night and day options to include more people but keep the groups small and confidential.
URL:https://upbarreview.com/event/forever-friendship-drop-in-center-budgeting-101-kingsford/2025-06-13/
CATEGORIES:Ironmountain
END:VEVENT
BEGIN:VEVENT
DTSTART;TZID=UTC:20250613T170000
DTEND;TZID=UTC:20250613T190000
DTSTAMP:20260424T102632
CREATED:20250403T021557Z
LAST-MODIFIED:20250403T021615Z
UID:10003959-1749834000-1749841200@upbarreview.com
SUMMARY:Forever Friendship Drop-in Center - Mens Social Sober Club - Kingsford
DESCRIPTION:A safe and sober space for men to get together and hangout or talk about issues that affect men in our society. We have different games\, community outings and events depending on wether.
URL:https://upbarreview.com/event/forever-friendship-drop-in-center-mens-social-sober-club-iron-mountain/2025-06-13/
LOCATION:Forever Friendship Drop-in Center\, 501 S Carpenter Ave\, Kingsford\, MI
CATEGORIES:Ironmountain
END:VEVENT
BEGIN:VEVENT
DTSTART;TZID=UTC:20250613T170000
DTEND;TZID=UTC:20250613T200000
DTSTAMP:20260424T102632
CREATED:20250403T010058Z
LAST-MODIFIED:20250403T010058Z
UID:10003784-1749834000-1749844800@upbarreview.com
SUMMARY:Saunders Point Brewing - Live Music - Gladstone
DESCRIPTION:Join Jack Neumann at the brewery for a night of live music and fresh craft beers! Kick back\, relax\, and enjoy a great set while sipping on our finest brews. We can’t wait to see you there!
URL:https://upbarreview.com/event/saunders-point-brewing-live-music-gladstone-4/2025-06-13/
LOCATION:Saunders Point Brewing\, 8199 M-35\, Gladstone\, MI
CATEGORIES:Menominee
END:VEVENT
BEGIN:VEVENT
DTSTART;TZID=UTC:20250613T170000
DTEND;TZID=UTC:20250613T200000
DTSTAMP:20260424T102632
CREATED:20250514T014529Z
LAST-MODIFIED:20250514T014529Z
UID:10004490-1749834000-1749844800@upbarreview.com
SUMMARY:Saunders Point Brewing - Live Music - Gladstone
DESCRIPTION:Join Jack Neumann at the brewery for a night of live music and fresh craft beers! Kick back\, relax\, and enjoy a great set while sipping on our finest brews. We can’t wait to see you there!
URL:https://upbarreview.com/event/saunders-point-brewing-live-music-gladstone-6/2025-06-13/
LOCATION:Saunders Point Brewing\, 8199 M-35\, Gladstone\, MI
CATEGORIES:Menominee
END:VEVENT
BEGIN:VEVENT
DTSTART;TZID=UTC:20250613T200000
DTEND;TZID=UTC:20250613T230000
DTSTAMP:20260424T102632
CREATED:20250207T191746Z
LAST-MODIFIED:20250207T191746Z
UID:10002958-1749844800-1749855600@upbarreview.com
SUMMARY:The Granada - Karaoke Night - Escanaba
DESCRIPTION:Welcome to the Hottest Karaoke show in Town! Every Friday at The Granada in Escanaba\, MI Starts at 9:00 pm\nCreate your FREE Performer Account with Songbooks Online App to Browse the Karaoke song library\, keep a favorites list and submit your song requests remotely! Use Show ID: MSK23 after you create your account. You can also just tell me your name and the song you want if you don’t know how to install an app.
URL:https://upbarreview.com/event/the-granada-karaoke-night-escanaba/2025-06-13/
LOCATION:The Granada\, 330 S 10th St\, Escanaba\, MI
CATEGORIES:Menominee
END:VEVENT
BEGIN:VEVENT
DTSTART;TZID=UTC:20250614T080000
DTEND;TZID=UTC:20250614T170000
DTSTAMP:20260424T102632
CREATED:20250513T233105Z
LAST-MODIFIED:20250513T233105Z
UID:10004331-1749888000-1749920400@upbarreview.com
SUMMARY:The Garage - Cool Hat Live Music - Oconto
DESCRIPTION:Get ready\, Oconto! Cool Hat is bringing the heat to The Garage for a night of killer tunes\, great energy\, and unforgettable vibes. You won’t want to miss this one! 
URL:https://upbarreview.com/event/the-garage-cool-hat-live-music-oconto/
LOCATION:The Garage\, 1200 Main St\, Oconto\, WI\, 54153\, United States
CATEGORIES:Menominee
END:VEVENT
BEGIN:VEVENT
DTSTART;TZID=UTC:20250614T090000
DTEND;TZID=UTC:20250614T120000
DTSTAMP:20260424T102632
CREATED:20250428T124102Z
LAST-MODIFIED:20250428T124921Z
UID:10004203-1749891600-1749902400@upbarreview.com
SUMMARY:Menominee Historic Downtown Farmers Market
DESCRIPTION:The countdown is on! Join us at Spies Public Library Parking Lot on May 24\, 2025\, from 9 AM to 12 PM for the grand opening of the Menominee Historic Downtown Farmers Market—and don’t forget\, we’ll be here every Saturday after that!\nEach week\, we’ll spotlight one of our amazing returning vendors\, and this week\, we’re thrilled to feature Rabbitry & Yarn LLC! ��\nGet ready for a stunning selection of: � Handspun yarn & handmade knitwear/crochet items\, designed and created with love � Naturally dyed mill-spun wool yarns using plants and insects for a truly one-of-a-kind touch � A special mill-spun blend of local sheep & angora fiber (if the mill finishes it in time!) � Beautiful handmade wood items—bowls\, honey dippers\, toys\, all crafted from local woods � A custom-designed organic cotton tote bag (because\, of course\, it features an adorable rabbit!)\nDon’t miss out on this fantastic opportunity to shop local\, support artisans\, and be part of something special. Mark your calendars and we’ll see you there!\n#FarmersMarket #ShopLocal #HandmadeGoods #RabbitryAndYarn #MenomineeMarket
URL:https://upbarreview.com/event/menominee-historic-downtown-farmers-market-5/2025-06-14/
LOCATION:Spies Public Library\, 940 1st St.\, Menominee\, MI\, 49858
CATEGORIES:Menominee
END:VEVENT
BEGIN:VEVENT
DTSTART;TZID=UTC:20250614T090000
DTEND;TZID=UTC:20250614T230000
DTSTAMP:20260424T102632
CREATED:20250514T005926Z
LAST-MODIFIED:20250514T005926Z
UID:10004415-1749891600-1749942000@upbarreview.com
SUMMARY:Ludington Park - Family Fun Run/Walk - Escanaba
DESCRIPTION: Family Fun Run/Walk: To Infinity & Beyond!Benefiting Tri-County Safe Harbor\, Inc. Saturday\, June 14\, 2025 10:00 AM Ludington Park Sponsored by UPutt Family Fun Center\nJoin us for a day of fun\, fitness\, and giving back! Lace up your sneakers and bring the whole family for a scenic run or walk along the waterfront — all in support of Tri-County Safe Harbor\, Inc. Come as you are or dress up as your favorite Disney character and help us go To Infinity & Beyond in making a difference for those in need.\n Family-friendly activities Disney character costumes encouraged All ages and fitness levels welcome\nLet’s walk\, run\, and support together — see you there!
URL:https://upbarreview.com/event/ludington-park-family-fun-run-walk-escanaba/
LOCATION:Ludington Park\, Es
CATEGORIES:Menominee
END:VEVENT
END:VCALENDAR