BEGIN:VCALENDAR
VERSION:2.0
PRODID:-//UP BAR REVIEW - ECPv6.14.2//NONSGML v1.0//EN
CALSCALE:GREGORIAN
METHOD:PUBLISH
X-WR-CALNAME:UP BAR REVIEW
X-ORIGINAL-URL:https://upbarreview.com
X-WR-CALDESC:Events for UP BAR REVIEW
REFRESH-INTERVAL;VALUE=DURATION:PT1H
X-Robots-Tag:noindex
X-PUBLISHED-TTL:PT1H
BEGIN:VTIMEZONE
TZID:UTC
BEGIN:STANDARD
TZOFFSETFROM:+0000
TZOFFSETTO:+0000
TZNAME:UTC
DTSTART:20250101T000000
END:STANDARD
END:VTIMEZONE
BEGIN:VEVENT
DTSTART;TZID=UTC:20250731T100000
DTEND;TZID=UTC:20250731T233000
DTSTAMP:20260421T131016
CREATED:20241029T145445Z
LAST-MODIFIED:20241029T145445Z
UID:10002257-1753956000-1754004600@upbarreview.com
SUMMARY:Alibi's - Free Pool Thursdays - Marinette
DESCRIPTION:Free Pool!!
URL:https://upbarreview.com/event/alibis-free-pool-thursdays-marinette/2025-07-31/
LOCATION:ALiBi Bar & Grill\, 829 Main St\, Marinette\, WI\, 54143\, United States
CATEGORIES:Menominee
END:VEVENT
BEGIN:VEVENT
DTSTART;TZID=UTC:20250731T103000
DTEND;TZID=UTC:20250731T123000
DTSTAMP:20260421T131016
CREATED:20250724T011731Z
LAST-MODIFIED:20250724T011731Z
UID:10005582-1753957800-1753965000@upbarreview.com
SUMMARY:Live on The Lawn at Lunch - Escanaba
DESCRIPTION:Maire (Mary) Clement and Davey Harrison met during their musical studies at Lawrence Conservatory in Appleton\, WI. Davey and Maire are now both professional musicians and private music teachers based in Wisconsin. They perform as an acoustic songwriting duo as The Boston Imposters\, lead workshops on songwriting\, and other aspects of music\, as well as teach private lessons throughout the week online and in person. When they aren’t teaching\, they are highly entertained by their two wonderful littles.\nBring your chair or blanket\, pack a picnic lunch\, or stop by The Curious Pig Food Truck or Main Squeeze Lemonade and enjoy the library’s penultimate concert of the 2025 Live on the Lawn at Lunch series.\nThis series is funded in part by a Michigan Arts & Culture Council grant (www.michiganbusiness.org/industries/macc/) and the Friends of the Escanaba Public Library.
URL:https://upbarreview.com/event/live-on-the-lawn-at-lunch-escanaba/
CATEGORIES:Menominee
END:VEVENT
BEGIN:VEVENT
DTSTART;TZID=UTC:20250731T114500
DTEND;TZID=UTC:20250731T131500
DTSTAMP:20260421T131016
CREATED:20250731T201547Z
LAST-MODIFIED:20250731T201547Z
UID:10005657-1753962300-1753967700@upbarreview.com
SUMMARY:Out To Lunch - Summer Concert Series
DESCRIPTION:
URL:https://upbarreview.com/event/out-to-lunch-summer-concert-series/
CATEGORIES:Ironmountain
END:VEVENT
BEGIN:VEVENT
DTSTART;TZID=UTC:20250731T150000
DTEND;TZID=UTC:20250731T190000
DTSTAMP:20260421T131016
CREATED:20250428T124346Z
LAST-MODIFIED:20250428T124346Z
UID:10004223-1753974000-1753988400@upbarreview.com
SUMMARY:Menominee Waterfront Market
DESCRIPTION: Join us on Thursday\, May 29\, from 3 PM to 7 PM\, and every Thursday through August 28\, 2025.\nExplore a vibrant marketplace featuring farmers\, crafters\, artists\, food trucks\, and more! Leading up to the Grand Opening\, we’ll spotlight one of our returning vendors each week.\nThis week\, we’re highlighting Schwittay Farms—a long-standing name in the farming community and the founder of Harmony Market in 2021. Now\, you have the opportunity to experience their farm-fresh market at the Menominee Waterfront Market every Thursday! Come check out their meats\, eggs\, fruits\, vegetables\, seafood\, and more. Help us welcome them back at our Grand Opening!\nWe’re still looking for more vendors! If you’re a farmer\, crafter\, direct sales vendor\, nonprofit\, school\, or church group\, we’d love for you to join us at our Thursday Market.\nFind our application on our website: https://menomineefarmersmarket.com.\nSee you at the market!”
URL:https://upbarreview.com/event/menominee-waterfront-market/2025-07-31/
LOCATION:Downtown Menominee
CATEGORIES:Menominee
END:VEVENT
BEGIN:VEVENT
DTSTART;TZID=UTC:20250731T160000
DTEND;TZID=UTC:20250731T180000
DTSTAMP:20260421T131016
CREATED:20250724T002201Z
LAST-MODIFIED:20250724T002201Z
UID:10005555-1753977600-1753984800@upbarreview.com
SUMMARY:UP Massage - Vat Study - Escanaba
DESCRIPTION:Curious about Vibroacoustic Therapy? Try a session in July and receive $5.00 off for helping inHarmony with their largest study!\nComment: “Harmony” for more information
URL:https://upbarreview.com/event/up-massage-vat-study-escanaba/
LOCATION:UP Massage and Wellness Therapy\, 1100 Ludington St\, Escanaba\, MI
CATEGORIES:Menominee
END:VEVENT
BEGIN:VEVENT
DTSTART;TZID=UTC:20250731T160000
DTEND;TZID=UTC:20250731T200000
DTSTAMP:20260421T131016
CREATED:20250514T023421Z
LAST-MODIFIED:20250514T023435Z
UID:10004530-1753977600-1753992000@upbarreview.com
SUMMARY:Car & Offroad Meet Up - Norway
DESCRIPTION:Rev it up—Thursday Nights at Norway Mountain are for the gearheads!\nGot a car\, side-by-side\, Jeep\, or off-road rig you love to show off? Or just want to hang with others who share your passion for horsepower and mud?\nJoin us every Thursday from 4–8 PM at Norway Mountain for an open\, no-entry-fee vehicle meetup!Cruise in\, park\, chat\, and check out some awesome rides—come and go as you please.\nAnd while you’re here\, head upstairs to Moosehead Bar & Restaurant for some great food\, cold drinks\, and unbeatable views.\nLet’s make Thursday nights the best pit stop of the week!
URL:https://upbarreview.com/event/car-offroad-meet-up-norway/2025-07-31/
CATEGORIES:Ironmountain
END:VEVENT
BEGIN:VEVENT
DTSTART;TZID=UTC:20250731T170000
DTEND;TZID=UTC:20250731T190000
DTSTAMP:20260421T131016
CREATED:20250403T021855Z
LAST-MODIFIED:20250403T021855Z
UID:10004041-1753981200-1753988400@upbarreview.com
SUMMARY:Forever Friendship Drop-in Center - Womens Discussion Group- Kingsford
DESCRIPTION:Safe space for women with mental health diagnoses to discuss issues real women face in society.Play games\, enjoy community outings and events.
URL:https://upbarreview.com/event/forever-friendship-drop-in-center-womens-discussion-group-kingsford-2/2025-07-31/
LOCATION:Forever Friendship Drop-in Center\, 501 S Carpenter Ave\, Kingsford\, MI
CATEGORIES:Ironmountain
END:VEVENT
BEGIN:VEVENT
DTSTART;TZID=UTC:20250731T170000
DTEND;TZID=UTC:20250731T190000
DTSTAMP:20260421T131016
CREATED:20250514T024210Z
LAST-MODIFIED:20250514T024210Z
UID:10004541-1753981200-1753988400@upbarreview.com
SUMMARY:Forever Friendship Drop-in Center - Womens Military Served Group - Kingsford
DESCRIPTION:A civilian free peer run group for Women living with Mental Health Diagnosis & served in any branch of military.
URL:https://upbarreview.com/event/forever-friendship-drop-in-center-womens-military-served-group-kingsford/2025-07-31/
LOCATION:Forever Friendship Drop-in Center\, 501 S Carpenter Ave\, Kingsford\, MI
CATEGORIES:Ironmountain
END:VEVENT
BEGIN:VEVENT
DTSTART;TZID=UTC:20250731T170000
DTEND;TZID=UTC:20250731T200000
DTSTAMP:20260421T131016
CREATED:20250731T202429Z
LAST-MODIFIED:20250731T202429Z
UID:10005681-1753981200-1753992000@upbarreview.com
SUMMARY:NMDA Nutcracker Auditions
DESCRIPTION:
URL:https://upbarreview.com/event/nmda-nutcracker-auditions/
CATEGORIES:Ironmountain
END:VEVENT
BEGIN:VEVENT
DTSTART;TZID=UTC:20250731T173000
DTEND;TZID=UTC:20250731T193000
DTSTAMP:20260421T131016
CREATED:20250723T204712Z
LAST-MODIFIED:20251107T152937Z
UID:10007268-1753983000-1753990200@upbarreview.com
SUMMARY:The Argonaut - Blue Collar Yoga - Menominee
DESCRIPTION:Join us for Yoga with CiCi at The Argonaut Studio!  Led by the wonderful instructor\, Cionarah Oliveira Courinho (CiCi)\, this class is $20 per person\, welcomes all levels\, and please bring your own mat. Come unwind\, connect with your breath\, and find your inner peace in a supportive community. We can’t wait to see you there!
URL:https://upbarreview.com/event/the-argonaut-yoga-w-cici-menominee/2025-07-31/
LOCATION:The Argonaut\, 432 10th Ave\, Menominee\, MI
CATEGORIES:Menominee
END:VEVENT
BEGIN:VEVENT
DTSTART;TZID=UTC:20250731T180000
DTEND;TZID=UTC:20250731T200000
DTSTAMP:20260421T131016
CREATED:20250514T013631Z
LAST-MODIFIED:20250514T013631Z
UID:10004462-1753984800-1753992000@upbarreview.com
SUMMARY:Gladstone Beach - Summer Concert Series - Gladstone
DESCRIPTION:Summer concert every thursday night at gladstone beach
URL:https://upbarreview.com/event/gladstone-beach-summer-concert-series-gladstone/2025-07-31/
LOCATION:Gladstone Beach\, Gladstone\, MI
CATEGORIES:Menominee
END:VEVENT
BEGIN:VEVENT
DTSTART;TZID=UTC:20250731T180000
DTEND;TZID=UTC:20250731T200000
DTSTAMP:20260421T131016
CREATED:20250619T201330Z
LAST-MODIFIED:20250619T201330Z
UID:10004849-1753984800-1753992000@upbarreview.com
SUMMARY:Chenier's Reef - Thursday Night Bean Bags - Escanaba
DESCRIPTION:Bean Bag Tournament$5 EntryBlind Draw Partnerssign ups start @ 6:30pn and tournament starts at 7pm
URL:https://upbarreview.com/event/cheniers-reef-thursday-night-bean-bags-escanaba/2025-07-31/
LOCATION:Cheniers Reef\, 1629 Sheridan Rd\, Escanaba\, MI
CATEGORIES:Menominee
END:VEVENT
BEGIN:VEVENT
DTSTART;TZID=UTC:20250731T180000
DTEND;TZID=UTC:20250731T210000
DTSTAMP:20260421T131016
CREATED:20241001T040448Z
LAST-MODIFIED:20241001T040448Z
UID:10001897-1753984800-1753995600@upbarreview.com
SUMMARY:Spirit House -Trivia Night! - Menominee
DESCRIPTION:Trivia Night Thursday at Spirit House\, come check out this awesome event!!!!
URL:https://upbarreview.com/event/spirit-house-trivia-night-menominee/2025-07-31/
LOCATION:Spirit House\, 533 10th Ave\, Menominee\, MI 49858\, Menominee\, MI\, 49858\, United States
CATEGORIES:Menominee
END:VEVENT
BEGIN:VEVENT
DTSTART;TZID=UTC:20250731T180000
DTEND;TZID=UTC:20250731T220000
DTSTAMP:20260421T131016
CREATED:20250620T154502Z
LAST-MODIFIED:20250620T155057Z
UID:10005030-1753984800-1753999200@upbarreview.com
SUMMARY:Sandstone Terrace - Live Music - Iron Mountain
DESCRIPTION:Great way to spend your time after dinner with friend’s and family!
URL:https://upbarreview.com/event/sandstone-terrace-saturday-night-live-music-iron-mountain/2025-07-31/
LOCATION:Sandstone Terrace Rooftop Bar\, 220 Iron Mountain St\, Iron Mountain\, MI\, 49801
CATEGORIES:Ironmountain
END:VEVENT
BEGIN:VEVENT
DTSTART;TZID=UTC:20250731T190000
DTEND;TZID=UTC:20250731T203000
DTSTAMP:20260421T131016
CREATED:20250801T161147Z
LAST-MODIFIED:20250801T161147Z
UID:10005730-1753988400-1753993800@upbarreview.com
SUMMARY:The River Cities Big Band at Music in the Park!
DESCRIPTION:Come hear this highly accomplished 19 piece big band\, complete with talented vocalists. Their repertoire spans the swing era to the 70s and 80s and beyond! A magical evening with something for everyone! Hope to see you there!
URL:https://upbarreview.com/event/the-river-cities-big-band-at-music-in-the-park/
LOCATION:Norway Band Shell\, 467 E 9th Ave\, Norway\, MI
CATEGORIES:Ironmountain
END:VEVENT
BEGIN:VEVENT
DTSTART;TZID=UTC:20250731T190000
DTEND;TZID=UTC:20250731T203000
DTSTAMP:20260421T131016
CREATED:20250801T161203Z
LAST-MODIFIED:20250801T161203Z
UID:10005735-1753988400-1753993800@upbarreview.com
SUMMARY:River Cities Big Band at Norway Music In the Park
DESCRIPTION:The hotter than hot sounds of the River Cities Big Band return to the Norway Band Shell for an all new show featuring  great vocal and instrumental soloists! Don!t miss this fantastic all pro level 19 piece big band!
URL:https://upbarreview.com/event/river-cities-big-band-at-norway-music-in-the-park/
CATEGORIES:Ironmountain
END:VEVENT
BEGIN:VEVENT
DTSTART;TZID=UTC:20250801T073000
DTEND;TZID=UTC:20250801T180000
DTSTAMP:20260421T131016
CREATED:20250724T005026Z
LAST-MODIFIED:20250724T005026Z
UID:10005569-1754033400-1754071200@upbarreview.com
SUMMARY:Up State Fairgrounds - Summerfest Series - Escanaba
DESCRIPTION:https://www.timzhsm.com/events.html
URL:https://upbarreview.com/event/up-state-fairgrounds-summerfest-series-escanaba/2025-08-01/
LOCATION:UP State Fairgrounds\, 2401 12th Avenue North\, Escanaba
CATEGORIES:Menominee
END:VEVENT
BEGIN:VEVENT
DTSTART;TZID=UTC:20250801T080000
DTEND;TZID=UTC:20250801T090000
DTSTAMP:20260421T131016
CREATED:20250723T204444Z
LAST-MODIFIED:20250723T204444Z
UID:10005440-1754035200-1754038800@upbarreview.com
SUMMARY:The Argonaut - Sunrise Flow Yoga w/ Mary - Menominee
DESCRIPTION:Start your day grounded\, energized\, and inspired! Join Mary every Thursday and Friday morning at 8:00 AM for Sunrise Flow Yoga—a rejuvenating class designed for all levels. Whether you’re new to yoga or deepening your practice\, Mary’s welcoming guidance will help you stretch\, strengthen\, and center your mind. Expect gentle movement\, mindful breathing\, and a supportive community vibe. Bring your mat\, an open heart\, and let’s greet the day together!
URL:https://upbarreview.com/event/the-argonaut-sunrise-flow-yoga-w-mary-menominee/2025-08-01/
LOCATION:The Argonaut\, 432 10th Ave\, Menominee\, MI
CATEGORIES:Menominee
END:VEVENT
BEGIN:VEVENT
DTSTART;TZID=UTC:20250801T080000
DTEND;TZID=UTC:20250801T170000
DTSTAMP:20260421T131016
CREATED:20250723T191955Z
LAST-MODIFIED:20250723T191955Z
UID:10005411-1754035200-1754067600@upbarreview.com
SUMMARY:Menominee Twin County Airport - B-25 Miss Mitchell Flight Experiences
DESCRIPTION:The B-25 Miss Mitchell will be in Menominee\, MI August 1-3\, 2025 for the Menominee Airport Day Event\nWe will be offering History Flight Experiences Saturday and Sunday. Exact times to be scheduled the week prior.\nPassenger weight restrictions apply.Passenger must be able to get in and out of the aircraft on their own.Passenger must be 12 years of age or older to fly.
URL:https://upbarreview.com/event/menominee-twin-county-airport-b-25-miss-mitchell-flight-experiences/2025-08-01/
LOCATION:Menominee-Marinette Twin County Airport\, 2801 22nd St\, Menominee\, MI\, 49858
CATEGORIES:Menominee
END:VEVENT
BEGIN:VEVENT
DTSTART;TZID=UTC:20250801T090000
DTEND;TZID=UTC:20250801T100000
DTSTAMP:20260421T131016
CREATED:20250619T212004Z
LAST-MODIFIED:20250619T212004Z
UID:10004905-1754038800-1754042400@upbarreview.com
SUMMARY:Michigan DNR Pocket Park - Outdoor Yoga - Escanaba
DESCRIPTION:Unwind and reconnect with nature during gentle outdoor yoga sessions every Wednesday and Friday. Great for all ages and experience levels—just bring a mat or towel.
URL:https://upbarreview.com/event/michigan-dnr-pocket-park-outdoor-yoga-escanaba-2/2025-08-01/
LOCATION:Michigan DNR Pocket Park\, 2401 12th Avenue North\, Escanaba\, MI\, 49829
CATEGORIES:Menominee
END:VEVENT
BEGIN:VEVENT
DTSTART;TZID=UTC:20250801T090000
DTEND;TZID=UTC:20250801T160000
DTSTAMP:20260421T131016
CREATED:20250801T181011Z
LAST-MODIFIED:20250801T181011Z
UID:10005774-1754038800-1754064000@upbarreview.com
SUMMARY:Color Our World Book Fair #3
DESCRIPTION:Youth registered for Summer Reading\, and who have been tracking their reading\, stop by anytime during Book Fair hours to choose their final book of the summer!\nOnly come to one day of the book fair.\nPeter White Public Library Community Room. \n-If you miss the final book fair\, don’t worry! Come into the library sometime before school starts (bring your reading log) and kids will get any book(s) they missed during the summer. \nDon’t forget your reading log. \nIf you haven’t registered for summer reading yet\, stop by the Youth Services desk and get your kids signed up or register at pwpl.info then stop by to get their reading logs at the kids desk. \nNo admission charge. \nQuestions about this event can be directed to the Youth Services Department: \n906-226-4323 | ysdesk@pwpl.info \n——– \nFunded by the Friends of the Peter White Public Library\nFunded by Dr. Allyn Roberts
URL:https://upbarreview.com/event/color-our-world-book-fair-3/
CATEGORIES:Marquette
END:VEVENT
BEGIN:VEVENT
DTSTART;TZID=UTC:20250801T100000
DTEND;TZID=UTC:20250801T120000
DTSTAMP:20260421T131016
CREATED:20250619T212205Z
LAST-MODIFIED:20250619T212205Z
UID:10004938-1754042400-1754049600@upbarreview.com
SUMMARY:Michigan DNR Pocket Park - Open Archery - Escanaba
DESCRIPTION:Take aim and sharpen your skills at the Pocket Park Archery Range. This supervised open session is perfect for beginners and enthusiasts alike.\nWe have all the equipment necessary.
URL:https://upbarreview.com/event/michigan-dnr-pocket-park-open-archery-escanaba/2025-08-01/
LOCATION:Michigan DNR Pocket Park\, 2401 12th Avenue North\, Escanaba\, MI\, 49829
CATEGORIES:Menominee
END:VEVENT
BEGIN:VEVENT
DTSTART;TZID=UTC:20250801T103000
DTEND;TZID=UTC:20250801T113000
DTSTAMP:20260421T131016
CREATED:20250724T181324Z
LAST-MODIFIED:20250724T181324Z
UID:10005605-1754044200-1754047800@upbarreview.com
SUMMARY:Farnsworth Public Library - The Magic of Laughter - Oconto
DESCRIPTION:Come be amazed by the magic and laugh til your sides hurt! Jeff McMullen will entertain us with comedy magic\, plate spinning\, juggling and story-telling\, plus he might even need some helpers from the audience. Age appropriate antics for our littlest guests – something everyone can enjoy!*Please note this is at the Holtwood Sports Complex\, Lions Pavillion\, 115 Hotlwood Way\, Oconto*\nThank you to the Friends of Farnsworth Public Library for sponsoring this event.
URL:https://upbarreview.com/event/farnsworth-public-library-the-magic-of-laughter-oconto/
LOCATION:Farnsworth Public Library\, 715 Main St\, Oconto\, WI
CATEGORIES:Menominee
END:VEVENT
BEGIN:VEVENT
DTSTART;TZID=UTC:20250801T103000
DTEND;TZID=UTC:20250801T133000
DTSTAMP:20260421T131016
CREATED:20250724T181418Z
LAST-MODIFIED:20250724T181418Z
UID:10005606-1754044200-1754055000@upbarreview.com
SUMMARY:Farnsworth Public Library - Einstein Project - Oconto
DESCRIPTION:Use your imagination to create something great-and take it home with you! Come tinker\, craft and create with all the fun pieces from the Einstein Mobile Makerspace. Children\, Tweens and Teens are all invited to come build for a few minutes or the full 2 hours. Please plan to arrive by 1 PM so you have time to build.*Please note this event will be at Holtwood Sports Complex\, Lions Pavillion
URL:https://upbarreview.com/event/farnsworth-public-library-einstein-project-oconto/
LOCATION:Farnsworth Public Library\, 715 Main St\, Oconto\, WI
CATEGORIES:Menominee
END:VEVENT
BEGIN:VEVENT
DTSTART;TZID=UTC:20250801T120000
DTEND;TZID=UTC:20250814T170000
DTSTAMP:20260421T131016
CREATED:20250801T181211Z
LAST-MODIFIED:20250801T181211Z
UID:10005787-1754049600-1755190800@upbarreview.com
SUMMARY:Drive for $25 – Supporting SAIL Disability Network of the U.P.
DESCRIPTION:🚗 Drive for $25 – Supporting SAIL Disability Network of the U.P. All August Long! 💙\nThis August\, Fox Motors dealerships across the Upper Peninsula are proud to partner with SAIL Disability Network of the U.P.\, helping advance independence\, access\, and inclusion for people with disabilities across our region. \n📍 Participating Dealerships:\nFox Marquette Chevrolet\nFox Marquette Subaru\nFox Marquette Ford\nFox Negaunee Chrysler Dodge Jeep Ram\nFox Negaunee Chevrolet GMC \n📅 August 1 – August 31\n🛞 For every vehicle sold\, we’re donating $25 to SAIL\, supporting their vital work in advocacy\, peer support\, independent living skills\, and community transition services. \nWhether you’re shopping\, test driving\, or just stopping in to learn more\, your visit can help drive progress for U.P. residents with disabilities. Let’s make every mile matter this August. \n#DriveFor25 #FoxMotorsCares #GiveBackLocal #UpperPeninsulaMI #SAILDisabilityNetwork #AccessibilityForAll #FoxMotors\n📲 Learn more about SAIL: https://www.upsail.org
URL:https://upbarreview.com/event/drive-for-25-supporting-sail-disability-network-of-the-u-p/
CATEGORIES:Marquette
END:VEVENT
BEGIN:VEVENT
DTSTART;TZID=UTC:20250801T150000
DTEND;TZID=UTC:20250801T170000
DTSTAMP:20260421T131016
CREATED:20250619T211717Z
LAST-MODIFIED:20250619T211717Z
UID:10004896-1754060400-1754067600@upbarreview.com
SUMMARY:Michigan DNR Pocket Park - Hook Line and Sinker - Escanaba
DESCRIPTION:Learn basic fishing techniques in this interactive and educational session. Perfect for beginners looking to get started in Michigan’s favorite pastime.
URL:https://upbarreview.com/event/michigan-dnr-pocket-park-hook-line-and-sinker-escanaba/2025-08-01/
LOCATION:Michigan DNR Pocket Park\, 2401 12th Avenue North\, Escanaba\, MI\, 49829
CATEGORIES:Menominee
END:VEVENT
BEGIN:VEVENT
DTSTART;TZID=UTC:20250801T170000
DTEND;TZID=UTC:20250801T190000
DTSTAMP:20260421T131016
CREATED:20250403T021557Z
LAST-MODIFIED:20250403T021615Z
UID:10003966-1754067600-1754074800@upbarreview.com
SUMMARY:Forever Friendship Drop-in Center - Mens Social Sober Club - Kingsford
DESCRIPTION:A safe and sober space for men to get together and hangout or talk about issues that affect men in our society. We have different games\, community outings and events depending on wether.
URL:https://upbarreview.com/event/forever-friendship-drop-in-center-mens-social-sober-club-iron-mountain/2025-08-01/
LOCATION:Forever Friendship Drop-in Center\, 501 S Carpenter Ave\, Kingsford\, MI
CATEGORIES:Ironmountain
END:VEVENT
BEGIN:VEVENT
DTSTART;TZID=UTC:20250801T170000
DTEND;TZID=UTC:20250801T190000
DTSTAMP:20260421T131016
CREATED:20250801T155942Z
LAST-MODIFIED:20250801T155942Z
UID:10005707-1754067600-1754074800@upbarreview.com
SUMMARY:Budgeting 101
DESCRIPTION:Learn how to make the most of a limited income while living within your means.Open to individuals employed or on visibility.\nWe will offer night and day options to include more people but keep the groups small and confidential.
URL:https://upbarreview.com/event/budgeting-101/
CATEGORIES:Ironmountain
END:VEVENT
BEGIN:VEVENT
DTSTART;TZID=UTC:20250801T170000
DTEND;TZID=UTC:20250801T200000
DTSTAMP:20260421T131016
CREATED:20250619T192236Z
LAST-MODIFIED:20250619T192236Z
UID:10004831-1754067600-1754078400@upbarreview.com
SUMMARY:Upperhand Brewery - Friday Live Music - Escanaba
DESCRIPTION:Join us for live music every Sunday 2-5p and Friday 5-8p. Beginning June 1st through August 31st.
URL:https://upbarreview.com/event/upperhand-brewery-friday-live-music-escanaba/2025-08-01/
LOCATION:Upper Hand Brewery\, 3525 Airport Rd\, Escanaba\, WI\, 49829
CATEGORIES:Menominee
END:VEVENT
BEGIN:VEVENT
DTSTART;TZID=UTC:20250801T180000
DTEND;TZID=UTC:20250801T210000
DTSTAMP:20260421T131016
CREATED:20250731T201617Z
LAST-MODIFIED:20250731T201617Z
UID:10005669-1754071200-1754082000@upbarreview.com
SUMMARY:Goodfellas
DESCRIPTION:
URL:https://upbarreview.com/event/goodfellas/
CATEGORIES:Ironmountain
END:VEVENT
END:VCALENDAR