BEGIN:VCALENDAR
VERSION:2.0
PRODID:-//UP BAR REVIEW - ECPv6.14.2//NONSGML v1.0//EN
CALSCALE:GREGORIAN
METHOD:PUBLISH
X-WR-CALNAME:UP BAR REVIEW
X-ORIGINAL-URL:https://upbarreview.com
X-WR-CALDESC:Events for UP BAR REVIEW
REFRESH-INTERVAL;VALUE=DURATION:PT1H
X-Robots-Tag:noindex
X-PUBLISHED-TTL:PT1H
BEGIN:VTIMEZONE
TZID:UTC
BEGIN:STANDARD
TZOFFSETFROM:+0000
TZOFFSETTO:+0000
TZNAME:UTC
DTSTART:20250101T000000
END:STANDARD
END:VTIMEZONE
BEGIN:VEVENT
DTSTART;TZID=UTC:20250705T190000
DTEND;TZID=UTC:20250705T210000
DTSTAMP:20260423T125215
CREATED:20250618T031027Z
LAST-MODIFIED:20250618T031027Z
UID:10004673-1751742000-1751749200@upbarreview.com
SUMMARY:The Lodge - Him & Her - Marinette
DESCRIPTION:We love the opportunity to take a car ride and play in a city we haven’t played yet! Marinette\, we’re coming your way and we’re excited to have a great time with you!
URL:https://upbarreview.com/event/the-lodge-him-her-marinette/
LOCATION:The Lodge\, 1333 Main St\, Marinette\, WI
CATEGORIES:Menominee
END:VEVENT
BEGIN:VEVENT
DTSTART;TZID=UTC:20250705T190000
DTEND;TZID=UTC:20250705T230000
DTSTAMP:20260423T125215
CREATED:20250619T163833Z
LAST-MODIFIED:20250619T163833Z
UID:10004768-1751742000-1751756400@upbarreview.com
SUMMARY:The Rustic - Holiday Weekend Rock Show - Athelstane
DESCRIPTION:Join us at The Rustic for holiday weekend shenanigans!
URL:https://upbarreview.com/event/the-rustic-holiday-weekend-rock-show-athelstane/
LOCATION:The Rustic\, W14030 HWY C\, Athelstane\, WI
CATEGORIES:Menominee
END:VEVENT
BEGIN:VEVENT
DTSTART;TZID=UTC:20250705T190000
DTEND;TZID=UTC:20250705T230000
DTSTAMP:20260423T125215
CREATED:20250619T164100Z
LAST-MODIFIED:20250619T164100Z
UID:10004771-1751742000-1751756400@upbarreview.com
SUMMARY:Firelane Bar & Grill - Mark W/ Lonewolf Productions - Athelstane
DESCRIPTION:Summer Party Tunes!
URL:https://upbarreview.com/event/firelane-bar-grill-mark-w-lonewolf-productions-athelstane/
LOCATION:Firelane Bar & Grill\, W10876 County Road C\, Athelstane\, WI
CATEGORIES:Menominee
END:VEVENT
BEGIN:VEVENT
DTSTART;TZID=UTC:20250705T200000
DTEND;TZID=UTC:20250705T220000
DTSTAMP:20260423T125215
CREATED:20250620T160252Z
LAST-MODIFIED:20250620T160252Z
UID:10005266-1751745600-1751752800@upbarreview.com
SUMMARY:Bored Bard Games - Star Wars Unlimited Pre Release - Iron Mountain
DESCRIPTION:Event: Star Wars Unlimited – Legends of the Force Pre-ReleaseDate: Saturday\, July 5thTime: 5:00 PMEntry: $29.99 + tax\nGet ready to harness the Force in a whole new way! Join us for the Legends of the Force Pre-Release event\, the thrilling debut of the newest Star Wars Unlimited set. This set introduces powerful new Force mechanics that open the door to exciting strategies and wild combos—perfect for new players and seasoned Jedi alike.\nYour entry includes a pre-release kit packed with everything you need to build your deck. Once you’ve built your deck\, you’ll face off in three Swiss rounds (best-of-three matches). For every round you win\, you’ll score a booster pack as a reward!\nThis is your chance to get your hands on Legends of the Force before anyone else—don’t miss it! May the Force (and your draws) be with you
URL:https://upbarreview.com/event/bored-bard-games-star-wars-unlimited-pre-release-iron-mountain-2/
LOCATION:Bored Bard Games\, 224 E Hughitt St\, Iron Mountain\, mi\, 49801
CATEGORIES:Ironmountain
END:VEVENT
BEGIN:VEVENT
DTSTART;TZID=UTC:20250705T200000
DTEND;TZID=UTC:20250705T233000
DTSTAMP:20260423T125215
CREATED:20250619T162442Z
LAST-MODIFIED:20250619T162442Z
UID:10004758-1751745600-1751758200@upbarreview.com
SUMMARY:Angies SideTrack Saloon - Blue Suede Karaoke - Oconto
DESCRIPTION:Blue Suede Entertainment Karaoke is back at Angie’s! The bartender for the night is one of the founders of Blue Suede! Come find us and have a fun time! Come sing with us!
URL:https://upbarreview.com/event/angies-sidetrack-saloon-blue-suede-karaoke-oconto/
LOCATION:Angies SideTrack Saloon\, 522 Broadway Ave\, Oconto\, WI
CATEGORIES:Menominee
END:VEVENT
BEGIN:VEVENT
DTSTART;TZID=UTC:20250705T210000
DTEND;TZID=UTC:20250705T233000
DTSTAMP:20260423T125215
CREATED:20250403T020116Z
LAST-MODIFIED:20250403T020116Z
UID:10003885-1751749200-1751758200@upbarreview.com
SUMMARY:Wild Horse Saloon - Karaoke - Iron Mountain
DESCRIPTION:Welcome to the Hottest Karaoke show in Town! Every Saturday at The Wild Horse Saloon\, in Iron Mountain\, MI Starts at 9:00 pm\nCreate your FREE Performer Account with Songbooks Online App to Browse the Karaoke song library\, keep a favorites list and submit your song requests remotely!\nUse Show ID: MSK23 after you create your account. You can also just tell me your name and the song you want if you don’t know how to install an app.
URL:https://upbarreview.com/event/wild-horse-saloon-karaoke-iron-mountain-2/2025-07-05/
LOCATION:Wild Horse Saloon\, 713 River Ave\, Iron Mountain\, MI\, 49801
CATEGORIES:Ironmountain
END:VEVENT
BEGIN:VEVENT
DTSTART;TZID=UTC:20250706T100000
DTEND;TZID=UTC:20250706T120000
DTSTAMP:20260423T125215
CREATED:20250619T212205Z
LAST-MODIFIED:20250619T212205Z
UID:10004920-1751796000-1751803200@upbarreview.com
SUMMARY:Michigan DNR Pocket Park - Open Archery - Escanaba
DESCRIPTION:Take aim and sharpen your skills at the Pocket Park Archery Range. This supervised open session is perfect for beginners and enthusiasts alike.\nWe have all the equipment necessary.
URL:https://upbarreview.com/event/michigan-dnr-pocket-park-open-archery-escanaba/2025-07-06/
LOCATION:Michigan DNR Pocket Park\, 2401 12th Avenue North\, Escanaba\, MI\, 49829
CATEGORIES:Menominee
END:VEVENT
BEGIN:VEVENT
DTSTART;TZID=UTC:20250706T120000
DTEND;TZID=UTC:20250706T150000
DTSTAMP:20260423T125215
CREATED:20250620T155250Z
LAST-MODIFIED:20250620T155250Z
UID:10005251-1751803200-1751814000@upbarreview.com
SUMMARY:Sandstone Terrace - Live Music - Iron Mountain
DESCRIPTION:Stop by the Terrace for your favorite drink and some great music. See you on the Terrace!
URL:https://upbarreview.com/event/sandstone-terrace-live-music-iron-mountain-2/2025-07-06/
LOCATION:Sandstone Terrace Rooftop Bar\, 220 Iron Mountain St\, Iron Mountain\, MI\, 49801
CATEGORIES:Ironmountain
END:VEVENT
BEGIN:VEVENT
DTSTART;TZID=UTC:20250706T120000
DTEND;TZID=UTC:20250706T200000
DTSTAMP:20260423T125215
CREATED:20250618T015055Z
LAST-MODIFIED:20250618T015055Z
UID:10004567-1751803200-1751832000@upbarreview.com
SUMMARY:Three Bridge Brewing - Pierogi Day - Menominee
DESCRIPTION:Excited to post up at this awesome spot and serve some pierogi to the Menominee crew. Great beer\, chill vibes\, and comfort food that hits just right — sounds like our kind of night.
URL:https://upbarreview.com/event/three-bridge-brewing-pierogi-day-menominee/
LOCATION:Three Bridge Brewing Company\, 2221 13th St\, Menominee\, MI\, 49858\, United States
CATEGORIES:Menominee
END:VEVENT
BEGIN:VEVENT
DTSTART;TZID=UTC:20250706T130000
DTEND;TZID=UTC:20250706T150000
DTSTAMP:20260423T125215
CREATED:20250403T001956Z
LAST-MODIFIED:20250403T001956Z
UID:10003742-1751806800-1751814000@upbarreview.com
SUMMARY:Country Roads Bar & Grill - Bingo Sunday - Wausaukee
DESCRIPTION:Sunday Funday Bingo! $1/game per board. Come for all the games or jump in whenever!
URL:https://upbarreview.com/event/country-roads-bar-grill-bingo-sunday-wausaukee/2025-07-06/
LOCATION:Country Roads Bar & Grill\, W8901 Co Rd C\, Wausaukee\, WI
CATEGORIES:Menominee
END:VEVENT
BEGIN:VEVENT
DTSTART;TZID=UTC:20250706T130000
DTEND;TZID=UTC:20250706T160000
DTSTAMP:20260423T125215
CREATED:20250619T185505Z
LAST-MODIFIED:20250619T185505Z
UID:10004812-1751806800-1751817600@upbarreview.com
SUMMARY:Upper Hand Brewery - Sunday Live Music - Escanaba
DESCRIPTION:Live music every Sunday 2-5p and Friday 5-8p. June 1st through Aug 31st.
URL:https://upbarreview.com/event/upper-hand-brewery-sunday-live-music-escanaba/2025-07-06/
LOCATION:Upper Hand Brewery\, 3525 Airport Rd\, Escanaba\, WI\, 49829
CATEGORIES:Menominee
END:VEVENT
BEGIN:VEVENT
DTSTART;TZID=UTC:20250706T140000
DTEND;TZID=UTC:20250706T160000
DTSTAMP:20260423T125215
CREATED:20250619T183135Z
LAST-MODIFIED:20250619T183135Z
UID:10004795-1751810400-1751817600@upbarreview.com
SUMMARY:Peshtigo Gun Club - Independence Day 50-Bird Lewis Shootout - Peshtigo
DESCRIPTION:50-bird Lewis event. Pays 60/40\, ties divide. Targets $14\, Lewis Fee $11\, high-gun option $5. Shells available for purchase. Last squad out by 1:45pm. Open to the public.
URL:https://upbarreview.com/event/peshtigo-gun-club-independence-day-50-bird-lewis-shootout-peshtigo/
LOCATION:Peshtigo Gun Club\, W2803 Pheasant Farm Rd\, Peshtigo\, WI\, 54157
CATEGORIES:Menominee
END:VEVENT
BEGIN:VEVENT
DTSTART;TZID=UTC:20250706T140000
DTEND;TZID=UTC:20250706T180000
DTSTAMP:20260423T125215
CREATED:20250619T164011Z
LAST-MODIFIED:20250619T164011Z
UID:10004770-1751810400-1751824800@upbarreview.com
SUMMARY:Firelane Bar & Grill - Jesse Fuller - Athelstane
DESCRIPTION:Sunday Funday!!
URL:https://upbarreview.com/event/firelane-bar-grill-jesse-fuller-athelstane-2/
LOCATION:Firelane Bar & Grill\, W10876 County Road C\, Athelstane\, WI
CATEGORIES:Menominee
END:VEVENT
BEGIN:VEVENT
DTSTART;TZID=UTC:20250706T150000
DTEND;TZID=UTC:20250706T170000
DTSTAMP:20260423T125215
CREATED:20250619T202527Z
LAST-MODIFIED:20250619T202527Z
UID:10004865-1751814000-1751821200@upbarreview.com
SUMMARY:Michigan DNR Pocket Park - Nature Art - Escanaba
DESCRIPTION:Create your own artwork using natural materials or draw inspiration from the beauty of the outdoors. This creative session encourages self-expression while deepening your connection with nature.\n– Different activities each week
URL:https://upbarreview.com/event/michigan-dnr-pocket-park-nature-art-escanaba/2025-07-06/
LOCATION:Michigan DNR Pocket Park\, 2401 12th Avenue North\, Escanaba\, MI\, 49829
CATEGORIES:Menominee
END:VEVENT
BEGIN:VEVENT
DTSTART;TZID=UTC:20250707T100000
DTEND;TZID=UTC:20250707T110000
DTSTAMP:20260423T125215
CREATED:20250618T024201Z
LAST-MODIFIED:20250618T024201Z
UID:10004656-1751882400-1751886000@upbarreview.com
SUMMARY:Swing-N-Things Playground - GSC Playgroup - Menominee
DESCRIPTION:Join in for a craft/activity\, snack\, and interaction with other parents! This week we will be having Popsicles!\nThe Great Start Playgroups are open to families with children aged 0-8 years old! No registration required. In the case of rain or severe weather\, the event may be cancelled. Updates can be found on our Great Start Collaborative Menominee County Facebook Page. Call (906) 863-5665 ext. 1018 or email mbauer@mc-isd.org with any questions!
URL:https://upbarreview.com/event/swing-n-things-playground-gsc-playgroup-menominee/
LOCATION:Great Lakes Memorial Marina Park\, 904 Doyle Dr\, Menominee\, MI\, 49858
CATEGORIES:Menominee
END:VEVENT
BEGIN:VEVENT
DTSTART;TZID=UTC:20250707T150000
DTEND;TZID=UTC:20250707T180000
DTSTAMP:20260423T125215
CREATED:20250514T013812Z
LAST-MODIFIED:20250514T013812Z
UID:10004470-1751900400-1751911200@upbarreview.com
SUMMARY:Gladstone Farmers Market
DESCRIPTION:Join us every Monday from June through September at the Gladstone Farmers Market—where community\, creativity\, and fresh local flavor come together!\nLocated at the Market Square (907 Delta Ave) in the heart of downtown\, our market is more than just a place to shop—it’s an experience. Stroll through a vibrant selection of locally grown produce\, mouthwatering baked goods\, and one-of-a-kind artisan creations while enjoying the sounds of live music from talented local bands.\nWhether you’re a market regular or visiting for the first time\, we invite you to make Mondays in Gladstone a tradition! Come for the goods\, stay for the music\, and connect with friends and neighbors in a welcoming\, lively atmosphere.\nWe can’t wait to see you there!\nhttps://www.gladstonemi.gov/dda/page/farmers-market
URL:https://upbarreview.com/event/gladstone-farmers-market/2025-07-07/
CATEGORIES:Menominee
END:VEVENT
BEGIN:VEVENT
DTSTART;TZID=UTC:20250707T170000
DTEND;TZID=UTC:20250707T180000
DTSTAMP:20260423T125215
CREATED:20250618T020304Z
LAST-MODIFIED:20250618T020304Z
UID:10004575-1751907600-1751911200@upbarreview.com
SUMMARY:Mighty Pet - Monday Night Foundation Obedience - Menominee
DESCRIPTION: Foundation Obedience Class – Monday Nights at 5 PM!Location: Mighty Pet\, Menominee MIInstructor: Meghan Smith\, CPDT-KACost: $150 per dog\nLooking to build a better-behaved dog? Join our Foundation Obedience Class — perfect for dogs over 4 months old who need to learn (or brush up on) the basics!\nWe’ll cover essential skills like: Polite leash walking Sit\, down\, and stay Coming when called Focus around distractions Real-life manners you can use every day!\nYour enrollment includes:• New Students: One 60-minute private orientation session + 5 group classes• Returning Students: 6 weekly group classes• Weekly homework and ongoing trainer support\n This flexible open enrollment format means you can jump in when you’re ready—no need to wait for a new session to start!\n To Register:• New clients/dogs: Fill out the training form here: https://form.jotform.com/230665154822151• Returning clients: Message Meghan directly or text 906-424-0356\nLet’s turn your good dog into a great one!
URL:https://upbarreview.com/event/mighty-pet-monday-night-foundation-obedience-menominee/2025-07-07/
LOCATION:Mighty Pet\, 1207 8th Ave\, Menominee\, MI\, 49858
CATEGORIES:Menominee
END:VEVENT
BEGIN:VEVENT
DTSTART;TZID=UTC:20250707T170000
DTEND;TZID=UTC:20250707T183000
DTSTAMP:20260423T125215
CREATED:20250207T193539Z
LAST-MODIFIED:20250207T193614Z
UID:10003008-1751907600-1751913000@upbarreview.com
SUMMARY:Kush and Pronk Farm - Learn How to Cloth Diaper Class - Escanaba
DESCRIPTION:Did you know that every disposable diaper that has ever been used is still sitting in a landfill\, not decomposing? Every. Single. One.\nCloth diapering of today is NOT the cloth diapering of the past. Gone are the dangerous pokey pins and difficult cleaning methods. Modern laundry machines and facilities make cloth diapering SO easy\, and we’ll teach you how in just 90 minutes! Hands-on classes (with dolls) allow partners to test out the different types of modern cloth diapers available to see which types may work best for you.\nMonthly 90 minute classes will be taught by Jennifer and/or Dominic Guzzetta of Kush & Pronk Farm at Kiddo’s Korner Boutique in Escanaba. Due to location size\, classes are limited to 4 partners. Partnerships cost $30\, can be paid via Venmo\, Cash or Check in store\, and must be paid to reserve your spot. Contact Kush & Pronk Farm to inquire about class availability.
URL:https://upbarreview.com/event/kush-and-pronk-farm-learn-how-to-cloth-diaper-class-escanaba/2025-07-07/
LOCATION:Kiddos Korner Boutique\, 1610 Ludington Ave\, Escanaba\, MI
CATEGORIES:Menominee
END:VEVENT
BEGIN:VEVENT
DTSTART;TZID=UTC:20250707T170000
DTEND;TZID=UTC:20250707T190000
DTSTAMP:20260423T125215
CREATED:20250403T022612Z
LAST-MODIFIED:20250403T022612Z
UID:10004130-1751907600-1751914800@upbarreview.com
SUMMARY:Forever Friendship Drop-in Center - Disorder Discussion Group - Kingsford
DESCRIPTION:We understand that the road to overcoming addiction is unique for each individual\, and we’re here to offer unwavering peer support\, personalized care\, and a beacon of hope for a brighter tomorrow! This is available to individuals with Substance Misuse Disorder & or Alcoholism + Mental Health Diagnosis
URL:https://upbarreview.com/event/forever-friendship-drop-in-center-disorder-discussion-group-kingsford/2025-07-07/
LOCATION:Forever Friendship Drop-in Center\, 501 S Carpenter Ave\, Kingsford\, MI
CATEGORIES:Ironmountain
END:VEVENT
BEGIN:VEVENT
DTSTART;TZID=UTC:20250707T190000
DTEND;TZID=UTC:20250707T210000
DTSTAMP:20260423T125215
CREATED:20250514T005420Z
LAST-MODIFIED:20250514T005420Z
UID:10004407-1751914800-1751922000@upbarreview.com
SUMMARY:Karas Bandshell -Music Mondays - Escanaba
DESCRIPTION:The Karas Bandshell stage in Escanaba’s Waterfront Park for a performance in the “Music Mondays” summer concert series! Bring a blanket or lawn chair and relax.  Concert time is 7:00 p.m. EST.
URL:https://upbarreview.com/event/karas-bandshell-music-mondays-escanaba/2025-07-07/
LOCATION:Karas Bandshell\, Loren W Jenkins Memorial Dr\, Escanaba\, MI\, 49829
CATEGORIES:Menominee
END:VEVENT
BEGIN:VEVENT
DTSTART;TZID=UTC:20250708T080000
DTEND;TZID=UTC:20250708T170000
DTSTAMP:20260423T125215
CREATED:20250207T202600Z
LAST-MODIFIED:20250207T202600Z
UID:10003162-1751961600-1751994000@upbarreview.com
SUMMARY:Job Fair - Oconto
DESCRIPTION:McDonald’s in Oconto\, WI is hiring! Come in for an in-person interview. Job Offers will be made at the event.
URL:https://upbarreview.com/event/job-fair-oconto/2025-07-08/
CATEGORIES:Menominee
END:VEVENT
BEGIN:VEVENT
DTSTART;TZID=UTC:20250708T080000
DTEND;TZID=UTC:20250708T170000
DTSTAMP:20260423T125215
CREATED:20250402T231632Z
LAST-MODIFIED:20250402T231632Z
UID:10003323-1751961600-1751994000@upbarreview.com
SUMMARY:McDonalds Job Fair - Oconto
DESCRIPTION:McDonald’s in Oconto\, WI is hiring! Come in for an in-person interview. Job Offers will be made at the event.
URL:https://upbarreview.com/event/mcdonalds-job-fair-oconto/2025-07-08/
LOCATION:McDonalds Oconto\, 105 Main St\, Oconto\, WI
CATEGORIES:Menominee
END:VEVENT
BEGIN:VEVENT
DTSTART;TZID=UTC:20250708T080000
DTEND;TZID=UTC:20250708T170000
DTSTAMP:20260423T125215
CREATED:20250403T020204Z
LAST-MODIFIED:20250403T020204Z
UID:10003914-1751961600-1751994000@upbarreview.com
SUMMARY:McDonalds Job Fair - Iron Mountain
DESCRIPTION:McDonald’s in Iron Mountain\, MI is hiring! Come in for an in-person interview. Job Offers will be made at the event.
URL:https://upbarreview.com/event/mcdonalds-job-fair-iron-mountain/2025-07-08/
CATEGORIES:Ironmountain
END:VEVENT
BEGIN:VEVENT
DTSTART;TZID=UTC:20250708T080000
DTEND;TZID=UTC:20250708T170000
DTSTAMP:20260423T125215
CREATED:20250403T023915Z
LAST-MODIFIED:20250403T023915Z
UID:10004175-1751961600-1751994000@upbarreview.com
SUMMARY:McDonalds Job Fair - Norway
DESCRIPTION:McDonald’s in Norway\, MI is hiring! Come in for an in-person interview. Job Offers will be made at the event.
URL:https://upbarreview.com/event/mcdonalds-job-fair-norway/2025-07-08/
CATEGORIES:Ironmountain
END:VEVENT
BEGIN:VEVENT
DTSTART;TZID=UTC:20250708T100000
DTEND;TZID=UTC:20250708T130000
DTSTAMP:20260423T125216
CREATED:20250207T193742Z
LAST-MODIFIED:20250207T193742Z
UID:10003031-1751968800-1751979600@upbarreview.com
SUMMARY:Escanaba Public Library - Tech Help Tuesdays - Escanaba
DESCRIPTION:Need help printing from your phone? Setting up Libby on your personal device? Using Zoom? How about getting started on your Chromebook or iPad? Using a Wi-Fi hotspot? Creating an email address? Google searches? or how to use the library’s online catalog?\nWe have the answers and assistance you need! Make an appointment or stop in at the circulation desk. Appointments are one hour (maximum).\nThe Escanaba Public Library staff do not repair computers/devices. The library assumes no liability for personal patron devices.
URL:https://upbarreview.com/event/escanaba-public-library-tech-help-tuesdays-escanaba/2025-07-08/
LOCATION:Escanaba Public Library\, 400 Ludington St\, Escanaba\, WI\, 49829
CATEGORIES:Menominee
END:VEVENT
BEGIN:VEVENT
DTSTART;TZID=UTC:20250708T100000
DTEND;TZID=UTC:20250708T140000
DTSTAMP:20260423T125216
CREATED:20250618T033156Z
LAST-MODIFIED:20250618T033238Z
UID:10004705-1751968800-1751983200@upbarreview.com
SUMMARY:Rec Center - Farmers Market - Marinette
DESCRIPTION:Do you have things that you would like to sell but you don’t have the space or you aren’t up for cleaning your garage etc.Here is your opportunity-This will be Farmers Market and (This & That- Avon\, crafts\, new items\, promoting your business or hobbyWe will have a weekly drawing- Stop in & get registered for drawingRegistration available online www.wowsolutions4u.comPlease Share!**IMPORTANT**DO NOT SEND MONEY to People Commenting that they have spots or spaces available-check out their picture and their name-they are SCAMMERS!
URL:https://upbarreview.com/event/rec-center-farmers-market-marinette/2025-07-08/
LOCATION:Marinette Recreation Center\, 2501 Pierce Avenue\, Marinette\, WI\, 54143\, United States
CATEGORIES:Menominee
END:VEVENT
BEGIN:VEVENT
DTSTART;TZID=UTC:20250708T110000
DTEND;TZID=UTC:20250708T170000
DTSTAMP:20260423T125216
CREATED:20250618T023200Z
LAST-MODIFIED:20250618T023200Z
UID:10004614-1751972400-1751994000@upbarreview.com
SUMMARY:Menominee Heritage Museum - Habitat Chat at Chappee - Menominee
DESCRIPTION:Join us for a “Habitat Chat” by Anne Bartels\, Information and Education Specialist for the Land and Water Conservation Division of Marinette Wisconsin. Participants learn about how animals are adapted to different habitats by looking at examples of mammals\, birds\, and other animals. Topics such as human impact on habitats and predator-prey relationships may be included. Participants will have an opportunity to see the examples brought for a more up-close look at these animals.” Informational handouts will be provided as well as a project for the children following the presentation.Directions to Chappee – Webber Learning Center:To visit the learning center from Menominee follow these directions:Travel north on 10th Street (US HWY 41) to 48th Avenue\nTurn left (west) onto 48th AvenueContinue 4.4 miles to the Chappee Rapids Historical Marker (this road becomes #2 Road\, then River Road)Signs for event will be placed 1 mile\, .5 miles before Entrance in both directions.If questions please message or leave a comment.\nGo 0.2 miles further to the Chapee-Webber Learning Center sign.
URL:https://upbarreview.com/event/menominee-heritage-museum-habitat-chat-at-chappee-menominee/
LOCATION:Menominee Heritage Museum\, 904 11th Ave\, Menominee\, MI\, 49858
CATEGORIES:Menominee
END:VEVENT
BEGIN:VEVENT
DTSTART;TZID=UTC:20250708T130000
DTEND;TZID=UTC:20250708T150000
DTSTAMP:20260423T125216
CREATED:20250513T233410Z
LAST-MODIFIED:20250513T233410Z
UID:10004339-1751979600-1751986800@upbarreview.com
SUMMARY:Farnsworth Public Library - Girls Therapeutic Art Club - Oconto
DESCRIPTION:About the Group:Hey changemakers\, creators\, and future leaders! Ready to tap into your strength and shine? Join us for Girls Art Club – a FREE weekly therapeutic art group designed to empower girls and women (ages 9 and up) through creativity\, connection\, and self-expression.\nLed by a licensed art therapist\, each session includes guided art activities that foster confidence\, leadership skills\, and emotional well-being. Whether you’re here to make art\, make friends\, or just take a break – this space is for you._____________________________________\nWhat to Expect: All art supplies and materials provided Reflective and empowering art directives Supportive group conversations A final art exhibition to celebrate your work\n_____________________________________\nWho Can Join: Girls and women ages 9+ All identities and experience levels welcome FREE to attend – but signed consent forms are required\nPlease contact us at 906.330.0082 or info@creativeroutes.org for more info and consent forms!_____________________________________\nSpecial Thanks:This program is made possible through generous support from local partners and funders who believe in the power of creativity and community. Huge thanks to Women’s Fund\, the Greater Green Bay Community Foundation\, and other generous supporters for helping make this safe and inspiring space a reality. \nTogether\, we’re empowering the next generation of artists\, leaders\, and changemakers.
URL:https://upbarreview.com/event/farnsworth-public-library-girls-therapeutic-art-club-oconto/2025-07-08/
LOCATION:Farnsworth Public Library\, 715 Main St\, Oconto\, WI
CATEGORIES:Menominee
END:VEVENT
BEGIN:VEVENT
DTSTART;TZID=UTC:20250708T170000
DTEND;TZID=UTC:20250708T200000
DTSTAMP:20260423T125216
CREATED:20250514T011428Z
LAST-MODIFIED:20250514T011428Z
UID:10004436-1751994000-1752004800@upbarreview.com
SUMMARY:Mr Bike & Ski - Tuesday Road Ride - Escanaba
DESCRIPTION:This is an unofficial Mr. Bike and Ski group ride\, meaning there isn’t always a shop crew member in the pack. Riders should be comfortable with group dynamics\, pacing\, and route navigation.\nAll groups require a road bike—if you’re unsure what that means\, you probably don’t have one! Road bikes are built for speed and efficiency on pavement\, designed to take you as far and as fast as your legs can push. Curious about road cycling? Swing by the shop—we’re happy to help get you rolling.\nRide Season:These rides roll out as soon as the weather allows\, so keep an eye out for early-season meetups. Plan on riding every Tuesday from the week after Memorial Day through Labor Day.\nPro Tip:Got pre-ride jitters? Channel that energy into your legs and send it! Show up early\, introduce yourself\, and chat with the group about your riding experience. They’ll help you find the right pack. Not sure where you fit? Ask! Or\, if you’re feeling strong\, jump in\, hammer the pedals\, and drop some watts.\n22-Mile C Group – M35/Hyde Cut Across RouteThe C Group is ideal for newer riders looking to build endurance and confidence in a group setting. Expect a 15 mph average over 22 miles. Be ready to roll at 6:00 PM—arrive early to check your gear and meet the crew. A helmet and road bike are required.\n30-Mile B Group – M35+ RouteThe B Group is for intermediate riders looking for a solid\, steady ride. Expect a 15-19 mph average over 30 miles. This group focuses on smooth pacing and efficient drafting. Arrive at 6:00 PM to meet the group and check your setup. A helmet and road bike are required.\n40+ Mile A Group – Advanced RideThe A Group is for experienced riders who thrive on high-speed\, long-distance efforts. Expect a 20+ mph pace over 40+ miles. Routes vary weekly\, and the ride is often a drop ride—come prepared to hold the pace and work with the pack. A helmet and road bike are required
URL:https://upbarreview.com/event/mr-bike-ski-tuesday-road-ride-escanaba/2025-07-08/
CATEGORIES:Menominee
END:VEVENT
BEGIN:VEVENT
DTSTART;TZID=UTC:20250708T173000
DTEND;TZID=UTC:20250708T200000
DTSTAMP:20260423T125216
CREATED:20250620T183219Z
LAST-MODIFIED:20250620T183219Z
UID:10005319-1751995800-1752004800@upbarreview.com
SUMMARY:Big 10 Sports Bar - Girls Night Out - Quinnesec
DESCRIPTION:Big 10 next month. Hopefully we can sit outside.\nHope to see you there.\nRemember: no guys and no women under 18. Aside from this please pass the email along to whomever might like to enjoy us.
URL:https://upbarreview.com/event/big-10-sports-bar-girls-night-out-quinnesec/
LOCATION:The Big 10 Sports Bar & Grill\, 1272 Quinnesec Ave\, Quinnesec\, MI\, 49876
CATEGORIES:Ironmountain
END:VEVENT
END:VCALENDAR