BEGIN:VCALENDAR
VERSION:2.0
PRODID:-//UP BAR REVIEW - ECPv6.14.2//NONSGML v1.0//EN
CALSCALE:GREGORIAN
METHOD:PUBLISH
X-WR-CALNAME:UP BAR REVIEW
X-ORIGINAL-URL:https://upbarreview.com
X-WR-CALDESC:Events for UP BAR REVIEW
REFRESH-INTERVAL;VALUE=DURATION:PT1H
X-Robots-Tag:noindex
X-PUBLISHED-TTL:PT1H
BEGIN:VTIMEZONE
TZID:UTC
BEGIN:STANDARD
TZOFFSETFROM:+0000
TZOFFSETTO:+0000
TZNAME:UTC
DTSTART:20250101T000000
END:STANDARD
END:VTIMEZONE
BEGIN:VEVENT
DTSTART;TZID=UTC:20250607T100000
DTEND;TZID=UTC:20250607T180000
DTSTAMP:20260422T154151
CREATED:20250514T023613Z
LAST-MODIFIED:20250514T023613Z
UID:10004535-1749290400-1749319200@upbarreview.com
SUMMARY:Outdoor Expo - Norway
DESCRIPTION:Love the outdoors? Then you won’t want to miss this!\nJoin us for a fun-packed day at Norway Mountain filled with outdoor adventure\, awesome gear\, and all the brands you know and love! From hiking and biking to camping and off-roading—if it’s outside\, it’s here!\nCome explore\, connect\, and discover what’s new in the world of outdoor fun!\nWant to be a vendor? We’d love to have you! Fill out the form below and we’ll be in touch.\nMark your calendars—this is one event you don’t want to miss!
URL:https://upbarreview.com/event/outdoor-expo-norway/2025-06-07/
CATEGORIES:Ironmountain
END:VEVENT
BEGIN:VEVENT
DTSTART;TZID=UTC:20250607T103000
DTEND;TZID=UTC:20250607T230000
DTSTAMP:20260422T154151
CREATED:20250513T232406Z
LAST-MODIFIED:20250513T232406Z
UID:10004318-1749292200-1749337200@upbarreview.com
SUMMARY:Copperfest - Oconto
DESCRIPTION:
URL:https://upbarreview.com/event/copperfest-oconto-4/2025-06-07/
LOCATION:Copperfest/American Legion Post 74 Park\, 709 Madison\, Oconto\, WI\, 54143
CATEGORIES:Menominee
END:VEVENT
BEGIN:VEVENT
DTSTART;TZID=UTC:20250607T110000
DTEND;TZID=UTC:20250607T140000
DTSTAMP:20260422T154151
CREATED:20250514T005652Z
LAST-MODIFIED:20250514T005652Z
UID:10004413-1749294000-1749304800@upbarreview.com
SUMMARY:Kids Free Fishing Day - Escanaba
DESCRIPTION:The Kids Fishing Day Team is thrilled to be celebrating the 32nd anniversary of its annual Kids Fishing Day this year.\nThe day of fun\, fishing and families will be held Saturday\, June 7\, at the Michigan Department of Natural Resources Pocket Park\, located on the Upper Peninsula State Fairgrounds in Escanaba.\nRegistration for Kids Fishing Day will be from noon to 1:30 p.m. (EDT) and the event will run until 3 p.m. All activities are free of charge and open to youth ages 16 years old and younger.\n“We are excited to again hold our fishing event at the Pocket Park\,” said Brenda Madden\, longtime Kids Fishing Day team member and organizer. “It offers plenty of space for most all the traditional fun favorites at Kids Fishing Day events\, plus some new activities\, and the Pocket Park offers a beautiful natural-like setting right in the middle of Escanaba.”\nFamiliar activities returning include bluegill fishing\, minnow races and face painting\, along with free food and raffle prizes.\nGreg Karch\, certified angler instructor and founder of the non-profit organization Learn 2 Fish with Us\, will be returning to the event this year to teach kids how to cast a fishing line and tie fishing knots.\nKarch’s organization has educated more than 50\,000 anglers in Wisconsin since 2006 and has hosted nearly 300 fishing workshops\, including Kids Fishing Day at Camp 7 where he offered Backyard Bass for youngsters.\nIn addition\, Smokey Bear will be wandering the grounds. There will also be a scavenger hunt and opportunities for kids to learn how to shoot at the Pocket Park’s archery and pellet gun ranges.\nThis year’s Kids Fishing Day event will be held in conjunction with the DNR’s Free Fishing Weekend. Camping is available on the fairgrounds (contact the Delta County Chamber of Commerce).\nThe DNR Pocket Park is located nearest Gate No. 1 at the fairgrounds\, which can be accessed from 12th Avenue North.\nPartners include the Bay de Noc Great Lakes Sports Fishermen\, Inc.\, Michigan DNR and the U.S. Forest Service’s Hiawatha National Forest.\nThe Kids Fishing Day team extends a special thank you to all the volunteers as this event would not be possible without them.\nFor more information\, or if you would like to volunteer to help at the event\, please contact Brenda at 906-286-1348.
URL:https://upbarreview.com/event/kids-free-fishing-day-escanaba/
CATEGORIES:Menominee
END:VEVENT
BEGIN:VEVENT
DTSTART;TZID=UTC:20250607T120000
DTEND;TZID=UTC:20250607T160000
DTSTAMP:20260422T154151
CREATED:20250513T234216Z
LAST-MODIFIED:20250513T234216Z
UID:10004352-1749297600-1749312000@upbarreview.com
SUMMARY:The Rustic - The Mix Polka Party - Athelstane
DESCRIPTION:Guess what! We are back at The Rustic for an exclusive Saturday Afternoon Polka Party! Join us on Saturday\, June 7th for polkas\, pivo\, and fun! Come up for the party\, and stay for supper after!
URL:https://upbarreview.com/event/the-rustic-the-mix-polka-party-athelstane/
LOCATION:The Rustic\, W14030 HWY C\, Athelstane\, WI
CATEGORIES:Menominee
END:VEVENT
BEGIN:VEVENT
DTSTART;TZID=UTC:20250607T120000
DTEND;TZID=UTC:20250607T160000
DTSTAMP:20260422T154151
CREATED:20250513T235333Z
LAST-MODIFIED:20250513T235333Z
UID:10004365-1749297600-1749312000@upbarreview.com
SUMMARY:The Rustic - The Mix Polka - Athelstane
DESCRIPTION:Polkas !!
URL:https://upbarreview.com/event/the-rustic-the-mix-polka-athelstane/
LOCATION:The Rustic\, W14030 HWY C\, Athelstane\, WI
CATEGORIES:Menominee
END:VEVENT
BEGIN:VEVENT
DTSTART;TZID=UTC:20250607T140000
DTEND;TZID=UTC:20250607T170000
DTSTAMP:20260422T154151
CREATED:20250430T023646Z
LAST-MODIFIED:20250430T023646Z
UID:10004301-1749304800-1749315600@upbarreview.com
SUMMARY:Loopy's - Full Circle - Crivitz
DESCRIPTION:Come on! Get out of town and take a road trip. Join us at Loopy’s for an afternoon of fun.
URL:https://upbarreview.com/event/loopys-full-circle-crivitz/
LOCATION:Loopy’s Bar & Grill\, Loomis Rd\, Porterfield\, WI\, 54159
CATEGORIES:Menominee
END:VEVENT
BEGIN:VEVENT
DTSTART;TZID=UTC:20250607T140000
DTEND;TZID=UTC:20250607T170000
DTSTAMP:20260422T154151
CREATED:20250514T001630Z
LAST-MODIFIED:20250514T001631Z
UID:10004388-1749304800-1749315600@upbarreview.com
SUMMARY:Mr. Bike & Ski - Summer Kickoff Bike Parade & Grill Out - Escanaba
DESCRIPTION: Date: Saturday\, June 7th Time: Ride departs at 3 PM (Grill-out after!) Start & End: Mr. Bike and Ski (An Escanaba Outdoor Company) – 1016 Ludington St\, Downtown Escanaba\n Who’s Invited? EVERYONE! Bring the kids\, bring your grandma\, bring your neighbor’s cousin—bring a bike!\nDust off that vintage cruiser\, tune up that old 10-speed\, or roll out your finest banana-seat beauty—it’s time to KICK OFF SUMMER with a Bike Parade & Grill-Out!\nThis is not a race; it’s a vibe. We’ll take a fun\, casual loop around Ludington Park\, wave at the locals like we’re in a hometown parade\, and circle back for a good ol’ fashioned grill-out at the shop.\n Retro flair encouraged! Got a wacky outfit? A bike bell that plays music? Streamers? Stick a baseball card in your spokes\, and let’s roll!\n This ride is for EVERYONE. Whether you’re 5 or 85\, on a fixie or a fat bike\, rocking training wheels or carbon fiber—this is your ride.\n AFTER THE RIDE: We’ll fire up the grill back at the shop\, hang out\, and celebrate the start of another awesome riding season together. Food is provided (donations welcome)!\n PRIZES for the best-decorated bike & best outfit! So go all out—glitter\, lights\, vintage jerseys\, you name it.\n Need a quick bike check? Stop in before the ride\, and we’ll make sure your wheels are ready to roll!\n Let’s make this the most fun\, quirky\, and joyful bike ride Escanaba has ever seen!\n RSVP & invite your friends!\n Weather permitting! Stay connected for updates in case we need to reschedule.
URL:https://upbarreview.com/event/mr-bike-ski-summer-kickoff-bike-parade-grill-out-escanaba/
LOCATION:Mr. Bike and Ski\, 1016 Ludington St\, Escanaba\, MI
CATEGORIES:Menominee
END:VEVENT
BEGIN:VEVENT
DTSTART;TZID=UTC:20250607T140000
DTEND;TZID=UTC:20250607T180000
DTSTAMP:20260422T154151
CREATED:20250513T234719Z
LAST-MODIFIED:20250513T234719Z
UID:10004358-1749304800-1749319200@upbarreview.com
SUMMARY:Firelane Bar & Grill - Bullets & Booze - Athelstane
DESCRIPTION:Come out and have a great time!
URL:https://upbarreview.com/event/firelane-bar-grill-bullets-booze-athelstane/2025-06-07/
LOCATION:Firelane Bar & Grill\, W10876 County Road C\, Athelstane\, WI
CATEGORIES:Menominee
END:VEVENT
BEGIN:VEVENT
DTSTART;TZID=UTC:20250607T140000
DTEND;TZID=UTC:20250607T180000
DTSTAMP:20260422T154151
CREATED:20250514T023112Z
LAST-MODIFIED:20250514T023112Z
UID:10004518-1749304800-1749319200@upbarreview.com
SUMMARY:Mister Moms - Benefit for Tim Bartels - Norway
DESCRIPTION:Tim was recently diagnosed with an aggressive glioma\, a type of brain cancer. His treatment plan consists of six weeks of chemo and radiation\, traveling back and forth to Green Bay. Your support will help ease the financial burden during this time.\nWe’ll have a 50/50\, basket raffles\, prize wheel\, a spaghetti dinner\, and live music starting at 6. All proceeds from the dinner and raffles go to the Bartels family.\nThank you in advance for your support.
URL:https://upbarreview.com/event/mister-moms-benefit-for-tim-bartels-norway/
LOCATION:Mister Moms\, 1009 Main St\, Norway\, MI\, 49870
CATEGORIES:Ironmountain
END:VEVENT
BEGIN:VEVENT
DTSTART;TZID=UTC:20250607T150000
DTEND;TZID=UTC:20250607T170000
DTSTAMP:20260422T154151
CREATED:20250513T234903Z
LAST-MODIFIED:20250513T234903Z
UID:10004360-1749308400-1749315600@upbarreview.com
SUMMARY:Tony's Dockside Bar & Grill - Karaoke - Athelstane
DESCRIPTION:Edie is back to Rock the Dock
URL:https://upbarreview.com/event/tonys-dockside-bar-grill-karaoke-athelstane/
LOCATION:Tony’s Dockside Bar & Grill\, W12327 Eagle Rd\, Crivitz\, WI\, 54114
CATEGORIES:Menominee
END:VEVENT
BEGIN:VEVENT
DTSTART;TZID=UTC:20250607T150000
DTEND;TZID=UTC:20250607T170000
DTSTAMP:20260422T154151
CREATED:20250514T000931Z
LAST-MODIFIED:20250514T000931Z
UID:10004375-1749308400-1749315600@upbarreview.com
SUMMARY:Sidetrack Restaurant - Summer Concert Series
DESCRIPTION:Live music on weekends all summer. Check out the facebook page for whos playing on what day
URL:https://upbarreview.com/event/sidetrack-restaurant-summer-concert-series/2025-06-07/
LOCATION:Sidetrack Restaurant\, N15903 Pine St\, Powers\, MI
CATEGORIES:Menominee
END:VEVENT
BEGIN:VEVENT
DTSTART;TZID=UTC:20250607T160000
DTEND;TZID=UTC:20250607T190000
DTSTAMP:20260422T154151
CREATED:20250513T234555Z
LAST-MODIFIED:20250513T234555Z
UID:10004356-1749312000-1749322800@upbarreview.com
SUMMARY:The Rustic - Rocker Rocker Rocker - Athelstane
DESCRIPTION:Rocker Rocker Rocker!!
URL:https://upbarreview.com/event/the-rustic-rocker-rocker-rocker-athelstane/
LOCATION:The Rustic\, W14030 HWY C\, Athelstane\, WI
CATEGORIES:Menominee
END:VEVENT
BEGIN:VEVENT
DTSTART;TZID=UTC:20250607T180000
DTEND;TZID=UTC:20250607T200000
DTSTAMP:20260422T154151
CREATED:20250513T233246Z
LAST-MODIFIED:20250513T233246Z
UID:10004333-1749319200-1749326400@upbarreview.com
SUMMARY:The Garage - Steve James Band - Oconto
DESCRIPTION:’70s-’90s + Rock + Power Pop + Rockin’ Country
URL:https://upbarreview.com/event/the-garage-steve-james-band-oconto/
LOCATION:The Garage\, 1200 Main St\, Oconto\, WI\, 54153\, United States
CATEGORIES:Menominee
END:VEVENT
BEGIN:VEVENT
DTSTART;TZID=UTC:20250607T180000
DTEND;TZID=UTC:20250607T220000
DTSTAMP:20260422T154151
CREATED:20250430T024155Z
LAST-MODIFIED:20250430T024155Z
UID:10004309-1749319200-1749333600@upbarreview.com
SUMMARY:Trail Side Bar & Grill - The Witch Doctors - Crivitz
DESCRIPTION:The crew heads to Crooked Lake in Crivitz. June 7th at The Trail Side Bar
URL:https://upbarreview.com/event/trail-side-bar-grill-the-witch-doctors-crivitz/
LOCATION:Trailside Bar & Grill\, 15506 County Rd W\, Crivitz\, 54114
CATEGORIES:Menominee
END:VEVENT
BEGIN:VEVENT
DTSTART;TZID=UTC:20250607T203000
DTEND;TZID=UTC:20250607T223000
DTSTAMP:20260422T154151
CREATED:20250514T005010Z
LAST-MODIFIED:20250514T005010Z
UID:10004401-1749328200-1749335400@upbarreview.com
SUMMARY:Ludington Park - Movie Night - Escanaba
DESCRIPTION:Movie Night in Ludington Park will be showing Wall-E. The Movie Night is sponsored by Highline. Show time will start at dusk. Feel free to bring your blanket\, bring a chair/cooler and wear your pajamas.
URL:https://upbarreview.com/event/ludington-park-movie-night-escanaba/
LOCATION:Ludington Park\, Es
CATEGORIES:Menominee
END:VEVENT
BEGIN:VEVENT
DTSTART;TZID=UTC:20250607T210000
DTEND;TZID=UTC:20250607T233000
DTSTAMP:20260422T154151
CREATED:20250403T020116Z
LAST-MODIFIED:20250403T020116Z
UID:10003881-1749330000-1749339000@upbarreview.com
SUMMARY:Wild Horse Saloon - Karaoke - Iron Mountain
DESCRIPTION:Welcome to the Hottest Karaoke show in Town! Every Saturday at The Wild Horse Saloon\, in Iron Mountain\, MI Starts at 9:00 pm\nCreate your FREE Performer Account with Songbooks Online App to Browse the Karaoke song library\, keep a favorites list and submit your song requests remotely!\nUse Show ID: MSK23 after you create your account. You can also just tell me your name and the song you want if you don’t know how to install an app.
URL:https://upbarreview.com/event/wild-horse-saloon-karaoke-iron-mountain-2/2025-06-07/
LOCATION:Wild Horse Saloon\, 713 River Ave\, Iron Mountain\, MI\, 49801
CATEGORIES:Ironmountain
END:VEVENT
BEGIN:VEVENT
DTSTART;TZID=UTC:20250608T100000
DTEND;TZID=UTC:20250608T160000
DTSTAMP:20260422T154151
CREATED:20250514T004041Z
LAST-MODIFIED:20250514T004106Z
UID:10004394-1749376800-1749398400@upbarreview.com
SUMMARY:2nd Annual UP Pet Festival - Escanaba
DESCRIPTION:The UP Pet Festival is a full-weekend of pet fun and activities of all kinds\, presented by D&D Dog Dynamics! Saturday June 7th from 10-6 and Sunday June 8th 10-4 in and around the Ruth Butler Building at the UP State Fairgrounds!\nAt the UP Pet Festival we’re bringing together all-things pet related. We’ll be featuring top notch entertainment\, and exciting demonstrations. There’s plenty to do with your furry bff!\nCheer along with the agility presentations from Bay De Noc Kennel Club. See how working K9s practice their skills during demonstrations from UP K9 teams. Watch Upper Peninsula Dynamic Dogs show off their superior nosework skills. Follow along with the “Meet-The-Breed” event and learn what makes different types of dogs unique. Explore the marketplace\, featuring a diverse array of pet products and accessories from talented local vendors. Get ready for delicious food favorites\, for both people and pets. The second annual UP Pet Festival is set to be a paw-some day of bonding\, laughter\, and furry fun for the entire community.\nAs we grow our list of activities\, shows\, and vendors\, be sure to follow along on social!
URL:https://upbarreview.com/event/2nd-annual-up-pet-festival-escanaba/2025-06-08/
LOCATION:UP State Fairgrounds\, 2401 12th Avenue North\, Escanaba
CATEGORIES:Menominee
END:VEVENT
BEGIN:VEVENT
DTSTART;TZID=UTC:20250608T100000
DTEND;TZID=UTC:20250608T170000
DTSTAMP:20260422T154151
CREATED:20250513T232406Z
LAST-MODIFIED:20250513T232406Z
UID:10004319-1749376800-1749402000@upbarreview.com
SUMMARY:Copperfest - Oconto
DESCRIPTION:
URL:https://upbarreview.com/event/copperfest-oconto-4/2025-06-08/
LOCATION:Copperfest/American Legion Post 74 Park\, 709 Madison\, Oconto\, WI\, 54143
CATEGORIES:Menominee
END:VEVENT
BEGIN:VEVENT
DTSTART;TZID=UTC:20250608T100000
DTEND;TZID=UTC:20250608T180000
DTSTAMP:20260422T154151
CREATED:20250514T023613Z
LAST-MODIFIED:20250514T023613Z
UID:10004536-1749376800-1749405600@upbarreview.com
SUMMARY:Outdoor Expo - Norway
DESCRIPTION:Love the outdoors? Then you won’t want to miss this!\nJoin us for a fun-packed day at Norway Mountain filled with outdoor adventure\, awesome gear\, and all the brands you know and love! From hiking and biking to camping and off-roading—if it’s outside\, it’s here!\nCome explore\, connect\, and discover what’s new in the world of outdoor fun!\nWant to be a vendor? We’d love to have you! Fill out the form below and we’ll be in touch.\nMark your calendars—this is one event you don’t want to miss!
URL:https://upbarreview.com/event/outdoor-expo-norway/2025-06-08/
CATEGORIES:Ironmountain
END:VEVENT
BEGIN:VEVENT
DTSTART;TZID=UTC:20250608T120000
DTEND;TZID=UTC:20250608T150000
DTSTAMP:20260422T154151
CREATED:20250514T003859Z
LAST-MODIFIED:20250514T003859Z
UID:10004392-1749384000-1749394800@upbarreview.com
SUMMARY:Upperhand Brewery - Car Show - Escanaba
DESCRIPTION:Tunes\, tacos\, & brews!Music by Jeff McNiven and food by La Catrina. Krusin Klassics making a special guest appearance for anyone who missed the Fun Run. Come check it out!
URL:https://upbarreview.com/event/upperhand-brewery-car-show-escanaba/
LOCATION:Upper Hand Brewery\, 3525 Airport Rd\, Escanaba\, WI\, 49829
CATEGORIES:Menominee
END:VEVENT
BEGIN:VEVENT
DTSTART;TZID=UTC:20250608T130000
DTEND;TZID=UTC:20250608T150000
DTSTAMP:20260422T154151
CREATED:20250403T001956Z
LAST-MODIFIED:20250403T001956Z
UID:10003738-1749387600-1749394800@upbarreview.com
SUMMARY:Country Roads Bar & Grill - Bingo Sunday - Wausaukee
DESCRIPTION:Sunday Funday Bingo! $1/game per board. Come for all the games or jump in whenever!
URL:https://upbarreview.com/event/country-roads-bar-grill-bingo-sunday-wausaukee/2025-06-08/
LOCATION:Country Roads Bar & Grill\, W8901 Co Rd C\, Wausaukee\, WI
CATEGORIES:Menominee
END:VEVENT
BEGIN:VEVENT
DTSTART;TZID=UTC:20250608T140000
DTEND;TZID=UTC:20250608T180000
DTSTAMP:20260422T154151
CREATED:20250513T235000Z
LAST-MODIFIED:20250513T235000Z
UID:10004361-1749391200-1749405600@upbarreview.com
SUMMARY:Firelane Bar & Grill - Jesse Fuller - Athelstane
DESCRIPTION:Sunday Funday!!
URL:https://upbarreview.com/event/firelane-bar-grill-jesse-fuller-athelstane/
LOCATION:Firelane Bar & Grill\, W10876 County Road C\, Athelstane\, WI
CATEGORIES:Menominee
END:VEVENT
BEGIN:VEVENT
DTSTART;TZID=UTC:20250609T100000
DTEND;TZID=UTC:20250609T173000
DTSTAMP:20260422T154151
CREATED:20250514T021159Z
LAST-MODIFIED:20250514T021159Z
UID:10004501-1749463200-1749490200@upbarreview.com
SUMMARY:Ericson Jewelers - Luxury Watch Event - Iron Mountain
DESCRIPTION:Erickson Jewelers is partnering with Swiss Crown and bringing in a collection of independently certified\, pre-owned Rlex watches.\nEach watch has a 2 year warranty.
URL:https://upbarreview.com/event/ericson-jewelers-luxury-watch-event-iron-mountain/2025-06-09/
LOCATION:Erikson Jewelers\, 511 S Stephenson Ave\, Iron Mountain\, MI\, 49801
CATEGORIES:Ironmountain
END:VEVENT
BEGIN:VEVENT
DTSTART;TZID=UTC:20250609T140000
DTEND;TZID=UTC:20250609T170000
DTSTAMP:20260422T154151
CREATED:20250513T232012Z
LAST-MODIFIED:20250513T232012Z
UID:10004312-1749477600-1749488400@upbarreview.com
SUMMARY:Irish Greens Golf Course - Northpoint Golf Outing - Oconto
DESCRIPTION:Get your clubs warmed up. The annual Golf outting will be help at Irish Greens Golf Course in Oconto on June 9th. More details to come.
URL:https://upbarreview.com/event/irish-greens-golf-course-northpoint-golf-outing-oconto/
LOCATION:Irish Greens Golf Course\, 2946 Logtown Rd\, Oconto\, WI
CATEGORIES:Menominee
END:VEVENT
BEGIN:VEVENT
DTSTART;TZID=UTC:20250609T150000
DTEND;TZID=UTC:20250609T180000
DTSTAMP:20260422T154151
CREATED:20250514T013812Z
LAST-MODIFIED:20250514T013812Z
UID:10004466-1749481200-1749492000@upbarreview.com
SUMMARY:Gladstone Farmers Market
DESCRIPTION:Join us every Monday from June through September at the Gladstone Farmers Market—where community\, creativity\, and fresh local flavor come together!\nLocated at the Market Square (907 Delta Ave) in the heart of downtown\, our market is more than just a place to shop—it’s an experience. Stroll through a vibrant selection of locally grown produce\, mouthwatering baked goods\, and one-of-a-kind artisan creations while enjoying the sounds of live music from talented local bands.\nWhether you’re a market regular or visiting for the first time\, we invite you to make Mondays in Gladstone a tradition! Come for the goods\, stay for the music\, and connect with friends and neighbors in a welcoming\, lively atmosphere.\nWe can’t wait to see you there!\nhttps://www.gladstonemi.gov/dda/page/farmers-market
URL:https://upbarreview.com/event/gladstone-farmers-market/2025-06-09/
CATEGORIES:Menominee
END:VEVENT
BEGIN:VEVENT
DTSTART;TZID=UTC:20250609T170000
DTEND;TZID=UTC:20250609T190000
DTSTAMP:20260422T154151
CREATED:20250403T022612Z
LAST-MODIFIED:20250403T022612Z
UID:10004126-1749488400-1749495600@upbarreview.com
SUMMARY:Forever Friendship Drop-in Center - Disorder Discussion Group - Kingsford
DESCRIPTION:We understand that the road to overcoming addiction is unique for each individual\, and we’re here to offer unwavering peer support\, personalized care\, and a beacon of hope for a brighter tomorrow! This is available to individuals with Substance Misuse Disorder & or Alcoholism + Mental Health Diagnosis
URL:https://upbarreview.com/event/forever-friendship-drop-in-center-disorder-discussion-group-kingsford/2025-06-09/
LOCATION:Forever Friendship Drop-in Center\, 501 S Carpenter Ave\, Kingsford\, MI
CATEGORIES:Ironmountain
END:VEVENT
BEGIN:VEVENT
DTSTART;TZID=UTC:20250609T190000
DTEND;TZID=UTC:20250609T210000
DTSTAMP:20260422T154151
CREATED:20250514T005420Z
LAST-MODIFIED:20250514T005420Z
UID:10004403-1749495600-1749502800@upbarreview.com
SUMMARY:Karas Bandshell -Music Mondays - Escanaba
DESCRIPTION:The Karas Bandshell stage in Escanaba’s Waterfront Park for a performance in the “Music Mondays” summer concert series! Bring a blanket or lawn chair and relax.  Concert time is 7:00 p.m. EST.
URL:https://upbarreview.com/event/karas-bandshell-music-mondays-escanaba/2025-06-09/
LOCATION:Karas Bandshell\, Loren W Jenkins Memorial Dr\, Escanaba\, MI\, 49829
CATEGORIES:Menominee
END:VEVENT
BEGIN:VEVENT
DTSTART;TZID=UTC:20250610T080000
DTEND;TZID=UTC:20250610T170000
DTSTAMP:20260422T154151
CREATED:20250207T202600Z
LAST-MODIFIED:20250207T202600Z
UID:10003161-1749542400-1749574800@upbarreview.com
SUMMARY:Job Fair - Oconto
DESCRIPTION:McDonald’s in Oconto\, WI is hiring! Come in for an in-person interview. Job Offers will be made at the event.
URL:https://upbarreview.com/event/job-fair-oconto/2025-06-10/
CATEGORIES:Menominee
END:VEVENT
BEGIN:VEVENT
DTSTART;TZID=UTC:20250610T080000
DTEND;TZID=UTC:20250610T170000
DTSTAMP:20260422T154151
CREATED:20250402T231632Z
LAST-MODIFIED:20250402T231632Z
UID:10003322-1749542400-1749574800@upbarreview.com
SUMMARY:McDonalds Job Fair - Oconto
DESCRIPTION:McDonald’s in Oconto\, WI is hiring! Come in for an in-person interview. Job Offers will be made at the event.
URL:https://upbarreview.com/event/mcdonalds-job-fair-oconto/2025-06-10/
LOCATION:McDonalds Oconto\, 105 Main St\, Oconto\, WI
CATEGORIES:Menominee
END:VEVENT
BEGIN:VEVENT
DTSTART;TZID=UTC:20250610T080000
DTEND;TZID=UTC:20250610T170000
DTSTAMP:20260422T154151
CREATED:20250403T020204Z
LAST-MODIFIED:20250403T020204Z
UID:10003913-1749542400-1749574800@upbarreview.com
SUMMARY:McDonalds Job Fair - Iron Mountain
DESCRIPTION:McDonald’s in Iron Mountain\, MI is hiring! Come in for an in-person interview. Job Offers will be made at the event.
URL:https://upbarreview.com/event/mcdonalds-job-fair-iron-mountain/2025-06-10/
CATEGORIES:Ironmountain
END:VEVENT
END:VCALENDAR