BEGIN:VCALENDAR
VERSION:2.0
PRODID:-//UP BAR REVIEW - ECPv6.14.2//NONSGML v1.0//EN
CALSCALE:GREGORIAN
METHOD:PUBLISH
X-WR-CALNAME:UP BAR REVIEW
X-ORIGINAL-URL:https://upbarreview.com
X-WR-CALDESC:Events for UP BAR REVIEW
REFRESH-INTERVAL;VALUE=DURATION:PT1H
X-Robots-Tag:noindex
X-PUBLISHED-TTL:PT1H
BEGIN:VTIMEZONE
TZID:UTC
BEGIN:STANDARD
TZOFFSETFROM:+0000
TZOFFSETTO:+0000
TZNAME:UTC
DTSTART:20240101T000000
END:STANDARD
END:VTIMEZONE
BEGIN:VEVENT
DTSTART;TZID=UTC:20241216T083000
DTEND;TZID=UTC:20241216T093000
DTSTAMP:20260423T102452
CREATED:20240827T014121Z
LAST-MODIFIED:20240827T014121Z
UID:10001559-1734337800-1734341400@upbarreview.com
SUMMARY:NSRCC - Open Workout & Meet the Instructor - Pembine
DESCRIPTION:Meet our fitness class instructor\, Brenda Rosenstiel. There will be information about all of our fitness classes as well as a place for open workout. Contact Brenda for more details: (920) 327-9981 or brosenstiel@nsrccwi.com
URL:https://upbarreview.com/event/nsrcc-open-workout-meet-the-instructor-pembine/2024-12-16/
LOCATION:NSRCC\, 17112 US-141\, Pembine\, WI\, 54156
CATEGORIES:Menominee
END:VEVENT
BEGIN:VEVENT
DTSTART;TZID=UTC:20241215T183000
DTEND;TZID=UTC:20241215T213000
DTSTAMP:20260423T102452
CREATED:20241202T213757Z
LAST-MODIFIED:20241202T213757Z
UID:10002590-1734287400-1734298200@upbarreview.com
SUMMARY:Biehl Bridge to Recovery - Football Game Viewing - Marinette
DESCRIPTION:Come watch the Packer’s play and enjoy some BBQ Pulled Pork! Please bring a dish to share! $5 suggested donation but it is not required.
URL:https://upbarreview.com/event/biehl-bridge-to-recovery-football-game-viewing-marinette/
LOCATION:Biehl Bridge To Recovery\, 3123 Shore Dr\, Marinette\, WI\, 54143
CATEGORIES:Menominee
END:VEVENT
BEGIN:VEVENT
DTSTART;TZID=UTC:20241215T160000
DTEND;TZID=UTC:20241215T180000
DTSTAMP:20260423T102452
CREATED:20241204T001527Z
LAST-MODIFIED:20241204T001527Z
UID:10002700-1734278400-1734285600@upbarreview.com
SUMMARY:Marion Park - Everyone Welcome Holiday Lights Ride - Norway
DESCRIPTION:Let’s get in the holiday spirit with a little lighted night ride!! We will *hopefully* have the majority of the Grom lit up with “Holiday” lights! Either enjoy a “Guided” Ride or Ride on your own!
URL:https://upbarreview.com/event/marion-park-everyone-welcome-holiday-lights-ride-norway/
LOCATION:Marion Park\, Norway\, MI
CATEGORIES:Ironmountain
END:VEVENT
BEGIN:VEVENT
DTSTART;TZID=UTC:20241215T150000
DTEND;TZID=UTC:20241215T220000
DTSTAMP:20260423T102452
CREATED:20241204T014001Z
LAST-MODIFIED:20241204T014001Z
UID:10002783-1734274800-1734300000@upbarreview.com
SUMMARY:Heights Park - Niagara Christmas Village Walk-Thru - Niagara
DESCRIPTION:First Annual Niagara Christmas Village is a walk-thru Christmas display with 12 sites decorated by local families\, groups\, organizations\, and businesses. The Christmas Village will be lit nightly from December 6th to January 11th from 3:00pm-10:00pm.\nEach display is supporting a local charity or organization. Votes (donations) for each site will go to their local charity/organization ($1=1 vote\, $10=10 votes\, etc). Voting locations are listed below. Voting starts December 6th. December 6th from 5:00pm to 7:00pm will be the annual tree lighting event with the tree lighting at 5:30pm.\nVoting Locations:City Hall – 1029 Roosevelt Rd\, Niagara (24 hr secure drop box\, lower level between glass doors\, enter in rear);Forward Financial Credit Union – 1250 Roosevelt Rd\, Niagara (Monday-Friday 8:30am-5:00pm Saturday 8:30am-12:00pm);Nicolet National Bank – 900 Roosevelt Rd\, Niagara (Monday-Friday 8:30am-5:00pm);Northwoods IGA – 501 Washington Ave\, Niagara (Monday-Saturday 7:30am-7:00pm Sunday 8:00am-4:00pm);Pit Stop Bar & Grill – 1059 Roosevelt Rd\, Niagara (Sunday-Thursday 10:00am-2:00am Friday & Saturday 10:00am-2:30am);Scott’s Uptown Lanes – 1201 Roosevelt Rd\, Niagara (Daily 11:00am-2:00am);Trip’s Tavern – 1001 Roosevelt Rd\, Niagara (Monday-Thursday 10:00am-close Friday-Sunday 9:00am-close)
URL:https://upbarreview.com/event/heights-park-niagara-christmas-village-walk-thru-niagara/2024-12-15/
LOCATION:Niagara Heights Park\, 1201 Grant Street\, Niagara\, wi\, 54151
CATEGORIES:Ironmountain
END:VEVENT
BEGIN:VEVENT
DTSTART;TZID=UTC:20241215T140000
DTEND;TZID=UTC:20241215T180000
DTSTAMP:20260423T102452
CREATED:20241203T002037Z
LAST-MODIFIED:20241203T002037Z
UID:10002597-1734271200-1734285600@upbarreview.com
SUMMARY:Eden Restored Health Market - Christmas Celebration - Wausaukee
DESCRIPTION:Free Christmas music performance\, dinner\, & gifts to show our appreciation for you! Free Food Baskets for those in need (limited supply)
URL:https://upbarreview.com/event/eden-restored-health-market-christmas-celebration-wausaukee/
LOCATION:Eden Restored Health Market\, 528 Harrison Ave\, Wausaukee\, WI
CATEGORIES:Menominee
END:VEVENT
BEGIN:VEVENT
DTSTART;TZID=UTC:20241215T140000
DTEND;TZID=UTC:20241215T170000
DTSTAMP:20260423T102452
CREATED:20241204T003245Z
LAST-MODIFIED:20241204T003245Z
UID:10002715-1734271200-1734282000@upbarreview.com
SUMMARY:The Braumart - The Nutcracker - Iron Mountain
DESCRIPTION:Buy Saturday Night Tickets here: https://thebraumart.ticketspice.com/the-nutcracker-ballet…\nExperience the magic of the holiday season with Northern Michigan Dance Academy’s enchanting production of The Nutcracker. This timeless ballet\, featuring Tchaikovsky’s iconic score\, transports audiences to a world of wonder and delight. From the festive Christmas Eve party to the Land of Sweets\, our talented dancers bring each character to life with grace. Whether you’re a longtime friend of the ballet or new to the ballet\, this performance promises to captivate and inspire all ages.
URL:https://upbarreview.com/event/the-braumart-the-nutcracker-iron-mountain/2024-12-15/
LOCATION:The Braumart Theatre\, 106 E B St\, Iron Mountain\, MI\, 49801
CATEGORIES:Ironmountain
END:VEVENT
BEGIN:VEVENT
DTSTART;TZID=UTC:20241215T140000
DTEND;TZID=UTC:20241215T163000
DTSTAMP:20260423T102452
CREATED:20241204T013251Z
LAST-MODIFIED:20241204T013251Z
UID:10002769-1734271200-1734280200@upbarreview.com
SUMMARY:Kingsford High School - 2024 Dickinson County Area Band Holiday Concert - Kingsford
DESCRIPTION:Join the Dickinson County Area Band for our first annual Holiday Concert on Sunday\, December 15\, 2024 at the Kingsford High School Auditorium starting at 2pm central. Sit back and enjoy some great holiday music to get you in the spirit for Christmas. Concert is free of charge\, but we will be accepting free will donations for those who feel inclined to give.\nFor questions\, please message our Facebook page at https://www.facebook.com/dickinsoncountyareaband. We hope to see you on December 15th at 2pm central at Kingsford High School!
URL:https://upbarreview.com/event/kingsford-high-school-2024-dickinson-county-area-band-holiday-concert-kingsford/
LOCATION:Kingsford High School\, 463 Bus Dr\, Kingsford\, MI
CATEGORIES:Ironmountain
END:VEVENT
BEGIN:VEVENT
DTSTART;TZID=UTC:20241215T140000
DTEND;TZID=UTC:20241215T163000
DTSTAMP:20260423T102452
CREATED:20241202T204241Z
LAST-MODIFIED:20241202T204241Z
UID:10002494-1734271200-1734280200@upbarreview.com
SUMMARY:Bayshore Arts Center - Christmas by the Bay
DESCRIPTION:We are ONE MONTH AWAY from the 9th annual Christmas by the Bay! This years theme? A Rockin’ Poppin’ Christmas – featuring songs from your favorite artists\, including Taylor Swift\, Def Leppard\, Elvis and Whitney Houston \nChristmas by the Bay is produced in partnership with First Street Academy of Dance \nThese tickets sell fast\, reserve yours today!\nDecember 13 – 7PMDecember 14 – 7PMDecember 15 – 2PM\n Buy online\, over the phone\, or at the doors!\nBuy over the Phone:715-504-3351 (please leave a message if you get no answer. All messages will be returned)\nBuy at the Box Office:Box office opens 45 minutes before show time (Please note that we are CASHLESS for all ticket sales)\nBuy online: https://ticketstar.evenue.net/events/UWGBMC
URL:https://upbarreview.com/event/bayshore-arts-center-christmas-by-the-bay/2024-12-15/
LOCATION:Bayshore Arts Center\, 750 W Bay Shore St\, Marinette\, WI\, 54143
CATEGORIES:Menominee
END:VEVENT
BEGIN:VEVENT
DTSTART;TZID=UTC:20241215T130000
DTEND;TZID=UTC:20241215T170000
DTSTAMP:20260423T102452
CREATED:20241204T011811Z
LAST-MODIFIED:20241204T011828Z
UID:10002735-1734267600-1734282000@upbarreview.com
SUMMARY:Sol Blu Lounge & Tap Room - Chili Cook-off Fundraiser - Iron Mountain
DESCRIPTION:$25 to enter your chili$15 for unlimited tastingChef Corey from Oddfellows is judgingSol Blu is donating 15% of proceeds back to the clubCome and support our Mountaineer youth wrestlers!
URL:https://upbarreview.com/event/sol-bl-lounge-tap-room-chili-cook-off-fundraiser-iron-mountain/
LOCATION:Sol Blu Lounge & Tap Room\, 212 E Ludington St\, Iron Mountain\, MI
CATEGORIES:Ironmountain
END:VEVENT
BEGIN:VEVENT
DTSTART;TZID=UTC:20241215T130000
DTEND;TZID=UTC:20241215T150000
DTSTAMP:20260423T102452
CREATED:20241202T210637Z
LAST-MODIFIED:20241202T210637Z
UID:10002509-1734267600-1734274800@upbarreview.com
SUMMARY:Saint Thomas Aquinas Academy - Windsor Players Present "The Nick of Time Christmas Show" - Marinette
DESCRIPTION:The Windsor Players are looking forward to sharing this light-hearted Christmas comedy. They promise to leave you laughing and full of the Christmas spirit!
URL:https://upbarreview.com/event/saint-thomas-aquinas-academy-windsor-players-present-the-nick-of-time-christmas-show-marinette/
LOCATION:Saint Thomas Aquinas Academy\, 1200 Main St\, Marinette\, WI\, 54143
CATEGORIES:Menominee
END:VEVENT
BEGIN:VEVENT
DTSTART;TZID=UTC:20241215T120000
DTEND;TZID=UTC:20241215T130000
DTSTAMP:20260423T102452
CREATED:20241001T025933Z
LAST-MODIFIED:20241001T025933Z
UID:10001825-1734264000-1734267600@upbarreview.com
SUMMARY:Biehls Bridge to Recovery - CMA Sundays Im More than 2% Meeting - Marinette
DESCRIPTION:This is an open meeting. You can also join the meeting by using Microsoft TeamsMeeting ID: 215 291 811 664Passcode: QouoBu
URL:https://upbarreview.com/event/biehls-bridge-to-recovery-cma-sundays-im-more-than-2-meeting-marinette/2024-12-15/
CATEGORIES:Menominee
END:VEVENT
BEGIN:VEVENT
DTSTART;TZID=UTC:20241215T100000
DTEND;TZID=UTC:20241215T130000
DTSTAMP:20260423T102452
CREATED:20241202T211613Z
LAST-MODIFIED:20241202T211613Z
UID:10002516-1734256800-1734267600@upbarreview.com
SUMMARY:Calvary Church Assembly of God - Chapter Seven Christmas - Marinette
DESCRIPTION:Calvary Church presents a Christmas comedy published by Andrew Frodahl.\n“What would you do if you lost your job\, lost your home\, and were on the verge of filing chapter 7 bankruptcy…yet everyone in your family was already planning to spend Christmas with you? If you’re Melvin Maldaput\, you call upon your real estate buddy to lend you a million-dollar home for the holidays and neighbors to pretend to be house staff. Come meet Melvin\, his wife\, in-laws and friends. Can Melvin and his wife pull this off while learning what the true meaning of Christmas is?”\nTwo different show times:Saturday\, Dec. 14th at 4pmSunday\, Dec. 15th at 10am (childcare provided for Sunday Service).\nThis is a free event.
URL:https://upbarreview.com/event/calvary-church-assembly-of-god-chapter-seven-christmas-marinette/2024-12-15/
LOCATION:Calvary Church\, W1498 State Highway 64\, Marinette\, WI
CATEGORIES:Menominee
END:VEVENT
BEGIN:VEVENT
DTSTART;TZID=UTC:20241215T080000
DTEND;TZID=UTC:20241215T140000
DTSTAMP:20260423T102452
CREATED:20241202T204107Z
LAST-MODIFIED:20241202T204107Z
UID:10002491-1734249600-1734271200@upbarreview.com
SUMMARY:Tree of Light 2024 - Marinette
DESCRIPTION:This world needs compassion\, kindness and love more than ever before.\nProject Give is hosting our 11th annual Tree of Light\, providing Christmas gifts to children in Menominee and Marinette Counties.\nOver the years you’ve helped us provide gifts for thousands of children!\nRegister for gifts by Nov 26:https://www.surveymonkey.com/r/6M6GLWR\n Shop for gifts:https://tinyurl.com/PGLIST2024\nDec 9: last day to donate gifts\nDec 15\, 8-1: gift organization (volunteers needed)\nDec 15\, 1-2: gift distribution (volunteers needed)\nTree locations:Phillippo Insurance Agency\, StephensonFlagstar Bank\, StephensonFlagstar Bank\, MenomineeHinterland Advisors\, MenomineePeninsula Federal Credit Union\, MenomineeStateline Apparel\, MenomineeThe Peshtigo Times\, Peshtigo\nTo be sure we’re able to serve the most people\, we ask that you either sign up for our Tree of Light OR another organization’s holiday assistance\, not both.
URL:https://upbarreview.com/event/tree-of-light-2024-marinette/
CATEGORIES:Menominee
END:VEVENT
BEGIN:VEVENT
DTSTART;TZID=UTC:20241214T210000
DTEND;TZID=UTC:20241214T233000
DTSTAMP:20260423T102452
CREATED:20240827T130241Z
LAST-MODIFIED:20240827T130241Z
UID:10001668-1734210000-1734219000@upbarreview.com
SUMMARY:Wild Horse Saloon - Karaoke - Iron Mountain
DESCRIPTION:Every Saturday!!
URL:https://upbarreview.com/event/wild-horse-saloon-karaoke-iron-mountain/2024-12-14/
LOCATION:Wild Horse Saloon\, 713 River Ave\, Iron Mountain\, MI\, 49801
CATEGORIES:Ironmountain
END:VEVENT
BEGIN:VEVENT
DTSTART;TZID=UTC:20241214T210000
DTEND;TZID=UTC:20241214T233000
DTSTAMP:20260423T102452
CREATED:20240827T013311Z
LAST-MODIFIED:20240827T013311Z
UID:10001533-1734210000-1734219000@upbarreview.com
SUMMARY:Four Seasons Island Resort - Haley Grace - Pembine
DESCRIPTION:Join us in Boundary Waters with an amazing performance by Haley Grace; 9pm-12am!\nA divine space for one to experience their burdens being lifted\, even when conditions seem hard to bare. This is exactly what Haley Grace brings to the stage through her music. There is much more to her songs and her life than meets the eye. She deftly weaves well-crafted lyrics with edgy country vibes while pulling in her audience with electric energy. Grace’s whiskey-tinged vocals intimately captivate while her music\, her songs and her performance draws you out of your everyday world and into a state of grace
URL:https://upbarreview.com/event/four-seasons-island-resort-haley-grace-pembine/2024-12-14/
LOCATION:Four Seasons Island Resort\, 16800 Shoreline Dr\, Pembine\, WI\, 54156\, United States
CATEGORIES:Menominee
END:VEVENT
BEGIN:VEVENT
DTSTART;TZID=UTC:20241214T203000
DTEND;TZID=UTC:20241214T230000
DTSTAMP:20260423T102452
CREATED:20241203T002809Z
LAST-MODIFIED:20241203T002839Z
UID:10002603-1734208200-1734217200@upbarreview.com
SUMMARY:Country Roads Bar & Grill - Karaoke - Wausaukee
DESCRIPTION:Sing your heart out or listen to others. Either way it’s going to be a great night!
URL:https://upbarreview.com/event/country-roads-bar-grill-karaoke-wausaukee/2024-12-14/
LOCATION:Country Roads Bar & Grill\, W8901 Co Rd C\, Wausaukee\, WI
CATEGORIES:Menominee
END:VEVENT
BEGIN:VEVENT
DTSTART;TZID=UTC:20241214T190000
DTEND;TZID=UTC:20241214T230000
DTSTAMP:20260423T102452
CREATED:20241209T130417Z
LAST-MODIFIED:20241209T130417Z
UID:10002815-1734202800-1734217200@upbarreview.com
SUMMARY:AliBi - Cabin Fever Pajama Slam! - Marinette
DESCRIPTION:Pajama Party!! FREE DARTS\, come on by the AliBi!!
URL:https://upbarreview.com/event/alibi-cabin-fever-pajama-slam-marinette/
LOCATION:ALiBi Bar & Grill\, 829 Main St\, Marinette\, WI\, 54143\, United States
CATEGORIES:Menominee
END:VEVENT
BEGIN:VEVENT
DTSTART;TZID=UTC:20241214T190000
DTEND;TZID=UTC:20241214T220000
DTSTAMP:20260423T102452
CREATED:20241204T003245Z
LAST-MODIFIED:20241204T003245Z
UID:10002714-1734202800-1734213600@upbarreview.com
SUMMARY:The Braumart - The Nutcracker - Iron Mountain
DESCRIPTION:Buy Saturday Night Tickets here: https://thebraumart.ticketspice.com/the-nutcracker-ballet…\nExperience the magic of the holiday season with Northern Michigan Dance Academy’s enchanting production of The Nutcracker. This timeless ballet\, featuring Tchaikovsky’s iconic score\, transports audiences to a world of wonder and delight. From the festive Christmas Eve party to the Land of Sweets\, our talented dancers bring each character to life with grace. Whether you’re a longtime friend of the ballet or new to the ballet\, this performance promises to captivate and inspire all ages.
URL:https://upbarreview.com/event/the-braumart-the-nutcracker-iron-mountain/2024-12-14/
LOCATION:The Braumart Theatre\, 106 E B St\, Iron Mountain\, MI\, 49801
CATEGORIES:Ironmountain
END:VEVENT
BEGIN:VEVENT
DTSTART;TZID=UTC:20241214T190000
DTEND;TZID=UTC:20241214T220000
DTSTAMP:20260423T102452
CREATED:20241203T011335Z
LAST-MODIFIED:20241203T011335Z
UID:10002635-1734202800-1734213600@upbarreview.com
SUMMARY:Uncle Mikes Corner Pub & Grill - Lets Get UGLY - Crivitz
DESCRIPTION:Wear your UGLY Best and come belt out with us
URL:https://upbarreview.com/event/uncle-mikes-corner-pub-grill-lets-get-ugly-crivitz/
LOCATION:Uncle Mikes Corner Pub & Grill\, N9686 Co Hwy X\, Crivitz\, WI\, 54114
CATEGORIES:Menominee
END:VEVENT
BEGIN:VEVENT
DTSTART;TZID=UTC:20241214T190000
DTEND;TZID=UTC:20241214T210000
DTSTAMP:20260423T102452
CREATED:20241202T212053Z
LAST-MODIFIED:20241202T212053Z
UID:10002519-1734202800-1734210000@upbarreview.com
SUMMARY:Saint Thomas Aquinas Academy - Windsor Players Present "The Nick of Time Christmas Show" - Marinette
DESCRIPTION:The Windsor Players are looking forward to sharing this light-hearted Christmas comedy. They promise to leave you laughing and full of the Christmas spirit!
URL:https://upbarreview.com/event/saint-thomas-aquinas-academy-windsor-players-present-the-nick-of-time-christmas-show-marinette-2/
LOCATION:Saint Thomas Aquinas Academy\, 1200 Main St\, Marinette\, WI\, 54143
CATEGORIES:Menominee
END:VEVENT
BEGIN:VEVENT
DTSTART;TZID=UTC:20241214T190000
DTEND;TZID=UTC:20241214T210000
DTSTAMP:20260423T102452
CREATED:20241202T204241Z
LAST-MODIFIED:20241202T204241Z
UID:10002493-1734202800-1734210000@upbarreview.com
SUMMARY:Bayshore Arts Center - Christmas by the Bay
DESCRIPTION:We are ONE MONTH AWAY from the 9th annual Christmas by the Bay! This years theme? A Rockin’ Poppin’ Christmas – featuring songs from your favorite artists\, including Taylor Swift\, Def Leppard\, Elvis and Whitney Houston \nChristmas by the Bay is produced in partnership with First Street Academy of Dance \nThese tickets sell fast\, reserve yours today!\nDecember 13 – 7PMDecember 14 – 7PMDecember 15 – 2PM\n Buy online\, over the phone\, or at the doors!\nBuy over the Phone:715-504-3351 (please leave a message if you get no answer. All messages will be returned)\nBuy at the Box Office:Box office opens 45 minutes before show time (Please note that we are CASHLESS for all ticket sales)\nBuy online: https://ticketstar.evenue.net/events/UWGBMC
URL:https://upbarreview.com/event/bayshore-arts-center-christmas-by-the-bay/2024-12-14/
LOCATION:Bayshore Arts Center\, 750 W Bay Shore St\, Marinette\, WI\, 54143
CATEGORIES:Menominee
END:VEVENT
BEGIN:VEVENT
DTSTART;TZID=UTC:20241214T180000
DTEND;TZID=UTC:20241214T210000
DTSTAMP:20260423T102452
CREATED:20241203T005001Z
LAST-MODIFIED:20241203T005001Z
UID:10002629-1734199200-1734210000@upbarreview.com
SUMMARY:The Outback - Reflections - Marinette
DESCRIPTION:Come hangout with RELECTIONS for some live music on December 14th!
URL:https://upbarreview.com/event/the-outback-reflections-marinette/
LOCATION:The Outback\, 1997 Old Peshtigo Rd\, Marinette\, WI\, 54143\, United States
CATEGORIES:Menominee
END:VEVENT
BEGIN:VEVENT
DTSTART;TZID=UTC:20241214T180000
DTEND;TZID=UTC:20241214T200000
DTSTAMP:20260423T102452
CREATED:20241016T012853Z
LAST-MODIFIED:20241016T012853Z
UID:10002084-1734199200-1734206400@upbarreview.com
SUMMARY:Enjoy Gifts & Gathering - Live Music - Marinette
DESCRIPTION:Live music every 2nd saturday of each month!
URL:https://upbarreview.com/event/enjoy-gifts-gathering-live-music-marinette/2024-12-14/
LOCATION:EnJoy Gifts & Gathering\, 1713 Main St\, Marinette\, WI\, 54143
CATEGORIES:Menominee
END:VEVENT
BEGIN:VEVENT
DTSTART;TZID=UTC:20241214T173000
DTEND;TZID=UTC:20241214T200000
DTSTAMP:20260423T102452
CREATED:20241202T202924Z
LAST-MODIFIED:20241202T202924Z
UID:10002482-1734197400-1734206400@upbarreview.com
SUMMARY:Mariner Theatre -The Polar Express Annual Family Event - Marinette
DESCRIPTION:ALL ABOARD!\nMariner is proud to present the modern classic “The Polar Express” (G) on Sat Dec 14 at 5:30pm and 6:00pm\, YES!! there are 2 showings this year due to a high demand for last years event so everyone wanting to see SANTA has a chance! Admission for this event is $12.00 and everyone attending will receive a small memorable gift from Santa’s elves during your movie\, a tasty hot chocolate upon entry and your official Polar Express golden ticket to enter the movie. SANTA will greet everyone and hand out candy canes as everyone exits the movie.\nEveryone attending is also encouraged to wear their favorite pajamas to make the adventure even more realistic and exciting! (pillows and blankets are allowed)\nBe apart of a special night with a great family classic ending with a visit with SANTA. Tickets are now on sale online at www.marinertheatre.com or at the Mariner Theatre boxoffice.
URL:https://upbarreview.com/event/mariner-theatre-the-polar-express-annual-family-event-marinette/
LOCATION:Mariner Theatre\, 2000 Ella Ct\, Marinette\, WI\, 54143\, United States
CATEGORIES:Menominee
END:VEVENT
BEGIN:VEVENT
DTSTART;TZID=UTC:20241214T170000
DTEND;TZID=UTC:20241214T193000
DTSTAMP:20260423T102452
CREATED:20241203T004911Z
LAST-MODIFIED:20241203T004911Z
UID:10002628-1734195600-1734204600@upbarreview.com
SUMMARY:Tasty Traveler/Forgotten Fire Winery - Pop Up Dinner - Peshtigo
DESCRIPTION:A night filled with Tasty Traveler’s gourmet food paired with Forgotten Fire’s wines.
URL:https://upbarreview.com/event/tasty-traveler-forgotten-fire-winery-pop-up-dinner-peshtigo/
LOCATION:Forgotten Fire Winery\, N2393 Schacht Road\, Marinette\, WI\, 54143\, United States
CATEGORIES:Menominee
END:VEVENT
BEGIN:VEVENT
DTSTART;TZID=UTC:20241214T170000
DTEND;TZID=UTC:20241214T190000
DTSTAMP:20260423T102452
CREATED:20241203T004517Z
LAST-MODIFIED:20241203T004517Z
UID:10002625-1734195600-1734202800@upbarreview.com
SUMMARY:Studio 170 - North Pole Camp - Peshtigo
DESCRIPTION:Open to ALL kids ages 5+\, enrollment in studio class NOT required.\nClick to register: https://forms.gle/FowzDVsuWW7P49px6\nCelebrate the season with a trip to our North Pole Camp on Saturday\, December 14. We’ll play holiday & winter inspired games\, eat pizza\, create a take home ornament and have FUN!
URL:https://upbarreview.com/event/studio-170-north-pole-camp-peshtigo/
LOCATION:Studio 170\, 170 Pine St\, Peshtigo\, WI
CATEGORIES:Menominee
END:VEVENT
BEGIN:VEVENT
DTSTART;TZID=UTC:20241214T160000
DTEND;TZID=UTC:20241214T183000
DTSTAMP:20260423T102452
CREATED:20241203T001440Z
LAST-MODIFIED:20241203T001440Z
UID:10002593-1734192000-1734201000@upbarreview.com
SUMMARY:The Boulevard - Santa on Fire Truck Meet & Greet - Daggett
DESCRIPTION:Join us as Santa takes a ride around town on the firetruck and comes back to the Boulevard to warm up. All kids will receive a Goody bag.$6 Kids Meals Available\nBring in non perishable foods or unwrapped gifts and get entered into a drawing.
URL:https://upbarreview.com/event/the-boulevard-santa-on-fire-truck-meet-greet-daggett/
LOCATION:The Boulevard\, 117 Railroad Ave\, Daggett\, MI
CATEGORIES:Menominee
END:VEVENT
BEGIN:VEVENT
DTSTART;TZID=UTC:20241214T160000
DTEND;TZID=UTC:20241214T180000
DTSTAMP:20260423T102452
CREATED:20241202T211613Z
LAST-MODIFIED:20241202T211613Z
UID:10002515-1734192000-1734199200@upbarreview.com
SUMMARY:Calvary Church Assembly of God - Chapter Seven Christmas - Marinette
DESCRIPTION:Calvary Church presents a Christmas comedy published by Andrew Frodahl.\n“What would you do if you lost your job\, lost your home\, and were on the verge of filing chapter 7 bankruptcy…yet everyone in your family was already planning to spend Christmas with you? If you’re Melvin Maldaput\, you call upon your real estate buddy to lend you a million-dollar home for the holidays and neighbors to pretend to be house staff. Come meet Melvin\, his wife\, in-laws and friends. Can Melvin and his wife pull this off while learning what the true meaning of Christmas is?”\nTwo different show times:Saturday\, Dec. 14th at 4pmSunday\, Dec. 15th at 10am (childcare provided for Sunday Service).\nThis is a free event.
URL:https://upbarreview.com/event/calvary-church-assembly-of-god-chapter-seven-christmas-marinette/2024-12-14/
LOCATION:Calvary Church\, W1498 State Highway 64\, Marinette\, WI
CATEGORIES:Menominee
END:VEVENT
BEGIN:VEVENT
DTSTART;TZID=UTC:20241214T150000
DTEND;TZID=UTC:20241214T220000
DTSTAMP:20260423T102452
CREATED:20241204T014001Z
LAST-MODIFIED:20241204T014001Z
UID:10002782-1734188400-1734213600@upbarreview.com
SUMMARY:Heights Park - Niagara Christmas Village Walk-Thru - Niagara
DESCRIPTION:First Annual Niagara Christmas Village is a walk-thru Christmas display with 12 sites decorated by local families\, groups\, organizations\, and businesses. The Christmas Village will be lit nightly from December 6th to January 11th from 3:00pm-10:00pm.\nEach display is supporting a local charity or organization. Votes (donations) for each site will go to their local charity/organization ($1=1 vote\, $10=10 votes\, etc). Voting locations are listed below. Voting starts December 6th. December 6th from 5:00pm to 7:00pm will be the annual tree lighting event with the tree lighting at 5:30pm.\nVoting Locations:City Hall – 1029 Roosevelt Rd\, Niagara (24 hr secure drop box\, lower level between glass doors\, enter in rear);Forward Financial Credit Union – 1250 Roosevelt Rd\, Niagara (Monday-Friday 8:30am-5:00pm Saturday 8:30am-12:00pm);Nicolet National Bank – 900 Roosevelt Rd\, Niagara (Monday-Friday 8:30am-5:00pm);Northwoods IGA – 501 Washington Ave\, Niagara (Monday-Saturday 7:30am-7:00pm Sunday 8:00am-4:00pm);Pit Stop Bar & Grill – 1059 Roosevelt Rd\, Niagara (Sunday-Thursday 10:00am-2:00am Friday & Saturday 10:00am-2:30am);Scott’s Uptown Lanes – 1201 Roosevelt Rd\, Niagara (Daily 11:00am-2:00am);Trip’s Tavern – 1001 Roosevelt Rd\, Niagara (Monday-Thursday 10:00am-close Friday-Sunday 9:00am-close)
URL:https://upbarreview.com/event/heights-park-niagara-christmas-village-walk-thru-niagara/2024-12-14/
LOCATION:Niagara Heights Park\, 1201 Grant Street\, Niagara\, wi\, 54151
CATEGORIES:Ironmountain
END:VEVENT
BEGIN:VEVENT
DTSTART;TZID=UTC:20241214T130000
DTEND;TZID=UTC:20241214T150000
DTSTAMP:20260423T102452
CREATED:20241202T210407Z
LAST-MODIFIED:20241202T210407Z
UID:10002507-1734181200-1734188400@upbarreview.com
SUMMARY:The Craft Cave - Candy Canes - Marinette
DESCRIPTION:3 cute candy cans decorated and put on board to hang. BYOB\, cost 20$\, call to pre pay and sign up at 715-587-4643. LIMIT 10 total.
URL:https://upbarreview.com/event/the-craft-cave-candy-canes-marinette-3/
LOCATION:The Craft Cave\, 605 Main St.\, Marinette\, WI\, 54143\, United States
CATEGORIES:Menominee
END:VEVENT
END:VCALENDAR