BEGIN:VCALENDAR
VERSION:2.0
PRODID:-//UP BAR REVIEW - ECPv6.14.2//NONSGML v1.0//EN
CALSCALE:GREGORIAN
METHOD:PUBLISH
X-ORIGINAL-URL:https://upbarreview.com
X-WR-CALDESC:Events for UP BAR REVIEW
REFRESH-INTERVAL;VALUE=DURATION:PT1H
X-Robots-Tag:noindex
X-PUBLISHED-TTL:PT1H
BEGIN:VTIMEZONE
TZID:UTC
BEGIN:STANDARD
TZOFFSETFROM:+0000
TZOFFSETTO:+0000
TZNAME:UTC
DTSTART:20250101T000000
END:STANDARD
END:VTIMEZONE
BEGIN:VEVENT
DTSTART;TZID=UTC:20250530T120000
DTEND;TZID=UTC:20250530T180000
DTSTAMP:20260421T113707
CREATED:20250529T213001Z
LAST-MODIFIED:20250529T213001Z
UID:10004547-1748606400-1748628000@upbarreview.com
SUMMARY:Holy Spirit Catholic Church - Fundraiser Book Sale - Menominee
DESCRIPTION:Come look through at least a thousand books! Raising money for a local family in need. Free will offering. Lots of categories – cooking\, pets\, photography\, crafts\, quilting\, world\, History\, Christian\, novels\, fiction and lots more!\nLocation: Holy Spirit Parish Hall1016 10th AveMenominee\, MI\nsale hours:Thursday\, May 29 noon – 6:00 pmFriday\, May 30 8:00 – 6:00 pmSaturday\, May 31 8:00 am – noon\nthere are two outside doors you can use to enter the parish hall.\nQuestions? call Missy at 715-923-1333
URL:https://upbarreview.com/event/holy-spirit-catholic-church-fundraiser-book-sale-menominee/2025-05-30/
CATEGORIES:Menominee
END:VEVENT
BEGIN:VEVENT
DTSTART;TZID=UTC:20250530T170000
DTEND;TZID=UTC:20250530T190000
DTSTAMP:20260421T113707
CREATED:20250403T021557Z
LAST-MODIFIED:20250403T021615Z
UID:10003957-1748624400-1748631600@upbarreview.com
SUMMARY:Forever Friendship Drop-in Center - Mens Social Sober Club - Kingsford
DESCRIPTION:A safe and sober space for men to get together and hangout or talk about issues that affect men in our society. We have different games\, community outings and events depending on wether.
URL:https://upbarreview.com/event/forever-friendship-drop-in-center-mens-social-sober-club-iron-mountain/2025-05-30/
LOCATION:Forever Friendship Drop-in Center\, 501 S Carpenter Ave\, Kingsford\, MI
CATEGORIES:Ironmountain
END:VEVENT
BEGIN:VEVENT
DTSTART;TZID=UTC:20250530T190000
DTEND;TZID=UTC:20250530T230000
DTSTAMP:20260421T113707
CREATED:20250514T001929Z
LAST-MODIFIED:20250514T001929Z
UID:10004391-1748631600-1748646000@upbarreview.com
SUMMARY:UP State Fairgrounds - Krusin Klassics Fun Run - Escanaba
DESCRIPTION:Hey All\,Its here\, The 40th Anniversary of the Krusin Klassics Fun Run\, a weekend you do not want to miss! It all starts off with a Parade down Main street in Escanaba and after the Parade\, come on over to the Ruth Butler Building in the Fairgrounds where we will be playing all your Favorite tunes from the Beach Boys to the Beatles\, and some Country too. let us take you back in Time if only for a little while. We start playing for you at 8
URL:https://upbarreview.com/event/up-state-fairgrounds-krusin-klassics-fun-run-escanaba/
LOCATION:UP State Fairgrounds\, 2401 12th Avenue North\, Escanaba
CATEGORIES:Menominee
END:VEVENT
BEGIN:VEVENT
DTSTART;TZID=UTC:20250530T200000
DTEND;TZID=UTC:20250530T230000
DTSTAMP:20260421T113707
CREATED:20250207T191746Z
LAST-MODIFIED:20250207T191746Z
UID:10002956-1748635200-1748646000@upbarreview.com
SUMMARY:The Granada - Karaoke Night - Escanaba
DESCRIPTION:Welcome to the Hottest Karaoke show in Town! Every Friday at The Granada in Escanaba\, MI Starts at 9:00 pm\nCreate your FREE Performer Account with Songbooks Online App to Browse the Karaoke song library\, keep a favorites list and submit your song requests remotely! Use Show ID: MSK23 after you create your account. You can also just tell me your name and the song you want if you don’t know how to install an app.
URL:https://upbarreview.com/event/the-granada-karaoke-night-escanaba/2025-05-30/
LOCATION:The Granada\, 330 S 10th St\, Escanaba\, MI
CATEGORIES:Menominee
END:VEVENT
BEGIN:VEVENT
DTSTART;TZID=UTC:20250531T070000
DTEND;TZID=UTC:20250531T143000
DTSTAMP:20260421T113707
CREATED:20250514T004335Z
LAST-MODIFIED:20250514T004403Z
UID:10004396-1748674800-1748701800@upbarreview.com
SUMMARY:UPHA Open Show - Pleasure Classes - Escanaba
DESCRIPTION:Join us for the first UPHA show of the 2025 season! Something new and different this year. We will be hosting a split/combined Pleasure classes only UPHA Show! Speed classes will be held at a different venue on a different date (announcing soon)to offer better footing for speed horses.\nStalls:Christa McCartyduelingpineranch@gmail.com​(906) 399-8292\nHorse Stalls: $40​Tack Stalls: $20Shavings: TBD\nMail Checks to:UPHAPO BOX 60Wells Mi 49829\n​Overall High Point for the weekend​Juvenile High pointJunior High pointSenior High pointWalk Trot Open High Point\nGrand & Reserve Classes Sponsored by Audrey and Dan MayvilleCheck out our website for additional show informationwww.upha.net
URL:https://upbarreview.com/event/upha-open-show-pleasure-classes-escanaba/2025-05-31/
LOCATION:UP State Fairgrounds\, 2401 12th Avenue North\, Escanaba
CATEGORIES:Menominee
END:VEVENT
BEGIN:VEVENT
DTSTART;TZID=UTC:20250531T080000
DTEND;TZID=UTC:20250531T120000
DTSTAMP:20260421T113707
CREATED:20250529T213001Z
LAST-MODIFIED:20250529T213001Z
UID:10004548-1748678400-1748692800@upbarreview.com
SUMMARY:Holy Spirit Catholic Church - Fundraiser Book Sale - Menominee
DESCRIPTION:Come look through at least a thousand books! Raising money for a local family in need. Free will offering. Lots of categories – cooking\, pets\, photography\, crafts\, quilting\, world\, History\, Christian\, novels\, fiction and lots more!\nLocation: Holy Spirit Parish Hall1016 10th AveMenominee\, MI\nsale hours:Thursday\, May 29 noon – 6:00 pmFriday\, May 30 8:00 – 6:00 pmSaturday\, May 31 8:00 am – noon\nthere are two outside doors you can use to enter the parish hall.\nQuestions? call Missy at 715-923-1333
URL:https://upbarreview.com/event/holy-spirit-catholic-church-fundraiser-book-sale-menominee/2025-05-31/
CATEGORIES:Menominee
END:VEVENT
BEGIN:VEVENT
DTSTART;TZID=UTC:20250531T090000
DTEND;TZID=UTC:20250531T120000
DTSTAMP:20260421T113707
CREATED:20250428T124102Z
LAST-MODIFIED:20250428T124921Z
UID:10004201-1748682000-1748692800@upbarreview.com
SUMMARY:Menominee Historic Downtown Farmers Market
DESCRIPTION:The countdown is on! Join us at Spies Public Library Parking Lot on May 24\, 2025\, from 9 AM to 12 PM for the grand opening of the Menominee Historic Downtown Farmers Market—and don’t forget\, we’ll be here every Saturday after that!\nEach week\, we’ll spotlight one of our amazing returning vendors\, and this week\, we’re thrilled to feature Rabbitry & Yarn LLC! ��\nGet ready for a stunning selection of: � Handspun yarn & handmade knitwear/crochet items\, designed and created with love � Naturally dyed mill-spun wool yarns using plants and insects for a truly one-of-a-kind touch � A special mill-spun blend of local sheep & angora fiber (if the mill finishes it in time!) � Beautiful handmade wood items—bowls\, honey dippers\, toys\, all crafted from local woods � A custom-designed organic cotton tote bag (because\, of course\, it features an adorable rabbit!)\nDon’t miss out on this fantastic opportunity to shop local\, support artisans\, and be part of something special. Mark your calendars and we’ll see you there!\n#FarmersMarket #ShopLocal #HandmadeGoods #RabbitryAndYarn #MenomineeMarket
URL:https://upbarreview.com/event/menominee-historic-downtown-farmers-market-5/2025-05-31/
LOCATION:Spies Public Library\, 940 1st St.\, Menominee\, MI\, 49858
CATEGORIES:Menominee
END:VEVENT
BEGIN:VEVENT
DTSTART;TZID=UTC:20250531T100000
DTEND;TZID=UTC:20250531T120000
DTSTAMP:20260421T113707
CREATED:20250514T004529Z
LAST-MODIFIED:20250514T004529Z
UID:10004398-1748685600-1748692800@upbarreview.com
SUMMARY:Escanaba Highschool - Spectacular Show 2025 - Escanaba
DESCRIPTION:Triple A Gymnastics’ Annual Spectacular Show!\nOur event is $10 for admission – 5 & under free. It starts at 11 am for the first show which will be our advanced and competitive team girls. The second show will be at 12:30 pm for the beginner and tot kids. The last show will be for intermediate at 2:00 pm.
URL:https://upbarreview.com/event/escanaba-highschool-spectacular-show-2025-escanaba/
LOCATION:Escanaba High School
CATEGORIES:Menominee
END:VEVENT
BEGIN:VEVENT
DTSTART;TZID=UTC:20250531T100000
DTEND;TZID=UTC:20250531T140000
DTSTAMP:20260421T113707
CREATED:20250207T201054Z
LAST-MODIFIED:20250207T201054Z
UID:10003115-1748685600-1748700000@upbarreview.com
SUMMARY:Blazing Bear Homestead - Baby Goat Cuddle Sessions - Peshtigo
DESCRIPTION:Tiny hooves\, big hearts: Get your cuddles & giggles in with our baby goats!\nBlazing Bear Homestead is excited to offer Baby Goat Cuddle Sessions again in 2025! Immerse yourself in a world of cuddly goats\, where soft fur\, warm snuggles\, and contagious laughter await. Bring your loved ones or come solo – our friendly goats are here to make your heart happy. Casi will be there to answer any questions you have\, help you get some great pictures\, and tell you all about our little herd.\nPrice is per person participating\, maximum of 6 per time slot. Each person will get a small cup of grain to feed to the goats that are old enough to have them. We provide benches for you to sit on and each guest gets a complimentary beverage to enjoy.\nIf you would like a private session\, you are welcome to buy out all tickets for that time slot\, or contact us to set up a special session time. Please arrive 5 minutes early to sign waivers. Adults MUST accompany children 12 years of age and under at all times. Children 24 months and under get in free. Human attendees only\, no dogs/pets/outside animals of any kind.\nNOTE: These tickets are non-refundable. Baby Goat Cuddle Sessions are held in our detached garage\, rain or shine. The room is not climate controlled so please dress for the weather. We do not yet have a public restroom\, so please plan accordingly.\nSaturdaysMarch-July30 minute sessions starting at 10am\, 10:40am\, 11:20am\, 12pm\, 12:40pm\, 1:20pm\, and 2pm.\nBuy tickets here: https://www.blazingbearhomestead.net/goatevents
URL:https://upbarreview.com/event/blazing-bear-homestead-baby-goat-cuddle-sessions-peshtigo/2025-05-31/
LOCATION:Blazing Bear Homestead\, W3070 Hale School Rd\, Peshtigo\, WI\, 54157
CATEGORIES:Menominee
END:VEVENT
BEGIN:VEVENT
DTSTART;TZID=UTC:20250531T100000
DTEND;TZID=UTC:20250531T150000
DTSTAMP:20260421T113707
CREATED:20250428T134033Z
LAST-MODIFIED:20250428T134033Z
UID:10004245-1748685600-1748703600@upbarreview.com
SUMMARY:Rennes - Spring Craft Fair - Marinette
DESCRIPTION:Join us at Renaissance by Rennes-Marinette for our annual Spring Craft Fair! If the weather permits\, we’ll hold this event outdoors – otherwise\, we’ll move indoors.\nOur vendor list is still in development but always includes Tupperware\, knitted crafts\, wood carvings\, jewelry\, sewing and more!\nTo join us as a vendor\, contact Stephanie at stephaniel@rennesgroup.com.\nFree & open to the public.
URL:https://upbarreview.com/event/rennes-spring-craft-fair-marinette/
CATEGORIES:Menominee
END:VEVENT
BEGIN:VEVENT
DTSTART;TZID=UTC:20250531T120000
DTEND;TZID=UTC:20250531T160000
DTSTAMP:20260421T113707
CREATED:20250428T133927Z
LAST-MODIFIED:20250428T133927Z
UID:10004244-1748692800-1748707200@upbarreview.com
SUMMARY:Little River Country Club - Shamrocks Golf Tournament - Marinette
DESCRIPTION:Join us for our 2nd Annual Shamrocks Golf Tournament at Little River Country Club on Saturday\, May 31st!  Registration ends at 11:30a\, shotgun start at 12
URL:https://upbarreview.com/event/little-river-country-club-shamrocks-golf-tournament-marinette/
LOCATION:Little River Country Club\, N2235 Shore Dr\, Marinette\, WI\, 54143
CATEGORIES:Menominee
END:VEVENT
BEGIN:VEVENT
DTSTART;TZID=UTC:20250531T130000
DTEND;TZID=UTC:20250531T150000
DTSTAMP:20260421T113707
CREATED:20250514T021925Z
LAST-MODIFIED:20250514T021925Z
UID:10004510-1748696400-1748703600@upbarreview.com
SUMMARY:Dickinson County Library - Titanic and Her Local Ties - Iron Mountain
DESCRIPTION:Emily Cummings\, local history specialist\, will present on the construction\, voyage\, passengers\, and sinking of the Titanic. Passengers with local ties will be highlighted in this presentation.
URL:https://upbarreview.com/event/dickinson-county-library-titanic-and-her-local-ties-iron-mountain/
LOCATION:Dickinson County Library\, 401 Iron Mountain St\, Iron Mountain\, MI\, 49801
CATEGORIES:Ironmountain
END:VEVENT
BEGIN:VEVENT
DTSTART;TZID=UTC:20250531T140000
DTEND;TZID=UTC:20250531T180000
DTSTAMP:20260421T113707
CREATED:20250513T235738Z
LAST-MODIFIED:20250513T235738Z
UID:10004370-1748700000-1748714400@upbarreview.com
SUMMARY:Firelane Bar & Grill - Jimi Anderson Acousti-Co - Athelstane
DESCRIPTION:Come on out and show some love for Jimi Anderson’s Acousti-Co!
URL:https://upbarreview.com/event/firelane-bar-grill-jimi-anderson-acousti-co-athelstane/
LOCATION:Firelane Bar & Grill\, W10876 County Road C\, Athelstane\, WI
CATEGORIES:Menominee
END:VEVENT
BEGIN:VEVENT
DTSTART;TZID=UTC:20250531T150000
DTEND;TZID=UTC:20250531T180000
DTSTAMP:20260421T113707
CREATED:20250529T212704Z
LAST-MODIFIED:20250529T212704Z
UID:10004545-1748703600-1748714400@upbarreview.com
SUMMARY:Spirit House - Sparkle and Shine Jewelery - Menominee
DESCRIPTION:Shiny things are happening May 31 at Spirit House.\nWe’re teaming up with Connected by Charm for a night that’s all about the details—because you deserve a little extra sparkle.\nWant something timeless? Get permanent jewelry custom-fit and welded on the spot.Feeling playful? Our charm bar lets you mix\, match\, and create your own unique look—no long-term commitment required.\nJewelry\, cocktails\, good vibes—what more could you need?\nMay 31. Spirit House. Let’s make it a night to shine
URL:https://upbarreview.com/event/spirit-house-sparkle-and-shine-jewelery-menominee/
LOCATION:Spirit House\, 533 10th Ave\, Menominee\, MI 49858\, Menominee\, MI\, 49858\, United States
CATEGORIES:Menominee
END:VEVENT
BEGIN:VEVENT
DTSTART;TZID=UTC:20250531T180000
DTEND;TZID=UTC:20250531T193000
DTSTAMP:20260421T113707
CREATED:20250529T212830Z
LAST-MODIFIED:20250529T212830Z
UID:10004546-1748714400-1748719800@upbarreview.com
SUMMARY:Sno-Haven Pottery - Adult Wheel Night - Menominee
DESCRIPTION:Saturday Nights are great fun at Sno-Haven Pottery . Learning to throw on a potter’s wheel in this one time lesson. The cost of the evening is $45.00 plus tax. Which includes entrance to our Glaze Studio 2 weeks later or on any Sunday Afternoon from 1-4pm\, to complete your pottery. NO EXPERIENCE is neccessary as we go step by step to help you create your very own wheel thrown pottery. Be sure to reserve your place in the class by calling 715-587-2163
URL:https://upbarreview.com/event/sno-haven-pottery-adult-wheel-night-menominee/
LOCATION:Sno Haven Pottery\, 1215 9th St\, Marinette\, WI\, 54143
CATEGORIES:Menominee
END:VEVENT
BEGIN:VEVENT
DTSTART;TZID=UTC:20250531T180000
DTEND;TZID=UTC:20250531T220000
DTSTAMP:20260421T113707
CREATED:20250513T233632Z
LAST-MODIFIED:20250513T233632Z
UID:10004348-1748714400-1748728800@upbarreview.com
SUMMARY:The Garage - The Cheese Doodles - Oconto
DESCRIPTION:Saturday May 31st mark your calendars for a party at The Garage Bar in Oconto\, WI! Music starts at 6pm and we’ll have a cold drink waiting for you.
URL:https://upbarreview.com/event/the-garage-the-cheese-doodles-oconto/
LOCATION:The Garage\, 1200 Main St\, Oconto\, WI\, 54153\, United States
CATEGORIES:Menominee
END:VEVENT
BEGIN:VEVENT
DTSTART;TZID=UTC:20250531T180000
DTEND;TZID=UTC:20250531T220000
DTSTAMP:20260421T113707
CREATED:20250514T015700Z
LAST-MODIFIED:20250514T015700Z
UID:10004494-1748714400-1748728800@upbarreview.com
SUMMARY:Sandstone Terrace - Wingin it on the Roof Top - Iron Mountain
DESCRIPTION:This will be our first gig at the Sandstone Terrace and we are very excited to play here!
URL:https://upbarreview.com/event/sandstone-terrace-wingin-it-on-the-roof-top-iron-mountain/
LOCATION:Sandstone Terrace Rooftop Bar\, 220 Iron Mountain St\, Iron Mountain\, MI\, 49801
CATEGORIES:Ironmountain
END:VEVENT
BEGIN:VEVENT
DTSTART;TZID=UTC:20250531T190000
DTEND;TZID=UTC:20250531T220000
DTSTAMP:20260421T113707
CREATED:20250430T005934Z
LAST-MODIFIED:20250430T005934Z
UID:10004265-1748718000-1748728800@upbarreview.com
SUMMARY:The Lodge - Modern Day Drifters - Marinette
DESCRIPTION:Door County’s own 5 piece powerhouse. Playing over 50 years of country hits and all time favorites as well as our own originals.
URL:https://upbarreview.com/event/the-lodge-modern-day-drifters-marinette/
LOCATION:Ironworks\, 1333 Main St.\, Marinette\, WI\, 54143\, United States
CATEGORIES:Menominee
END:VEVENT
BEGIN:VEVENT
DTSTART;TZID=UTC:20250531T210000
DTEND;TZID=UTC:20250531T233000
DTSTAMP:20260421T113707
CREATED:20250403T020116Z
LAST-MODIFIED:20250403T020116Z
UID:10003880-1748725200-1748734200@upbarreview.com
SUMMARY:Wild Horse Saloon - Karaoke - Iron Mountain
DESCRIPTION:Welcome to the Hottest Karaoke show in Town! Every Saturday at The Wild Horse Saloon\, in Iron Mountain\, MI Starts at 9:00 pm\nCreate your FREE Performer Account with Songbooks Online App to Browse the Karaoke song library\, keep a favorites list and submit your song requests remotely!\nUse Show ID: MSK23 after you create your account. You can also just tell me your name and the song you want if you don’t know how to install an app.
URL:https://upbarreview.com/event/wild-horse-saloon-karaoke-iron-mountain-2/2025-05-31/
LOCATION:Wild Horse Saloon\, 713 River Ave\, Iron Mountain\, MI\, 49801
CATEGORIES:Ironmountain
END:VEVENT
BEGIN:VEVENT
DTSTART;TZID=UTC:20250601T070000
DTEND;TZID=UTC:20250601T143000
DTSTAMP:20260421T113707
CREATED:20250514T004335Z
LAST-MODIFIED:20250514T004403Z
UID:10004397-1748761200-1748788200@upbarreview.com
SUMMARY:UPHA Open Show - Pleasure Classes - Escanaba
DESCRIPTION:Join us for the first UPHA show of the 2025 season! Something new and different this year. We will be hosting a split/combined Pleasure classes only UPHA Show! Speed classes will be held at a different venue on a different date (announcing soon)to offer better footing for speed horses.\nStalls:Christa McCartyduelingpineranch@gmail.com​(906) 399-8292\nHorse Stalls: $40​Tack Stalls: $20Shavings: TBD\nMail Checks to:UPHAPO BOX 60Wells Mi 49829\n​Overall High Point for the weekend​Juvenile High pointJunior High pointSenior High pointWalk Trot Open High Point\nGrand & Reserve Classes Sponsored by Audrey and Dan MayvilleCheck out our website for additional show informationwww.upha.net
URL:https://upbarreview.com/event/upha-open-show-pleasure-classes-escanaba/2025-06-01/
LOCATION:UP State Fairgrounds\, 2401 12th Avenue North\, Escanaba
CATEGORIES:Menominee
END:VEVENT
BEGIN:VEVENT
DTSTART;TZID=UTC:20250601T110000
DTEND;TZID=UTC:20250601T150000
DTSTAMP:20260421T113707
CREATED:20250514T010356Z
LAST-MODIFIED:20250514T010356Z
UID:10004419-1748775600-1748790000@upbarreview.com
SUMMARY:DNR Pocket Park - Spring Into Scouting - Escanaba
DESCRIPTION:You Are Invited to Spring Into Scouting at the DNR Pocket ParkFamilies of Boys and Girls ages 5 and up are invited to join us at the DNR Pocket Park for our Spring Into Scouting adventure!\nJoin us for fishing\, archery\, raingutter regatta\, dutch oven cooking and more! This is an open house style event introducing your family to our programs for all area families!\nInformation on how to join will be available including financial assistance information.\nPatrick O’Brien\, patrick.obrien@scouting.org\, Call or Text: 616-278-0808
URL:https://upbarreview.com/event/dnr-pocket-park-spring-into-scouting-escanaba/
LOCATION:Michigan DNR Pocket Park\, 2401 12th Avenue North\, Escanaba\, MI\, 49829
CATEGORIES:Menominee
END:VEVENT
BEGIN:VEVENT
DTSTART;TZID=UTC:20250601T130000
DTEND;TZID=UTC:20250601T150000
DTSTAMP:20260421T113707
CREATED:20250403T001956Z
LAST-MODIFIED:20250403T001956Z
UID:10003737-1748782800-1748790000@upbarreview.com
SUMMARY:Country Roads Bar & Grill - Bingo Sunday - Wausaukee
DESCRIPTION:Sunday Funday Bingo! $1/game per board. Come for all the games or jump in whenever!
URL:https://upbarreview.com/event/country-roads-bar-grill-bingo-sunday-wausaukee/2025-06-01/
LOCATION:Country Roads Bar & Grill\, W8901 Co Rd C\, Wausaukee\, WI
CATEGORIES:Menominee
END:VEVENT
BEGIN:VEVENT
DTSTART;TZID=UTC:20250601T140000
DTEND;TZID=UTC:20250601T160000
DTSTAMP:20260421T113707
CREATED:20250514T021254Z
LAST-MODIFIED:20250514T021254Z
UID:10004504-1748786400-1748793600@upbarreview.com
SUMMARY:The Braumart - Datura - Iron Mountain
DESCRIPTION:A classical music trioLynn’s Local Live presents A Braumart special event!\nDatura is the collaboration of Thomas Niebrzydowski\, Christianna Maule-Tekampe\, and Natasha Maule-Tekampe. This guitar\, violin\, and cello trio performs classical\, Celtic\, Eastern European\, and other music from around the world. Formed in July 2022\, the group has appeared regularly in the Iron Mountain area.\n“Datura’s exceptional music will transport you around the world. Come to The Braumart for a relaxing afternoon of beautiful sounds by this local treasure\,” – Sarah Rice\, Braumart Board Member.\nDoors at 1 pm (CST)/Concert at 2 pm (CST)Tickets are $12 online and at the Door
URL:https://upbarreview.com/event/the-braumart-datura-iron-mountain/
LOCATION:The Braumart Theatre\, 106 E B St\, Iron Mountain\, MI\, 49801
CATEGORIES:Ironmountain
END:VEVENT
BEGIN:VEVENT
DTSTART;TZID=UTC:20250601T140000
DTEND;TZID=UTC:20250601T180000
DTSTAMP:20260421T113707
CREATED:20250428T125416Z
LAST-MODIFIED:20250428T125416Z
UID:10004235-1748786400-1748800800@upbarreview.com
SUMMARY:Pit Bros - Smoke on the Water Smoke Off - Menominee
DESCRIPTION:Come on out for the 2nd annual Smoke on the Water Smoke Off!
URL:https://upbarreview.com/event/pit-bros-smoke-on-the-water-smoke-off-menominee/
LOCATION:Pit Bros BBQ\, 625 10th Ave\, Menominee\, MI\, 49858
CATEGORIES:Menominee
END:VEVENT
BEGIN:VEVENT
DTSTART;TZID=UTC:20250601T150000
DTEND;TZID=UTC:20250601T170000
DTSTAMP:20260421T113707
CREATED:20250514T000931Z
LAST-MODIFIED:20250514T000931Z
UID:10004374-1748790000-1748797200@upbarreview.com
SUMMARY:Sidetrack Restaurant - Summer Concert Series
DESCRIPTION:Live music on weekends all summer. Check out the facebook page for whos playing on what day
URL:https://upbarreview.com/event/sidetrack-restaurant-summer-concert-series/2025-06-01/
LOCATION:Sidetrack Restaurant\, N15903 Pine St\, Powers\, MI
CATEGORIES:Menominee
END:VEVENT
BEGIN:VEVENT
DTSTART;TZID=UTC:20250602T140000
DTEND;TZID=UTC:20250602T160000
DTSTAMP:20260421T113707
CREATED:20250428T125018Z
LAST-MODIFIED:20250428T125018Z
UID:10004232-1748872800-1748880000@upbarreview.com
SUMMARY:McCrafties - Mushroom Medley - Menominee
DESCRIPTION:Join us for “Mushroom Medley\,” an exciting art class that explores how to utilize negative space to create a bright graphic style painting.\nWe will focus on creating a bold and bright painting in a graphic style\, encouraging participants to think outside the box and embrace their unique artistic voices. We provide all materials needed to create this beautiful masterpiece. This class will have no stencils.\nWhether you’re a seasoned artist or a curious beginner\, this event is designed to inspire creativity and self-expression. Gather your materials and prepare to craft stunning mushroom-inspired pieces that celebrate color\, form\, and individuality. Don’t miss this chance to connect with fellow art enthusiasts and unleash your imagination!\n\n**Details:**– **Date:** Junr 2\, 2025– **Time:** 2:00 PM-**Cost:** $30\n\nPAYMENT IN ADVANCE OF $30 IS REQUIRED.\nCall 715-440-5959 orSign-up onlinehttps://mccraftiellc.square.site/\n\nCLASS REFUND POLICY:\n-full in studio credit if cancellation is 1 week prior to the class-50% in studio credit up to 24 hours prior to class.-less than 24 hours notice\, no credit-NO SHOW/ NO CALL/NO CREDIT
URL:https://upbarreview.com/event/mccrafties-mushroom-medley-menominee/
LOCATION:McCrafties\, 625 1st St\, Menominee\, MI\, 49858\, United States
CATEGORIES:Menominee
END:VEVENT
BEGIN:VEVENT
DTSTART;TZID=UTC:20250602T150000
DTEND;TZID=UTC:20250602T180000
DTSTAMP:20260421T113707
CREATED:20250514T013812Z
LAST-MODIFIED:20250514T013812Z
UID:10004465-1748876400-1748887200@upbarreview.com
SUMMARY:Gladstone Farmers Market
DESCRIPTION:Join us every Monday from June through September at the Gladstone Farmers Market—where community\, creativity\, and fresh local flavor come together!\nLocated at the Market Square (907 Delta Ave) in the heart of downtown\, our market is more than just a place to shop—it’s an experience. Stroll through a vibrant selection of locally grown produce\, mouthwatering baked goods\, and one-of-a-kind artisan creations while enjoying the sounds of live music from talented local bands.\nWhether you’re a market regular or visiting for the first time\, we invite you to make Mondays in Gladstone a tradition! Come for the goods\, stay for the music\, and connect with friends and neighbors in a welcoming\, lively atmosphere.\nWe can’t wait to see you there!\nhttps://www.gladstonemi.gov/dda/page/farmers-market
URL:https://upbarreview.com/event/gladstone-farmers-market/2025-06-02/
CATEGORIES:Menominee
END:VEVENT
BEGIN:VEVENT
DTSTART;TZID=UTC:20250602T170000
DTEND;TZID=UTC:20250602T183000
DTSTAMP:20260421T113707
CREATED:20250207T193539Z
LAST-MODIFIED:20250207T193614Z
UID:10003007-1748883600-1748889000@upbarreview.com
SUMMARY:Kush and Pronk Farm - Learn How to Cloth Diaper Class - Escanaba
DESCRIPTION:Did you know that every disposable diaper that has ever been used is still sitting in a landfill\, not decomposing? Every. Single. One.\nCloth diapering of today is NOT the cloth diapering of the past. Gone are the dangerous pokey pins and difficult cleaning methods. Modern laundry machines and facilities make cloth diapering SO easy\, and we’ll teach you how in just 90 minutes! Hands-on classes (with dolls) allow partners to test out the different types of modern cloth diapers available to see which types may work best for you.\nMonthly 90 minute classes will be taught by Jennifer and/or Dominic Guzzetta of Kush & Pronk Farm at Kiddo’s Korner Boutique in Escanaba. Due to location size\, classes are limited to 4 partners. Partnerships cost $30\, can be paid via Venmo\, Cash or Check in store\, and must be paid to reserve your spot. Contact Kush & Pronk Farm to inquire about class availability.
URL:https://upbarreview.com/event/kush-and-pronk-farm-learn-how-to-cloth-diaper-class-escanaba/2025-06-02/
LOCATION:Kiddos Korner Boutique\, 1610 Ludington Ave\, Escanaba\, MI
CATEGORIES:Menominee
END:VEVENT
BEGIN:VEVENT
DTSTART;TZID=UTC:20250602T170000
DTEND;TZID=UTC:20250602T190000
DTSTAMP:20260421T113707
CREATED:20250403T022612Z
LAST-MODIFIED:20250403T022612Z
UID:10004125-1748883600-1748890800@upbarreview.com
SUMMARY:Forever Friendship Drop-in Center - Disorder Discussion Group - Kingsford
DESCRIPTION:We understand that the road to overcoming addiction is unique for each individual\, and we’re here to offer unwavering peer support\, personalized care\, and a beacon of hope for a brighter tomorrow! This is available to individuals with Substance Misuse Disorder & or Alcoholism + Mental Health Diagnosis
URL:https://upbarreview.com/event/forever-friendship-drop-in-center-disorder-discussion-group-kingsford/2025-06-02/
LOCATION:Forever Friendship Drop-in Center\, 501 S Carpenter Ave\, Kingsford\, MI
CATEGORIES:Ironmountain
END:VEVENT
BEGIN:VEVENT
DTSTART;TZID=UTC:20250602T190000
DTEND;TZID=UTC:20250602T210000
DTSTAMP:20260421T113707
CREATED:20250514T005420Z
LAST-MODIFIED:20250514T005420Z
UID:10004402-1748890800-1748898000@upbarreview.com
SUMMARY:Karas Bandshell -Music Mondays - Escanaba
DESCRIPTION:The Karas Bandshell stage in Escanaba’s Waterfront Park for a performance in the “Music Mondays” summer concert series! Bring a blanket or lawn chair and relax.  Concert time is 7:00 p.m. EST.
URL:https://upbarreview.com/event/karas-bandshell-music-mondays-escanaba/2025-06-02/
LOCATION:Karas Bandshell\, Loren W Jenkins Memorial Dr\, Escanaba\, MI\, 49829
CATEGORIES:Menominee
END:VEVENT
END:VCALENDAR