BEGIN:VCALENDAR
VERSION:2.0
PRODID:-//UP BAR REVIEW - ECPv6.14.2//NONSGML v1.0//EN
CALSCALE:GREGORIAN
METHOD:PUBLISH
X-ORIGINAL-URL:https://upbarreview.com
X-WR-CALDESC:Events for UP BAR REVIEW
REFRESH-INTERVAL;VALUE=DURATION:PT1H
X-Robots-Tag:noindex
X-PUBLISHED-TTL:PT1H
BEGIN:VTIMEZONE
TZID:UTC
BEGIN:STANDARD
TZOFFSETFROM:+0000
TZOFFSETTO:+0000
TZNAME:UTC
DTSTART:20250101T000000
END:STANDARD
END:VTIMEZONE
BEGIN:VEVENT
DTSTART;TZID=UTC:20250520T080000
DTEND;TZID=UTC:20250520T100000
DTSTAMP:20260421T113729
CREATED:20250514T014402Z
LAST-MODIFIED:20250514T014402Z
UID:10004488-1747728000-1747735200@upbarreview.com
SUMMARY:LakeHouse - The Patriots Brew - Gladstone
DESCRIPTION:Start your day with hot coffee\, delicious donuts and conversation with friends! Meet our fantastic team as we share information and answer questions about our community.\nCall for more Information: 906-310-0656!
URL:https://upbarreview.com/event/lakehouse-the-patriots-brew-gladstone/
LOCATION:Saunders Point Brewing\, 8199 M-35\, Gladstone\, MI
CATEGORIES:Menominee
END:VEVENT
BEGIN:VEVENT
DTSTART;TZID=UTC:20250520T100000
DTEND;TZID=UTC:20250520T130000
DTSTAMP:20260421T113729
CREATED:20250207T193742Z
LAST-MODIFIED:20250207T193742Z
UID:10003024-1747735200-1747746000@upbarreview.com
SUMMARY:Escanaba Public Library - Tech Help Tuesdays - Escanaba
DESCRIPTION:Need help printing from your phone? Setting up Libby on your personal device? Using Zoom? How about getting started on your Chromebook or iPad? Using a Wi-Fi hotspot? Creating an email address? Google searches? or how to use the library’s online catalog?\nWe have the answers and assistance you need! Make an appointment or stop in at the circulation desk. Appointments are one hour (maximum).\nThe Escanaba Public Library staff do not repair computers/devices. The library assumes no liability for personal patron devices.
URL:https://upbarreview.com/event/escanaba-public-library-tech-help-tuesdays-escanaba/2025-05-20/
LOCATION:Escanaba Public Library\, 400 Ludington St\, Escanaba\, WI\, 49829
CATEGORIES:Menominee
END:VEVENT
BEGIN:VEVENT
DTSTART;TZID=UTC:20250520T110000
DTEND;TZID=UTC:20250520T120000
DTSTAMP:20260421T113729
CREATED:20250514T022809Z
LAST-MODIFIED:20250514T022809Z
UID:10004515-1747738800-1747742400@upbarreview.com
SUMMARY:YMCA - Healthcare Guidance & Learning Session - Iron Mountain
DESCRIPTION:Join us for this excellent opportunity to learn and ask questions about Important health-related concerns. Emily Alessandroni\, PT\, DPT is going to guide us in the right direction with a simple combination of diet\, exercise\, and lifestyle choices that can improve your Pelvic Floor Health and increase your quality of life.
URL:https://upbarreview.com/event/ymca-healthcare-guidance-learning-session-iron-mountain/
LOCATION:Northern Lights YMCA Dickinson Center\, 800 Crystal Lake Blvd\, Iron Mountain\, MI\, 49801
CATEGORIES:Ironmountain
END:VEVENT
BEGIN:VEVENT
DTSTART;TZID=UTC:20250520T120000
DTEND;TZID=UTC:20250520T140000
DTSTAMP:20260421T113729
CREATED:20250430T024053Z
LAST-MODIFIED:20250430T024053Z
UID:10004303-1747742400-1747749600@upbarreview.com
SUMMARY:Pelkins Smokey Meats - Knife Sharpening - Crivitz
DESCRIPTION:I will be sharpening at Pelkin’s Smokey Meat Market in Crivits on the 3rd Tuesday of each month from 12:00pm-2:00pm! Items include knives\, scissors\, garden tools and much more! Sharpening is done while you wait on a first come\, first served basis!\nMay 20thJune 17thJuly 15thAugust 19thSeptember 16thOctober 21st\n600 S US Hwy 141\, Crivits
URL:https://upbarreview.com/event/pelkins-smokey-meats-knife-sharpening-crivitz/2025-05-20/
LOCATION:Pelkins Smokey Meat Market\, 600 S US Highway 141\, Crivitz\, WI
CATEGORIES:Menominee
END:VEVENT
BEGIN:VEVENT
DTSTART;TZID=UTC:20250520T150000
DTEND;TZID=UTC:20250520T170000
DTSTAMP:20260421T113729
CREATED:20250514T011231Z
LAST-MODIFIED:20250514T011231Z
UID:10004429-1747753200-1747760400@upbarreview.com
SUMMARY:Baby Cafe - Escanaba
DESCRIPTION:Free support for pregnant moms and moms with babies! Come hang out or bring questions\, we’re happy to help!
URL:https://upbarreview.com/event/baby-cafe-escanaba/
LOCATION:Pregnancy Services of Delta County\, 2501 First Ave\, Escanaba\, MI
CATEGORIES:Menominee
END:VEVENT
BEGIN:VEVENT
DTSTART;TZID=UTC:20250520T163000
DTEND;TZID=UTC:20250520T183000
DTSTAMP:20260421T113729
CREATED:20250514T010132Z
LAST-MODIFIED:20250514T010132Z
UID:10004417-1747758600-1747765800@upbarreview.com
SUMMARY:Escanaba Public Library - Michigan Notable Author Tour - Escanaba
DESCRIPTION:Come to the Escanaba Public Library for a Reading and Book Signing by Michigan Notable Author Keith Taylor on Tuesday\, May 20 at 5:30 p.m.\n“What Can the Matter Be?” a 2025 Michigan Notable Selection\, explores themes of aging\, death\, and place\, offering reflections on both personal and global scales. Through poems and prose\, Mr. Taylor showcases his keen observational skills and deep appreciation for nature\, while balancing serious themes with moments of humor and joy. The work invites empathy and contemplation\, urging readers to reflect on life’s fleeting nature and the interconnectedness of all things.\nMr. Taylor is an A. L. Becker Collegiate Lecturer in English (retired) and a former Director of the Bear River Writers’ Conference (retired). He will have books available for purchase on-site.\nFor more information visit our website at www.escanabalibrary.org.
URL:https://upbarreview.com/event/escanaba-public-library-michigan-notable-author-tour-escanaba/
LOCATION:Escanaba Public Library\, 400 Ludington St\, Escanaba\, WI\, 49829
CATEGORIES:Menominee
END:VEVENT
BEGIN:VEVENT
DTSTART;TZID=UTC:20250520T170000
DTEND;TZID=UTC:20250520T190000
DTSTAMP:20260421T113729
CREATED:20250514T023240Z
LAST-MODIFIED:20250514T023240Z
UID:10004519-1747760400-1747767600@upbarreview.com
SUMMARY:KnightOwl Sportsbar - Live Music - Norway
DESCRIPTION:Live music on the patio may 20thFeaturing just the two of usStop by and see what Vickie and David have to offer
URL:https://upbarreview.com/event/knightowl-sportsbar-live-music-norway/
LOCATION:KnightOwl Sportsbar\, 1035 Main St\, Norway\, MI
CATEGORIES:Ironmountain
END:VEVENT
BEGIN:VEVENT
DTSTART;TZID=UTC:20250520T180000
DTEND;TZID=UTC:20250520T200000
DTSTAMP:20260421T113729
CREATED:20250402T234345Z
LAST-MODIFIED:20250402T234345Z
UID:10003354-1747764000-1747771200@upbarreview.com
SUMMARY:Mo's Pub - Trivia Night - Escanaba
DESCRIPTION:Join us for our Tuesday Trivia!!!! We will start at 7pm and we’ll be in the back room of the pub. TRIVIA TIME!!!! Trivia starts at 7pm!!!!6 Prizes given out.1st place $50 Mos Card 2nd place $25 Mos Card 3rd place $15 Mos Card 4th\, 5th and last place a free appetizer. $2 domestic beer. $3.50 rail\, $2.00 off Specialty Pizza\, $1.00 off specialty burger. We are looking forward to spending the time with you!!!
URL:https://upbarreview.com/event/mos-pub-trivia-night-escanaba/2025-05-20/
LOCATION:Mo’s Pub\, 2116 Ludington St\, Escanaba\, MI\, 49829
CATEGORIES:Menominee
END:VEVENT
BEGIN:VEVENT
DTSTART;TZID=UTC:20250520T180000
DTEND;TZID=UTC:20250520T200000
DTSTAMP:20260421T113729
CREATED:20250520T014555Z
LAST-MODIFIED:20250520T014555Z
UID:10004543-1747764000-1747771200@upbarreview.com
SUMMARY:Small Business Meeting - Menominee
DESCRIPTION:
URL:https://upbarreview.com/event/small-business-meeting-menominee-2/
CATEGORIES:Menominee
END:VEVENT
BEGIN:VEVENT
DTSTART;TZID=UTC:20250520T200000
DTEND;TZID=UTC:20250520T233000
DTSTAMP:20260421T113729
CREATED:20250403T021715Z
LAST-MODIFIED:20250403T021741Z
UID:10003993-1747771200-1747783800@upbarreview.com
SUMMARY:Forever Friendship Drop-in Center - Mindfulness\, Meditation\, Mandalas - Kingsford
DESCRIPTION:Art Therapy Style Group\nMindfulness is the practice of purposely bringing one’s attention in the present moment without judgment.\nJoin each week to create a unique art project to help you cope with your mental health
URL:https://upbarreview.com/event/forever-friendship-drop-in-center-mindfulness-meditation-mandalas-kingsford-2/2025-05-20/
LOCATION:Forever Friendship Drop-in Center\, 501 S Carpenter Ave\, Kingsford\, MI
CATEGORIES:Ironmountain
END:VEVENT
BEGIN:VEVENT
DTSTART;TZID=UTC:20250521T083000
DTEND;TZID=UTC:20250521T100000
DTSTAMP:20260421T113729
CREATED:20250402T230155Z
LAST-MODIFIED:20250402T230234Z
UID:10003294-1747816200-1747821600@upbarreview.com
SUMMARY:Monthly CBA Meeting - Crivitz
DESCRIPTION:Join us the 3rd Wednesday of every month for the CBA Meeting!Discussion topics such as\, business involvement\, village events\, village improvements and so much more!Current\, New and Old Business Welcome!
URL:https://upbarreview.com/event/monthly-cba-meeting-crivitz/2025-05-21/
LOCATION:800 Henriette Ave\, Crivitz\, WI
CATEGORIES:Menominee
END:VEVENT
BEGIN:VEVENT
DTSTART;TZID=UTC:20250521T130000
DTEND;TZID=UTC:20250521T160000
DTSTAMP:20260421T113729
CREATED:20250403T015518Z
LAST-MODIFIED:20250403T015518Z
UID:10003832-1747832400-1747843200@upbarreview.com
SUMMARY:Bored Bard Games - Board Games - Iron Mountain
DESCRIPTION:Come join us for unique and engaging games and make a few new friends along the way. Plus it is all FUN & FREE!
URL:https://upbarreview.com/event/bored-bard-games-board-games-iron-mountain/2025-05-21/
LOCATION:Bored Bard Games\, 224 E Hughitt St\, Iron Mountain\, mi\, 49801
CATEGORIES:Ironmountain
END:VEVENT
BEGIN:VEVENT
DTSTART;TZID=UTC:20250521T160000
DTEND;TZID=UTC:20250521T210000
DTSTAMP:20260421T113729
CREATED:20250403T022035Z
LAST-MODIFIED:20250403T022035Z
UID:10004068-1747843200-1747861200@upbarreview.com
SUMMARY:Knights of Columbus - Super Bingo - Kingsford
DESCRIPTION:Super Bingo$2\,535 Regular Pay Out(Attendance Permitting)22 Games for $12.00 Per PackPull Tab GamesHot BallComplete Concession StandDoors open at 4:00Early bird games start at 6:00Regular bingo starts at 6:30
URL:https://upbarreview.com/event/knights-of-columbus-super-bingo-kingsford/2025-05-21/
LOCATION:Knights of Columbus Kingsford\, 520 West Breitung Ave\, Kingsford\, MI
CATEGORIES:Ironmountain
END:VEVENT
BEGIN:VEVENT
DTSTART;TZID=UTC:20250521T170000
DTEND;TZID=UTC:20250521T190000
DTSTAMP:20260421T113729
CREATED:20250514T015455Z
LAST-MODIFIED:20250514T015455Z
UID:10004492-1747846800-1747854000@upbarreview.com
SUMMARY:Bens Artistic Edge Art Studio - Beach Glass Wind Chime - Iron Mountain
DESCRIPTION:Join our beach glass workshop to create beautiful wind chimes!The top of your wind chimes is created with a real\, large starfish. Each string of beach glass will swing from the arms of the starfish to create a beautiful sound and look. Participants get to choose the beach glass colors of their choice. Perfect to hang and enjoy.\nAges 10 and up welcome.
URL:https://upbarreview.com/event/bens-artistic-edge-art-studio-beach-glass-wind-chime-iron-mountain/
LOCATION:Ben’s Artistic Edge Art Studio\, 407 Carpenter Ave\, Iron Mountain\, MI
CATEGORIES:Ironmountain
END:VEVENT
BEGIN:VEVENT
DTSTART;TZID=UTC:20250521T180000
DTEND;TZID=UTC:20250521T210000
DTSTAMP:20260421T113729
CREATED:20250514T020153Z
LAST-MODIFIED:20250514T020153Z
UID:10004498-1747850400-1747861200@upbarreview.com
SUMMARY:Dickinson County Library - Terrarium Workshop - Iron Mountain
DESCRIPTION:Local artist\, Sarah Rice\, will lead an art class on making terrariums. Terrariums are small enclosures for plants that can be great decorations all year long. Each participant will get to create their own to take home. Required registration begins Wednesday\, May 14; please call (906)774-1218 to sign up!
URL:https://upbarreview.com/event/dickinson-county-library-terrarium-workshop-iron-mountain/
LOCATION:Dickinson County Library\, 401 Iron Mountain St\, Iron Mountain\, MI\, 49801
CATEGORIES:Ironmountain
END:VEVENT
BEGIN:VEVENT
DTSTART;TZID=UTC:20250522T080000
DTEND;TZID=UTC:20250522T170000
DTSTAMP:20260421T113729
CREATED:20241202T212718Z
LAST-MODIFIED:20241202T212718Z
UID:10002548-1747900800-1747933200@upbarreview.com
SUMMARY:Biehl Bridges to Recovery - Overeaters Anonymous - Marinette
DESCRIPTION:A new year! A new you! Want to know if you’re an overeater? Struggling to find support? Wanting support? Come join us on Thursday evenings from 5:30pm-6:30pm.
URL:https://upbarreview.com/event/biehl-bridges-to-recovery-overeaters-anonymous-marinette/2025-05-22/
LOCATION:Biehl Bridge To Recovery\, 3123 Shore Dr\, Marinette\, WI\, 54143
CATEGORIES:Menominee
END:VEVENT
BEGIN:VEVENT
DTSTART;TZID=UTC:20250522T100000
DTEND;TZID=UTC:20250522T233000
DTSTAMP:20260421T113729
CREATED:20241029T145445Z
LAST-MODIFIED:20241029T145445Z
UID:10002247-1747908000-1747956600@upbarreview.com
SUMMARY:Alibi's - Free Pool Thursdays - Marinette
DESCRIPTION:Free Pool!!
URL:https://upbarreview.com/event/alibis-free-pool-thursdays-marinette/2025-05-22/
LOCATION:ALiBi Bar & Grill\, 829 Main St\, Marinette\, WI\, 54143\, United States
CATEGORIES:Menominee
END:VEVENT
BEGIN:VEVENT
DTSTART;TZID=UTC:20250522T160000
DTEND;TZID=UTC:20250522T180000
DTSTAMP:20260421T113729
CREATED:20250514T010035Z
LAST-MODIFIED:20250514T010035Z
UID:10004416-1747929600-1747936800@upbarreview.com
SUMMARY:Amvets Post 123 - Learn about VA Loans & Free Hot Dogs for Vets - Escanaba
DESCRIPTION:Free event to learn about VA Home Loans presented by UP State Bank. Learn about how the program runs\, who qualifies\, etc.\nFree Hot Dogs for Veterans\, check out the club\, and sit and chat.\nAmvets is a veteran run organization that hosts events\, presentations\, music\, sponsorships\, community engagement and much more. Music on the weekends.\nCome on down and check us out! Ask how to join.
URL:https://upbarreview.com/event/amvets-post-123-learn-about-va-loans-free-hot-dogs-for-vets-escanaba/
LOCATION:Amvets Post 123\, 1315 N Lincoln Rd\, Escanaba\, MI
CATEGORIES:Menominee
END:VEVENT
BEGIN:VEVENT
DTSTART;TZID=UTC:20250522T160000
DTEND;TZID=UTC:20250522T180000
DTSTAMP:20260421T113729
CREATED:20250514T010249Z
LAST-MODIFIED:20250514T010249Z
UID:10004418-1747929600-1747936800@upbarreview.com
SUMMARY:Bay De Noc College - How to Plant a Pollinator Garden - Escanaba
DESCRIPTION:Join us for a workshop to learn how to plant a pollinator garden with Ashley Reitter District Manager at Schoolcraft Conservation District. The workshop will be held in the Joseph Heirman University Center on the campus of Bay de Noc Community College\, Room 911. How to Plant a Pollinator Garden will begin at 5:00 pm eastern and run till 6:45 pm. This is a free workshop. Please register at https://www.deltacd.org/…/How_to_Plant_a_Pollinator….
URL:https://upbarreview.com/event/bay-de-noc-college-how-to-plant-a-pollinator-garden-escanaba/
LOCATION:Bay de Noc Community College\, Escanaba\, MI
CATEGORIES:Menominee
END:VEVENT
BEGIN:VEVENT
DTSTART;TZID=UTC:20250522T160000
DTEND;TZID=UTC:20250522T180000
DTSTAMP:20260421T113729
CREATED:20250514T011530Z
LAST-MODIFIED:20250514T011530Z
UID:10004445-1747929600-1747936800@upbarreview.com
SUMMARY:Little Bay Aquatics - Infant First Aid/CPR - Escanaba
DESCRIPTION:Location:Bethany Lutheran Church202 S 11th st. Escanaba\, MI\nCourse Date:May 22nd 5pm-8pm\nCourse Cost:$45 per person\nCourse Purpose:This course is being offered to parents\, caregivers and expecting parents of children under 1 year of age.\nCourse Objectives:-Describe the key emergency action steps\, CHECK—CALL—CARE when caring for infants.-Demonstrate how to perform high-quality CPR for infants.-Recognize when a responsive infant is choking.-Demonstrate how to care for an infant who is responsive and choking.-Describe how to care for an infant who becomes unresponsive.-Describe the sudden illnesses that are especially common in children and in infants and explain how to give care.-Describe pediatric considerations for life-threatening bleeding.-Explain how to use a pediatric tourniquet to control life-threatening bleeding in young children\nCourse Completion:To receive a certification\, participants must do the following…-Attend and participate in all class sessions-Actively participate in all course activities\, including assuming various roles during skill practices and assessment.-Demonstrate competency in all required skills.-Successfully complete all assessment scenarios.\nUpon successful completion of the course\, participants will receive an American Red Cross Infant First Aid/CPR certification lasting 2 years.\nAmerican Red Cross Instructor:Cherish Hoylittlebayaquatics@gmail.com920-333-2320www.littlebayaquatics.com
URL:https://upbarreview.com/event/little-bay-aquatics-infant-first-aid-cpr-escanaba/
CATEGORIES:Menominee
END:VEVENT
BEGIN:VEVENT
DTSTART;TZID=UTC:20250522T160000
DTEND;TZID=UTC:20250522T200000
DTSTAMP:20260421T113729
CREATED:20250514T023421Z
LAST-MODIFIED:20250514T023435Z
UID:10004520-1747929600-1747944000@upbarreview.com
SUMMARY:Car & Offroad Meet Up - Norway
DESCRIPTION:Rev it up—Thursday Nights at Norway Mountain are for the gearheads!\nGot a car\, side-by-side\, Jeep\, or off-road rig you love to show off? Or just want to hang with others who share your passion for horsepower and mud?\nJoin us every Thursday from 4–8 PM at Norway Mountain for an open\, no-entry-fee vehicle meetup!Cruise in\, park\, chat\, and check out some awesome rides—come and go as you please.\nAnd while you’re here\, head upstairs to Moosehead Bar & Restaurant for some great food\, cold drinks\, and unbeatable views.\nLet’s make Thursday nights the best pit stop of the week!
URL:https://upbarreview.com/event/car-offroad-meet-up-norway/2025-05-22/
CATEGORIES:Ironmountain
END:VEVENT
BEGIN:VEVENT
DTSTART;TZID=UTC:20250522T170000
DTEND;TZID=UTC:20250522T190000
DTSTAMP:20260421T113729
CREATED:20250403T021855Z
LAST-MODIFIED:20250403T021855Z
UID:10004031-1747933200-1747940400@upbarreview.com
SUMMARY:Forever Friendship Drop-in Center - Womens Discussion Group- Kingsford
DESCRIPTION:Safe space for women with mental health diagnoses to discuss issues real women face in society.Play games\, enjoy community outings and events.
URL:https://upbarreview.com/event/forever-friendship-drop-in-center-womens-discussion-group-kingsford-2/2025-05-22/
LOCATION:Forever Friendship Drop-in Center\, 501 S Carpenter Ave\, Kingsford\, MI
CATEGORIES:Ironmountain
END:VEVENT
BEGIN:VEVENT
DTSTART;TZID=UTC:20250522T170000
DTEND;TZID=UTC:20250522T200000
DTSTAMP:20260421T113729
CREATED:20250430T014403Z
LAST-MODIFIED:20250430T014403Z
UID:10004285-1747933200-1747944000@upbarreview.com
SUMMARY:McCrafties - Great Eggspectation Canvas - Menominee
DESCRIPTION: **Great Eggspectation: Acrylic Canvas Painting Class** **Date:** Thursday\, May 22 **Time:** 5:00 PM **Cost:** $30 per person\nUnleash your creativity in this instructor-guided painting class! Inspired by the serene beauty of nature\, you’ll create your own masterpiece featuring a robin perched on a nest of blue eggs\, surrounded by delicate blossoms.\n **What to Expect:**– Step-by-step guidance from a skilled instructor.– Stencil placement to help bring your vision to life.– A relaxed and welcoming atmosphere for artists of all levels.\nWhether you’re a seasoned painter or a beginner\, this class is the perfect opportunity to explore your artistic side and connect with fellow art enthusiasts.\nPRE-PAYMENT of $30 is required to save your spot. Feel free to call the studio with any questions or to sign up. 715-440-5959\nOr use our easy to navigate website.\nhttps://mccraftiellc.square.site/\n-All skill levels are welcome-We provide all the necessary suppliesWe look forward to crafting with you\nCLASS REFUND POLICY:\n-full in studio credit if cancellation is 1 week prior to the class-50% in studio credit up to 24 hours prior to the class-less than 24 hours’ notice\, no credit-NO SHOW/NO CALL/NO CREDIT
URL:https://upbarreview.com/event/mccrafties-great-eggspectation-canvas-menominee/
LOCATION:McCrafties\, 625 1st St\, Menominee\, MI\, 49858\, United States
CATEGORIES:Menominee
END:VEVENT
BEGIN:VEVENT
DTSTART;TZID=UTC:20250522T173000
DTEND;TZID=UTC:20250522T190000
DTSTAMP:20260421T113729
CREATED:20250514T013154Z
LAST-MODIFIED:20250514T013154Z
UID:10004453-1747935000-1747940400@upbarreview.com
SUMMARY:Saunders Point Brewing - Paint & Pour - Gladstone
DESCRIPTION:Grab your friends and join us for a creative night out at Saunders Point Brewing! On Thursday\, May 22nd at 6:30PM\, we’re bringing the brushes\, the brews\, and the bridge — all you need to bring is a love for fun and maybe your favorite snack.\nWe’ll be painting a beautiful Sunlit Mackinac Bridge scene on a pre-sketched 16×20 canvas. No painting experience needed — just come ready to follow along\, sip on some local craft beer (or LaCroix)\, and enjoy the vibes!\n $40 per person – Message the host to reserve your spot Payment due at booking via Venmo Music\, good company\, and all the painting supplies provided Wear clothes you don’t mind getting paint on (aprons provided!) Craft beer\, soda\, and LaCroix available – BYO snacks welcome!\nLet’s make some art and memories at Saunders Point Brewing\, Downtown Gladstone’s creative watering hole. Cheers to painting\, pouring\, and good times! 
URL:https://upbarreview.com/event/saunders-point-brewing-paint-pour-gladstone/
LOCATION:Saunders Point Brewing\, 8199 M-35\, Gladstone\, MI
CATEGORIES:Menominee
END:VEVENT
BEGIN:VEVENT
DTSTART;TZID=UTC:20250522T180000
DTEND;TZID=UTC:20250522T210000
DTSTAMP:20260421T113729
CREATED:20241001T040448Z
LAST-MODIFIED:20241001T040448Z
UID:10001887-1747936800-1747947600@upbarreview.com
SUMMARY:Spirit House -Trivia Night! - Menominee
DESCRIPTION:Trivia Night Thursday at Spirit House\, come check out this awesome event!!!!
URL:https://upbarreview.com/event/spirit-house-trivia-night-menominee/2025-05-22/
LOCATION:Spirit House\, 533 10th Ave\, Menominee\, MI 49858\, Menominee\, MI\, 49858\, United States
CATEGORIES:Menominee
END:VEVENT
BEGIN:VEVENT
DTSTART;TZID=UTC:20250523T130000
DTEND;TZID=UTC:20250523T150000
DTSTAMP:20260421T113729
CREATED:20250403T022458Z
LAST-MODIFIED:20250403T022458Z
UID:10004109-1748005200-1748012400@upbarreview.com
SUMMARY:Forever Friendship Drop-in Center - Budgeting 101 - Kingsford
DESCRIPTION:
URL:https://upbarreview.com/event/forever-friendship-drop-in-center-budgeting-101-kingsford-2/2025-05-23/
LOCATION:Forever Friendship Drop-in Center\, 501 S Carpenter Ave\, Kingsford\, MI
CATEGORIES:Ironmountain
END:VEVENT
BEGIN:VEVENT
DTSTART;TZID=UTC:20250523T170000
DTEND;TZID=UTC:20250523T190000
DTSTAMP:20260421T113729
CREATED:20250403T021557Z
LAST-MODIFIED:20250403T021615Z
UID:10003956-1748019600-1748026800@upbarreview.com
SUMMARY:Forever Friendship Drop-in Center - Mens Social Sober Club - Kingsford
DESCRIPTION:A safe and sober space for men to get together and hangout or talk about issues that affect men in our society. We have different games\, community outings and events depending on wether.
URL:https://upbarreview.com/event/forever-friendship-drop-in-center-mens-social-sober-club-iron-mountain/2025-05-23/
LOCATION:Forever Friendship Drop-in Center\, 501 S Carpenter Ave\, Kingsford\, MI
CATEGORIES:Ironmountain
END:VEVENT
BEGIN:VEVENT
DTSTART;TZID=UTC:20250523T170000
DTEND;TZID=UTC:20250523T190000
DTSTAMP:20260421T113729
CREATED:20250514T014219Z
LAST-MODIFIED:20250514T014219Z
UID:10004486-1748019600-1748026800@upbarreview.com
SUMMARY:Saunders Point Brewing - Live Music - Gladstone
DESCRIPTION:Get ready to welcome George Sailer back to the brewery for another unforgettable night of live music! Let his music fill the room while we pour our finest craft beers to create the perfect atmosphere. Join us for a night of great music\, memorable moments\, and exceptional brews—cheers to an evening you won’t forget!
URL:https://upbarreview.com/event/saunders-point-brewing-live-music-gladstone-5/
LOCATION:Saunders Point Brewing\, 8199 M-35\, Gladstone\, MI
CATEGORIES:Menominee
END:VEVENT
BEGIN:VEVENT
DTSTART;TZID=UTC:20250523T190000
DTEND;TZID=UTC:20250523T210000
DTSTAMP:20260421T113729
CREATED:20250430T011408Z
LAST-MODIFIED:20250430T011408Z
UID:10004276-1748026800-1748034000@upbarreview.com
SUMMARY:St. Thomas Aquinas Academy - UTL Pro Wrestling / Benefit for Aiden - Marinette
DESCRIPTION:Under The Lights Entertainment Live Professional Wrestling returns to St Thomas Aquinas Academy in Marinette on Friday\, May 23rd\, 2025 for Fight For Aiden\, an event to support and raise funds for 10 year old Aiden of Menominee Michigan as he is battling B-Cell ALL (acute lymphoblastic leukemia ) cancer! Let’s make his fight\, our fight! Aiden’s story is listed down below.\nEvent info:This will be a fun\, family friendly\, community event.\nDoors will open and raffles (50/50 and paddle wheel/bucket raffles) will start selling at 5:30 pm.\nThe wrestlingaction will start at 7:00pm!\n\nTickets available at Jack’s Fresh Market locactions in Marinette & Menominee\, Bloom Salon & Boutique in Menominee\, & online at UTLWrestling.ticketleap.com/FightforAiden\nTicket prices will be:First Row Table of 6: $150 (Only Available Online)Second Row Table of 6: $125 (Only Available Online)Ringside (Floor seating):$10/$15 the day ofGeneral Admission (Bleacher seating): $5/$10 the day of.\nJoin us for a night of Wrestling\, Music\, Raffles\, and more. Concessions will be available for purchase.\nSigned matches:UTL World Championship Match!“The Beast” Kaz Karter vs “The Golden Lion” Lennox Leone\nWomen’s Match!Macauly Rose vs “Muscle Mommy” Mya Caras\nUTL Stars in Action:Joey “JET’ AvalonThe Baker BoysSystemRush 180Silky SmoothEnoch The Alpha KingThe ProfessorXavier Mustafaand more (Card as always is subject to change)\nSt Thomas Aquinas AcademyAddress:1200 Main Street\, Marinette\, WI\nMore show info to be announced\nThe son of Nathan Hardy and Paige Marsh\, Aiden is a 10 year old boy who was diagnosed at 9 years old with B-Cell ALL (acute lymphoblastic leukemia ) cancer. Aiden is such a wonderful young man! He loves and enjoys building things with his Legos\, loves to draw and dance around! Before Aiden’s diagnosis\, he was such an active\, energetic boy. Aiden is undergoing chemotherapy at St Vincent Children’s in Green Bay WI. Aiden was completely non mobile for months due to chemo meds causing a lot of muscle weakness in his legs. He has come such a long way with the help of PT and is now slowly walking again with little help! With mom having to be a stay at home mom to care for Aiden during this difficult time\, the family is struggling tomake ends meet financially to give Aiden the care he absolutely needs.Let’s do what we can to help them out!\nWe are looking for help from area businesses to help with the costs of this event. Please take a look at the sponsorship brochurewith the different sponsorship packages inside\, to see what fits your advertising needs the best to help this family out in their time of need. The Sponsorship Brochure is posted in the discussion section of the event page. For a copy of the sponsorship brochure\, to sponsor/donate\, or have any questions\, contact Ryan Bruno Leisman directly on Facebook or email him at leisman62@gmail.com.\nThe deadline for the Silver and higher packages is Monday\, April 21st.The Bronze package deadline is Wednesday\, May 14th.Any and all help would be appreciated!\nWe could always use extra volunteers to help us out with these events. Anything from hanging up posters\, to help with event set up and tear down. Message Ryan Bruno Leisman or the UTL page directly on Facebook.
URL:https://upbarreview.com/event/st-thomas-aquinas-academy-utl-pro-wrestling-benefit-for-aiden-marinette/
CATEGORIES:Menominee
END:VEVENT
BEGIN:VEVENT
DTSTART;TZID=UTC:20250523T190000
DTEND;TZID=UTC:20250523T223000
DTSTAMP:20260421T113729
CREATED:20250430T010454Z
LAST-MODIFIED:20250430T010454Z
UID:10004269-1748026800-1748039400@upbarreview.com
SUMMARY:The Lodge - Live Music w/ Carmyn - Marinette
DESCRIPTION:Carmyn is a multifaceted performer and singer-songwriter. A recognizable vocal powerhouse\, you may has seen her from both her full band The Third Wheels and duo Open Tab. The set list is diverse with songs from all over the board and some original music as well.
URL:https://upbarreview.com/event/the-lodge-live-music-w-carmyn-marinette/
LOCATION:Ironworks\, 1333 Main St.\, Marinette\, WI\, 54143\, United States
CATEGORIES:Menominee
END:VEVENT
END:VCALENDAR