BEGIN:VCALENDAR
VERSION:2.0
PRODID:-//UP BAR REVIEW - ECPv6.14.2//NONSGML v1.0//EN
CALSCALE:GREGORIAN
METHOD:PUBLISH
X-ORIGINAL-URL:https://upbarreview.com
X-WR-CALDESC:Events for UP BAR REVIEW
REFRESH-INTERVAL;VALUE=DURATION:PT1H
X-Robots-Tag:noindex
X-PUBLISHED-TTL:PT1H
BEGIN:VTIMEZONE
TZID:UTC
BEGIN:STANDARD
TZOFFSETFROM:+0000
TZOFFSETTO:+0000
TZNAME:UTC
DTSTART:20250101T000000
END:STANDARD
END:VTIMEZONE
BEGIN:VEVENT
DTSTART;TZID=UTC:20250515T080000
DTEND;TZID=UTC:20250515T170000
DTSTAMP:20260419T210717
CREATED:20241202T212718Z
LAST-MODIFIED:20241202T212718Z
UID:10002547-1747296000-1747328400@upbarreview.com
SUMMARY:Biehl Bridges to Recovery - Overeaters Anonymous - Marinette
DESCRIPTION:A new year! A new you! Want to know if you’re an overeater? Struggling to find support? Wanting support? Come join us on Thursday evenings from 5:30pm-6:30pm.
URL:https://upbarreview.com/event/biehl-bridges-to-recovery-overeaters-anonymous-marinette/2025-05-15/
LOCATION:Biehl Bridge To Recovery\, 3123 Shore Dr\, Marinette\, WI\, 54143
CATEGORIES:Menominee
END:VEVENT
BEGIN:VEVENT
DTSTART;TZID=UTC:20250515T090000
DTEND;TZID=UTC:20250515T190000
DTSTAMP:20260419T210717
CREATED:20250514T001244Z
LAST-MODIFIED:20250514T001244Z
UID:10004382-1747299600-1747335600@upbarreview.com
SUMMARY:Camping World - Red\, White\, and New Trade Event - Escanaba
DESCRIPTION: Red\, White & NEW Trade Event \nIt’s our BIGGEST RV trade event of the year. Get the highest value for your RV\, GUARANTEED*! Plus\, shop the best RV deals in America with new RVs starting as low as $92/month**.\n Highest trade value\, GUARANTEED* New RVs starting at just $92/month** Up to 45% off grills 25% off product installation Free hats\, food\, propane refills\, and fun for the whole family!…AND MORE!\nThursday\, May 15th: 9AM – 7PM EDTFriday\, May 16th: 9AM – 7PM EDTSaturday\, May 17th: 9AM – 7PM EDTSunday\, May 18th: 11AM – 5PM EDT
URL:https://upbarreview.com/event/camping-world-red-white-and-new-trade-event-escanaba/2025-05-15/
CATEGORIES:Menominee
END:VEVENT
BEGIN:VEVENT
DTSTART;TZID=UTC:20250515T100000
DTEND;TZID=UTC:20250515T233000
DTSTAMP:20260419T210717
CREATED:20241029T145445Z
LAST-MODIFIED:20241029T145445Z
UID:10002246-1747303200-1747351800@upbarreview.com
SUMMARY:Alibi's - Free Pool Thursdays - Marinette
DESCRIPTION:Free Pool!!
URL:https://upbarreview.com/event/alibis-free-pool-thursdays-marinette/2025-05-15/
LOCATION:ALiBi Bar & Grill\, 829 Main St\, Marinette\, WI\, 54143\, United States
CATEGORIES:Menominee
END:VEVENT
BEGIN:VEVENT
DTSTART;TZID=UTC:20250515T150000
DTEND;TZID=UTC:20250515T180000
DTSTAMP:20260419T210717
CREATED:20250430T015001Z
LAST-MODIFIED:20250430T015001Z
UID:10004288-1747321200-1747332000@upbarreview.com
SUMMARY:Popps Resort - TWL Spring UTV Ride - Crivitz
DESCRIPTION:In 2015 we decided we needed to add an event to kick off the riding season in style. We filled up Popp’s Resort and have been riding the trails of Marinette and Oconto County the same weekend in May ever since. It is a great time to get your “trail legs” back under you and renew old friendships and make new friends at the same time with a fellow group of enthusiasts who are excited to get back out riding.\nFor 2025 we will be hosted by the rustic Popp’s Resort & Twin Bridge Resort out of Crivitz. Your room package includes three nights stay\, continental breakfast\, lunch on the trail Fri and Sat\, dinner Friday night\, the send-off dinner party Saturday night\, and two full days of guided riding Fri and Sat.\nCheck-in is Thursday afternoon after 3:00. You will be on your own to explore the area for dinner that night or pick up something on the way up. Meet in the parking lot of Rene’s Fri and Sat morning at 9:00 to get ready for a day of riding. Both days of riding are mostly trail\, with a lunch stop at a local establishment included. Don’t forget snacks and beverages for trailside stops throughout the day. After a great day of riding Fri\, we all get together for dinner. And after Saturday’s ride\, we will also get together for dinner\, drinks\, and a ton of recapping your stories from the past weekend. Enjoy your evening\, get to bed\, wake up and head home Sunday morning.\nREGISTER HERE: https://form.jotform.com/232965376469170
URL:https://upbarreview.com/event/popps-resort-twl-spring-utv-ride-crivitz/2025-05-15/
LOCATION:Popps Resort\, W11590 CR-X\, Crivitz\, WI
CATEGORIES:Menominee
END:VEVENT
BEGIN:VEVENT
DTSTART;TZID=UTC:20250515T153000
DTEND;TZID=UTC:20250515T183000
DTSTAMP:20260419T210717
CREATED:20250402T212824Z
LAST-MODIFIED:20250402T212824Z
UID:10003248-1747323000-1747333800@upbarreview.com
SUMMARY:Sno-Haven Pottery - Youth Acrylic Painting Class - Marinette
DESCRIPTION:Youths will learn a many techniques of the how to’s in Acrylic Painting. We will explore values and a some color theory\, in addition to what makes a great composition\, color mixing. We will explore a wide variety of subjects matters\, from adding people\, painting florals\, landscapes\, sunsets\, clouds\, painting water and more. This class is open for ages 10 and up. The class is 5 sessions that meets for 1 hour a week on Thursdays at 3:30 pm to 4:30 pm. the cost of the class is $125.00 plus tax\, all materials are included. Call 715-587-2163 to register
URL:https://upbarreview.com/event/sno-haven-pottery-youth-acrylic-painting-class-marinette/2025-05-15/
LOCATION:Sno Haven Pottery\, 1215 9th St\, Marinette\, WI\, 54143
CATEGORIES:Menominee
END:VEVENT
BEGIN:VEVENT
DTSTART;TZID=UTC:20250515T170000
DTEND;TZID=UTC:20250515T190000
DTSTAMP:20260419T210718
CREATED:20250403T021855Z
LAST-MODIFIED:20250403T021855Z
UID:10004030-1747328400-1747335600@upbarreview.com
SUMMARY:Forever Friendship Drop-in Center - Womens Discussion Group- Kingsford
DESCRIPTION:Safe space for women with mental health diagnoses to discuss issues real women face in society.Play games\, enjoy community outings and events.
URL:https://upbarreview.com/event/forever-friendship-drop-in-center-womens-discussion-group-kingsford-2/2025-05-15/
LOCATION:Forever Friendship Drop-in Center\, 501 S Carpenter Ave\, Kingsford\, MI
CATEGORIES:Ironmountain
END:VEVENT
BEGIN:VEVENT
DTSTART;TZID=UTC:20250515T170000
DTEND;TZID=UTC:20250515T190000
DTSTAMP:20260419T210718
CREATED:20250514T013914Z
LAST-MODIFIED:20250514T013914Z
UID:10004483-1747328400-1747335600@upbarreview.com
SUMMARY:Saunders Point Brewing - Pyrography - Gladstone
DESCRIPTION:Are you looking for a new and unique way to express your creativity? Look no further because our pyrography workshop is here to ignite your imagination and create beautiful designs! Our workshop walks you through how to properly and safely use our burning tools to create a unique piece of art to take home with you!\nOur workshop offers several options for customization: hats\, purses\, journals and wood cutting boards. You’ll have the opportunity to choose from a variety of styles and templates or bring your own ideas to make your creation truly personal and unique.
URL:https://upbarreview.com/event/saunders-point-brewing-pyrography-gladstone/
LOCATION:Saunders Point Brewing\, 8199 M-35\, Gladstone\, MI
CATEGORIES:Menominee
END:VEVENT
BEGIN:VEVENT
DTSTART;TZID=UTC:20250515T173000
DTEND;TZID=UTC:20250515T190000
DTSTAMP:20260419T210718
CREATED:20250428T123426Z
LAST-MODIFIED:20250428T123426Z
UID:10004198-1747330200-1747335600@upbarreview.com
SUMMARY:McCrafties - Wild & Wonderful II - Menominee
DESCRIPTION:Step into a world of creativity and cool colors with “Wild and Wonderful II”!Join us for a whimsical afternoon for this step-by-step class. We provide all the materials and stencil! Grab a friend\, or 3\, for this fun funky flower class!\n**When:** May 15\, 2025**Where:** Mccraftie’s 625 1st St\, Menominee\, MI**Cost:** $40\nPAYMENT IN ADVANCE OF $40 IS REQUIRED.\nCall 715-440-5959 orSign-up onlinehttps://mccraftiellc.square.site/\n\nCLASS REFUND POLICY:\n-full in studio credit if cancellation is 1 week prior to the class-50% in studio credit up to 24 hours prior to class.-less than 24 hours notice\, no credit-NO SHOW/ NO CALL/NO CREDIT
URL:https://upbarreview.com/event/mccrafties-wild-wonderful-ii-menominee/
LOCATION:McCrafties\, 625 1st St\, Menominee\, MI\, 49858\, United States
CATEGORIES:Menominee
END:VEVENT
BEGIN:VEVENT
DTSTART;TZID=UTC:20250515T180000
DTEND;TZID=UTC:20250515T200000
DTSTAMP:20260419T210718
CREATED:20250428T134637Z
LAST-MODIFIED:20250430T013053Z
UID:10004248-1747332000-1747339200@upbarreview.com
SUMMARY:Elks Lodge - Music Bingo - Marinette
DESCRIPTION:Join us on the 3rd Thursday of the month for Music Bingo!
URL:https://upbarreview.com/event/elks-lodge-music-bingo-marinette/2025-05-15/
LOCATION:Elks Lodge #1313\, 430 Bridge St\, Marinette\, WI\, 54143
CATEGORIES:Menominee
END:VEVENT
BEGIN:VEVENT
DTSTART;TZID=UTC:20250515T180000
DTEND;TZID=UTC:20250515T210000
DTSTAMP:20260419T210718
CREATED:20241001T040448Z
LAST-MODIFIED:20241001T040448Z
UID:10001886-1747332000-1747342800@upbarreview.com
SUMMARY:Spirit House -Trivia Night! - Menominee
DESCRIPTION:Trivia Night Thursday at Spirit House\, come check out this awesome event!!!!
URL:https://upbarreview.com/event/spirit-house-trivia-night-menominee/2025-05-15/
LOCATION:Spirit House\, 533 10th Ave\, Menominee\, MI 49858\, Menominee\, MI\, 49858\, United States
CATEGORIES:Menominee
END:VEVENT
BEGIN:VEVENT
DTSTART;TZID=UTC:20250516T090000
DTEND;TZID=UTC:20250516T170000
DTSTAMP:20260419T210718
CREATED:20250430T015001Z
LAST-MODIFIED:20250430T015001Z
UID:10004289-1747386000-1747414800@upbarreview.com
SUMMARY:Popps Resort - TWL Spring UTV Ride - Crivitz
DESCRIPTION:In 2015 we decided we needed to add an event to kick off the riding season in style. We filled up Popp’s Resort and have been riding the trails of Marinette and Oconto County the same weekend in May ever since. It is a great time to get your “trail legs” back under you and renew old friendships and make new friends at the same time with a fellow group of enthusiasts who are excited to get back out riding.\nFor 2025 we will be hosted by the rustic Popp’s Resort & Twin Bridge Resort out of Crivitz. Your room package includes three nights stay\, continental breakfast\, lunch on the trail Fri and Sat\, dinner Friday night\, the send-off dinner party Saturday night\, and two full days of guided riding Fri and Sat.\nCheck-in is Thursday afternoon after 3:00. You will be on your own to explore the area for dinner that night or pick up something on the way up. Meet in the parking lot of Rene’s Fri and Sat morning at 9:00 to get ready for a day of riding. Both days of riding are mostly trail\, with a lunch stop at a local establishment included. Don’t forget snacks and beverages for trailside stops throughout the day. After a great day of riding Fri\, we all get together for dinner. And after Saturday’s ride\, we will also get together for dinner\, drinks\, and a ton of recapping your stories from the past weekend. Enjoy your evening\, get to bed\, wake up and head home Sunday morning.\nREGISTER HERE: https://form.jotform.com/232965376469170
URL:https://upbarreview.com/event/popps-resort-twl-spring-utv-ride-crivitz/2025-05-16/
LOCATION:Popps Resort\, W11590 CR-X\, Crivitz\, WI
CATEGORIES:Menominee
END:VEVENT
BEGIN:VEVENT
DTSTART;TZID=UTC:20250516T090000
DTEND;TZID=UTC:20250516T190000
DTSTAMP:20260419T210718
CREATED:20250514T001244Z
LAST-MODIFIED:20250514T001244Z
UID:10004383-1747386000-1747422000@upbarreview.com
SUMMARY:Camping World - Red\, White\, and New Trade Event - Escanaba
DESCRIPTION: Red\, White & NEW Trade Event \nIt’s our BIGGEST RV trade event of the year. Get the highest value for your RV\, GUARANTEED*! Plus\, shop the best RV deals in America with new RVs starting as low as $92/month**.\n Highest trade value\, GUARANTEED* New RVs starting at just $92/month** Up to 45% off grills 25% off product installation Free hats\, food\, propane refills\, and fun for the whole family!…AND MORE!\nThursday\, May 15th: 9AM – 7PM EDTFriday\, May 16th: 9AM – 7PM EDTSaturday\, May 17th: 9AM – 7PM EDTSunday\, May 18th: 11AM – 5PM EDT
URL:https://upbarreview.com/event/camping-world-red-white-and-new-trade-event-escanaba/2025-05-16/
CATEGORIES:Menominee
END:VEVENT
BEGIN:VEVENT
DTSTART;TZID=UTC:20250516T100000
DTEND;TZID=UTC:20250516T140000
DTSTAMP:20260419T210718
CREATED:20250428T125118Z
LAST-MODIFIED:20250428T125118Z
UID:10004233-1747389600-1747404000@upbarreview.com
SUMMARY:Meta 365 - Tarot and Palm Readings - Menominee
DESCRIPTION:Join me at Meta 365 Fitness in Menominee MI for card and palm readings. While you’re there\, check out the great deals going on for a new fitness membership!\nMessage me\, or call Meta 365 Fitness\, for an appointment. Walk-ins welcome.\n*You do not have to be a member to come here for a reading.
URL:https://upbarreview.com/event/meta-365-tarot-and-palm-readings-menominee/
LOCATION:Meta 365\, 1009 8th Ave\, Menominee\, MI\, 49858
CATEGORIES:Menominee
END:VEVENT
BEGIN:VEVENT
DTSTART;TZID=UTC:20250516T100000
DTEND;TZID=UTC:20250516T170000
DTSTAMP:20260419T210718
CREATED:20250428T130346Z
LAST-MODIFIED:20250428T130346Z
UID:10004240-1747389600-1747414800@upbarreview.com
SUMMARY:Goose & Gander Finery - Rummage Sale - Marinette
DESCRIPTION:We are cleaning out our overstock and are offering hundreds and hundreds of items at below cost prices! Leggings starting at $2\, jeans and dresses starting at $5\, sweaters\, sweatshirts\, displays\, home decor\, just to name a few.\nBE SURE TO CLICK INTERESTED\, AS I WILL BE POSTING PHOTOS AS IT GETS CLOSER:)
URL:https://upbarreview.com/event/goose-gander-finery-rummage-sale-marinette/2025-05-16/
LOCATION:The Goose & Gander Finery\, 1712 Dunlap Ave\, Marinette\, WI\, 54143
CATEGORIES:Menominee
END:VEVENT
BEGIN:VEVENT
DTSTART;TZID=UTC:20250516T160000
DTEND;TZID=UTC:20250516T170000
DTSTAMP:20260419T210718
CREATED:20250514T010912Z
LAST-MODIFIED:20250514T010912Z
UID:10004424-1747411200-1747414800@upbarreview.com
SUMMARY:May UKC Nosework Trial
DESCRIPTION:UKC Nosework Trial
URL:https://upbarreview.com/event/may-ukc-nosework-trial/2025-05-16/
LOCATION:UP State Fairgrounds\, 2401 12th Avenue North\, Escanaba
CATEGORIES:Menominee
END:VEVENT
BEGIN:VEVENT
DTSTART;TZID=UTC:20250516T170000
DTEND;TZID=UTC:20250516T190000
DTSTAMP:20260419T210718
CREATED:20250403T021557Z
LAST-MODIFIED:20250403T021615Z
UID:10003955-1747414800-1747422000@upbarreview.com
SUMMARY:Forever Friendship Drop-in Center - Mens Social Sober Club - Kingsford
DESCRIPTION:A safe and sober space for men to get together and hangout or talk about issues that affect men in our society. We have different games\, community outings and events depending on wether.
URL:https://upbarreview.com/event/forever-friendship-drop-in-center-mens-social-sober-club-iron-mountain/2025-05-16/
LOCATION:Forever Friendship Drop-in Center\, 501 S Carpenter Ave\, Kingsford\, MI
CATEGORIES:Ironmountain
END:VEVENT
BEGIN:VEVENT
DTSTART;TZID=UTC:20250516T170000
DTEND;TZID=UTC:20250516T200000
DTSTAMP:20260419T210718
CREATED:20250403T010058Z
LAST-MODIFIED:20250403T010058Z
UID:10003783-1747414800-1747425600@upbarreview.com
SUMMARY:Saunders Point Brewing - Live Music - Gladstone
DESCRIPTION:Join Jack Neumann at the brewery for a night of live music and fresh craft beers! Kick back\, relax\, and enjoy a great set while sipping on our finest brews. We can’t wait to see you there!
URL:https://upbarreview.com/event/saunders-point-brewing-live-music-gladstone-4/2025-05-16/
LOCATION:Saunders Point Brewing\, 8199 M-35\, Gladstone\, MI
CATEGORIES:Menominee
END:VEVENT
BEGIN:VEVENT
DTSTART;TZID=UTC:20250516T170000
DTEND;TZID=UTC:20250516T200000
DTSTAMP:20260419T210718
CREATED:20250514T014529Z
LAST-MODIFIED:20250514T014529Z
UID:10004489-1747414800-1747425600@upbarreview.com
SUMMARY:Saunders Point Brewing - Live Music - Gladstone
DESCRIPTION:Join Jack Neumann at the brewery for a night of live music and fresh craft beers! Kick back\, relax\, and enjoy a great set while sipping on our finest brews. We can’t wait to see you there!
URL:https://upbarreview.com/event/saunders-point-brewing-live-music-gladstone-6/2025-05-16/
LOCATION:Saunders Point Brewing\, 8199 M-35\, Gladstone\, MI
CATEGORIES:Menominee
END:VEVENT
BEGIN:VEVENT
DTSTART;TZID=UTC:20250516T170000
DTEND;TZID=UTC:20250516T220000
DTSTAMP:20260419T210718
CREATED:20250514T001416Z
LAST-MODIFIED:20250514T001416Z
UID:10004386-1747414800-1747432800@upbarreview.com
SUMMARY:Haley Station - Speed Dating - Escanaba
DESCRIPTION:In a small town where everyone seems to know everyone—finding someone new\, genuine\, and on your level can feel impossible. That’s why we’re bringing something different to Haley Station.This is not your average speed dating event. We’re creating a space for individuals who are intentional\, mature\, and ready to meet someone meaningful. Think quality over quantity—real conversation\, real chemistry\, and real potential.Whether you’re a professional\, entrepreneur\, or someone with ambition and heart—you’ll be in good company. This night is for those who are tired of the usual scene and not interested in casual hookups.Come dressed to impress\, enjoy great ambiance\, and make real connections with people who are just as serious about the next chapter as you are.Because in a small town\, it’s time to meet someone who feels like a fresh start.We will have 2 sessions.One session for age group 25-39One session for age group 40-59Event Schedule:Age Group 40-596:00pm – Speed Dating Check-in and Mixer6:30pm- Speed Dating Begins8:00pm – Cocktail hour and mixerAge Group 25-397:30pm – Speed Dating Check-in and Mixer8:00pm – Speed Dating Begins9:15pm – Cocktail Hour and mixer
URL:https://upbarreview.com/event/haley-station-speed-dating-escanaba/
LOCATION:Haley Station Wedding & Event Venue\, 1837 3rd Ave N\, Escanaba\, MI
CATEGORIES:Menominee
END:VEVENT
BEGIN:VEVENT
DTSTART;TZID=UTC:20250516T190000
DTEND;TZID=UTC:20250516T210000
DTSTAMP:20260419T210718
CREATED:20250513T233740Z
LAST-MODIFIED:20250513T233816Z
UID:10004349-1747422000-1747429200@upbarreview.com
SUMMARY:Machickanee Players - Keep on Laughing - Oconto
DESCRIPTION:Keep on Laughing is the sequel to Exit Laughing which Machickanee Players presented in May 2023. Whether you have seen the first show or not you need to add this one to your must see list. Connie\, Leona & Millie have been traveling the world and have returned home with some hysterical stories to tell. But a slip of the tongue about Paris reveals some secrets that were never meant to be revealed. Connie’s daughter Rachel and her husband Bobby are expecting twins and \,who have their own stories to tell\, are not happy when the Paris details are revealed. But what is even worse the problem has followed the ladies home from Paris. Hold on it’s going to be a bumpy ride!
URL:https://upbarreview.com/event/machickanee-players-keep-on-laughing-oconto-2/2025-05-16/
LOCATION:The Garage\, 1200 Main St\, Oconto\, WI\, 54153\, United States
CATEGORIES:Menominee
END:VEVENT
BEGIN:VEVENT
DTSTART;TZID=UTC:20250516T190000
DTEND;TZID=UTC:20250516T210000
DTSTAMP:20260419T210718
CREATED:20250514T020410Z
LAST-MODIFIED:20250514T020410Z
UID:10004500-1747422000-1747429200@upbarreview.com
SUMMARY:The Braumart - The Braumart - Iron Mountain
DESCRIPTION:Northern Michigan Dance Academy and The Dickinson Ballet Company Present: The Wizard of Oz – Down the Yellow Brick Road!\nJoin us for an unforgettable journey to the magical land of Oz! Follow Dorothy\, Toto and their friends as they travel down the Yellow Brick Road in this spectacular spring production! This show will captivate audiences of all ages.\nTICKETS ARE SOLD OUT FOR THE EVENTPlease contact info@thebraumart.org to inquire about ticket availability.
URL:https://upbarreview.com/event/the-braumart-the-braumart-iron-mountain/
LOCATION:The Braumart Theatre\, 106 E B St\, Iron Mountain\, MI\, 49801
CATEGORIES:Ironmountain
END:VEVENT
BEGIN:VEVENT
DTSTART;TZID=UTC:20250516T190000
DTEND;TZID=UTC:20250516T220000
DTSTAMP:20260419T210718
CREATED:20250514T001825Z
LAST-MODIFIED:20250514T001825Z
UID:10004390-1747422000-1747432800@upbarreview.com
SUMMARY:Ore House Pub - Sky Pilots - Escanaba
DESCRIPTION:Live Music!
URL:https://upbarreview.com/event/ore-house-pub-sky-pilots-escanaba/
LOCATION:Ore House Pub\, 1526 Sheridan Rd\, Escanaba\, MI
CATEGORIES:Menominee
END:VEVENT
BEGIN:VEVENT
DTSTART;TZID=UTC:20250516T200000
DTEND;TZID=UTC:20250516T230000
DTSTAMP:20260419T210718
CREATED:20250207T191746Z
LAST-MODIFIED:20250207T191746Z
UID:10002954-1747425600-1747436400@upbarreview.com
SUMMARY:The Granada - Karaoke Night - Escanaba
DESCRIPTION:Welcome to the Hottest Karaoke show in Town! Every Friday at The Granada in Escanaba\, MI Starts at 9:00 pm\nCreate your FREE Performer Account with Songbooks Online App to Browse the Karaoke song library\, keep a favorites list and submit your song requests remotely! Use Show ID: MSK23 after you create your account. You can also just tell me your name and the song you want if you don’t know how to install an app.
URL:https://upbarreview.com/event/the-granada-karaoke-night-escanaba/2025-05-16/
LOCATION:The Granada\, 330 S 10th St\, Escanaba\, MI
CATEGORIES:Menominee
END:VEVENT
BEGIN:VEVENT
DTSTART;TZID=UTC:20250517T070000
DTEND;TZID=UTC:20250517T150000
DTSTAMP:20260419T210718
CREATED:20250430T005800Z
LAST-MODIFIED:20250430T005800Z
UID:10004264-1747465200-1747494000@upbarreview.com
SUMMARY:10th Annual Marinette Police K9-5K
DESCRIPTION: 𝟏𝟎𝐭𝐡 𝐀𝐧𝐧𝐮𝐚𝐥 𝐌𝐚𝐫𝐢𝐧𝐞𝐭𝐭𝐞 𝐏𝐨𝐥𝐢𝐜𝐞 𝐊𝟗-𝟓𝐊 \nJoin us for the 𝟏𝟎𝐭𝐡 𝐀𝐧𝐧𝐮𝐚𝐥 𝐌𝐚𝐫𝐢𝐧𝐞𝐭𝐭𝐞 𝐏𝐨𝐥𝐢𝐜𝐞 𝐊𝟗-𝟓𝐊\, a fun run/walk in support of our hardworking K9 Unit! Come out\, get active\, and show your support for our four-legged officers. Bring your friends\, family\, and even your well-behaved dogs for a great cause!  Let’s make the 10th Annual K9-5K the best one yet!\n 𝗗𝗮𝘁𝗲: Saturday\, May 17\, 2025 𝗧𝗶𝗺𝗲: Race starts at 8:00 AM (Day-of registration: 7:00-7:45 AM) 𝗟𝗼𝗰𝗮𝘁𝗶𝗼𝗻: Marinette Community REC Center – 2501 Pierce Ave.\n 𝗧-𝗦𝗛𝗜𝗥𝗧 𝗗𝗘𝗔𝗗𝗟𝗜𝗡𝗘: Must register by 𝗠𝗮𝘆 𝟮𝗻𝗱 to receive an event T-shirt!\n Registration Fees: Pre-registration (Online or at the Community REC Center – 2501 Pierce Ave)– Adults: $25 (includes T-shirt)– Kids (6-12): $15 (includes T-shirt)– Children 5 & under: FREE (no T-shirt)\n Day of Registration (7:00-7:45 AM)– $25 for all participants (no T-shirt)\n Register today: https://tinyurl.com/2xak235r\nIf you have any questions\, please call The Marinette Police Department at 715-732-5200. You can also email ldegayner@marinette.wi.us or kmartin@marinette.wi.us
URL:https://upbarreview.com/event/10th-annual-marinette-police-k9-5k/
CATEGORIES:Menominee
END:VEVENT
BEGIN:VEVENT
DTSTART;TZID=UTC:20250517T080000
DTEND;TZID=UTC:20250517T110000
DTSTAMP:20260419T210718
CREATED:20250514T004749Z
LAST-MODIFIED:20250514T004749Z
UID:10004399-1747468800-1747479600@upbarreview.com
SUMMARY:Portage Marsh Spring Birding Event - Escanaba
DESCRIPTION:Enjoy a morning of birding with the DNR! Hike our 1-mile loop trail\, which includes 0.6 miles of unpaved trails along a historic dike system in Portage Marsh and a 0.4-mile beach walk along Lake Michigan. Professional birding instruction and technical assistance will be available. We will have binoculars for loan and spotting scope stations on our viewing platforms. Portable restrooms\, picnic tables\, and trash receptacles will also be available.\nTo ensure you have the best possible experience\, wear appropriate clothing and shoes\, and dress for the weather.\nFrom M-35\, head east on Portage Point 11.4 Ln. until you reach the parking lot.
URL:https://upbarreview.com/event/portage-marsh-spring-birding-event-escanaba/
CATEGORIES:Menominee
END:VEVENT
BEGIN:VEVENT
DTSTART;TZID=UTC:20250517T080000
DTEND;TZID=UTC:20250517T160000
DTSTAMP:20260419T210718
CREATED:20250428T133636Z
LAST-MODIFIED:20250428T133636Z
UID:10004243-1747468800-1747497600@upbarreview.com
SUMMARY:Calvary Church Assembly of God - Classic Car Show & Craft Fair - Marinette
DESCRIPTION:Two events – Something for Everyone! Car Show registration opens at 8:00am ($10 fee) and doors into the Craft fair open at 9:00am. Free event open to the public! Please do not respond to any comments. Sign up through tickets or message the church.
URL:https://upbarreview.com/event/calvary-church-assembly-of-god-classic-car-show-craft-fair-marinette/
LOCATION:Calvary Church\, W1498 State Highway 64\, Marinette\, WI
CATEGORIES:Menominee
END:VEVENT
BEGIN:VEVENT
DTSTART;TZID=UTC:20250517T090000
DTEND;TZID=UTC:20250517T140000
DTSTAMP:20260419T210718
CREATED:20250513T232518Z
LAST-MODIFIED:20250513T232518Z
UID:10004320-1747472400-1747490400@upbarreview.com
SUMMARY:Chic Boutique - Thrift Sale - Oconto
DESCRIPTION:Thrift Sale – Oconto\nThe sale will include a great variety of seasonal decor\, pottery\, baskets\, rugs\, candles\, dishes\, kitchen accessories\, framed art\, faux floral designs\, garden decor\, rustic wooden benches\, vintage metal lawn chairs\, collectibles\, and so much more!Also\, quality ladies clothing in sizes S – XL\, purses\, and jewelry.\nSaturday\, May 179:00 – 2:00816 Scherer Avenue – Oconto
URL:https://upbarreview.com/event/chic-boutique-thrift-sale-oconto/
LOCATION:Chic Boutique\, 816 Scherer Ave\, Oconto\, WI
CATEGORIES:Menominee
END:VEVENT
BEGIN:VEVENT
DTSTART;TZID=UTC:20250517T090000
DTEND;TZID=UTC:20250517T140000
DTSTAMP:20260419T210718
CREATED:20250514T000551Z
LAST-MODIFIED:20250514T000551Z
UID:10004373-1747472400-1747490400@upbarreview.com
SUMMARY:Library in Bloom - Stephenson
DESCRIPTION:The Friends of the Menominee County Library are having a Plant Fair on Saturday\, May 17th from 9am-2pm! There’ll be a variety of plants available\, art and craft vendors\, bucket raffles\, and music by Remedy featuring Kimberly Rae & Alex Hamilton!
URL:https://upbarreview.com/event/library-in-bloom-stephenson/
LOCATION:Menominee County Library\, S319 Railroad St\, Stephenson\, MI\, 49887
CATEGORIES:Menominee
END:VEVENT
BEGIN:VEVENT
DTSTART;TZID=UTC:20250517T090000
DTEND;TZID=UTC:20250517T170000
DTSTAMP:20260419T210718
CREATED:20250430T015001Z
LAST-MODIFIED:20250430T015001Z
UID:10004290-1747472400-1747501200@upbarreview.com
SUMMARY:Popps Resort - TWL Spring UTV Ride - Crivitz
DESCRIPTION:In 2015 we decided we needed to add an event to kick off the riding season in style. We filled up Popp’s Resort and have been riding the trails of Marinette and Oconto County the same weekend in May ever since. It is a great time to get your “trail legs” back under you and renew old friendships and make new friends at the same time with a fellow group of enthusiasts who are excited to get back out riding.\nFor 2025 we will be hosted by the rustic Popp’s Resort & Twin Bridge Resort out of Crivitz. Your room package includes three nights stay\, continental breakfast\, lunch on the trail Fri and Sat\, dinner Friday night\, the send-off dinner party Saturday night\, and two full days of guided riding Fri and Sat.\nCheck-in is Thursday afternoon after 3:00. You will be on your own to explore the area for dinner that night or pick up something on the way up. Meet in the parking lot of Rene’s Fri and Sat morning at 9:00 to get ready for a day of riding. Both days of riding are mostly trail\, with a lunch stop at a local establishment included. Don’t forget snacks and beverages for trailside stops throughout the day. After a great day of riding Fri\, we all get together for dinner. And after Saturday’s ride\, we will also get together for dinner\, drinks\, and a ton of recapping your stories from the past weekend. Enjoy your evening\, get to bed\, wake up and head home Sunday morning.\nREGISTER HERE: https://form.jotform.com/232965376469170
URL:https://upbarreview.com/event/popps-resort-twl-spring-utv-ride-crivitz/2025-05-17/
LOCATION:Popps Resort\, W11590 CR-X\, Crivitz\, WI
CATEGORIES:Menominee
END:VEVENT
BEGIN:VEVENT
DTSTART;TZID=UTC:20250517T090000
DTEND;TZID=UTC:20250517T190000
DTSTAMP:20260419T210718
CREATED:20250514T001244Z
LAST-MODIFIED:20250514T001244Z
UID:10004384-1747472400-1747508400@upbarreview.com
SUMMARY:Camping World - Red\, White\, and New Trade Event - Escanaba
DESCRIPTION: Red\, White & NEW Trade Event \nIt’s our BIGGEST RV trade event of the year. Get the highest value for your RV\, GUARANTEED*! Plus\, shop the best RV deals in America with new RVs starting as low as $92/month**.\n Highest trade value\, GUARANTEED* New RVs starting at just $92/month** Up to 45% off grills 25% off product installation Free hats\, food\, propane refills\, and fun for the whole family!…AND MORE!\nThursday\, May 15th: 9AM – 7PM EDTFriday\, May 16th: 9AM – 7PM EDTSaturday\, May 17th: 9AM – 7PM EDTSunday\, May 18th: 11AM – 5PM EDT
URL:https://upbarreview.com/event/camping-world-red-white-and-new-trade-event-escanaba/2025-05-17/
CATEGORIES:Menominee
END:VEVENT
END:VCALENDAR