BEGIN:VCALENDAR
VERSION:2.0
PRODID:-//UP BAR REVIEW - ECPv6.14.2//NONSGML v1.0//EN
CALSCALE:GREGORIAN
METHOD:PUBLISH
X-ORIGINAL-URL:https://upbarreview.com
X-WR-CALDESC:Events for UP BAR REVIEW
REFRESH-INTERVAL;VALUE=DURATION:PT1H
X-Robots-Tag:noindex
X-PUBLISHED-TTL:PT1H
BEGIN:VTIMEZONE
TZID:UTC
BEGIN:STANDARD
TZOFFSETFROM:+0000
TZOFFSETTO:+0000
TZNAME:UTC
DTSTART:20250101T000000
END:STANDARD
END:VTIMEZONE
BEGIN:VEVENT
DTSTART;TZID=UTC:20250509T120000
DTEND;TZID=UTC:20250509T133000
DTSTAMP:20260421T113951
CREATED:20250428T134349Z
LAST-MODIFIED:20250428T134349Z
UID:10004247-1746792000-1746797400@upbarreview.com
SUMMARY:Bayshore Arts Center - Law Enforcement Memorial
DESCRIPTION:National Police Week offers honor\, remembrance\, and peer support\, while allowing law enforcement\, survivors\, and citizens to gather and pay homage to those who gave their lives in the line of duty. It includes the National Peace Officers Memorial Service and other events throughout the week that honor those that paid the ultimate sacrifice.\nWe are dedicated to honoring the service and sacrifice of law enforcement officers and providing support to their families and colleagues.\nJoin us in our mission to show appreciation and gratitude for the men and women who courageously protect our communities
URL:https://upbarreview.com/event/bayshore-arts-center-law-enforcement-memorial/
LOCATION:Bayshore Arts Center\, 750 W Bay Shore St\, Marinette\, WI\, 54143
CATEGORIES:Menominee
END:VEVENT
BEGIN:VEVENT
DTSTART;TZID=UTC:20250509T130000
DTEND;TZID=UTC:20250509T150000
DTSTAMP:20260421T113951
CREATED:20250403T022352Z
LAST-MODIFIED:20250403T022352Z
UID:10004100-1746795600-1746802800@upbarreview.com
SUMMARY:Forever Friendship Drop-in Center - Budgeting 101 - Kingsford
DESCRIPTION:Learn how to make the most of a limited income while living within your means.Open to individuals employed or on visibility.We will offer night and day options to include more people but keep the groups small and confidential.
URL:https://upbarreview.com/event/forever-friendship-drop-in-center-budgeting-101-kingsford/2025-05-09/
CATEGORIES:Ironmountain
END:VEVENT
BEGIN:VEVENT
DTSTART;TZID=UTC:20250509T170000
DTEND;TZID=UTC:20250509T190000
DTSTAMP:20260421T113951
CREATED:20250403T021557Z
LAST-MODIFIED:20250403T021615Z
UID:10003954-1746810000-1746817200@upbarreview.com
SUMMARY:Forever Friendship Drop-in Center - Mens Social Sober Club - Kingsford
DESCRIPTION:A safe and sober space for men to get together and hangout or talk about issues that affect men in our society. We have different games\, community outings and events depending on wether.
URL:https://upbarreview.com/event/forever-friendship-drop-in-center-mens-social-sober-club-iron-mountain/2025-05-09/
LOCATION:Forever Friendship Drop-in Center\, 501 S Carpenter Ave\, Kingsford\, MI
CATEGORIES:Ironmountain
END:VEVENT
BEGIN:VEVENT
DTSTART;TZID=UTC:20250509T170000
DTEND;TZID=UTC:20250509T200000
DTSTAMP:20260421T113951
CREATED:20250403T005551Z
LAST-MODIFIED:20250403T005618Z
UID:10003779-1746810000-1746820800@upbarreview.com
SUMMARY:Saunders Point Brewing - Live Music - Gladstone
DESCRIPTION:Join us for a special night of soulful acoustic music with the talented Rob Rise. Set in the cozy ambiance of our brewery\, Rob’s live performance will create the perfect backdrop for an evening of relaxation and great conversation. Enjoy a selection of expertly crafted beers while immersing yourself in intimate\, unplugged tunes that promise to elevate your night.
URL:https://upbarreview.com/event/saunders-point-brewing-live-music-gladstone-3/2025-05-09/
LOCATION:Saunders Point Brewing\, 8199 M-35\, Gladstone\, MI
CATEGORIES:Menominee
END:VEVENT
BEGIN:VEVENT
DTSTART;TZID=UTC:20250509T200000
DTEND;TZID=UTC:20250509T230000
DTSTAMP:20260421T113951
CREATED:20250207T191746Z
LAST-MODIFIED:20250207T191746Z
UID:10002953-1746820800-1746831600@upbarreview.com
SUMMARY:The Granada - Karaoke Night - Escanaba
DESCRIPTION:Welcome to the Hottest Karaoke show in Town! Every Friday at The Granada in Escanaba\, MI Starts at 9:00 pm\nCreate your FREE Performer Account with Songbooks Online App to Browse the Karaoke song library\, keep a favorites list and submit your song requests remotely! Use Show ID: MSK23 after you create your account. You can also just tell me your name and the song you want if you don’t know how to install an app.
URL:https://upbarreview.com/event/the-granada-karaoke-night-escanaba/2025-05-09/
LOCATION:The Granada\, 330 S 10th St\, Escanaba\, MI
CATEGORIES:Menominee
END:VEVENT
BEGIN:VEVENT
DTSTART;TZID=UTC:20250509T210000
DTEND;TZID=UTC:20250509T233000
DTSTAMP:20260421T113951
CREATED:20250403T021054Z
LAST-MODIFIED:20250403T021054Z
UID:10003924-1746824400-1746833400@upbarreview.com
SUMMARY:Round 2 - Karaoke - Iron Mountain
DESCRIPTION:Karaoke Every Other Friday at Round 2 9pm to 1am
URL:https://upbarreview.com/event/round-2-karaoke-iron-mountain/2025-05-09/
LOCATION:Round 2\, 407 S Stephenson Ave\, Iron Mountain\, MI\, 49801
CATEGORIES:Ironmountain
END:VEVENT
BEGIN:VEVENT
DTSTART;TZID=UTC:20250510T090000
DTEND;TZID=UTC:20250510T120000
DTSTAMP:20260421T113951
CREATED:20250402T235010Z
LAST-MODIFIED:20250402T235010Z
UID:10003391-1746867600-1746878400@upbarreview.com
SUMMARY:Northern Lights YMCA - Mothers Day 5k & 1 Mile Walk - Escanaba
DESCRIPTION:Our Mother’s Day 5k Run & 1 mile walkDate May 10\,2025Time: 10 amThis year we are doing a 1 mile walk for the walkers.We will have awards\, refreshments and a brunch.More info TBD.
URL:https://upbarreview.com/event/northern-lights-ymca-mothers-day-5k-1-mile-walk-escanaba/
LOCATION:Northern Lights YMCA Dickinson Center\, 800 Crystal Lake Blvd\, Iron Mountain\, MI\, 49801
CATEGORIES:Menominee
END:VEVENT
BEGIN:VEVENT
DTSTART;TZID=UTC:20250510T090000
DTEND;TZID=UTC:20250510T150000
DTSTAMP:20260421T113951
CREATED:20250402T232934Z
LAST-MODIFIED:20250402T232934Z
UID:10003338-1746867600-1746889200@upbarreview.com
SUMMARY:UP State Fairgrounds - Delta Conservation District - Escanaba
DESCRIPTION:Come visit the Delta Conservation District booth at Plantchella. We will have information on our Native Plant Sale\, upcoming events\, information on services we provide and much more. We cannot wait to see you
URL:https://upbarreview.com/event/up-state-fairgrounds-delta-conservation-district-escanaba/
LOCATION:UP State Fairgrounds\, 2401 12th Avenue North\, Escanaba
CATEGORIES:Menominee
END:VEVENT
BEGIN:VEVENT
DTSTART;TZID=UTC:20250510T090000
DTEND;TZID=UTC:20250510T150000
DTSTAMP:20260421T113951
CREATED:20250402T233609Z
LAST-MODIFIED:20250402T233609Z
UID:10003343-1746867600-1746889200@upbarreview.com
SUMMARY:UP State Fairgrounds - Plantchella - Escanaba
DESCRIPTION:Escanaba’s First Ever Plant Expo is Coming!\nMark your calendars for May 10th\, 2025 for the plant party of the year! Whether you’re a green thumb\, crafty creator\, or just love good food and cool finds\, we’ve got something special for you!\nWhat’s Happening:\n* FREE Plant Swap with the one and only Plant Daddv Ashley – bring your plants\, swap for new favorites\, and grow your collection!\n* Homesteaders\, crafters\, and vendors galore with unique handmade goodies!\n* Soap makers\, fiber artists\, and plant lovers showing off their talents.\n* Food trucks serving up tasty bites to fuel your plant shopping spree.\nIt’s a day full of good vibes\, cool finds\, and of course\, PLANTS! Come for the greenery\, stay for the fun — we can’t wait to see you there!
URL:https://upbarreview.com/event/up-state-fairgrounds-plantchella-escanaba/
LOCATION:UP State Fairgrounds\, 2401 12th Avenue North\, Escanaba
CATEGORIES:Menominee
END:VEVENT
BEGIN:VEVENT
DTSTART;TZID=UTC:20250510T093000
DTEND;TZID=UTC:20250510T110000
DTSTAMP:20260421T113951
CREATED:20250430T010929Z
LAST-MODIFIED:20250430T010929Z
UID:10004273-1746869400-1746874800@upbarreview.com
SUMMARY:Calvary Church Assembly of God - Mothers Day Brunch - Marinette
DESCRIPTION:Calvary invites Grandma’s\, Moms\, Daughters\, Aunts\, Nieces to this year’s Awaken the Generation Mother’s Day Brunch! Make sure to click on the link to sign up before time runs out. If you have any questions please contact the church\n$10 per Adult (age 13+)$5 per Youth (ages 6-12)\nPlease Sign up by 5/4
URL:https://upbarreview.com/event/calvary-church-assembly-of-god-mothers-day-brunch-marinette/
LOCATION:Calvary Church\, W1498 State Highway 64\, Marinette\, WI
CATEGORIES:Menominee
END:VEVENT
BEGIN:VEVENT
DTSTART;TZID=UTC:20250510T100000
DTEND;TZID=UTC:20250510T140000
DTSTAMP:20260421T113951
CREATED:20250207T201054Z
LAST-MODIFIED:20250207T201054Z
UID:10003112-1746871200-1746885600@upbarreview.com
SUMMARY:Blazing Bear Homestead - Baby Goat Cuddle Sessions - Peshtigo
DESCRIPTION:Tiny hooves\, big hearts: Get your cuddles & giggles in with our baby goats!\nBlazing Bear Homestead is excited to offer Baby Goat Cuddle Sessions again in 2025! Immerse yourself in a world of cuddly goats\, where soft fur\, warm snuggles\, and contagious laughter await. Bring your loved ones or come solo – our friendly goats are here to make your heart happy. Casi will be there to answer any questions you have\, help you get some great pictures\, and tell you all about our little herd.\nPrice is per person participating\, maximum of 6 per time slot. Each person will get a small cup of grain to feed to the goats that are old enough to have them. We provide benches for you to sit on and each guest gets a complimentary beverage to enjoy.\nIf you would like a private session\, you are welcome to buy out all tickets for that time slot\, or contact us to set up a special session time. Please arrive 5 minutes early to sign waivers. Adults MUST accompany children 12 years of age and under at all times. Children 24 months and under get in free. Human attendees only\, no dogs/pets/outside animals of any kind.\nNOTE: These tickets are non-refundable. Baby Goat Cuddle Sessions are held in our detached garage\, rain or shine. The room is not climate controlled so please dress for the weather. We do not yet have a public restroom\, so please plan accordingly.\nSaturdaysMarch-July30 minute sessions starting at 10am\, 10:40am\, 11:20am\, 12pm\, 12:40pm\, 1:20pm\, and 2pm.\nBuy tickets here: https://www.blazingbearhomestead.net/goatevents
URL:https://upbarreview.com/event/blazing-bear-homestead-baby-goat-cuddle-sessions-peshtigo/2025-05-10/
LOCATION:Blazing Bear Homestead\, W3070 Hale School Rd\, Peshtigo\, WI\, 54157
CATEGORIES:Menominee
END:VEVENT
BEGIN:VEVENT
DTSTART;TZID=UTC:20250510T110000
DTEND;TZID=UTC:20250510T130000
DTSTAMP:20260421T113951
CREATED:20250403T014617Z
LAST-MODIFIED:20250403T014617Z
UID:10003816-1746874800-1746882000@upbarreview.com
SUMMARY:Bored Bard Games - Lorcana Championship - Iron Mountain
DESCRIPTION: Lorcana: Archazia’s Island Store Championship \nJoin us on Saturday\, May 10th\, at 11:00 AM for our Lorcana: Archazia’s Island Store Championship! Test your deck-building skills and strategy in a competitive Core (Constructed) format event and prove you have what it takes to become the store champion.\n Tournament Details: Format: Core (Constructed) Structure: Swiss rounds with a possible Top Cut (based on attendance) Swiss Rounds: 55 minutes\, best of 3 games Top 4 Rounds: 70 minutes\, best of 3 Final Round: Untimed\n Entry Fee: $10 per person Check-in starts early\, so please arrive on time!\nWhether you’re playing to win or just for the fun of it\, this is an event Lorcana fans won’t want to miss! See you at the tables
URL:https://upbarreview.com/event/bored-bard-games-lorcana-championship-iron-mountain/
LOCATION:Bored Bard Games\, 224 E Hughitt St\, Iron Mountain\, mi\, 49801
CATEGORIES:Ironmountain
END:VEVENT
BEGIN:VEVENT
DTSTART;TZID=UTC:20250510T110000
DTEND;TZID=UTC:20250510T133000
DTSTAMP:20260421T113951
CREATED:20250402T230841Z
LAST-MODIFIED:20250402T230841Z
UID:10003306-1746874800-1746883800@upbarreview.com
SUMMARY:Breezy Acres Equine Services - Learn to Rope - Oconto
DESCRIPTION:Join us for a day of fun and learning with Jess Hume!\nNever roped before? No problem. This workshop is for anyone and everyone.\nRopes provided and available for purchase.\nThe morning will be on the ground learning how to coil a rope\, build a loop\, swing the rope\, deliver the loop and rope from different positions.\nThe afternoon will be roping the dummy calf off your horse. The dummy calf is attached to the four wheeler so you will get experience of chasing a calf without a live calf!\nYou must participate in the morning class in order to ride in the afternoon. Cost for the morning is $160. Cost for both sessions is $270.\n$100 deposit to hold your spot. Contact Carrie through messenger\, call/text 920-604-3045 or email breezyacres09@gmail.com\nYou can also contact Jess Hume for any questions about the clinic at (608) 558-1341
URL:https://upbarreview.com/event/breezy-acres-equine-services-learn-to-rope-oconto/
LOCATION:Breezy Acres Equine Services\, 4230 Nichols Rd\, Oconto\, WI
CATEGORIES:Menominee
END:VEVENT
BEGIN:VEVENT
DTSTART;TZID=UTC:20250510T130000
DTEND;TZID=UTC:20250510T213000
DTSTAMP:20260421T113951
CREATED:20250402T200429Z
LAST-MODIFIED:20250402T200429Z
UID:10003175-1746882000-1746912600@upbarreview.com
SUMMARY:Bobs Bar - 60 Year Celebration - Marinette
DESCRIPTION:Come join in all the fun\, excitement & help us celebrate 60 years in business!!We will have kids games\, drink specials\, DJ\, live band & much more!!Stay tuned for more updates!!
URL:https://upbarreview.com/event/bobs-bar-60-year-celebration-marinette/
LOCATION:Bob’s Bar\, 1307 Main St\, Marinette\, WI
CATEGORIES:Menominee
END:VEVENT
BEGIN:VEVENT
DTSTART;TZID=UTC:20250510T140000
DTEND;TZID=UTC:20250510T170000
DTSTAMP:20260421T113951
CREATED:20250428T124446Z
LAST-MODIFIED:20250428T124446Z
UID:10004228-1746885600-1746896400@upbarreview.com
SUMMARY:McCrafties - Swimming with Stingrays Art - Menominee
DESCRIPTION: **Swimming with Stingrays Canvas Painting Event** Make waves of creativity with us!\n **Date:** May 10\, 2025 **Time:** 2:00 PM **Cost:** $25 per child\nBring your little artists along to dive into a fun and imaginative canvas painting adventure. Guided by our skilled instructor\, they’ll learn to paint a graceful stingray gliding through the water. Perfect for all skill levels—no experience needed.\nSpaces are limited\, so be sure to reserve your spot today! \nPRE-PAYMENT of $25 is required to save your spot. Feel free to call the studio with any questions or to sign up. 715-440-5959\nOr use our easy to navigate website.\nhttps://mccraftiellc.square.site/\n-All skill levels are welcome-We provide all the necessary suppliesWe look forward to crafting with you\nCLASS REFUND POLICY:\n-full in studio credit if cancellation is 1 week prior to the class-50% in studio credit up to 24 hours prior to the class-less than 24 hours’ notice\, no credit-NO SHOW/NO CALL/NO CREDIT
URL:https://upbarreview.com/event/mccrafties-swimming-with-stingrays-art-menominee/
LOCATION:McCrafties\, 625 1st St\, Menominee\, MI\, 49858\, United States
CATEGORIES:Menominee
END:VEVENT
BEGIN:VEVENT
DTSTART;TZID=UTC:20250510T150000
DTEND;TZID=UTC:20250510T170000
DTSTAMP:20260421T113951
CREATED:20250428T125832Z
LAST-MODIFIED:20250428T125832Z
UID:10004239-1746889200-1746896400@upbarreview.com
SUMMARY:Elks Lodge - Dart Tournament - Marinette
DESCRIPTION:Registration 3pmTournament 4pm$20 per personRandom DrawChicago Style
URL:https://upbarreview.com/event/elks-lodge-dart-tournament-marinette/
LOCATION:Elks Lodge #1313\, 430 Bridge St\, Marinette\, WI\, 54143
CATEGORIES:Menominee
END:VEVENT
BEGIN:VEVENT
DTSTART;TZID=UTC:20250510T190000
DTEND;TZID=UTC:20250510T210000
DTSTAMP:20260421T113951
CREATED:20250402T204040Z
LAST-MODIFIED:20250402T204040Z
UID:10003209-1746903600-1746910800@upbarreview.com
SUMMARY:The Lodge - Logan Spicer Live Music - Marinette
DESCRIPTION: IF YOU KNOW\, YOU KNOW. Logan Spicer is back at The Lodge on Main Friday\, May 10th at 7 PM – and if you’ve seen him live\, you already know he is amazing ! \nIf you haven’t? Well\, here’s your chance to find out what the hype is all about. Pull up\, grab a drink\, and let’s listen to him sing some great tunes. \n#IfYouKnowYouKnow #LoganSpicerLive #TheLodgeOnMain #GoodMusicGoodTimes
URL:https://upbarreview.com/event/the-lodge-logan-spicer-live-music-marinette/
LOCATION:Ironworks\, 1333 Main St.\, Marinette\, WI\, 54143\, United States
CATEGORIES:Menominee
END:VEVENT
BEGIN:VEVENT
DTSTART;TZID=UTC:20250510T200000
DTEND;TZID=UTC:20250510T230000
DTSTAMP:20260421T113951
CREATED:20250430T024257Z
LAST-MODIFIED:20250430T024257Z
UID:10004310-1746907200-1746918000@upbarreview.com
SUMMARY:Uncle Mike's Corner Pub - DJ - Crivitz
DESCRIPTION:DJ LANCE is HERE!!
URL:https://upbarreview.com/event/uncle-mikes-corner-pub-dj-crivitz/
LOCATION:Uncle Mikes Corner Pub & Grill\, N9686 Co Hwy X\, Crivitz\, WI\, 54114
CATEGORIES:Menominee
END:VEVENT
BEGIN:VEVENT
DTSTART;TZID=UTC:20250510T200000
DTEND;TZID=UTC:20250510T233000
DTSTAMP:20260421T113951
CREATED:20250402T225952Z
LAST-MODIFIED:20250402T225952Z
UID:10003292-1746907200-1746919800@upbarreview.com
SUMMARY:Uncle Mikes Corner Pub & Grill - Why Not Have a DJ - Crivitz
DESCRIPTION:DJ LANCE is HERE!!
URL:https://upbarreview.com/event/uncle-mikes-corner-pub-grill-why-not-have-a-dj-crivitz/
LOCATION:Uncle Mikes Corner Pub & Grill\, N9686 Co Hwy X\, Crivitz\, WI\, 54114
CATEGORIES:Menominee
END:VEVENT
BEGIN:VEVENT
DTSTART;TZID=UTC:20250510T210000
DTEND;TZID=UTC:20250510T233000
DTSTAMP:20260421T113951
CREATED:20250403T020116Z
LAST-MODIFIED:20250403T020116Z
UID:10003877-1746910800-1746919800@upbarreview.com
SUMMARY:Wild Horse Saloon - Karaoke - Iron Mountain
DESCRIPTION:Welcome to the Hottest Karaoke show in Town! Every Saturday at The Wild Horse Saloon\, in Iron Mountain\, MI Starts at 9:00 pm\nCreate your FREE Performer Account with Songbooks Online App to Browse the Karaoke song library\, keep a favorites list and submit your song requests remotely!\nUse Show ID: MSK23 after you create your account. You can also just tell me your name and the song you want if you don’t know how to install an app.
URL:https://upbarreview.com/event/wild-horse-saloon-karaoke-iron-mountain-2/2025-05-10/
LOCATION:Wild Horse Saloon\, 713 River Ave\, Iron Mountain\, MI\, 49801
CATEGORIES:Ironmountain
END:VEVENT
BEGIN:VEVENT
DTSTART;TZID=UTC:20250511T100000
DTEND;TZID=UTC:20250511T130000
DTSTAMP:20260421T113951
CREATED:20250430T015716Z
LAST-MODIFIED:20250430T015716Z
UID:10004292-1746957600-1746968400@upbarreview.com
SUMMARY:Riverside Country Club - Mothers Day Brunch - Menominee
DESCRIPTION:Reservations for our Mother’s Day brunch are now open to the public! Please call 906-290-3777 or email lexi@riversideccgolf.com to reserve your spot! 
URL:https://upbarreview.com/event/riverside-country-club-mothers-day-brunch-menominee/
LOCATION:Riverside Country Club\, 3459 14th Ave\, Menominee\, MI\, 49585
CATEGORIES:Menominee
END:VEVENT
BEGIN:VEVENT
DTSTART;TZID=UTC:20250511T100000
DTEND;TZID=UTC:20250511T140000
DTSTAMP:20260421T113951
CREATED:20250428T133527Z
LAST-MODIFIED:20250428T133527Z
UID:10004242-1746957600-1746972000@upbarreview.com
SUMMARY:Little River Country Club - Mothers Day Brunch - Marinette
DESCRIPTION:Please call 715-735-7234 for reservations
URL:https://upbarreview.com/event/little-river-country-club-mothers-day-brunch-marinette/
LOCATION:Little River Country Club\, N2235 Shore Dr\, Marinette\, WI\, 54143
CATEGORIES:Menominee
END:VEVENT
BEGIN:VEVENT
DTSTART;TZID=UTC:20250511T130000
DTEND;TZID=UTC:20250511T150000
DTSTAMP:20260421T113951
CREATED:20250403T001956Z
LAST-MODIFIED:20250403T001956Z
UID:10003734-1746968400-1746975600@upbarreview.com
SUMMARY:Country Roads Bar & Grill - Bingo Sunday - Wausaukee
DESCRIPTION:Sunday Funday Bingo! $1/game per board. Come for all the games or jump in whenever!
URL:https://upbarreview.com/event/country-roads-bar-grill-bingo-sunday-wausaukee/2025-05-11/
LOCATION:Country Roads Bar & Grill\, W8901 Co Rd C\, Wausaukee\, WI
CATEGORIES:Menominee
END:VEVENT
BEGIN:VEVENT
DTSTART;TZID=UTC:20250512T120000
DTEND;TZID=UTC:20250512T150000
DTSTAMP:20260421T113951
CREATED:20250428T134948Z
LAST-MODIFIED:20250428T134948Z
UID:10004257-1747051200-1747062000@upbarreview.com
SUMMARY:Bobs Bar - Cornhole Tournament & Klatt Racing Kick Off - Marinette
DESCRIPTION:Come out and join us at Bob’s Bar in Marinette for fun kicking off the 2025 Championship Offroad Race season. There will be Cornhole tournament along with bucket raffles\, food and 50-50 raffle. Payout for 1st\, 2nd and 3rd based off number of entries+ 100$ donated to prize money by Calming Wauters Massage. Bags start at noon $20/team or $10/person\, we can get you paired up if you can’t find a partner. Tournament is double elimination. Random draw for bracket position. Pre-register by commenting on post below or text Jeff at 715-587-2123. We will do registration the day of event from 11-1145.
URL:https://upbarreview.com/event/bobs-bar-cornhole-tournament-klatt-racing-kick-off-marinette/
LOCATION:Bob’s Bar\, 1307 Main St\, Marinette\, WI
CATEGORIES:Menominee
END:VEVENT
BEGIN:VEVENT
DTSTART;TZID=UTC:20250512T130000
DTEND;TZID=UTC:20250512T160000
DTSTAMP:20260421T113951
CREATED:20250403T021438Z
LAST-MODIFIED:20250403T021438Z
UID:10003946-1747054800-1747065600@upbarreview.com
SUMMARY:Forever Friendship Drop-in Center - Diamond Painting - Iron Mountain
DESCRIPTION:Come join us for Diamond Painting! You can participate if you are an expert or a beginner\, or come try if you have never tried before! We offer supplies for free. We have small projects or large projects\, or you can bring your own. It’s all free. We provide a relaxing environment\, meditation music\, and friendly people. Our goal was to create a fun environment while also practicing useful coping skills like mindfulness.
URL:https://upbarreview.com/event/forever-friendship-drop-in-center-diamond-painting-iron-mountain/2025-05-12/
LOCATION:Forever Friendship Drop-in Center\, 501 S Carpenter Ave\, Kingsford\, MI
CATEGORIES:Ironmountain
END:VEVENT
BEGIN:VEVENT
DTSTART;TZID=UTC:20250512T140000
DTEND;TZID=UTC:20250512T160000
DTSTAMP:20260421T113951
CREATED:20250428T124655Z
LAST-MODIFIED:20250428T124655Z
UID:10004230-1747058400-1747065600@upbarreview.com
SUMMARY:McCrafties -Wild & Wonderful II - Menominee
DESCRIPTION:Step into a world of creativity and cool colors with “Wild and Wonderful II”!Join us for a whimsical afternoon for this step-by-step class. We provide all the materials and stencil! Grab a friend\, or 3\, for this fun funky flower class!\n**When:** May 12\, 2025**Where:** Mccraftie’s 625 1st St\, Menominee\, MI**Cost:** $40\nPAYMENT IN ADVANCE OF $40 IS REQUIRED.\nCall 715-440-5959 orSign-up onlinehttps://mccraftiellc.square.site/\n\nCLASS REFUND POLICY:\n-full in studio credit if cancellation is 1 week prior to the class-50% in studio credit up to 24 hours prior to class.-less than 24 hours notice\, no credit-NO SHOW/ NO CALL/NO CREDIT
URL:https://upbarreview.com/event/mccrafties-wild-wonderful-ii-menominee-2/
LOCATION:McCrafties\, 625 1st St\, Menominee\, MI\, 49858\, United States
CATEGORIES:Menominee
END:VEVENT
BEGIN:VEVENT
DTSTART;TZID=UTC:20250512T170000
DTEND;TZID=UTC:20250512T190000
DTSTAMP:20260421T113951
CREATED:20250403T022612Z
LAST-MODIFIED:20250403T022612Z
UID:10004122-1747069200-1747076400@upbarreview.com
SUMMARY:Forever Friendship Drop-in Center - Disorder Discussion Group - Kingsford
DESCRIPTION:We understand that the road to overcoming addiction is unique for each individual\, and we’re here to offer unwavering peer support\, personalized care\, and a beacon of hope for a brighter tomorrow! This is available to individuals with Substance Misuse Disorder & or Alcoholism + Mental Health Diagnosis
URL:https://upbarreview.com/event/forever-friendship-drop-in-center-disorder-discussion-group-kingsford/2025-05-12/
LOCATION:Forever Friendship Drop-in Center\, 501 S Carpenter Ave\, Kingsford\, MI
CATEGORIES:Ironmountain
END:VEVENT
BEGIN:VEVENT
DTSTART;TZID=UTC:20250513T080000
DTEND;TZID=UTC:20250513T170000
DTSTAMP:20260421T113951
CREATED:20250207T202600Z
LAST-MODIFIED:20250207T202600Z
UID:10003160-1747123200-1747155600@upbarreview.com
SUMMARY:Job Fair - Oconto
DESCRIPTION:McDonald’s in Oconto\, WI is hiring! Come in for an in-person interview. Job Offers will be made at the event.
URL:https://upbarreview.com/event/job-fair-oconto/2025-05-13/
CATEGORIES:Menominee
END:VEVENT
BEGIN:VEVENT
DTSTART;TZID=UTC:20250513T080000
DTEND;TZID=UTC:20250513T170000
DTSTAMP:20260421T113951
CREATED:20250402T231632Z
LAST-MODIFIED:20250402T231632Z
UID:10003321-1747123200-1747155600@upbarreview.com
SUMMARY:McDonalds Job Fair - Oconto
DESCRIPTION:McDonald’s in Oconto\, WI is hiring! Come in for an in-person interview. Job Offers will be made at the event.
URL:https://upbarreview.com/event/mcdonalds-job-fair-oconto/2025-05-13/
LOCATION:McDonalds Oconto\, 105 Main St\, Oconto\, WI
CATEGORIES:Menominee
END:VEVENT
BEGIN:VEVENT
DTSTART;TZID=UTC:20250513T080000
DTEND;TZID=UTC:20250513T170000
DTSTAMP:20260421T113951
CREATED:20250403T020204Z
LAST-MODIFIED:20250403T020204Z
UID:10003912-1747123200-1747155600@upbarreview.com
SUMMARY:McDonalds Job Fair - Iron Mountain
DESCRIPTION:McDonald’s in Iron Mountain\, MI is hiring! Come in for an in-person interview. Job Offers will be made at the event.
URL:https://upbarreview.com/event/mcdonalds-job-fair-iron-mountain/2025-05-13/
CATEGORIES:Ironmountain
END:VEVENT
END:VCALENDAR