BEGIN:VCALENDAR
VERSION:2.0
PRODID:-//UP BAR REVIEW - ECPv6.14.2//NONSGML v1.0//EN
CALSCALE:GREGORIAN
METHOD:PUBLISH
X-ORIGINAL-URL:https://upbarreview.com
X-WR-CALDESC:Events for UP BAR REVIEW
REFRESH-INTERVAL;VALUE=DURATION:PT1H
X-Robots-Tag:noindex
X-PUBLISHED-TTL:PT1H
BEGIN:VTIMEZONE
TZID:UTC
BEGIN:STANDARD
TZOFFSETFROM:+0000
TZOFFSETTO:+0000
TZNAME:UTC
DTSTART:20250101T000000
END:STANDARD
END:VTIMEZONE
BEGIN:VEVENT
DTSTART;TZID=UTC:20250419T063000
DTEND;TZID=UTC:20250419T120000
DTSTAMP:20260421T094420
CREATED:20250402T201554Z
LAST-MODIFIED:20250402T201554Z
UID:10003189-1745044200-1745064000@upbarreview.com
SUMMARY:Nestegg Marine - 32ns Annual Jack Dallman Memorial Tournament - Marinette
DESCRIPTION:Walleye and Brown Trout Categories$30/species or $50 for bothEntry forms and Rules can be found/downloaded: Nesteggmarine.com
URL:https://upbarreview.com/event/nestegg-marine-32ns-annual-jack-dallman-memorial-tournament-marinette/
LOCATION:Nestegg Marine\, 300 Wells St\, Marinette\, WI\, 54143
CATEGORIES:Menominee
END:VEVENT
BEGIN:VEVENT
DTSTART;TZID=UTC:20250419T080000
DTEND;TZID=UTC:20250419T160000
DTSTAMP:20260421T094420
CREATED:20250402T201328Z
LAST-MODIFIED:20250402T201328Z
UID:10003187-1745049600-1745078400@upbarreview.com
SUMMARY:Rec Center - Home and Garden Show - Marinette
DESCRIPTION: 𝐌𝐚𝐫𝐢𝐧𝐞𝐭𝐭𝐞 𝐇𝐨𝐦𝐞 & 𝐆𝐚𝐫𝐝𝐞𝐧 𝐒𝐡𝐨𝐰! \nJoin us on 𝐀𝐩𝐫𝐢𝐥 𝟏𝟗𝐭𝐡 𝐟𝐫𝐨𝐦 𝟖 𝐀𝐌 𝐭𝐨 𝟒 𝐏𝐌 at the 𝐂𝐨𝐦𝐦𝐮𝐧𝐢𝐭𝐲 𝐑𝐄𝐂 𝐂𝐞𝐧𝐭𝐞𝐫 (𝟐𝟓𝟎𝟏 𝐏𝐢𝐞𝐫𝐜𝐞 𝐀𝐯𝐞.) for the 𝐌𝐚𝐫𝐢𝐧𝐞𝐭𝐭𝐞 𝐇𝐨𝐦𝐞 & 𝐆𝐚𝐫𝐝𝐞𝐧 𝐒𝐡𝐨𝐰! Explore a variety of exhibitors featuring 𝐡𝐨𝐦𝐞 𝐢𝐦𝐩𝐫𝐨𝐯𝐞𝐦𝐞𝐧𝐭\, 𝐥𝐚𝐰𝐧 𝐜𝐚𝐫𝐞\, 𝐟𝐮𝐫𝐧𝐢𝐭𝐮𝐫𝐞 𝐬𝐚𝐥𝐞𝐬\, 𝐥𝐚𝐧𝐝𝐬𝐜𝐚𝐩𝐢𝐧𝐠\, 𝐛𝐞𝐚𝐮𝐭𝐢𝐟𝐮𝐥 𝐟𝐥𝐨𝐫𝐚𝐥𝐬\, 𝐚𝐧𝐝 𝐦𝐨𝐫𝐞. Get expert advice\, discover the latest trends\, and find inspiration for your next project. Whether you’re updating your home\, refreshing your outdoor space\, or shopping for unique décor\, there’s something for everyone. Enjoy giveaways\, special deals\, and a fun day filled with ideas to enhance your home and garden!
URL:https://upbarreview.com/event/rec-center-home-and-garden-show-marinette/
LOCATION:Marinette Recreation Center\, 2501 Pierce Avenue\, Marinette\, WI\, 54143\, United States
CATEGORIES:Menominee
END:VEVENT
BEGIN:VEVENT
DTSTART;TZID=UTC:20250419T100000
DTEND;TZID=UTC:20250419T120000
DTSTAMP:20260421T094420
CREATED:20250403T003834Z
LAST-MODIFIED:20250403T003834Z
UID:10003762-1745056800-1745064000@upbarreview.com
SUMMARY:Saunders Point Brewing - Pints & Poses Yin Yoga - Gladstone
DESCRIPTION:On April 19th\, Martina will be bringing a local favorite yoga class to Saunders Point! This is a slow paced\, meditative class\, where mostly seated poses will be held for longer lengths of time. It will be the best way to start your Saturday\, with a deep stretch!We will use a variety of props including blocks\, blankets\, straps\, and even pillows. Feel free to bring a mat and your own props\, but we will also have extra.Namaste
URL:https://upbarreview.com/event/saunders-point-brewing-pints-poses-yin-yoga-gladstone/
LOCATION:Saunders Point Brewing\, 8199 M-35\, Gladstone\, MI
CATEGORIES:Menominee
END:VEVENT
BEGIN:VEVENT
DTSTART;TZID=UTC:20250419T100000
DTEND;TZID=UTC:20250419T120000
DTSTAMP:20260421T094420
CREATED:20250403T015126Z
LAST-MODIFIED:20250403T015126Z
UID:10003822-1745056800-1745064000@upbarreview.com
SUMMARY:Kingsford Guitar - Winter Acoustic Jazz Jam Session - Iron Mountain
DESCRIPTION:Winter Acoustic Jazz Jam SessionAt the Iron Mountain Dickinson County Library Main BranchSaturdays 10 am – 12 pm January-April\nWe’ll be playing out of The Real Book Sixth Edition. Each session will start with the same 5 songs and after that open song requests. If you want to try out a song not in the Real Book bring a few copies of the lead sheet and we’ll give it a shot. Taking a turn improvising is encouraged\, but not required.\nThe first 5 songs:Night Train – page 304Satin Doll – page 349The Saga of Harrison Crabfeathers – page 348Scotch & Soda – page 350I Could Write a Book – page 186\nAnyone interested in trying out Jazz is welcome. I have cheat sheets and tips to get you up to speed. If you have any questions you can reach out to me at alyssa@kingsfordguitar.com or 906-970-9204. Email or texting is best
URL:https://upbarreview.com/event/kingsford-guitar-winter-acoustic-jazz-jam-session-iron-mountain/2025-04-19/
LOCATION:Kingsford Guitar\, 401 Iron Mountain St
CATEGORIES:Ironmountain
END:VEVENT
BEGIN:VEVENT
DTSTART;TZID=UTC:20250419T100000
DTEND;TZID=UTC:20250419T140000
DTSTAMP:20260421T094420
CREATED:20250207T201054Z
LAST-MODIFIED:20250207T201054Z
UID:10003109-1745056800-1745071200@upbarreview.com
SUMMARY:Blazing Bear Homestead - Baby Goat Cuddle Sessions - Peshtigo
DESCRIPTION:Tiny hooves\, big hearts: Get your cuddles & giggles in with our baby goats!\nBlazing Bear Homestead is excited to offer Baby Goat Cuddle Sessions again in 2025! Immerse yourself in a world of cuddly goats\, where soft fur\, warm snuggles\, and contagious laughter await. Bring your loved ones or come solo – our friendly goats are here to make your heart happy. Casi will be there to answer any questions you have\, help you get some great pictures\, and tell you all about our little herd.\nPrice is per person participating\, maximum of 6 per time slot. Each person will get a small cup of grain to feed to the goats that are old enough to have them. We provide benches for you to sit on and each guest gets a complimentary beverage to enjoy.\nIf you would like a private session\, you are welcome to buy out all tickets for that time slot\, or contact us to set up a special session time. Please arrive 5 minutes early to sign waivers. Adults MUST accompany children 12 years of age and under at all times. Children 24 months and under get in free. Human attendees only\, no dogs/pets/outside animals of any kind.\nNOTE: These tickets are non-refundable. Baby Goat Cuddle Sessions are held in our detached garage\, rain or shine. The room is not climate controlled so please dress for the weather. We do not yet have a public restroom\, so please plan accordingly.\nSaturdaysMarch-July30 minute sessions starting at 10am\, 10:40am\, 11:20am\, 12pm\, 12:40pm\, 1:20pm\, and 2pm.\nBuy tickets here: https://www.blazingbearhomestead.net/goatevents
URL:https://upbarreview.com/event/blazing-bear-homestead-baby-goat-cuddle-sessions-peshtigo/2025-04-19/
LOCATION:Blazing Bear Homestead\, W3070 Hale School Rd\, Peshtigo\, WI\, 54157
CATEGORIES:Menominee
END:VEVENT
BEGIN:VEVENT
DTSTART;TZID=UTC:20250419T110000
DTEND;TZID=UTC:20250419T123000
DTSTAMP:20260421T094420
CREATED:20250402T221140Z
LAST-MODIFIED:20250402T221140Z
UID:10003279-1745060400-1745065800@upbarreview.com
SUMMARY:Veterans Park - CBA Easter Egg Hunt - Crivitz
DESCRIPTION:Egg Hunt begins at 11am sharp!There will be areas marked off by age group within the park!If anyone would like to donate eggs for this event please send an email to Kaitlin at kdeschane@outlook.com by April 14th to arrange pick up!
URL:https://upbarreview.com/event/veterans-park-cba-easter-egg-hunt-crivitz/
LOCATION:Crivitz Community Veterans Park\, 515 Park Place\, Crivitz\, WI\, 54114
CATEGORIES:Menominee
END:VEVENT
BEGIN:VEVENT
DTSTART;TZID=UTC:20250419T130000
DTEND;TZID=UTC:20250419T143000
DTSTAMP:20260421T094420
CREATED:20250403T024019Z
LAST-MODIFIED:20250403T024019Z
UID:10004181-1745067600-1745073000@upbarreview.com
SUMMARY:Mikes on Main - Boundary Waters Musky Club April Membership Meeting - Norway
DESCRIPTION:regular monthly membership meeting
URL:https://upbarreview.com/event/mikes-on-main-boundary-waters-musky-club-april-membership-meeting-norway/
LOCATION:Mikes on Main\, 616 Main St\, Norway\, MI
CATEGORIES:Ironmountain
END:VEVENT
BEGIN:VEVENT
DTSTART;TZID=UTC:20250419T130000
DTEND;TZID=UTC:20250419T160000
DTSTAMP:20260421T094420
CREATED:20250402T210551Z
LAST-MODIFIED:20250402T210551Z
UID:10003217-1745067600-1745078400@upbarreview.com
SUMMARY:The Craft Cave - Sun Catcher Hoop - Marinette
DESCRIPTION:6 inch hoop you can paint or leave natural. Choose from supply of beads to decorate. Add a charm or flower to hang in window. Adult class\, BYOB cost 20$. Call to pre pay and sign up at 715-587-4643
URL:https://upbarreview.com/event/the-craft-cave-sun-catcher-hoop-marinette/2025-04-19/
LOCATION:The Craft Cave\, 605 Main St.\, Marinette\, WI\, 54143\, United States
CATEGORIES:Menominee
END:VEVENT
BEGIN:VEVENT
DTSTART;TZID=UTC:20250419T150000
DTEND;TZID=UTC:20250419T173000
DTSTAMP:20260421T094420
CREATED:20250403T002739Z
LAST-MODIFIED:20250403T002739Z
UID:10003753-1745074800-1745083800@upbarreview.com
SUMMARY:Easter Egg Hunt & Coloring - Stephenson
DESCRIPTION:We’re having an Easter egg hunt and an egg coloring contest at our dome this year! Registration is only $5 per kid and this covers both the hunt and the egg coloring. There will be a golden egg to find which leads to a grand prize Easter basket! This event will be held Saturday April 19th at 3pm at our dome in Stephenson MI. Registration is required for this event! To register message U.P. Glamping Getaway.(Bring your own baskets)
URL:https://upbarreview.com/event/easter-egg-hunt-coloring-stephenson/
CATEGORIES:Menominee
END:VEVENT
BEGIN:VEVENT
DTSTART;TZID=UTC:20250419T150000
DTEND;TZID=UTC:20250419T173000
DTSTAMP:20260421T094420
CREATED:20250403T024938Z
LAST-MODIFIED:20250403T024938Z
UID:10004189-1745074800-1745083800@upbarreview.com
SUMMARY:Camp Daniel - The Wild Robot Movie - Athelstane
DESCRIPTION:Stranded in the wilderness\, one robot must learn to survive\, adapt\, and find her place among nature. Join us for a FREE community movie night as we journey into the wild with The Wild Robot! Bring your friends and family\, and come hungry—Big Al’s Diner will be serving up hand-dipped ice cream\, cheese curds\, nachos\, pretzels\, soda\, candy\, and more! Plus\, we’ll have a special Wild Robot-themed treat available just for this event!  [��] [��] [✨]\n[��]  SHOWING: The Wild Robot\n[��]  Campus Opens: 2:00 PM\n[��️]  Movie Starts: 3:00 PM\nWho’s Invited? Everyone! This is a FREE event open to the local community\, Camp Daniel campers\, volunteers\, and their family and friends. Whether you’ve been here before or it’s your first time\, we’d love to see you!\n[��]  Where? Camp Daniel’s Majestic Theater\n[��]  W10541 Army Ln\, Athelstane\, WI 54104\n(Located 1 hour north of Green Bay)\n[��]  Movie Summary: (Rated PG) When a shipwreck leaves a robot named Roz stranded on a remote\, wild island\, she must learn to survive and adapt to her new environment. Along the way\, she forms unexpected bonds with the island’s animals and discovers the true meaning of belonging. Run time: TBD\n[��]  Watch the Trailer: https://www.google.com/search?client=safari&rls=en…\n[��]  Don’t miss this heartwarming tale of survival\, friendship\, and adventure! See you there!  [��] [��]
URL:https://upbarreview.com/event/camp-daniel-the-wild-robot-movie-athelstane/
LOCATION:Camp Daniel\, W10541 Army Ln\, Athestane\, WI\, 54104
CATEGORIES:Menominee
END:VEVENT
BEGIN:VEVENT
DTSTART;TZID=UTC:20250419T190000
DTEND;TZID=UTC:20250419T213000
DTSTAMP:20260421T094420
CREATED:20250403T005319Z
LAST-MODIFIED:20250403T005319Z
UID:10003776-1745089200-1745098200@upbarreview.com
SUMMARY:Wallys Bar - 4/19 4/20 Celebration - Gladstone
DESCRIPTION:Come help us summon the Mothership.
URL:https://upbarreview.com/event/wallys-bar-4-19-4-20-celebration-gladstone/
LOCATION:Wallys Bar\, 917 Delta Ave\, Gladstone\, MI
CATEGORIES:Menominee
END:VEVENT
BEGIN:VEVENT
DTSTART;TZID=UTC:20250419T190000
DTEND;TZID=UTC:20250419T230000
DTSTAMP:20260421T094420
CREATED:20250402T203801Z
LAST-MODIFIED:20250402T203801Z
UID:10003207-1745089200-1745103600@upbarreview.com
SUMMARY:The Lodge - The Bad Mother Truckers - Marinette
DESCRIPTION:The Bad Mother Truckers Live at The Lodge on Main!Get ready\, Marinette! The Bad Mother Truckers are back at The Lodge on Main\, and you already know it’s gonna be a packed house! Come out for a night of killer rock ‘n’ roll\, high-energy dancing with the best crowd around. With electrifying guitar riffs\, powerhouse vocals\, and non-stop energy\, this band always brings the party!Seats fill up fast\, so come early to grab a table\, enjoy some delicious food\, and get ready to rock! Let’s pack the place like we always do and make it a night to remember!See you at The Lodge on Main—let’s turn it up
URL:https://upbarreview.com/event/the-lodge-the-bad-mother-truckers-marinette-2/
LOCATION:Ironworks\, 1333 Main St.\, Marinette\, WI\, 54143\, United States
CATEGORIES:Menominee
END:VEVENT
BEGIN:VEVENT
DTSTART;TZID=UTC:20250419T190000
DTEND;TZID=UTC:20250419T230000
DTSTAMP:20260421T094420
CREATED:20250403T001633Z
LAST-MODIFIED:20250403T001633Z
UID:10003726-1745089200-1745103600@upbarreview.com
SUMMARY:Country Roads Bar & Grill - Karaoke - Wausaukee
DESCRIPTION:Sing your favorite song or listen but come enjoy a night out!
URL:https://upbarreview.com/event/country-roads-bar-grill-karaoke-wausaukee-2/
LOCATION:Country Roads Bar & Grill\, W8901 Co Rd C\, Wausaukee\, WI
CATEGORIES:Menominee
END:VEVENT
BEGIN:VEVENT
DTSTART;TZID=UTC:20250419T200000
DTEND;TZID=UTC:20250419T223000
DTSTAMP:20260421T094420
CREATED:20250402T203606Z
LAST-MODIFIED:20250402T203606Z
UID:10003205-1745092800-1745101800@upbarreview.com
SUMMARY:R&S Saddle Saloon - Karaoke Night - Marinette
DESCRIPTION:Bring your singing voices and show us what you got.
URL:https://upbarreview.com/event/rs-saddle-saloon-karaoke-night-marinette/
LOCATION:R&S Saddle Saloon\, 1719 Main St.\, Marinette\, MI\, 54143\, United States
CATEGORIES:Menominee
END:VEVENT
BEGIN:VEVENT
DTSTART;TZID=UTC:20250419T200000
DTEND;TZID=UTC:20250419T233000
DTSTAMP:20260421T094420
CREATED:20250402T225631Z
LAST-MODIFIED:20250402T225631Z
UID:10003290-1745092800-1745105400@upbarreview.com
SUMMARY:Uncle Mikes Corner Pub & Grill - Happy Easter w/ DJ Lance - Crivitz
DESCRIPTION:Before you hide the eggs\, come on in for some pre Easter celebrating!
URL:https://upbarreview.com/event/uncle-mikes-corner-pub-grill-happy-easter-w-dj-lance-crivitz/
LOCATION:Uncle Mikes Corner Pub & Grill\, N9686 Co Hwy X\, Crivitz\, WI\, 54114
CATEGORIES:Menominee
END:VEVENT
BEGIN:VEVENT
DTSTART;TZID=UTC:20250419T210000
DTEND;TZID=UTC:20250419T233000
DTSTAMP:20260421T094420
CREATED:20250403T020116Z
LAST-MODIFIED:20250403T020116Z
UID:10003874-1745096400-1745105400@upbarreview.com
SUMMARY:Wild Horse Saloon - Karaoke - Iron Mountain
DESCRIPTION:Welcome to the Hottest Karaoke show in Town! Every Saturday at The Wild Horse Saloon\, in Iron Mountain\, MI Starts at 9:00 pm\nCreate your FREE Performer Account with Songbooks Online App to Browse the Karaoke song library\, keep a favorites list and submit your song requests remotely!\nUse Show ID: MSK23 after you create your account. You can also just tell me your name and the song you want if you don’t know how to install an app.
URL:https://upbarreview.com/event/wild-horse-saloon-karaoke-iron-mountain-2/2025-04-19/
LOCATION:Wild Horse Saloon\, 713 River Ave\, Iron Mountain\, MI\, 49801
CATEGORIES:Ironmountain
END:VEVENT
BEGIN:VEVENT
DTSTART;TZID=UTC:20250420T100000
DTEND;TZID=UTC:20250420T113000
DTSTAMP:20260421T094420
CREATED:20250402T212400Z
LAST-MODIFIED:20250402T212400Z
UID:10003237-1745143200-1745148600@upbarreview.com
SUMMARY:Calvary Church - Easter Sunday Breakfast - Marinette
DESCRIPTION:Join us in person or online\, Easter Sunday\, April 20th\, we will have our annual Easter Breakfast from 8:30 AM – 9:30 AM\, then at 10:00 AM is our Easter Service\, which will be full of special music\, communion\, a challenging Easter Message\, an Easter photo area for you and your family and friends\, and Water Baptism
URL:https://upbarreview.com/event/calvary-church-easter-sunday-breakfast-marinette/
LOCATION:Calvary Church\, W1498 State Highway 64\, Marinette\, WI
CATEGORIES:Menominee
END:VEVENT
BEGIN:VEVENT
DTSTART;TZID=UTC:20250420T100000
DTEND;TZID=UTC:20250420T140000
DTSTAMP:20260421T094420
CREATED:20250402T195721Z
LAST-MODIFIED:20250402T195735Z
UID:10003169-1745143200-1745157600@upbarreview.com
SUMMARY:Little River Country Club - Easter Brunch - Menominee
DESCRIPTION:Reservations are requiredPlease call 715-735-7234
URL:https://upbarreview.com/event/little-river-country-club-easter-brunch-menominee/
LOCATION:Little River Country Club\, N2235 Shore Dr\, Marinette\, WI\, 54143
CATEGORIES:Menominee
END:VEVENT
BEGIN:VEVENT
DTSTART;TZID=UTC:20250420T100000
DTEND;TZID=UTC:20250420T140000
DTSTAMP:20260421T094420
CREATED:20250402T213449Z
LAST-MODIFIED:20250402T213449Z
UID:10003252-1745143200-1745157600@upbarreview.com
SUMMARY:Riverside Country Club - Easter Brunch Buffet - Marinette
DESCRIPTION:Come enjoy Easter Brunch with us from 10am-2pm! Reservations are required. Call 906-290-3777 to reserve your spot!\nAdults – $28Seniors (65+) – $26Kids (6-12) – $155 and under – Free*tax and gratuity not included\nThe Easter Bunny will be making a special appearance!
URL:https://upbarreview.com/event/riverside-country-club-easter-brunch-buffet-marinette/
LOCATION:Riverside Country Club\, 3459 14th Ave\, Menominee\, MI\, 49585
CATEGORIES:Menominee
END:VEVENT
BEGIN:VEVENT
DTSTART;TZID=UTC:20250420T110000
DTEND;TZID=UTC:20250420T140000
DTSTAMP:20260421T094420
CREATED:20250403T023116Z
LAST-MODIFIED:20250403T023116Z
UID:10004159-1745146800-1745157600@upbarreview.com
SUMMARY:Oak Crest Golf Course - Easter Dinner - Norway
DESCRIPTION:Celebrate Easter with us on Sunday\, April 20th\, from 11am-2pm Oak Crest will be serving baked ham with brown sugar citrus glaze\, crispy fried chicken\, roasted garlic mashed potatoes\, green bean almondine\, full salad bar\, and assorted desserts. We are OPEN TO THE PUBLIC – RESERVATIONS ONLY PLEASE.\nCost – $18.95 for Adults / $12.95 Ages 6 through 12 / 5 & under $1.00 per age.\nCall 906-563-9046 to make your reservation
URL:https://upbarreview.com/event/oak-crest-golf-course-easter-dinner-norway/
LOCATION:Oak Crest Golf Course\, N1475 US-8\, Norway\, MI\, 49870
CATEGORIES:Ironmountain
END:VEVENT
BEGIN:VEVENT
DTSTART;TZID=UTC:20250420T130000
DTEND;TZID=UTC:20250420T150000
DTSTAMP:20260421T094420
CREATED:20250403T001956Z
LAST-MODIFIED:20250403T001956Z
UID:10003731-1745154000-1745161200@upbarreview.com
SUMMARY:Country Roads Bar & Grill - Bingo Sunday - Wausaukee
DESCRIPTION:Sunday Funday Bingo! $1/game per board. Come for all the games or jump in whenever!
URL:https://upbarreview.com/event/country-roads-bar-grill-bingo-sunday-wausaukee/2025-04-20/
LOCATION:Country Roads Bar & Grill\, W8901 Co Rd C\, Wausaukee\, WI
CATEGORIES:Menominee
END:VEVENT
BEGIN:VEVENT
DTSTART;TZID=UTC:20250421T130000
DTEND;TZID=UTC:20250421T160000
DTSTAMP:20260421T094420
CREATED:20250403T015733Z
LAST-MODIFIED:20250403T015733Z
UID:10003868-1745240400-1745251200@upbarreview.com
SUMMARY:Dickinson County Library - Mahjong Monday - Iron Mountain
DESCRIPTION:Beginner and expert adults will play Mahjong\, a tile-based game developed in 19th century China. Those new to the game can learn from our instructor\, and seasoned players can play the game with one another. Feel free to bring your own tiles to use\, but it’s not necessary
URL:https://upbarreview.com/event/dickinson-county-library-mahjong-monday-iron-mountain/2025-04-21/
CATEGORIES:Ironmountain
END:VEVENT
BEGIN:VEVENT
DTSTART;TZID=UTC:20250421T130000
DTEND;TZID=UTC:20250421T160000
DTSTAMP:20260421T094420
CREATED:20250403T021438Z
LAST-MODIFIED:20250403T021438Z
UID:10003943-1745240400-1745251200@upbarreview.com
SUMMARY:Forever Friendship Drop-in Center - Diamond Painting - Iron Mountain
DESCRIPTION:Come join us for Diamond Painting! You can participate if you are an expert or a beginner\, or come try if you have never tried before! We offer supplies for free. We have small projects or large projects\, or you can bring your own. It’s all free. We provide a relaxing environment\, meditation music\, and friendly people. Our goal was to create a fun environment while also practicing useful coping skills like mindfulness.
URL:https://upbarreview.com/event/forever-friendship-drop-in-center-diamond-painting-iron-mountain/2025-04-21/
LOCATION:Forever Friendship Drop-in Center\, 501 S Carpenter Ave\, Kingsford\, MI
CATEGORIES:Ironmountain
END:VEVENT
BEGIN:VEVENT
DTSTART;TZID=UTC:20250421T130000
DTEND;TZID=UTC:20250421T180000
DTSTAMP:20260421T094420
CREATED:20250402T231139Z
LAST-MODIFIED:20250402T231139Z
UID:10003308-1745240400-1745258400@upbarreview.com
SUMMARY:Farnsworth Public Library - House Plant Exchange - Oconto
DESCRIPTION:If you have a a plant that needs a new home or your plants are overflowing their pots\, bring them to our exchange. You will also will get to take a new plant home with you\, if you wish.\nStephanie from Secret Garden Floral Shop will be on hand to give tips\, tricks\, and advice on caring for your houseplants.
URL:https://upbarreview.com/event/farnsworth-public-library-house-plant-exchange-oconto/
LOCATION:Farnsworth Public Library\, 715 Main St\, Oconto\, WI
CATEGORIES:Menominee
END:VEVENT
BEGIN:VEVENT
DTSTART;TZID=UTC:20250421T170000
DTEND;TZID=UTC:20250421T180000
DTSTAMP:20260421T094420
CREATED:20250402T212658Z
LAST-MODIFIED:20250402T212658Z
UID:10003241-1745254800-1745258400@upbarreview.com
SUMMARY:Sno-Haven Pottery - Adult Watercolor Painting Class - Marinette
DESCRIPTION:This Watercolor class is for Adults. Learning Watercolor can be very rewarding once you gain your skill set. We cover all the basics and then cover some more advanced techniques. This is just in time before summer\, and is a great medium to take on the go. we cover color mixing and value studies and a variety of subject matters\, from painting water to florals\, landscapes and people. You will be able to choose your own subjects as well. All materials are included in the price of the class which is $125.00 Plus tax. Class meets on Monday for an hour from 5:00 pm to 6:00 pm for 5 sessions. Call 715-587-2163 to register.
URL:https://upbarreview.com/event/sno-haven-pottery-adult-watercolor-painting-class-marinette/2025-04-21/
LOCATION:Sno Haven Pottery\, 1215 9th St\, Marinette\, WI\, 54143
CATEGORIES:Menominee
END:VEVENT
BEGIN:VEVENT
DTSTART;TZID=UTC:20250421T170000
DTEND;TZID=UTC:20250421T190000
DTSTAMP:20260421T094420
CREATED:20250403T022612Z
LAST-MODIFIED:20250403T022612Z
UID:10004119-1745254800-1745262000@upbarreview.com
SUMMARY:Forever Friendship Drop-in Center - Disorder Discussion Group - Kingsford
DESCRIPTION:We understand that the road to overcoming addiction is unique for each individual\, and we’re here to offer unwavering peer support\, personalized care\, and a beacon of hope for a brighter tomorrow! This is available to individuals with Substance Misuse Disorder & or Alcoholism + Mental Health Diagnosis
URL:https://upbarreview.com/event/forever-friendship-drop-in-center-disorder-discussion-group-kingsford/2025-04-21/
LOCATION:Forever Friendship Drop-in Center\, 501 S Carpenter Ave\, Kingsford\, MI
CATEGORIES:Ironmountain
END:VEVENT
BEGIN:VEVENT
DTSTART;TZID=UTC:20250421T180000
DTEND;TZID=UTC:20250421T190000
DTSTAMP:20260421T094420
CREATED:20250403T020312Z
LAST-MODIFIED:20250403T020312Z
UID:10003920-1745258400-1745262000@upbarreview.com
SUMMARY:Dickinson County Library - Graveyard Shift Bookclub - Iron Mountain
DESCRIPTION:This book club is perfect for teens and adults that love to read true crime\, horror\, and/or books with supernatural elements. This month\, discuss “Murder in Michigan’s Upper Peninsula” by Sonny Longtine. Discussion packets will be available starting Monday\, April 7 at the Main Branch.
URL:https://upbarreview.com/event/dickinson-county-library-graveyard-shift-bookclub-iron-mountain/
LOCATION:Dickinson County Library\, 401 Iron Mountain St\, Iron Mountain\, MI\, 49801
CATEGORIES:Ironmountain
END:VEVENT
BEGIN:VEVENT
DTSTART;TZID=UTC:20250422T100000
DTEND;TZID=UTC:20250422T120000
DTSTAMP:20260421T094420
CREATED:20250402T235633Z
LAST-MODIFIED:20250402T235633Z
UID:10003656-1745316000-1745323200@upbarreview.com
SUMMARY:Bay College - Making Michigan Innovation Expo - Escanaba
DESCRIPTION:YOU’RE INVITED TO our newest tech event!\nJoin MMTC at our NEWEST Re:Making Michigan Innovation Expo focused on Accelerating Technology Adoption and Digital Transformation!\nThis dynamic event\, which brings together manufacturers\, industry leaders\, students\, and technology providers\, explores the transformative power of automation\, robotics\, AI\, IoT\, and smart manufacturing solutions and is designed to address next steps of how to successfully implement Industry 4.0 technologies in your manufacturing operations.\nThrough hands-on tech demos\, expert-led presentations\, and stories directly from manufacturers\, attendees will gain actionable insights on how to implement cutting-edge technologies to drive efficiency\, reduce costs\, and enhance product quality.\nFuture-proof your operations and stay ahead in the digital era.\nTechnology Expo Agenda:\nWelcome\nOpening RemarksRep. Jack Bergman\nKeynote Presentation\nLunch\nPanel Discussion: Cybersecurity\n3D Printer Raffle + Networking
URL:https://upbarreview.com/event/bay-college-making-michigan-innovation-expo-escanaba/
LOCATION:Bay College\, 2801 US-2\, Iron Mountain\, MI
CATEGORIES:Menominee
END:VEVENT
BEGIN:VEVENT
DTSTART;TZID=UTC:20250422T100000
DTEND;TZID=UTC:20250422T130000
DTSTAMP:20260421T094420
CREATED:20250207T193742Z
LAST-MODIFIED:20250207T193742Z
UID:10003020-1745316000-1745326800@upbarreview.com
SUMMARY:Escanaba Public Library - Tech Help Tuesdays - Escanaba
DESCRIPTION:Need help printing from your phone? Setting up Libby on your personal device? Using Zoom? How about getting started on your Chromebook or iPad? Using a Wi-Fi hotspot? Creating an email address? Google searches? or how to use the library’s online catalog?\nWe have the answers and assistance you need! Make an appointment or stop in at the circulation desk. Appointments are one hour (maximum).\nThe Escanaba Public Library staff do not repair computers/devices. The library assumes no liability for personal patron devices.
URL:https://upbarreview.com/event/escanaba-public-library-tech-help-tuesdays-escanaba/2025-04-22/
LOCATION:Escanaba Public Library\, 400 Ludington St\, Escanaba\, WI\, 49829
CATEGORIES:Menominee
END:VEVENT
BEGIN:VEVENT
DTSTART;TZID=UTC:20250422T150000
DTEND;TZID=UTC:20250422T180000
DTSTAMP:20260421T094420
CREATED:20250402T235422Z
LAST-MODIFIED:20250402T235422Z
UID:10003654-1745334000-1745344800@upbarreview.com
SUMMARY:Delta County Baby Cafe - Escanaba
DESCRIPTION:FREE group for all moms and babies where we offer lactation support and a safe space for moms to be together.
URL:https://upbarreview.com/event/delta-county-baby-cafe-escanaba/
CATEGORIES:Menominee
END:VEVENT
END:VCALENDAR