BEGIN:VCALENDAR
VERSION:2.0
PRODID:-//UP BAR REVIEW - ECPv6.14.2//NONSGML v1.0//EN
CALSCALE:GREGORIAN
METHOD:PUBLISH
X-ORIGINAL-URL:https://upbarreview.com
X-WR-CALDESC:Events for UP BAR REVIEW
REFRESH-INTERVAL;VALUE=DURATION:PT1H
X-Robots-Tag:noindex
X-PUBLISHED-TTL:PT1H
BEGIN:VTIMEZONE
TZID:UTC
BEGIN:STANDARD
TZOFFSETFROM:+0000
TZOFFSETTO:+0000
TZNAME:UTC
DTSTART:20250101T000000
END:STANDARD
END:VTIMEZONE
BEGIN:VEVENT
DTSTART;TZID=UTC:20250311T080000
DTEND;TZID=UTC:20250311T170000
DTSTAMP:20260421T113941
CREATED:20250207T202600Z
LAST-MODIFIED:20250207T202600Z
UID:10003158-1741680000-1741712400@upbarreview.com
SUMMARY:Job Fair - Oconto
DESCRIPTION:McDonald’s in Oconto\, WI is hiring! Come in for an in-person interview. Job Offers will be made at the event.
URL:https://upbarreview.com/event/job-fair-oconto/2025-03-11/
CATEGORIES:Menominee
END:VEVENT
BEGIN:VEVENT
DTSTART;TZID=UTC:20250311T100000
DTEND;TZID=UTC:20250311T130000
DTSTAMP:20260421T113941
CREATED:20250207T193742Z
LAST-MODIFIED:20250207T193742Z
UID:10003014-1741687200-1741698000@upbarreview.com
SUMMARY:Escanaba Public Library - Tech Help Tuesdays - Escanaba
DESCRIPTION:Need help printing from your phone? Setting up Libby on your personal device? Using Zoom? How about getting started on your Chromebook or iPad? Using a Wi-Fi hotspot? Creating an email address? Google searches? or how to use the library’s online catalog?\nWe have the answers and assistance you need! Make an appointment or stop in at the circulation desk. Appointments are one hour (maximum).\nThe Escanaba Public Library staff do not repair computers/devices. The library assumes no liability for personal patron devices.
URL:https://upbarreview.com/event/escanaba-public-library-tech-help-tuesdays-escanaba/2025-03-11/
LOCATION:Escanaba Public Library\, 400 Ludington St\, Escanaba\, WI\, 49829
CATEGORIES:Menominee
END:VEVENT
BEGIN:VEVENT
DTSTART;TZID=UTC:20250311T110000
DTEND;TZID=UTC:20250311T123000
DTSTAMP:20260421T113941
CREATED:20250207T173325Z
LAST-MODIFIED:20250207T173325Z
UID:10002850-1741690800-1741696200@upbarreview.com
SUMMARY:Spies Library - "Page Turners" March Book Club - Menominee
DESCRIPTION:Join us for March’s Tuesday book club on March 11\, at 11am! We’ll be discussing the book “The Librarian of Burned Books.”
URL:https://upbarreview.com/event/spies-library-page-turners-march-book-club-menominee/
LOCATION:Spies Public Library\, 940 1st St.\, Menominee\, MI\, 49858
CATEGORIES:Menominee
END:VEVENT
BEGIN:VEVENT
DTSTART;TZID=UTC:20250311T160000
DTEND;TZID=UTC:20250311T183000
DTSTAMP:20260421T113941
CREATED:20250207T170103Z
LAST-MODIFIED:20250207T170648Z
UID:10002817-1741708800-1741717800@upbarreview.com
SUMMARY:The Craft Cave - Blue Bunny - Marinette
DESCRIPTION:Picture frame on wood stand\, painted and distressed. Bunny added to frame then decorated. Adult class\,BYOB cost 20$. Call to pre pay and sign up at 715-587-4643
URL:https://upbarreview.com/event/the-craft-cave-blue-bunny-marinette/2025-03-11/
LOCATION:The Craft Cave\, 605 Main St.\, Marinette\, WI\, 54143\, United States
CATEGORIES:Menominee
END:VEVENT
BEGIN:VEVENT
DTSTART;TZID=UTC:20250311T170000
DTEND;TZID=UTC:20250311T200000
DTSTAMP:20260421T113941
CREATED:20241029T131610Z
LAST-MODIFIED:20241029T131610Z
UID:10002171-1741712400-1741723200@upbarreview.com
SUMMARY:Biehl Bridges to Recovery - All Recovery Meeting - Marinette
DESCRIPTION:This is a meeting for anyone in recovery to talk about Recovery!
URL:https://upbarreview.com/event/biehl-bridges-to-recovery-all-recovery-meeting-marinette/2025-03-11/
LOCATION:Biehl Bridge To Recovery\, 3123 Shore Dr\, Marinette\, WI\, 54143
CATEGORIES:Menominee
END:VEVENT
BEGIN:VEVENT
DTSTART;TZID=UTC:20250312T100000
DTEND;TZID=UTC:20250312T120000
DTSTAMP:20260421T113941
CREATED:20250207T171320Z
LAST-MODIFIED:20250207T171335Z
UID:10002833-1741773600-1741780800@upbarreview.com
SUMMARY:The Craft Cave - Bunny Cutout - Marinette
DESCRIPTION:10 inch wood cutout\, painted\, transfer and decorated. Door hanger. Adult class\, BYOB cost 20$. Call to pre pay and sign up at 715-587-4643
URL:https://upbarreview.com/event/the-craft-cave-bunny-cutout-marinette/2025-03-12/
LOCATION:The Craft Cave\, 605 Main St.\, Marinette\, WI\, 54143\, United States
CATEGORIES:Menominee
END:VEVENT
BEGIN:VEVENT
DTSTART;TZID=UTC:20250312T160000
DTEND;TZID=UTC:20250312T170000
DTSTAMP:20260421T113941
CREATED:20250207T201806Z
LAST-MODIFIED:20250207T201806Z
UID:10003130-1741795200-1741798800@upbarreview.com
SUMMARY:Farnsworth Public Library - 1903 Book Club - Oconto
DESCRIPTION:The 1903 Book Club meets the 2nd Wednesday of each month. At our February meeting we will be discussing Lessons in Chemistry by Bonnie Garmus. Join us for great discussions of some wonderful books!
URL:https://upbarreview.com/event/farnsworth-public-library-1903-book-club-oconto-2/2025-03-12/
LOCATION:Farnsworth Public Library\, 715 Main St\, Oconto\, WI
CATEGORIES:Menominee
END:VEVENT
BEGIN:VEVENT
DTSTART;TZID=UTC:20250312T170000
DTEND;TZID=UTC:20250312T193000
DTSTAMP:20260421T113941
CREATED:20250207T191546Z
LAST-MODIFIED:20250207T191546Z
UID:10002939-1741798800-1741807800@upbarreview.com
SUMMARY:Leighs Garden Winery - Dot Art - Escanaba
DESCRIPTION:Elevate your drinking experience with our vibrant Dot Art class! Perfect for any occasion\, our drinkware is designed to add a pop of color and fun to your day. Made with paint you can wash and reuse. Whether enjoying a relaxing day at home or hosting a party with friends\, our Dot Art drinkware will make every sip more enjoyable. Choose from a variety of designs and patterns!
URL:https://upbarreview.com/event/leighs-garden-winery-dot-art-escanaba/
LOCATION:Leigh’s Garden Winery\, 904 Ludington St\, Escanaba\, MI
CATEGORIES:Menominee
END:VEVENT
BEGIN:VEVENT
DTSTART;TZID=UTC:20250312T173000
DTEND;TZID=UTC:20250312T203000
DTSTAMP:20260421T113941
CREATED:20250207T170103Z
LAST-MODIFIED:20250207T170648Z
UID:10002821-1741800600-1741811400@upbarreview.com
SUMMARY:The Craft Cave - Blue Bunny - Marinette
DESCRIPTION:Picture frame on wood stand\, painted and distressed. Bunny added to frame then decorated. Adult class\,BYOB cost 20$. Call to pre pay and sign up at 715-587-4643
URL:https://upbarreview.com/event/the-craft-cave-blue-bunny-marinette/2025-03-12/
LOCATION:The Craft Cave\, 605 Main St.\, Marinette\, WI\, 54143\, United States
CATEGORIES:Menominee
END:VEVENT
BEGIN:VEVENT
DTSTART;TZID=UTC:20250313T080000
DTEND;TZID=UTC:20250313T170000
DTSTAMP:20260421T113941
CREATED:20241202T212718Z
LAST-MODIFIED:20241202T212718Z
UID:10002538-1741852800-1741885200@upbarreview.com
SUMMARY:Biehl Bridges to Recovery - Overeaters Anonymous - Marinette
DESCRIPTION:A new year! A new you! Want to know if you’re an overeater? Struggling to find support? Wanting support? Come join us on Thursday evenings from 5:30pm-6:30pm.
URL:https://upbarreview.com/event/biehl-bridges-to-recovery-overeaters-anonymous-marinette/2025-03-13/
LOCATION:Biehl Bridge To Recovery\, 3123 Shore Dr\, Marinette\, WI\, 54143
CATEGORIES:Menominee
END:VEVENT
BEGIN:VEVENT
DTSTART;TZID=UTC:20250313T090000
DTEND;TZID=UTC:20250313T100000
DTSTAMP:20260421T113941
CREATED:20241203T012051Z
LAST-MODIFIED:20241203T012113Z
UID:10002655-1741856400-1741860000@upbarreview.com
SUMMARY:Hummingbird Cafe - Bible Study with Nancy - Crivitz
DESCRIPTION:A casual group Bible study where we can give information\, discuss anything\, and answer any questions you have or if you want support we are here.
URL:https://upbarreview.com/event/hummingbird-cafe-bible-study-with-nancy-crivitz/2025-03-13/
LOCATION:Hummingibird Cafe\, 508 Henriette Ave\, Crivitz\, WI
CATEGORIES:Menominee
END:VEVENT
BEGIN:VEVENT
DTSTART;TZID=UTC:20250313T090000
DTEND;TZID=UTC:20250313T100000
DTSTAMP:20260421T113941
CREATED:20250207T195324Z
LAST-MODIFIED:20250207T195324Z
UID:10003086-1741856400-1741860000@upbarreview.com
SUMMARY:Hummingbird Cafe - Bible Study w/ Nancy - Crivitz
DESCRIPTION:A casual group Bible study where we can give information\, discuss anything\, and answer any questions you have or if you want support we are here.
URL:https://upbarreview.com/event/hummingbird-cafe-bible-study-w-nancy-crivitz/2025-03-13/
LOCATION:Hummingibird Cafe\, 508 Henriette Ave\, Crivitz\, WI
CATEGORIES:Menominee
END:VEVENT
BEGIN:VEVENT
DTSTART;TZID=UTC:20250313T100000
DTEND;TZID=UTC:20250313T233000
DTSTAMP:20260421T113941
CREATED:20241029T145445Z
LAST-MODIFIED:20241029T145445Z
UID:10002237-1741860000-1741908600@upbarreview.com
SUMMARY:Alibi's - Free Pool Thursdays - Marinette
DESCRIPTION:Free Pool!!
URL:https://upbarreview.com/event/alibis-free-pool-thursdays-marinette/2025-03-13/
LOCATION:ALiBi Bar & Grill\, 829 Main St\, Marinette\, WI\, 54143\, United States
CATEGORIES:Menominee
END:VEVENT
BEGIN:VEVENT
DTSTART;TZID=UTC:20250313T130000
DTEND;TZID=UTC:20250313T190000
DTSTAMP:20260421T113941
CREATED:20250207T184416Z
LAST-MODIFIED:20250207T184416Z
UID:10002910-1741870800-1741892400@upbarreview.com
SUMMARY:Upper Hand Brewery - Sugar Bush - Escanaba
DESCRIPTION:Join us for a triple release weekend of Sugar Bush!Thursday\, March 13 we will tap the OG\, followed by a Friday tapping of Cinnamon Vanilla Maple and a Saturday tapping of (the perfect “brunch beer”) Blueberry Maple.Supplies are limited. 21+
URL:https://upbarreview.com/event/upper-hand-brewery-sugar-bush-escanaba/
LOCATION:Upper Hand Brewery\, 3525 Airport Rd\, Escanaba\, WI\, 49829
CATEGORIES:Menominee
END:VEVENT
BEGIN:VEVENT
DTSTART;TZID=UTC:20250313T140000
DTEND;TZID=UTC:20250313T153000
DTSTAMP:20260421T113941
CREATED:20250207T202405Z
LAST-MODIFIED:20250207T202405Z
UID:10003147-1741874400-1741879800@upbarreview.com
SUMMARY:Farnsworth Public Library - 2nd Thursday Book Club - Oconto
DESCRIPTION:Participants share and discuss books they are reading from all genres and authors. There is no assigned reading – just a great discussion each month about any and all types of books. Join us!
URL:https://upbarreview.com/event/farnsworth-public-library-2nd-thursday-book-club-oconto/2025-03-13/
LOCATION:Farnsworth Public Library\, 715 Main St\, Oconto\, WI
CATEGORIES:Menominee
END:VEVENT
BEGIN:VEVENT
DTSTART;TZID=UTC:20250313T160000
DTEND;TZID=UTC:20250313T180000
DTSTAMP:20260421T113941
CREATED:20250207T193316Z
LAST-MODIFIED:20250207T193355Z
UID:10002994-1741881600-1741888800@upbarreview.com
SUMMARY:Escanaba Public Library - Fiber Arts a la Carte - Escanaba
DESCRIPTION:Fiber Arts a la Carte\, a social gathering for fiber artists ages 16+\, meets at the Escanaba Public Library on the second Thursday of each month.\nIf you crochet\, embroider\, knit\, quilt\, sew\, weave\, or do any other craft that does not involve a machine\, you are welcome! From beginners to the most experienced fiber worker\, join us for a time of socializing\, learning\, and teaching.\nIf you have extra craft materials\, feel free to bring them to swap and share
URL:https://upbarreview.com/event/escanaba-public-library-fiber-arts-a-la-carte-escanaba/2025-03-13/
LOCATION:Escanaba Public Library\, 400 Ludington St\, Escanaba\, WI\, 49829
CATEGORIES:Menominee
END:VEVENT
BEGIN:VEVENT
DTSTART;TZID=UTC:20250313T170000
DTEND;TZID=UTC:20250313T190000
DTSTAMP:20260421T113941
CREATED:20250207T170103Z
LAST-MODIFIED:20250207T170648Z
UID:10002822-1741885200-1741892400@upbarreview.com
SUMMARY:The Craft Cave - Blue Bunny - Marinette
DESCRIPTION:Picture frame on wood stand\, painted and distressed. Bunny added to frame then decorated. Adult class\,BYOB cost 20$. Call to pre pay and sign up at 715-587-4643
URL:https://upbarreview.com/event/the-craft-cave-blue-bunny-marinette/2025-03-13/
LOCATION:The Craft Cave\, 605 Main St.\, Marinette\, WI\, 54143\, United States
CATEGORIES:Menominee
END:VEVENT
BEGIN:VEVENT
DTSTART;TZID=UTC:20250313T170000
DTEND;TZID=UTC:20250313T200000
DTSTAMP:20260421T113941
CREATED:20250207T173105Z
LAST-MODIFIED:20250207T173105Z
UID:10002848-1741885200-1741896000@upbarreview.com
SUMMARY:McCrafties - Longing For Spring - Menominee
DESCRIPTION:Join us for “Longing for Spring\,” a delightful art class where you’ll create a vibrant 12×12 canvas painting that captures the essence of the season! In this class\, you’ll receive all the materials you need\, including stencils and step-by-step instructions to guide you through the process. Embrace the bright and cheerful colors of spring as you bring your canvas to life with beautiful floral designs and uplifting motifs. Perfect for artists of all skill levels\, this class is a wonderful way to celebrate the beauty of spring and unleash your creativity. Come and enjoy a fun\, relaxing atmosphere while making your own piece of spring-inspired art!\nPAYMENT IN ADVANCE OF $30 IS REQUIRED.\nCall 715-440-5959 orSign-up onlinehttps://mccraftiellc.square.site/\n\nCLASS REFUND POLICY:\n-full in studio credit if cancellation is 1 week prior to the class-50% in studio credit up to 24 hours prior to class.-less than 24 hours notice\, no credit-NO SHOW/ NO CALL/NO CREDIT
URL:https://upbarreview.com/event/mccrafties-longing-for-spring-menominee/
LOCATION:McCrafties\, 625 1st St\, Menominee\, MI\, 49858\, United States
CATEGORIES:Menominee
END:VEVENT
BEGIN:VEVENT
DTSTART;TZID=UTC:20250313T180000
DTEND;TZID=UTC:20250313T210000
DTSTAMP:20260421T113941
CREATED:20241001T040448Z
LAST-MODIFIED:20241001T040448Z
UID:10001877-1741888800-1741899600@upbarreview.com
SUMMARY:Spirit House -Trivia Night! - Menominee
DESCRIPTION:Trivia Night Thursday at Spirit House\, come check out this awesome event!!!!
URL:https://upbarreview.com/event/spirit-house-trivia-night-menominee/2025-03-13/
LOCATION:Spirit House\, 533 10th Ave\, Menominee\, MI 49858\, Menominee\, MI\, 49858\, United States
CATEGORIES:Menominee
END:VEVENT
BEGIN:VEVENT
DTSTART;TZID=UTC:20250313T180000
DTEND;TZID=UTC:20250313T210000
DTSTAMP:20260421T113941
CREATED:20241030T021051Z
LAST-MODIFIED:20241030T021051Z
UID:10002389-1741888800-1741899600@upbarreview.com
SUMMARY:Oak Crest Golf Course - Trivia Time - Norway
DESCRIPTION:It is back by popular demand. Oak Crest Golf Club Thursday Night Trivia. Trivia will start at 6pm sharp\, but come early and enjoy Happy Hour from 4-6pm with a $1.00 off all drinks. Bring your friends and family for a fun couple of hours of laughs and Trivia.
URL:https://upbarreview.com/event/oak-crest-golf-course-trivia-time-norway/2025-03-13/
LOCATION:Oak Crest Golf Course\, N1475 US-8\, Norway\, MI\, 49870
CATEGORIES:Ironmountain
END:VEVENT
BEGIN:VEVENT
DTSTART;TZID=UTC:20250314T190000
DTEND;TZID=UTC:20250314T220000
DTSTAMP:20260421T113941
CREATED:20250207T171644Z
LAST-MODIFIED:20250207T171644Z
UID:10002835-1741978800-1741989600@upbarreview.com
SUMMARY:Riverside Country Club - Dueling Pianos - Menominee
DESCRIPTION:Twilight Tunes is coming to the UP! From 7-10pm at Riverside Country Club in Menominee\, Cass and Jake will be playing all your favorite tunes! A cover will be taken at the door\, with delicious food specials and a night to remember! Come early and stay late with us\, where the night comes alive! 7-10pm March 14\, 2025
URL:https://upbarreview.com/event/riverside-country-club-dueling-pianos-menominee/
LOCATION:Riverside Country Club\, 3459 14th Ave\, Menominee\, MI\, 49585
CATEGORIES:Menominee
END:VEVENT
BEGIN:VEVENT
DTSTART;TZID=UTC:20250314T200000
DTEND;TZID=UTC:20250314T230000
DTSTAMP:20260421T113941
CREATED:20250207T191746Z
LAST-MODIFIED:20250207T191746Z
UID:10002945-1741982400-1741993200@upbarreview.com
SUMMARY:The Granada - Karaoke Night - Escanaba
DESCRIPTION:Welcome to the Hottest Karaoke show in Town! Every Friday at The Granada in Escanaba\, MI Starts at 9:00 pm\nCreate your FREE Performer Account with Songbooks Online App to Browse the Karaoke song library\, keep a favorites list and submit your song requests remotely! Use Show ID: MSK23 after you create your account. You can also just tell me your name and the song you want if you don’t know how to install an app.
URL:https://upbarreview.com/event/the-granada-karaoke-night-escanaba/2025-03-14/
LOCATION:The Granada\, 330 S 10th St\, Escanaba\, MI
CATEGORIES:Menominee
END:VEVENT
BEGIN:VEVENT
DTSTART;TZID=UTC:20250315T090000
DTEND;TZID=UTC:20250315T120000
DTSTAMP:20260421T113941
CREATED:20250207T174637Z
LAST-MODIFIED:20250207T174637Z
UID:10002862-1742029200-1742040000@upbarreview.com
SUMMARY:Rec Center - Spring Fling Craft Show - Marinette
DESCRIPTION: 𝙎𝙥𝙧𝙞𝙣𝙜 𝙁𝙡𝙞𝙣𝙜 𝘾𝙧𝙖𝙛𝙩 𝙎𝙝𝙤𝙬 \nGet ready to welcome the season at the Spring Fling Craft Show!  Browse a stunning selection of spring and Easter décor\, handmade crafts\, and unique treasures\, including:\n Quilts & afghans Birdhouses & lawn art One-of-a-kind handmade creations\n When: 9 AM – 3 PM Where: Community REC Center\, 2501 Pierce Ave\, Marinette\, WI 54143\nJoin us for a day of creativity\, community\, and springtime inspiration! 
URL:https://upbarreview.com/event/rec-center-spring-fling-craft-show-marinette/
LOCATION:Marinette Recreation Center\, 2501 Pierce Avenue\, Marinette\, WI\, 54143\, United States
CATEGORIES:Menominee
END:VEVENT
BEGIN:VEVENT
DTSTART;TZID=UTC:20250315T100000
DTEND;TZID=UTC:20250315T140000
DTSTAMP:20260421T113941
CREATED:20250207T201054Z
LAST-MODIFIED:20250207T201054Z
UID:10003104-1742032800-1742047200@upbarreview.com
SUMMARY:Blazing Bear Homestead - Baby Goat Cuddle Sessions - Peshtigo
DESCRIPTION:Tiny hooves\, big hearts: Get your cuddles & giggles in with our baby goats!\nBlazing Bear Homestead is excited to offer Baby Goat Cuddle Sessions again in 2025! Immerse yourself in a world of cuddly goats\, where soft fur\, warm snuggles\, and contagious laughter await. Bring your loved ones or come solo – our friendly goats are here to make your heart happy. Casi will be there to answer any questions you have\, help you get some great pictures\, and tell you all about our little herd.\nPrice is per person participating\, maximum of 6 per time slot. Each person will get a small cup of grain to feed to the goats that are old enough to have them. We provide benches for you to sit on and each guest gets a complimentary beverage to enjoy.\nIf you would like a private session\, you are welcome to buy out all tickets for that time slot\, or contact us to set up a special session time. Please arrive 5 minutes early to sign waivers. Adults MUST accompany children 12 years of age and under at all times. Children 24 months and under get in free. Human attendees only\, no dogs/pets/outside animals of any kind.\nNOTE: These tickets are non-refundable. Baby Goat Cuddle Sessions are held in our detached garage\, rain or shine. The room is not climate controlled so please dress for the weather. We do not yet have a public restroom\, so please plan accordingly.\nSaturdaysMarch-July30 minute sessions starting at 10am\, 10:40am\, 11:20am\, 12pm\, 12:40pm\, 1:20pm\, and 2pm.\nBuy tickets here: https://www.blazingbearhomestead.net/goatevents
URL:https://upbarreview.com/event/blazing-bear-homestead-baby-goat-cuddle-sessions-peshtigo/2025-03-15/
LOCATION:Blazing Bear Homestead\, W3070 Hale School Rd\, Peshtigo\, WI\, 54157
CATEGORIES:Menominee
END:VEVENT
BEGIN:VEVENT
DTSTART;TZID=UTC:20250315T120000
DTEND;TZID=UTC:20250315T150000
DTSTAMP:20260421T113941
CREATED:20250207T194342Z
LAST-MODIFIED:20250207T194342Z
UID:10003070-1742040000-1742050800@upbarreview.com
SUMMARY:The Backwater Bar & Grill - Polar Plunge - Crivitz
DESCRIPTION:Noquebay Resort is excited to host this Polar Plunge fundraiser. All proceeds will go to the Town of Lake Fire Department and Crivitz Rescue Squad!\nRegistration: 12:00pmPlunge time: 1:00pmFood & drinks at Backwater Bar & Grill to follow!\nBucket raffles! 50/50! Entertainment by DJ Paris Nights!\nEntry Fee (minimum):Adults (Age 13 & older): $40Children (Age 12 & under): $25Includes: plunge\, t-shirt & food\nPre-register by Feb 24 to guarantee shirt size! NoquebayResort.com/events
URL:https://upbarreview.com/event/the-backwater-bar-grill-polar-plunge-crivitz/
LOCATION:The Backwater Bar & Grill\, 7908 Noquebay Rd\, Crivitz\, WI\, 54114
CATEGORIES:Menominee
END:VEVENT
BEGIN:VEVENT
DTSTART;TZID=UTC:20250315T130000
DTEND;TZID=UTC:20250315T150000
DTSTAMP:20260421T113941
CREATED:20250207T170103Z
LAST-MODIFIED:20250207T170648Z
UID:10002823-1742043600-1742050800@upbarreview.com
SUMMARY:The Craft Cave - Blue Bunny - Marinette
DESCRIPTION:Picture frame on wood stand\, painted and distressed. Bunny added to frame then decorated. Adult class\,BYOB cost 20$. Call to pre pay and sign up at 715-587-4643
URL:https://upbarreview.com/event/the-craft-cave-blue-bunny-marinette/2025-03-15/
LOCATION:The Craft Cave\, 605 Main St.\, Marinette\, WI\, 54143\, United States
CATEGORIES:Menominee
END:VEVENT
BEGIN:VEVENT
DTSTART;TZID=UTC:20250318T100000
DTEND;TZID=UTC:20250318T130000
DTSTAMP:20260421T113941
CREATED:20250207T193742Z
LAST-MODIFIED:20250207T193742Z
UID:10003015-1742292000-1742302800@upbarreview.com
SUMMARY:Escanaba Public Library - Tech Help Tuesdays - Escanaba
DESCRIPTION:Need help printing from your phone? Setting up Libby on your personal device? Using Zoom? How about getting started on your Chromebook or iPad? Using a Wi-Fi hotspot? Creating an email address? Google searches? or how to use the library’s online catalog?\nWe have the answers and assistance you need! Make an appointment or stop in at the circulation desk. Appointments are one hour (maximum).\nThe Escanaba Public Library staff do not repair computers/devices. The library assumes no liability for personal patron devices.
URL:https://upbarreview.com/event/escanaba-public-library-tech-help-tuesdays-escanaba/2025-03-18/
LOCATION:Escanaba Public Library\, 400 Ludington St\, Escanaba\, WI\, 49829
CATEGORIES:Menominee
END:VEVENT
BEGIN:VEVENT
DTSTART;TZID=UTC:20250318T170000
DTEND;TZID=UTC:20250318T200000
DTSTAMP:20260421T113941
CREATED:20241029T131610Z
LAST-MODIFIED:20241029T131610Z
UID:10002172-1742317200-1742328000@upbarreview.com
SUMMARY:Biehl Bridges to Recovery - All Recovery Meeting - Marinette
DESCRIPTION:This is a meeting for anyone in recovery to talk about Recovery!
URL:https://upbarreview.com/event/biehl-bridges-to-recovery-all-recovery-meeting-marinette/2025-03-18/
LOCATION:Biehl Bridge To Recovery\, 3123 Shore Dr\, Marinette\, WI\, 54143
CATEGORIES:Menominee
END:VEVENT
BEGIN:VEVENT
DTSTART;TZID=UTC:20250320T080000
DTEND;TZID=UTC:20250320T170000
DTSTAMP:20260421T113941
CREATED:20241202T212718Z
LAST-MODIFIED:20241202T212718Z
UID:10002539-1742457600-1742490000@upbarreview.com
SUMMARY:Biehl Bridges to Recovery - Overeaters Anonymous - Marinette
DESCRIPTION:A new year! A new you! Want to know if you’re an overeater? Struggling to find support? Wanting support? Come join us on Thursday evenings from 5:30pm-6:30pm.
URL:https://upbarreview.com/event/biehl-bridges-to-recovery-overeaters-anonymous-marinette/2025-03-20/
LOCATION:Biehl Bridge To Recovery\, 3123 Shore Dr\, Marinette\, WI\, 54143
CATEGORIES:Menominee
END:VEVENT
BEGIN:VEVENT
DTSTART;TZID=UTC:20250320T090000
DTEND;TZID=UTC:20250320T100000
DTSTAMP:20260421T113941
CREATED:20241203T012051Z
LAST-MODIFIED:20241203T012113Z
UID:10002656-1742461200-1742464800@upbarreview.com
SUMMARY:Hummingbird Cafe - Bible Study with Nancy - Crivitz
DESCRIPTION:A casual group Bible study where we can give information\, discuss anything\, and answer any questions you have or if you want support we are here.
URL:https://upbarreview.com/event/hummingbird-cafe-bible-study-with-nancy-crivitz/2025-03-20/
LOCATION:Hummingibird Cafe\, 508 Henriette Ave\, Crivitz\, WI
CATEGORIES:Menominee
END:VEVENT
END:VCALENDAR