BEGIN:VCALENDAR
VERSION:2.0
PRODID:-//UP BAR REVIEW - ECPv6.14.2//NONSGML v1.0//EN
CALSCALE:GREGORIAN
METHOD:PUBLISH
X-ORIGINAL-URL:https://upbarreview.com
X-WR-CALDESC:Events for UP BAR REVIEW
REFRESH-INTERVAL;VALUE=DURATION:PT1H
X-Robots-Tag:noindex
X-PUBLISHED-TTL:PT1H
BEGIN:VTIMEZONE
TZID:UTC
BEGIN:STANDARD
TZOFFSETFROM:+0000
TZOFFSETTO:+0000
TZNAME:UTC
DTSTART:20250101T000000
END:STANDARD
END:VTIMEZONE
BEGIN:VEVENT
DTSTART;TZID=UTC:20250218T100000
DTEND;TZID=UTC:20250218T123000
DTSTAMP:20260424T113447
CREATED:20250207T181614Z
LAST-MODIFIED:20250207T181614Z
UID:10002898-1739872800-1739881800@upbarreview.com
SUMMARY:Julie Huebner Pottery & Art Studio - 12'' Wall Flower Class - Marinette
DESCRIPTION:In this two part workshop you will go through all the steps to make a handbuilt wall flower using slab rolled clay with your choice of color. This class is beginner friendly\, you have the choice to come back and glaze your own flower or I’m happy to glaze it for you. Cost $75. BYOB
URL:https://upbarreview.com/event/julie-huebner-pottery-art-studio-12-wall-flower-class-marinette/
LOCATION:Julie Huebner Pottery & Art Studio\, W758 Edwards Ave\, Marinette\, WI
CATEGORIES:Menominee
END:VEVENT
BEGIN:VEVENT
DTSTART;TZID=UTC:20250218T100000
DTEND;TZID=UTC:20250218T130000
DTSTAMP:20260424T113447
CREATED:20250207T193742Z
LAST-MODIFIED:20250207T193742Z
UID:10003011-1739872800-1739883600@upbarreview.com
SUMMARY:Escanaba Public Library - Tech Help Tuesdays - Escanaba
DESCRIPTION:Need help printing from your phone? Setting up Libby on your personal device? Using Zoom? How about getting started on your Chromebook or iPad? Using a Wi-Fi hotspot? Creating an email address? Google searches? or how to use the library’s online catalog?\nWe have the answers and assistance you need! Make an appointment or stop in at the circulation desk. Appointments are one hour (maximum).\nThe Escanaba Public Library staff do not repair computers/devices. The library assumes no liability for personal patron devices.
URL:https://upbarreview.com/event/escanaba-public-library-tech-help-tuesdays-escanaba/2025-02-18/
LOCATION:Escanaba Public Library\, 400 Ludington St\, Escanaba\, WI\, 49829
CATEGORIES:Menominee
END:VEVENT
BEGIN:VEVENT
DTSTART;TZID=UTC:20250218T120000
DTEND;TZID=UTC:20250218T193000
DTSTAMP:20260424T113447
CREATED:20241030T021353Z
LAST-MODIFIED:20241030T021353Z
UID:10002408-1739880000-1739907000@upbarreview.com
SUMMARY:Oak Crest Golf Course - Tuesday Mexican Nights - Norway
DESCRIPTION:It’s back by popular demand. Featuring items such as; tacos\, tostadas\, chimichangas\, taco salad\, quesadillas\, nachos\, and burritos. We will have some Mexican beers to wash it all down. Hope to see you
URL:https://upbarreview.com/event/oak-crest-golf-course-tuesday-mexican-nights-norway-2/2025-02-18/
LOCATION:Oak Crest Golf Course\, N1475 US-8\, Norway\, MI\, 49870
CATEGORIES:Ironmountain
END:VEVENT
BEGIN:VEVENT
DTSTART;TZID=UTC:20250218T130000
DTEND;TZID=UTC:20250218T160000
DTSTAMP:20260424T113447
CREATED:20250207T180840Z
LAST-MODIFIED:20250207T180840Z
UID:10002890-1739883600-1739894400@upbarreview.com
SUMMARY:CJ's Glass - Beginner Watercolor Rose Bouquet - Marinette
DESCRIPTION:$40 cash or check to Judy BloomClass size: 12 Ages 12+Preregistration required by calling or messaging CJ’s Glass(608)354-2303Come try your hand at watercolor for the first time or refresh your skills in this watercolor class taught by Judy Bloom Studio! No previous experience needed. Judy offers a template and step by step\, demonstrated lessons to help you create this one of a kind painting.
URL:https://upbarreview.com/event/cjs-glass-beginner-watercolor-rose-bouquet-marinette/
LOCATION:CJ’s Glass\, 802 Main St\, Marinette\, WI\, 54143
CATEGORIES:Menominee
END:VEVENT
BEGIN:VEVENT
DTSTART;TZID=UTC:20250218T160000
DTEND;TZID=UTC:20250218T180000
DTSTAMP:20260424T113447
CREATED:20250207T170804Z
LAST-MODIFIED:20250207T171120Z
UID:10002825-1739894400-1739901600@upbarreview.com
SUMMARY:The Craft Cave - Spring Chicken - Marinette
DESCRIPTION:Everyone needs a chicken ! Wood chicken painted and decorated to your liking.Approximately 12 in hanger or lean. Adult class BYOB cost 25$. Call to pre pay and sign up for class at 715-587-4643
URL:https://upbarreview.com/event/the-craft-cave-spring-chicken-marinette/2025-02-18/
LOCATION:The Craft Cave\, 605 Main St.\, Marinette\, WI\, 54143\, United States
CATEGORIES:Menominee
END:VEVENT
BEGIN:VEVENT
DTSTART;TZID=UTC:20250218T163000
DTEND;TZID=UTC:20250218T180000
DTSTAMP:20260424T113447
CREATED:20250207T190605Z
LAST-MODIFIED:20250207T190605Z
UID:10002929-1739896200-1739901600@upbarreview.com
SUMMARY:Fyzical Escanaba - Injury Workshop
DESCRIPTION:Join the FOOSH Injury Workshop: Tuesday\, February 18\, 5:30pm!
URL:https://upbarreview.com/event/fyzical-escanaba-injury-workshop/
LOCATION:Fyzical Escanaba\, 322 N Lincoln Rd Suite #4\, Escanaba
CATEGORIES:Menominee
END:VEVENT
BEGIN:VEVENT
DTSTART;TZID=UTC:20250218T163000
DTEND;TZID=UTC:20250218T183000
DTSTAMP:20260424T113447
CREATED:20250207T193013Z
LAST-MODIFIED:20250207T193013Z
UID:10002990-1739896200-1739903400@upbarreview.com
SUMMARY:Fyzical Escanaba - Free Foosh Workshop - Escanaba
DESCRIPTION:Join us on the Anytime Fitness Purple Turf for a Free FOOSH Workshop with Dr Sadler from Fyzical Therapy and Balance Centers.
URL:https://upbarreview.com/event/fyzical-escanaba-free-foosh-workshop-escanaba/
LOCATION:Fyzical Escanaba\, 322 N Lincoln Rd Suite #4\, Escanaba
CATEGORIES:Menominee
END:VEVENT
BEGIN:VEVENT
DTSTART;TZID=UTC:20250218T170000
DTEND;TZID=UTC:20250218T200000
DTSTAMP:20260424T113447
CREATED:20241029T131610Z
LAST-MODIFIED:20241029T131610Z
UID:10002168-1739898000-1739908800@upbarreview.com
SUMMARY:Biehl Bridges to Recovery - All Recovery Meeting - Marinette
DESCRIPTION:This is a meeting for anyone in recovery to talk about Recovery!
URL:https://upbarreview.com/event/biehl-bridges-to-recovery-all-recovery-meeting-marinette/2025-02-18/
LOCATION:Biehl Bridge To Recovery\, 3123 Shore Dr\, Marinette\, WI\, 54143
CATEGORIES:Menominee
END:VEVENT
BEGIN:VEVENT
DTSTART;TZID=UTC:20250218T180000
DTEND;TZID=UTC:20250218T200000
DTSTAMP:20260424T113447
CREATED:20250207T171522Z
LAST-MODIFIED:20250207T171522Z
UID:10002834-1739901600-1739908800@upbarreview.com
SUMMARY:February Network Meeting
DESCRIPTION:You are INVITED to Join us for the February Networking Meeting on Tuesday February 18th from 6p-8p at our February Venue- Katey LeMay-State Farm Agent in Menominee\, MI. In addition we have Your Wholesome Life LLC as our February Featured Business.\nANY & ALL Local Small Business Owners and/or Managers are INVITED. Learn more about our February Venue and our Featured Business of the Month. Followed by some good old fashion networking with a fun group of businesses. This is a Casual Meeting and you truly are only a stranger once with our group.
URL:https://upbarreview.com/event/february-network-meeting/
LOCATION:State Farm Office Menominee\, 909 1st St\, Menominee\, MI\, 49858
CATEGORIES:Menominee
END:VEVENT
BEGIN:VEVENT
DTSTART;TZID=UTC:20250219T160000
DTEND;TZID=UTC:20250219T180000
DTSTAMP:20260424T113447
CREATED:20250207T190354Z
LAST-MODIFIED:20250207T190354Z
UID:10002927-1739980800-1739988000@upbarreview.com
SUMMARY:Escanaba Senior High School - Pancake Dinner - Escanaba
DESCRIPTION:Our annual Pancake Fundraiser will be held on Wednesday\, February 19\, 2025 from 5pm to 7pm in the Escanaba High School Commons. Tickets are available from your favorite Junior High or High School musician. If you don’t have a favorite band musician\, you can either buy your ticket at the door the night of OR online at:\nhttps://eskybandboosters.com/pancake-dinner/There will be live music from the musicians throughout the whole dinner. Test you luck in the fabulous Bucket Raffle. For those that can’t stay\, we do offer To-Go boxes. Hope to see you there!
URL:https://upbarreview.com/event/escanaba-senior-high-school-pancake-dinner-escanaba/
LOCATION:Escanaba Senior High School\, 500 S Lincoln Rd\, Escanaba\, MI
CATEGORIES:Menominee
END:VEVENT
BEGIN:VEVENT
DTSTART;TZID=UTC:20250219T163000
DTEND;TZID=UTC:20250219T180000
DTSTAMP:20260424T113447
CREATED:20250207T190447Z
LAST-MODIFIED:20250207T190447Z
UID:10002928-1739982600-1739988000@upbarreview.com
SUMMARY:Escanaba Public Library - Family Fun Night - Escanaba
DESCRIPTION:Join United Way of Delta County for a storytime about kindness. Kids 0-8 will enjoy stories\, activities\, a snack\, and free book! No registration is required.
URL:https://upbarreview.com/event/escanaba-public-library-family-fun-night-escanaba/
LOCATION:Escanaba Public Library\, 400 Ludington St\, Escanaba\, WI\, 49829
CATEGORIES:Menominee
END:VEVENT
BEGIN:VEVENT
DTSTART;TZID=UTC:20250220T080000
DTEND;TZID=UTC:20250220T170000
DTSTAMP:20260424T113447
CREATED:20241202T212718Z
LAST-MODIFIED:20241202T212718Z
UID:10002535-1740038400-1740070800@upbarreview.com
SUMMARY:Biehl Bridges to Recovery - Overeaters Anonymous - Marinette
DESCRIPTION:A new year! A new you! Want to know if you’re an overeater? Struggling to find support? Wanting support? Come join us on Thursday evenings from 5:30pm-6:30pm.
URL:https://upbarreview.com/event/biehl-bridges-to-recovery-overeaters-anonymous-marinette/2025-02-20/
LOCATION:Biehl Bridge To Recovery\, 3123 Shore Dr\, Marinette\, WI\, 54143
CATEGORIES:Menominee
END:VEVENT
BEGIN:VEVENT
DTSTART;TZID=UTC:20250220T090000
DTEND;TZID=UTC:20250220T100000
DTSTAMP:20260424T113447
CREATED:20241203T012051Z
LAST-MODIFIED:20241203T012113Z
UID:10002652-1740042000-1740045600@upbarreview.com
SUMMARY:Hummingbird Cafe - Bible Study with Nancy - Crivitz
DESCRIPTION:A casual group Bible study where we can give information\, discuss anything\, and answer any questions you have or if you want support we are here.
URL:https://upbarreview.com/event/hummingbird-cafe-bible-study-with-nancy-crivitz/2025-02-20/
LOCATION:Hummingibird Cafe\, 508 Henriette Ave\, Crivitz\, WI
CATEGORIES:Menominee
END:VEVENT
BEGIN:VEVENT
DTSTART;TZID=UTC:20250220T090000
DTEND;TZID=UTC:20250220T100000
DTSTAMP:20260424T113447
CREATED:20250207T195324Z
LAST-MODIFIED:20250207T195324Z
UID:10003083-1740042000-1740045600@upbarreview.com
SUMMARY:Hummingbird Cafe - Bible Study w/ Nancy - Crivitz
DESCRIPTION:A casual group Bible study where we can give information\, discuss anything\, and answer any questions you have or if you want support we are here.
URL:https://upbarreview.com/event/hummingbird-cafe-bible-study-w-nancy-crivitz/2025-02-20/
LOCATION:Hummingibird Cafe\, 508 Henriette Ave\, Crivitz\, WI
CATEGORIES:Menominee
END:VEVENT
BEGIN:VEVENT
DTSTART;TZID=UTC:20250220T100000
DTEND;TZID=UTC:20250220T123000
DTSTAMP:20260424T113447
CREATED:20250207T181919Z
LAST-MODIFIED:20250207T181919Z
UID:10002900-1740045600-1740054600@upbarreview.com
SUMMARY:Julie Huebner Pottery & Studio - Handbuilt Mug Class - Marinette
DESCRIPTION:In this two part workshop you will learn how to make a handbuilt mug using slab rolled clay with your choice of texture and color. This class is beginner friendly\, you have the choice to come back and glaze your own mug or I’m happy to glaze it for you. Cost $40. BYOB
URL:https://upbarreview.com/event/julie-huebner-pottery-studio-handbuilt-mug-class-marinette/
LOCATION:Julie Huebner Pottery & Art Studio\, W758 Edwards Ave\, Marinette\, WI
CATEGORIES:Menominee
END:VEVENT
BEGIN:VEVENT
DTSTART;TZID=UTC:20250220T100000
DTEND;TZID=UTC:20250220T233000
DTSTAMP:20260424T113447
CREATED:20241029T145445Z
LAST-MODIFIED:20241029T145445Z
UID:10002234-1740045600-1740094200@upbarreview.com
SUMMARY:Alibi's - Free Pool Thursdays - Marinette
DESCRIPTION:Free Pool!!
URL:https://upbarreview.com/event/alibis-free-pool-thursdays-marinette/2025-02-20/
LOCATION:ALiBi Bar & Grill\, 829 Main St\, Marinette\, WI\, 54143\, United States
CATEGORIES:Menominee
END:VEVENT
BEGIN:VEVENT
DTSTART;TZID=UTC:20250220T130000
DTEND;TZID=UTC:20250220T140000
DTSTAMP:20260424T113448
CREATED:20250207T191035Z
LAST-MODIFIED:20250207T191035Z
UID:10002933-1740056400-1740060000@upbarreview.com
SUMMARY:Lakehouse Escanaba - Cherry Pie Pick Up - Escanaba
DESCRIPTION:Join us for a National Cherry Pie Pick Up! Stop into our beautiful community to pick up your mini cherry pie – some pies will also include a special prize! All attendees will be entered into the Grand Prize drawing.\nRSVP to 906-310-0656!
URL:https://upbarreview.com/event/lakehouse-escanaba-cherry-pie-pick-up-escanaba/
LOCATION:LakeHouse Escanaba\, 501 S Lincoln Rd\, Escanaba\, MI\, 49829
CATEGORIES:Menominee
END:VEVENT
BEGIN:VEVENT
DTSTART;TZID=UTC:20250220T130000
DTEND;TZID=UTC:20250220T190000
DTSTAMP:20260424T113448
CREATED:20250207T184148Z
LAST-MODIFIED:20250207T184148Z
UID:10002905-1740056400-1740078000@upbarreview.com
SUMMARY:Upper Hand Brewery - Service Industry Weekend - Escanaba
DESCRIPTION:Shout out to ALL the amazing service industry workers! This weekend is for YOU!\nThursday – $5 PINTSFriday – 20% OFF your total purchaseSaturday – $5 60oz. pitchers\nAll industries welcome!21+
URL:https://upbarreview.com/event/upper-hand-brewery-service-industry-weekend-escanaba/2025-02-20/
LOCATION:Upper Hand Brewery\, 3525 Airport Rd\, Escanaba\, WI\, 49829
CATEGORIES:Menominee
END:VEVENT
BEGIN:VEVENT
DTSTART;TZID=UTC:20250220T150000
DTEND;TZID=UTC:20250220T170000
DTSTAMP:20260424T113448
CREATED:20250207T190005Z
LAST-MODIFIED:20250207T190005Z
UID:10002924-1740063600-1740070800@upbarreview.com
SUMMARY:MSU Forest Biomass Innovation Center - Invaders in the Woods - Escanaba
DESCRIPTION:This talk will focus on the ID of invasive plants\, insects\, and diseases impacting our Michigan forests. We will discuss a variety of control options for homeowners and landowners. It will also introduce participants to MSU’s Forestry Innovation Center and the research work that is being done here.\nOur presenter is Jesse Randall\, who has been the Director of MSU’s AgBio Research facility in Hyde since August 2018. Currently his research focusses on all things maple syrup and Christmas tree production\, wildlife / forest interactions\, and SFI logger education. Prior to MSU\, he was a tenured associate professor at Iowa State University in the Natural Resources Department.\nThis presentation is free and open to all. The address for the Forestry Innovation Center is 6005 J Rd\, Escanaba\, MI
URL:https://upbarreview.com/event/msu-forest-biomass-innovation-center-invaders-in-the-woods-escanaba/
LOCATION:MSU Forest Biomass Innovation Center
CATEGORIES:Menominee
END:VEVENT
BEGIN:VEVENT
DTSTART;TZID=UTC:20250220T150000
DTEND;TZID=UTC:20250220T200000
DTSTAMP:20260424T113448
CREATED:20250207T172338Z
LAST-MODIFIED:20250207T172338Z
UID:10002841-1740063600-1740081600@upbarreview.com
SUMMARY:McCrafties - Love Your Pet Day - Menominee
DESCRIPTION:Celebrate National Love Your Pet Day on February 20th with a unique and lasting keepsake!Bring your pet in and we will help you capture their paw print on a ceramic piece of your choice.You are free to stop in and pick out your piece prior to the day. We have a lot to choose from.Reservations and punctuality are a must. We will be doing prints every 10 minutes.\nPRE-PAYMENT of $10 is required to save your spot\, which will come off the purchase price of the ceramic piece chosen. Feel free to call the studio with any questions715-440-5959\nOr use our easy to navigate website.\nhttps://mccraftiellc.square.site/\n-All skill levels are welcome-We provide all the necessary suppliesWe look forward to crafting with you\nCLASS REFUND POLICY:\n-full in studio credit if cancellation is 1 week prior to the class-50% in studio credit up to 24 hours prior to the class-less than 24 hours’ notice\, no credit-NO SHOW/NO CALL/NO CREDIT
URL:https://upbarreview.com/event/mccrafties-love-your-pet-day-menominee/
LOCATION:McCrafties\, 625 1st St\, Menominee\, MI\, 49858\, United States
CATEGORIES:Menominee
END:VEVENT
BEGIN:VEVENT
DTSTART;TZID=UTC:20250220T170000
DTEND;TZID=UTC:20250220T190000
DTSTAMP:20260424T113448
CREATED:20250207T170804Z
LAST-MODIFIED:20250207T171120Z
UID:10002826-1740070800-1740078000@upbarreview.com
SUMMARY:The Craft Cave - Spring Chicken - Marinette
DESCRIPTION:Everyone needs a chicken ! Wood chicken painted and decorated to your liking.Approximately 12 in hanger or lean. Adult class BYOB cost 25$. Call to pre pay and sign up for class at 715-587-4643
URL:https://upbarreview.com/event/the-craft-cave-spring-chicken-marinette/2025-02-20/1/
LOCATION:The Craft Cave\, 605 Main St.\, Marinette\, WI\, 54143\, United States
CATEGORIES:Menominee
END:VEVENT
BEGIN:VEVENT
DTSTART;TZID=UTC:20250220T180000
DTEND;TZID=UTC:20250220T200000
DTSTAMP:20260424T113448
CREATED:20250207T174724Z
LAST-MODIFIED:20250207T174724Z
UID:10002863-1740074400-1740081600@upbarreview.com
SUMMARY:The Elks Lodge - Music Bingo - Marinette
DESCRIPTION:Yacht Rock & Numbers are the fun themes this month!!Join in on the fun! It’s only $1 per board !Full dinner menu tooYou’ll be laughing\, dancing & may win a prize!!See you at our Lodge!
URL:https://upbarreview.com/event/the-elks-lodge-music-bingo-marinette/
LOCATION:Elks Lodge #1313\, 430 Bridge St\, Marinette\, WI\, 54143
CATEGORIES:Menominee
END:VEVENT
BEGIN:VEVENT
DTSTART;TZID=UTC:20250220T180000
DTEND;TZID=UTC:20250220T210000
DTSTAMP:20260424T113448
CREATED:20241001T040448Z
LAST-MODIFIED:20241001T040448Z
UID:10001874-1740074400-1740085200@upbarreview.com
SUMMARY:Spirit House -Trivia Night! - Menominee
DESCRIPTION:Trivia Night Thursday at Spirit House\, come check out this awesome event!!!!
URL:https://upbarreview.com/event/spirit-house-trivia-night-menominee/2025-02-20/
LOCATION:Spirit House\, 533 10th Ave\, Menominee\, MI 49858\, Menominee\, MI\, 49858\, United States
CATEGORIES:Menominee
END:VEVENT
BEGIN:VEVENT
DTSTART;TZID=UTC:20250220T180000
DTEND;TZID=UTC:20250220T210000
DTSTAMP:20260424T113448
CREATED:20241030T021051Z
LAST-MODIFIED:20241030T021051Z
UID:10002386-1740074400-1740085200@upbarreview.com
SUMMARY:Oak Crest Golf Course - Trivia Time - Norway
DESCRIPTION:It is back by popular demand. Oak Crest Golf Club Thursday Night Trivia. Trivia will start at 6pm sharp\, but come early and enjoy Happy Hour from 4-6pm with a $1.00 off all drinks. Bring your friends and family for a fun couple of hours of laughs and Trivia.
URL:https://upbarreview.com/event/oak-crest-golf-course-trivia-time-norway/2025-02-20/
LOCATION:Oak Crest Golf Course\, N1475 US-8\, Norway\, MI\, 49870
CATEGORIES:Ironmountain
END:VEVENT
BEGIN:VEVENT
DTSTART;TZID=UTC:20250220T190000
DTEND;TZID=UTC:20250220T210000
DTSTAMP:20260424T113448
CREATED:20250207T170804Z
LAST-MODIFIED:20250207T171120Z
UID:10002828-1740078000-1740085200@upbarreview.com
SUMMARY:The Craft Cave - Spring Chicken - Marinette
DESCRIPTION:Everyone needs a chicken ! Wood chicken painted and decorated to your liking.Approximately 12 in hanger or lean. Adult class BYOB cost 25$. Call to pre pay and sign up for class at 715-587-4643
URL:https://upbarreview.com/event/the-craft-cave-spring-chicken-marinette/2025-02-20/2/
LOCATION:The Craft Cave\, 605 Main St.\, Marinette\, WI\, 54143\, United States
CATEGORIES:Menominee
END:VEVENT
BEGIN:VEVENT
DTSTART;TZID=UTC:20250221T090000
DTEND;TZID=UTC:20250221T193000
DTSTAMP:20260424T113448
CREATED:20250207T191450Z
LAST-MODIFIED:20250207T191450Z
UID:10002938-1740128400-1740166200@upbarreview.com
SUMMARY:Dragons of Time - Retirement Party - Escanaba
DESCRIPTION:The last day of Dragons of Time…. all day party at DoT headquarters! 24 hour live stream and zoom meet and great 
URL:https://upbarreview.com/event/dragons-of-time-retirement-party-escanaba/
CATEGORIES:Menominee
END:VEVENT
BEGIN:VEVENT
DTSTART;TZID=UTC:20250221T100000
DTEND;TZID=UTC:20250221T140000
DTSTAMP:20260424T113448
CREATED:20250207T173748Z
LAST-MODIFIED:20250207T173748Z
UID:10002854-1740132000-1740146400@upbarreview.com
SUMMARY:Meta 365 - Card & Palm Readings - Menominee
DESCRIPTION:Join me at Meta 365 Fitness in Menominee MI for card and palm readings. While you’re there\, check out the great deals going on for a new fitness membership!\nMessage me\, or call Meta 365 Fitness\, for an appointment. Walk-ins welcome.You do not have to be a member to come here for readings!
URL:https://upbarreview.com/event/meta-365-card-palm-readings-menominee/
LOCATION:Meta 365\, 1009 8th Ave\, Menominee\, MI\, 49858
CATEGORIES:Menominee
END:VEVENT
BEGIN:VEVENT
DTSTART;TZID=UTC:20250221T130000
DTEND;TZID=UTC:20250221T150000
DTSTAMP:20260424T113448
CREATED:20250207T172544Z
LAST-MODIFIED:20250207T172544Z
UID:10002843-1740142800-1740150000@upbarreview.com
SUMMARY:McCrafties - Beaded Succulent - Menominee
DESCRIPTION:Join us on February 21st at 1:00 to create your own unique beaded succulent! This fun and creative workshop allows for complete customization with a wide variety of bead colors to choose from. Unleash your inner artist and design a one-of-a-kind succulent masterpiece that will never die. The cost is $28 per person. Don’t miss out on this exciting opportunity!\nPRE-PAYMENT if $28 is requiring your spot. Feel free to call the studio with any questions or to sign up. 715-440-5959\nOr use our easy to navigate website.\nhttps://mccraftiellc.square.site/\n-All skill levels are welcome-We provide all the necessary suppliesWe look forward to crafting with you\nCLASS REFUND POLICY:\n-full in studio credit if cancellation is 1 week prior to the class-50% in studio credit up to 24 hours prior to the class-less than 24 hours’ notice\, no credit-NO SHOW/NO CALL/NO CREDIT
URL:https://upbarreview.com/event/mccrafties-beaded-succulent-menominee/
LOCATION:McCrafties\, 625 1st St\, Menominee\, MI\, 49858\, United States
CATEGORIES:Menominee
END:VEVENT
BEGIN:VEVENT
DTSTART;TZID=UTC:20250221T130000
DTEND;TZID=UTC:20250221T190000
DTSTAMP:20260424T113448
CREATED:20250207T184148Z
LAST-MODIFIED:20250207T184148Z
UID:10002906-1740142800-1740164400@upbarreview.com
SUMMARY:Upper Hand Brewery - Service Industry Weekend - Escanaba
DESCRIPTION:Shout out to ALL the amazing service industry workers! This weekend is for YOU!\nThursday – $5 PINTSFriday – 20% OFF your total purchaseSaturday – $5 60oz. pitchers\nAll industries welcome!21+
URL:https://upbarreview.com/event/upper-hand-brewery-service-industry-weekend-escanaba/2025-02-21/
LOCATION:Upper Hand Brewery\, 3525 Airport Rd\, Escanaba\, WI\, 49829
CATEGORIES:Menominee
END:VEVENT
BEGIN:VEVENT
DTSTART;TZID=UTC:20250221T150000
DTEND;TZID=UTC:20250221T170000
DTSTAMP:20260424T113448
CREATED:20250207T195731Z
LAST-MODIFIED:20250207T195731Z
UID:10003092-1740150000-1740157200@upbarreview.com
SUMMARY:Author Visit Arthur Rein - Newly Released Book: Witness No More
DESCRIPTION:AUTHOR VISIT – MEET AND GREETARTHUR REIN\nAuthor of Rolling in the Deep and A Flame Worth the Candle&NEWLY RELEASED“Witness No More”“The final volume in the Red Wolf Chronicles trilogy\, follows Max as he goes off the grid with a partner he has always disdained. But can he forget Leah so easily? And what about the truth he can never leave behind.”\nCrivitz Public LibraryFriday\, February 21st at 3:00 PM\nStop in to meet Art and to talk about or ask questions about his books\,have a tasty treat and warm up with cup of coffee.\nArt grew up on Lake Noquebay at the East End Resort.He now lives in southern Wisconsin.\nAn escape through the high desert turns deadly.\nTen months have passed since Max Cherhasky\, his father J. Roman\, and step-mother Nadine disappeared from their lakeside mansion in Walnut Creek\, Wisconsin. Roman’s testimony against the Chicago Mob has placed the family in mortal danger. The Witness Protection Program has changed their names\, uprooted their lives\, and dragged them to a small town in South Dakota.\nMax meets Leah\, a beautiful artist who possesses a vision for color beyond his understanding\, and falls in love. Beyond her\, there is no happiness in his new home. As Max’s high school graduation nears\, he makes plans to escape his family\, the town\, and the WPP. But the Cherhaskys are hiding from more than the Mob. Back in Wisconsin\, a warrant is issued for the murder of Max’s mother\, Madelyn\, dead twelve years.
URL:https://upbarreview.com/event/author-visit-arthur-rein-newly-released-book-witness-no-more/
LOCATION:606 Louisa St\, Crivitz\, WI
CATEGORIES:Menominee
END:VEVENT
END:VCALENDAR