BEGIN:VCALENDAR
VERSION:2.0
PRODID:-//UP BAR REVIEW - ECPv6.14.2//NONSGML v1.0//EN
CALSCALE:GREGORIAN
METHOD:PUBLISH
X-ORIGINAL-URL:https://upbarreview.com
X-WR-CALDESC:Events for UP BAR REVIEW
REFRESH-INTERVAL;VALUE=DURATION:PT1H
X-Robots-Tag:noindex
X-PUBLISHED-TTL:PT1H
BEGIN:VTIMEZONE
TZID:UTC
BEGIN:STANDARD
TZOFFSETFROM:+0000
TZOFFSETTO:+0000
TZNAME:UTC
DTSTART:20240101T000000
END:STANDARD
END:VTIMEZONE
BEGIN:VEVENT
DTSTART;TZID=UTC:20241204T083000
DTEND;TZID=UTC:20241204T120000
DTSTAMP:20260423T112715
CREATED:20241202T213128Z
LAST-MODIFIED:20241202T213128Z
UID:10002587-1733301000-1733313600@upbarreview.com
SUMMARY:Faith Lutheran - Make a Blanket Day - Marinette
DESCRIPTION:All fleece blankets will go to local children in need. We also accept quilted\, knitted\, or crocheted blankets.
URL:https://upbarreview.com/event/faith-lutheran-make-a-blanket-day-marinette/
LOCATION:Faith Lutheran\, 4009 Irving St\, Marinette\, WI
CATEGORIES:Menominee
END:VEVENT
BEGIN:VEVENT
DTSTART;TZID=UTC:20241204T133000
DTEND;TZID=UTC:20241204T160000
DTSTAMP:20260423T112715
CREATED:20241203T002419Z
LAST-MODIFIED:20241203T002419Z
UID:10002599-1733319000-1733328000@upbarreview.com
SUMMARY:Country Roads Bar & Grill - Cribbage - Wausaukee
DESCRIPTION:Beginners or Advanced players come together and play some Cribbage!
URL:https://upbarreview.com/event/country-roads-bar-grill-cribbage-wausaukee/2024-12-04/
LOCATION:Country Roads Bar & Grill\, W8901 Co Rd C\, Wausaukee\, WI
CATEGORIES:Menominee
END:VEVENT
BEGIN:VEVENT
DTSTART;TZID=UTC:20241204T160000
DTEND;TZID=UTC:20241204T193000
DTSTAMP:20260423T112715
CREATED:20240827T133046Z
LAST-MODIFIED:20240827T133046Z
UID:10001701-1733328000-1733340600@upbarreview.com
SUMMARY:Knights of Columbus - Bingo Wednesday - Iron Mountain
DESCRIPTION:The Columbus Club operates the hall and hosts Charity Bingo every Wednesday night. \n\nDoors open at 4:00 PM\nBingo Games start at 6:30 PM.\nFood is available for purchase at the hall.\n\nThe Columbus Club uses all proceeds to maintain the building and support the good works of the council.  Bingo is operated under the regulations set by the State of Michigan Charitable Gaming.
URL:https://upbarreview.com/event/knights-of-columbus-bingo-wednesday-iron-mountain/2024-12-04/
LOCATION:Knights of Columbus Kingsford\, 520 West Breitung Ave\, Kingsford\, MI
CATEGORIES:Ironmountain
END:VEVENT
BEGIN:VEVENT
DTSTART;TZID=UTC:20241204T170000
DTEND;TZID=UTC:20241204T190000
DTSTAMP:20260423T112715
CREATED:20241001T164937Z
LAST-MODIFIED:20241001T164937Z
UID:10002034-1733331600-1733338800@upbarreview.com
SUMMARY:Forever Friendship Drop-in Center - Vintage Video Game Night - Kingsford
DESCRIPTION:Step outside your modern box and have a fun flashback to a simpler time. Please bring vintage game consoles and games to share. Goal is to meet people outside our norm but have gaming and mental health similarities.
URL:https://upbarreview.com/event/forever-friendship-drop-in-center-vintage-video-game-night-kingsford/2024-12-04/
LOCATION:Forever Friendship Drop-in Center\, 501 S Carpenter Ave\, Kingsford\, MI
CATEGORIES:Ironmountain
END:VEVENT
BEGIN:VEVENT
DTSTART;TZID=UTC:20241204T173000
DTEND;TZID=UTC:20241204T193000
DTSTAMP:20260423T112715
CREATED:20241202T203646Z
LAST-MODIFIED:20241202T203646Z
UID:10002487-1733333400-1733340600@upbarreview.com
SUMMARY:The Craft Cave - Wood Tree - Marinette
DESCRIPTION:Wood Christmas Tree approximately 15 inch tall. You paint and decorate to your liking. Adult class\, BYOB\, cost 20$. Call to pre pay and sign up at 715-587-4643
URL:https://upbarreview.com/event/the-craft-cave-wood-tree-marinette/
LOCATION:The Craft Cave\, 605 Main St.\, Marinette\, WI\, 54143\, United States
CATEGORIES:Menominee
END:VEVENT
BEGIN:VEVENT
DTSTART;TZID=UTC:20241205T043000
DTEND;TZID=UTC:20241205T183000
DTSTAMP:20260423T112715
CREATED:20241204T012106Z
LAST-MODIFIED:20241204T012106Z
UID:10002737-1733373000-1733423400@upbarreview.com
SUMMARY:City of Kingsford - 2024 Community Christmas Event
DESCRIPTION:Get ready for some family fun! On Thursday\, December 5th\, 2024 we will once again be holding our Community Christmas event at the Kingsford Armory! Our event includes a visit from Santa & Mrs. Claus\, Goodie Bags\, Music from the Kingsford Music Department\, Hot Chocolate & Cookies and fun activities like a photobooth and ornament making! You won’t want to miss it!
URL:https://upbarreview.com/event/city-of-kingsford-2024-community-christmas-event/
LOCATION:City of Kingsford\, Kingsford
CATEGORIES:Ironmountain
END:VEVENT
BEGIN:VEVENT
DTSTART;TZID=UTC:20241205T060000
DTEND;TZID=UTC:20241205T090000
DTSTAMP:20260423T112715
CREATED:20241202T200029Z
LAST-MODIFIED:20241202T200029Z
UID:10002462-1733378400-1733389200@upbarreview.com
SUMMARY:DAR Boys & Girls Club - Brats for Breakfast - Menominee
DESCRIPTION:Stop by the Club December 5th and get your brat for breakfast! We will be grilling up Gary’s homemade brats! You can pre-order by calling the Club at 906-863-9512 or email marketing@thedar.org by November 29th. Free delivery on orders of 25 or more!
URL:https://upbarreview.com/event/dar-boys-girls-club-brats-for-breakfast-menominee/
LOCATION:DAR Boys & Girls Club\, 901 8th Ave\, Menominee\, WI\, 49858
CATEGORIES:Menominee
END:VEVENT
BEGIN:VEVENT
DTSTART;TZID=UTC:20241205T080000
DTEND;TZID=UTC:20241205T170000
DTSTAMP:20260423T112715
CREATED:20241202T212718Z
LAST-MODIFIED:20241202T212718Z
UID:10002524-1733385600-1733418000@upbarreview.com
SUMMARY:Biehl Bridges to Recovery - Overeaters Anonymous - Marinette
DESCRIPTION:A new year! A new you! Want to know if you’re an overeater? Struggling to find support? Wanting support? Come join us on Thursday evenings from 5:30pm-6:30pm.
URL:https://upbarreview.com/event/biehl-bridges-to-recovery-overeaters-anonymous-marinette/2024-12-05/
LOCATION:Biehl Bridge To Recovery\, 3123 Shore Dr\, Marinette\, WI\, 54143
CATEGORIES:Menominee
END:VEVENT
BEGIN:VEVENT
DTSTART;TZID=UTC:20241205T090000
DTEND;TZID=UTC:20241205T100000
DTSTAMP:20260423T112715
CREATED:20241203T012051Z
LAST-MODIFIED:20241203T012113Z
UID:10002641-1733389200-1733392800@upbarreview.com
SUMMARY:Hummingbird Cafe - Bible Study with Nancy - Crivitz
DESCRIPTION:A casual group Bible study where we can give information\, discuss anything\, and answer any questions you have or if you want support we are here.
URL:https://upbarreview.com/event/hummingbird-cafe-bible-study-with-nancy-crivitz/2024-12-05/
LOCATION:Hummingibird Cafe\, 508 Henriette Ave\, Crivitz\, WI
CATEGORIES:Menominee
END:VEVENT
BEGIN:VEVENT
DTSTART;TZID=UTC:20241205T100000
DTEND;TZID=UTC:20241205T180000
DTSTAMP:20260423T112715
CREATED:20241202T195328Z
LAST-MODIFIED:20241202T195412Z
UID:10002457-1733392800-1733421600@upbarreview.com
SUMMARY:Jacks Fresh Market - Sheilds Against Hunger Food Drive - Menominee & Marinette
DESCRIPTION:Jack’s Fresh Market is once again teaming up with the Menominee & Marinette City Police Departments to collect food donations for The Salvation Army! Join us at all three Jack’s Fresh Market locations (1401 8th Ave. Menominee\, 2301 Roosevelt Rd. Marinette\, & 1507 Cleveland Ave Marinette) December 5th from 10 AM to 6 PM. The Police departments will be outside\, collecting donations. Jack’s Fresh Market will have pre-made bags full of the most needed items requested by The Salvation Army ready for purchase and donation. They will also be accepting other food and monetary donations. In the spirit of friendly competition\, Jack’s Fresh Market will be donating $500 to whichever Police Department collects the most food!
URL:https://upbarreview.com/event/jacks-fresh-market-sheilds-against-hunger-food-drive-menominee-marinette/
LOCATION:Jacks Menominee\, 1401 8th Ave\, Menominee\, MI\, 49858
CATEGORIES:Menominee
END:VEVENT
BEGIN:VEVENT
DTSTART;TZID=UTC:20241205T100000
DTEND;TZID=UTC:20241205T233000
DTSTAMP:20260423T112715
CREATED:20241029T145445Z
LAST-MODIFIED:20241029T145445Z
UID:10002223-1733392800-1733441400@upbarreview.com
SUMMARY:Alibi's - Free Pool Thursdays - Marinette
DESCRIPTION:Free Pool!!
URL:https://upbarreview.com/event/alibis-free-pool-thursdays-marinette/2024-12-05/
LOCATION:ALiBi Bar & Grill\, 829 Main St\, Marinette\, WI\, 54143\, United States
CATEGORIES:Menominee
END:VEVENT
BEGIN:VEVENT
DTSTART;TZID=UTC:20241205T130000
DTEND;TZID=UTC:20241205T153000
DTSTAMP:20260423T112715
CREATED:20241203T014825Z
LAST-MODIFIED:20241203T014825Z
UID:10002682-1733403600-1733412600@upbarreview.com
SUMMARY:Bay College - The Celebration of Student Success - Escanaba
DESCRIPTION:Bay College is excited to announce The Celebration of Student Success\, a juried art exhibition showcasing the creative achievements of students enrolled in the College’s Fall 2024 art courses. The exhibit will be on display in the Besse Gallery from December 5\, 2024 through January 2025.\nAn opening reception and awards ceremony will take place on Thursday\, December 5 at 2pm ET in the Besse Gallery. This event offers the opportunity to meet the talented student artists and learn about their work.\nThe exhibition represents a culmination of the semester’s creative efforts. Works on display include drawings\, videos\, and sculptures created in the following art courses: Digital Cinema I & II\, Intro to Art and Design\, Performance and Installation\, and Drawing I & II. Students used a variety of media to develop unified compositions that effectively communicate their ideas and skills.\nAs part of the juried show\, one artwork from each course will be purchased to join Bay College’s Permanent Art Collection. Additionally\, second and third-place winners will receive monetary awards.\nThis event is free and open to the public. Friends\, family and community members are encouraged to attend and celebrate the success of Bay College’s talented art students.
URL:https://upbarreview.com/event/bay-college-the-celebration-of-student-success-escanaba/
LOCATION:Bay College\, 2801 US-2\, Iron Mountain\, MI
CATEGORIES:Menominee
END:VEVENT
BEGIN:VEVENT
DTSTART;TZID=UTC:20241205T130000
DTEND;TZID=UTC:20241205T163000
DTSTAMP:20260423T112715
CREATED:20241202T205843Z
LAST-MODIFIED:20241202T205843Z
UID:10002504-1733403600-1733416200@upbarreview.com
SUMMARY:CJ's Glass - Barnwood Snowman Acrylic Winter Home Decor - Marinette
DESCRIPTION:Local talented artist\, Sherry Millard\, will teach you with step-by-step instruction in painting and assembly of this rustic\, handmade\, winter wall decor. We will use acrylic paint and will have a variety of colorful ribbon and pinecones/boughs\, etc to create your unique art piece. Sherry is flexible with pattern as well. The barnwood pieces range in size…..20-30″ high x 9-12″wide. the wood is quality and ready for hanging or propping in a corner.$75 includes all materialsPreregistration Required with a call or txt to CJ608-354-2303class limit 5ages 12+
URL:https://upbarreview.com/event/cjs-glass-barnwood-snowman-acrylic-winter-home-decor-marinette/
LOCATION:CJ’s Glass\, 802 Main St\, Marinette\, WI\, 54143
CATEGORIES:Menominee
END:VEVENT
BEGIN:VEVENT
DTSTART;TZID=UTC:20241205T150000
DTEND;TZID=UTC:20241205T190000
DTSTAMP:20260423T112715
CREATED:20241202T213017Z
LAST-MODIFIED:20241202T213017Z
UID:10002586-1733410800-1733425200@upbarreview.com
SUMMARY:Biehl Bridges to Recovery - Pictures with Santa - Marinette
DESCRIPTION:
URL:https://upbarreview.com/event/biehl-bridges-to-recovery-pictures-with-santa-marinette/
LOCATION:Biehl Bridge To Recovery\, 3123 Shore Dr\, Marinette\, WI\, 54143
CATEGORIES:Menominee
END:VEVENT
BEGIN:VEVENT
DTSTART;TZID=UTC:20241205T150000
DTEND;TZID=UTC:20241205T200000
DTSTAMP:20260423T112715
CREATED:20241029T150148Z
LAST-MODIFIED:20241029T150212Z
UID:10002280-1733410800-1733428800@upbarreview.com
SUMMARY:The Outback - BINGO - Marinette
DESCRIPTION:3:00 pm – 5:00 pm & 6:00 pm -8:00 pmWe hope to see you!!
URL:https://upbarreview.com/event/the-outback-bingo-marinette/2024-12-05/
LOCATION:The Outback\, 1997 Old Peshtigo Rd\, Marinette\, WI\, 54143\, United States
CATEGORIES:Menominee
END:VEVENT
BEGIN:VEVENT
DTSTART;TZID=UTC:20241205T160000
DTEND;TZID=UTC:20241205T200000
DTSTAMP:20260423T112715
CREATED:20241202T212833Z
LAST-MODIFIED:20241202T212833Z
UID:10002585-1733414400-1733428800@upbarreview.com
SUMMARY:Julie Huebner Pottery - Sip & Shop - Marinette
DESCRIPTION:Ladies! Join me in my backyard studio to jingle and mingle while you and your friends sip a a bit of holiday cheer! The studio is filled with unique handmade gifts and home decor. Hope to see you!
URL:https://upbarreview.com/event/julie-huebner-pottery-sip-shop-marinette/
LOCATION:Julie Huebner Pottery & Art Studio\, W758 Edwards Ave\, Marinette\, WI
CATEGORIES:Menominee
END:VEVENT
BEGIN:VEVENT
DTSTART;TZID=UTC:20241205T163000
DTEND;TZID=UTC:20241205T193000
DTSTAMP:20260423T112715
CREATED:20241202T211430Z
LAST-MODIFIED:20241202T211452Z
UID:10002513-1733416200-1733427000@upbarreview.com
SUMMARY:The Craft Cave - Wood Tree - Marinette
DESCRIPTION:Come make your own wood Christmas tree. Approximately 15 inch tall\, painted and bedazzled ! Call to pre pay and sign up at 715-587-4643.
URL:https://upbarreview.com/event/the-craft-cave-wood-tree-marinette-2/2024-12-05/
LOCATION:The Craft Cave\, 605 Main St.\, Marinette\, WI\, 54143\, United States
CATEGORIES:Menominee
END:VEVENT
BEGIN:VEVENT
DTSTART;TZID=UTC:20241205T163000
DTEND;TZID=UTC:20241205T200000
DTSTAMP:20260423T112715
CREATED:20241203T013101Z
LAST-MODIFIED:20241203T013101Z
UID:10002665-1733416200-1733428800@upbarreview.com
SUMMARY:Ruth Butler Building - YES Holiday Bash - Escanaba
DESCRIPTION:A night of fun and philanthropy for Youth Empowering Services!Come enjoy:-The Jam Band (the last jam)-Wiles Catering-The Toasting Pony-Holiday refreshments-Raffles & MoreAll proceeds benefit Y.E.S. K-12\, in-school\, mentoring programs in Delta and Menominee Counties.
URL:https://upbarreview.com/event/ruth-butler-building-yes-holiday-bash-escanaba/
LOCATION:Ruth Butler Building\, 2498 12th Ave\, Escanaba
CATEGORIES:Menominee
END:VEVENT
BEGIN:VEVENT
DTSTART;TZID=UTC:20241205T170000
DTEND;TZID=UTC:20241205T190000
DTSTAMP:20260423T112715
CREATED:20241001T165045Z
LAST-MODIFIED:20241001T165045Z
UID:10002046-1733418000-1733425200@upbarreview.com
SUMMARY:Forever Friendship Drop-in Center - Womens Discussion Group - Kingsford
DESCRIPTION:This a safe space where women with a mental health diagnosis can talk openly and freely about issues women face in our current society. The facilitator is also a peer and has access to multitude of resources to assist the group in topics\, goals and skill building.
URL:https://upbarreview.com/event/forever-friendship-drop-in-center-womens-discussion-group-kingsford/2024-12-05/
LOCATION:Forever Friendship Drop-in Center\, 501 S Carpenter Ave\, Kingsford\, MI
CATEGORIES:Ironmountain
END:VEVENT
BEGIN:VEVENT
DTSTART;TZID=UTC:20241205T173000
DTEND;TZID=UTC:20241205T203000
DTSTAMP:20260423T112715
CREATED:20241202T200932Z
LAST-MODIFIED:20241202T200932Z
UID:10002468-1733419800-1733430600@upbarreview.com
SUMMARY:McCrafties - Snowman Terracotta - Menominee
DESCRIPTION:Join us for a relaxing evening painting this super cute 4.25” terracotta snowman centerpiece.The class includes learning these super easy techniques to accomplish the snowman painting on the pot\, along with creating your own floral arrangement\, all for $32.\nGrab your friends\, food and drinks and come hang out! Space is limited\, so do not wait to sign up.\nPRE-PAYMENT of $32 is required to save your spot. Feel free to call the studio\, visit our website or stop in with payment.\n715-440-5959\nhttps://mccraftiellc.square.site/\nAll skill levels are welcome and yes you can achieve this! \nWe provide all the necessary supplies.\nWe look forward to crafting with you.\nCLASS REFUND POLICY\n-full in studio credit if cancellation is 1 week prior to the class-50% in studio credit up to 24 hours prior to class.-less than 24 hours notice\, no credit-NO SHOW/ NO CALL/NO CREDIT
URL:https://upbarreview.com/event/mccrafties-snowman-terracotta-menominee/
LOCATION:McCrafties\, 625 1st St\, Menominee\, MI\, 49858\, United States
CATEGORIES:Menominee
END:VEVENT
BEGIN:VEVENT
DTSTART;TZID=UTC:20241205T180000
DTEND;TZID=UTC:20241205T210000
DTSTAMP:20260423T112715
CREATED:20241001T040448Z
LAST-MODIFIED:20241001T040448Z
UID:10001863-1733421600-1733432400@upbarreview.com
SUMMARY:Spirit House -Trivia Night! - Menominee
DESCRIPTION:Trivia Night Thursday at Spirit House\, come check out this awesome event!!!!
URL:https://upbarreview.com/event/spirit-house-trivia-night-menominee/2024-12-05/
LOCATION:Spirit House\, 533 10th Ave\, Menominee\, MI 49858\, Menominee\, MI\, 49858\, United States
CATEGORIES:Menominee
END:VEVENT
BEGIN:VEVENT
DTSTART;TZID=UTC:20241205T180000
DTEND;TZID=UTC:20241205T210000
DTSTAMP:20260423T112715
CREATED:20241030T021051Z
LAST-MODIFIED:20241030T021051Z
UID:10002375-1733421600-1733432400@upbarreview.com
SUMMARY:Oak Crest Golf Course - Trivia Time - Norway
DESCRIPTION:It is back by popular demand. Oak Crest Golf Club Thursday Night Trivia. Trivia will start at 6pm sharp\, but come early and enjoy Happy Hour from 4-6pm with a $1.00 off all drinks. Bring your friends and family for a fun couple of hours of laughs and Trivia.
URL:https://upbarreview.com/event/oak-crest-golf-course-trivia-time-norway/2024-12-05/
LOCATION:Oak Crest Golf Course\, N1475 US-8\, Norway\, MI\, 49870
CATEGORIES:Ironmountain
END:VEVENT
BEGIN:VEVENT
DTSTART;TZID=UTC:20241205T183000
DTEND;TZID=UTC:20241205T210000
DTSTAMP:20260423T112715
CREATED:20241203T004054Z
LAST-MODIFIED:20241203T004054Z
UID:10002622-1733423400-1733432400@upbarreview.com
SUMMARY:Forgotten Fire Winery - Book Club Meeting - Peshtigo
DESCRIPTION:Fun and relaxing atmosphere with fellow book lovers!Meetings are the 1st Thursday of every month\, and the book to read is voted on during the previous meeting.\nDecember’s genre selection is- NAUGHTY OR NICEBooks from this genre can range from cozy romance to spine tingling thrillers!\nUPDATE: The book to read for discussion for this meeting is “Secret Santa” by Andrew Shaffer\nAt this meeting we celebrate the holiday season! Dress up in festive attire and bring a gift for our annual gift exchange!
URL:https://upbarreview.com/event/forgotten-fire-winery-book-club-meeting-peshtigo-4/
LOCATION:Forgotten Fire Winery\, N2393 Schacht Road\, Marinette\, WI\, 54143\, United States
CATEGORIES:Menominee
END:VEVENT
BEGIN:VEVENT
DTSTART;TZID=UTC:20241205T190000
DTEND;TZID=UTC:20241205T210000
DTSTAMP:20260423T112715
CREATED:20240827T020238Z
LAST-MODIFIED:20240827T020238Z
UID:10001589-1733425200-1733432400@upbarreview.com
SUMMARY:Mos Pub - Family Feud Night - Escanaba
DESCRIPTION: From the (so-called) brains behind Quizmaster Trivia\, Feudmaster is the bar game where players are fighting the clock… and their friends. \n———–\nSPECIALS: $1.50 domestic pints $3 rail mixers $1-off Specialty Burgers $2-off Specialty Pizza\n———-\nPRIZES: $30 gift card $20 gift card $10 gift card\n———-\nGAME PLAY:\n Similar to Family Feud\, the goal is to guess the TOP answer to common survey questions…\n• “An athlete in what sport would be good at a game of Twister?”\n• “If you want to keep the romance ticking\, name something you should NOT have in your bedroom?”\n At the start of the game players are given a white board to write their answers on…\n Players can team up\, or play solo. Either way you’ll be fighting your friends for the top answer\, but you’ll only have 30 seconds to do so…\n———–\n Hold up your whiteboard after the time is up and the host will come around to mark your points.\n Players get 10 points for the top answer and 5 points for the second-top answer.\n———–\n The game is split into 3 rounds of five questions each\, with one Final Feud question at the end\, where players have to come up with five answers.\n Plus\, players will be given two pens for their white boards: a black one and a red one.\n ONCE per round\, teams can use their red pen to answer\, which will double their points for that question if they are correct.
URL:https://upbarreview.com/event/mos-pub-family-feud-night-escanaba/2024-12-05/
LOCATION:Mo’s Pub\, 2116 Ludington St\, Escanaba\, MI\, 49829
CATEGORIES:Menominee
END:VEVENT
BEGIN:VEVENT
DTSTART;TZID=UTC:20241206T080000
DTEND;TZID=UTC:20241206T090000
DTSTAMP:20260423T112715
CREATED:20241029T200811Z
LAST-MODIFIED:20241029T200811Z
UID:10002308-1733472000-1733475600@upbarreview.com
SUMMARY:NSRCC - Beginner Yoga - Pembine
DESCRIPTION:Join us for our beginner yoga class! Never tried yoga before? That’s okay! Learn about what yoga is and how it helps your body. If you have any questions\, contact your trainer\, Brenda Rosenstiel: (920) 327-9981 or brosenstiel@nsrccwi.com\nWe hope to see you there!
URL:https://upbarreview.com/event/nsrcc-beginner-yoga-pembine/2024-12-06/
LOCATION:NSRCC\, 17112 US-141\, Pembine\, WI\, 54156
CATEGORIES:Menominee
END:VEVENT
BEGIN:VEVENT
DTSTART;TZID=UTC:20241206T090000
DTEND;TZID=UTC:20241206T100000
DTSTAMP:20260423T112715
CREATED:20241203T003500Z
LAST-MODIFIED:20241203T003500Z
UID:10002615-1733475600-1733479200@upbarreview.com
SUMMARY:NSRCC - Strength Circuit Supreme - Pembine
DESCRIPTION:Join us for our strength circuit supreme class! This more challenging workout will be sure to strengthen your body for whatever life throws your way! If you have any questions\, contact your trainer\, Brenda Rosenstiel: (920) 327-9981 or brosenstiel@nsrccwi.com\nWe look hope to see you there!
URL:https://upbarreview.com/event/nsrcc-strength-circuit-supreme-pembine/2024-12-06/
LOCATION:NSRCC\, 17112 US-141\, Pembine\, WI\, 54156
CATEGORIES:Menominee
END:VEVENT
BEGIN:VEVENT
DTSTART;TZID=UTC:20241206T110000
DTEND;TZID=UTC:20241206T133000
DTSTAMP:20260423T112715
CREATED:20241202T200400Z
LAST-MODIFIED:20241202T200400Z
UID:10002465-1733482800-1733491800@upbarreview.com
SUMMARY:McCraftie's - Classy Cardinal - Menominee
DESCRIPTION:Join us December 6 at 11:00 am for the Classy Cardinal epoxy glass art. This beautiful and unique piece of art is perfect for any home. The Cardinal is made with epoxy resin and glass set in a 5 x 7 inch frame. The background is interchangeable\, so you can change it to match your decor. This is a great gift for any occasion\, or for yourself.\nPRE-PAYMENT of $30 is required to save your spot. Feel free to call the studio\, use our website or stop in with payment.\n715-440-5959\nhttps://mccraftiellc.square.site/\nAll skill levels are welcome.\nWe provide all the necessary supplies.\nWe look forward to crafting with you.\nCLASS REFUND POLICY\n-full in studio credit if cancellation is 1 week prior to the class-50% in studio credit up to 24 hours prior to class.-less than 24 hours notice\, no credit-NO SHOW/ NO CALL/NO CREDIT
URL:https://upbarreview.com/event/mccrafties-classy-cardinal-menominee/
LOCATION:McCrafties\, 625 1st St\, Menominee\, MI\, 49858\, United States
CATEGORIES:Menominee
END:VEVENT
BEGIN:VEVENT
DTSTART;TZID=UTC:20241206T130000
DTEND;TZID=UTC:20241206T160000
DTSTAMP:20260423T112715
CREATED:20241030T023423Z
LAST-MODIFIED:20241030T023449Z
UID:10002432-1733490000-1733500800@upbarreview.com
SUMMARY:Forever Friendship Drop-in Center - Lego Building Group - Kingsford
DESCRIPTION:Come join other adults you enjoy using their creativity in building and creating their own designs. We have a variety of Lego colors\, parts\, people and accessories to make your creation come to life. If free creation isn’t your style\, we also have variety of kits available for assembly. Building is more fun with others!
URL:https://upbarreview.com/event/forever-friendship-drop-in-center-lego-building-group-kingsford/2024-12-06/
LOCATION:Forever Friendship Drop-in Center\, 501 S Carpenter Ave\, Kingsford\, MI
CATEGORIES:Ironmountain
END:VEVENT
BEGIN:VEVENT
DTSTART;TZID=UTC:20241206T150000
DTEND;TZID=UTC:20241206T220000
DTSTAMP:20260423T112716
CREATED:20241204T014001Z
LAST-MODIFIED:20241204T014001Z
UID:10002774-1733497200-1733522400@upbarreview.com
SUMMARY:Heights Park - Niagara Christmas Village Walk-Thru - Niagara
DESCRIPTION:First Annual Niagara Christmas Village is a walk-thru Christmas display with 12 sites decorated by local families\, groups\, organizations\, and businesses. The Christmas Village will be lit nightly from December 6th to January 11th from 3:00pm-10:00pm.\nEach display is supporting a local charity or organization. Votes (donations) for each site will go to their local charity/organization ($1=1 vote\, $10=10 votes\, etc). Voting locations are listed below. Voting starts December 6th. December 6th from 5:00pm to 7:00pm will be the annual tree lighting event with the tree lighting at 5:30pm.\nVoting Locations:City Hall – 1029 Roosevelt Rd\, Niagara (24 hr secure drop box\, lower level between glass doors\, enter in rear);Forward Financial Credit Union – 1250 Roosevelt Rd\, Niagara (Monday-Friday 8:30am-5:00pm Saturday 8:30am-12:00pm);Nicolet National Bank – 900 Roosevelt Rd\, Niagara (Monday-Friday 8:30am-5:00pm);Northwoods IGA – 501 Washington Ave\, Niagara (Monday-Saturday 7:30am-7:00pm Sunday 8:00am-4:00pm);Pit Stop Bar & Grill – 1059 Roosevelt Rd\, Niagara (Sunday-Thursday 10:00am-2:00am Friday & Saturday 10:00am-2:30am);Scott’s Uptown Lanes – 1201 Roosevelt Rd\, Niagara (Daily 11:00am-2:00am);Trip’s Tavern – 1001 Roosevelt Rd\, Niagara (Monday-Thursday 10:00am-close Friday-Sunday 9:00am-close)
URL:https://upbarreview.com/event/heights-park-niagara-christmas-village-walk-thru-niagara/2024-12-06/
LOCATION:Niagara Heights Park\, 1201 Grant Street\, Niagara\, wi\, 54151
CATEGORIES:Ironmountain
END:VEVENT
BEGIN:VEVENT
DTSTART;TZID=UTC:20241206T153000
DTEND;TZID=UTC:20241206T190000
DTSTAMP:20260423T112716
CREATED:20241204T001243Z
LAST-MODIFIED:20241204T001243Z
UID:10002698-1733499000-1733511600@upbarreview.com
SUMMARY:Downtown Norway - Christmas in Norway
DESCRIPTION:Celebrate the holiday season with the tree lighting\, Santa parade\, fireworks\, and a chance to visit with Santa and Mrs. Claus in Downtown Norway.\nNew this year – Winter Market at the American Legion from 3:30-7 pm!\nSchedule of events:3:30-7:00pm – Winter Market at the American Legion4:00-6:00 – Dickinson County Library’s Ornament Making at City Hall6:00 – Santa Parade and FireworksFollowing the parade – Visit with Santa and Mrs. Claus at City Hall
URL:https://upbarreview.com/event/downtown-norway-christmas-in-norway/
LOCATION:Downtown Norway\, Norway\, MI
CATEGORIES:Ironmountain
END:VEVENT
END:VCALENDAR