BEGIN:VCALENDAR
VERSION:2.0
PRODID:-//UP BAR REVIEW - ECPv6.14.2//NONSGML v1.0//EN
CALSCALE:GREGORIAN
METHOD:PUBLISH
X-ORIGINAL-URL:https://upbarreview.com
X-WR-CALDESC:Events for UP BAR REVIEW
REFRESH-INTERVAL;VALUE=DURATION:PT1H
X-Robots-Tag:noindex
X-PUBLISHED-TTL:PT1H
BEGIN:VTIMEZONE
TZID:UTC
BEGIN:STANDARD
TZOFFSETFROM:+0000
TZOFFSETTO:+0000
TZNAME:UTC
DTSTART:20240101T000000
END:STANDARD
END:VTIMEZONE
BEGIN:VEVENT
DTSTART;TZID=UTC:20241121T100000
DTEND;TZID=UTC:20241121T233000
DTSTAMP:20260424T112125
CREATED:20241029T145445Z
LAST-MODIFIED:20241029T145445Z
UID:10002221-1732183200-1732231800@upbarreview.com
SUMMARY:Alibi's - Free Pool Thursdays - Marinette
DESCRIPTION:Free Pool!!
URL:https://upbarreview.com/event/alibis-free-pool-thursdays-marinette/2024-11-21/
LOCATION:ALiBi Bar & Grill\, 829 Main St\, Marinette\, WI\, 54143\, United States
CATEGORIES:Menominee
END:VEVENT
BEGIN:VEVENT
DTSTART;TZID=UTC:20241121T140000
DTEND;TZID=UTC:20241121T150000
DTSTAMP:20260424T112125
CREATED:20241030T021958Z
LAST-MODIFIED:20241030T022115Z
UID:10002414-1732197600-1732201200@upbarreview.com
SUMMARY:Dickinson County Library - Solomonson Branch Book Club - Norway
DESCRIPTION:Adults are invited to discuss the New York Times Best Seller\, “The Nightingale” by Kristin Hannah. New members are always welcome.
URL:https://upbarreview.com/event/dickinson-county-library-solomonson-branch-book-club-norway/
LOCATION:Dickinson County Library – Norway\, 620 Section St\, Norway\, MI
CATEGORIES:Ironmountain
END:VEVENT
BEGIN:VEVENT
DTSTART;TZID=UTC:20241121T150000
DTEND;TZID=UTC:20241121T200000
DTSTAMP:20260424T112125
CREATED:20241029T150148Z
LAST-MODIFIED:20241029T150212Z
UID:10002278-1732201200-1732219200@upbarreview.com
SUMMARY:The Outback - BINGO - Marinette
DESCRIPTION:3:00 pm – 5:00 pm & 6:00 pm -8:00 pmWe hope to see you!!
URL:https://upbarreview.com/event/the-outback-bingo-marinette/2024-11-21/
LOCATION:The Outback\, 1997 Old Peshtigo Rd\, Marinette\, WI\, 54143\, United States
CATEGORIES:Menominee
END:VEVENT
BEGIN:VEVENT
DTSTART;TZID=UTC:20241121T170000
DTEND;TZID=UTC:20241121T190000
DTSTAMP:20260424T112125
CREATED:20241001T165045Z
LAST-MODIFIED:20241001T165045Z
UID:10002044-1732208400-1732215600@upbarreview.com
SUMMARY:Forever Friendship Drop-in Center - Womens Discussion Group - Kingsford
DESCRIPTION:This a safe space where women with a mental health diagnosis can talk openly and freely about issues women face in our current society. The facilitator is also a peer and has access to multitude of resources to assist the group in topics\, goals and skill building.
URL:https://upbarreview.com/event/forever-friendship-drop-in-center-womens-discussion-group-kingsford/2024-11-21/
LOCATION:Forever Friendship Drop-in Center\, 501 S Carpenter Ave\, Kingsford\, MI
CATEGORIES:Ironmountain
END:VEVENT
BEGIN:VEVENT
DTSTART;TZID=UTC:20241121T170000
DTEND;TZID=UTC:20241121T190000
DTSTAMP:20260424T112125
CREATED:20241031T191057Z
LAST-MODIFIED:20241031T191057Z
UID:10002455-1732208400-1732215600@upbarreview.com
SUMMARY:Heritage Inn - Bingo! - Wausaukee
DESCRIPTION:
URL:https://upbarreview.com/event/heritage-inn-bingo-wausaukee-2/2024-11-21/
LOCATION:The Heritage Inn\, W2505 Co Rd JJ\, Wausaukee\, WI\, 54177
CATEGORIES:Menominee
END:VEVENT
BEGIN:VEVENT
DTSTART;TZID=UTC:20241121T173000
DTEND;TZID=UTC:20241121T193000
DTSTAMP:20260424T112125
CREATED:20241029T201635Z
LAST-MODIFIED:20241029T201635Z
UID:10002317-1732210200-1732217400@upbarreview.com
SUMMARY:The Little House Book Club - November Book Club - Wausaukee
DESCRIPTION:Meet to Discuss November’s Book!Discuss the current months book!\nSnacks and Drinks Provided!Please rsvp(920)412-8496\nStill need to sign up for The Little House Book Club? No Problem! Check Out The Little House Book Club Page!
URL:https://upbarreview.com/event/the-little-house-book-club-november-book-club-wausaukee/
LOCATION:The Little House Book Club\, 544 VanBuren St\, Wausaukee\, WI
CATEGORIES:Menominee
END:VEVENT
BEGIN:VEVENT
DTSTART;TZID=UTC:20241121T173000
DTEND;TZID=UTC:20241121T203000
DTSTAMP:20260424T112125
CREATED:20241029T152132Z
LAST-MODIFIED:20241029T152132Z
UID:10002296-1732210200-1732221000@upbarreview.com
SUMMARY:Belgiumtown Bar - Public Annual Meeting & Director Elections - Stephenson
DESCRIPTION:Join us for the Menominee Conservation District Annual meeting featuring guest speaker Lindsay Peterson of Wild Rivers Invasive Species. Discover what MCD has been up to the past year and what their plans are for 2025. Social hour begins at 5:30 and the meeting at 6. Dinner and door prizes will be provided for those who pre register by calling our office at (906) 753-6922 ext 5.
URL:https://upbarreview.com/event/belgiumtown-bar-public-annual-meeting-director-elections-stephenson/
LOCATION:Belgiumtown Bar & Restaurant\, W4346 Belgiumtown Rd\, Stephenson\, MI
CATEGORIES:Menominee
END:VEVENT
BEGIN:VEVENT
DTSTART;TZID=UTC:20241121T180000
DTEND;TZID=UTC:20241121T210000
DTSTAMP:20260424T112125
CREATED:20241001T040448Z
LAST-MODIFIED:20241001T040448Z
UID:10001861-1732212000-1732222800@upbarreview.com
SUMMARY:Spirit House -Trivia Night! - Menominee
DESCRIPTION:Trivia Night Thursday at Spirit House\, come check out this awesome event!!!!
URL:https://upbarreview.com/event/spirit-house-trivia-night-menominee/2024-11-21/
LOCATION:Spirit House\, 533 10th Ave\, Menominee\, MI 49858\, Menominee\, MI\, 49858\, United States
CATEGORIES:Menominee
END:VEVENT
BEGIN:VEVENT
DTSTART;TZID=UTC:20241121T180000
DTEND;TZID=UTC:20241121T210000
DTSTAMP:20260424T112125
CREATED:20241030T021051Z
LAST-MODIFIED:20241030T021051Z
UID:10002373-1732212000-1732222800@upbarreview.com
SUMMARY:Oak Crest Golf Course - Trivia Time - Norway
DESCRIPTION:It is back by popular demand. Oak Crest Golf Club Thursday Night Trivia. Trivia will start at 6pm sharp\, but come early and enjoy Happy Hour from 4-6pm with a $1.00 off all drinks. Bring your friends and family for a fun couple of hours of laughs and Trivia.
URL:https://upbarreview.com/event/oak-crest-golf-course-trivia-time-norway/2024-11-21/
LOCATION:Oak Crest Golf Course\, N1475 US-8\, Norway\, MI\, 49870
CATEGORIES:Ironmountain
END:VEVENT
BEGIN:VEVENT
DTSTART;TZID=UTC:20241121T190000
DTEND;TZID=UTC:20241121T210000
DTSTAMP:20260424T112125
CREATED:20240827T020238Z
LAST-MODIFIED:20240827T020238Z
UID:10001587-1732215600-1732222800@upbarreview.com
SUMMARY:Mos Pub - Family Feud Night - Escanaba
DESCRIPTION: From the (so-called) brains behind Quizmaster Trivia\, Feudmaster is the bar game where players are fighting the clock… and their friends. \n———–\nSPECIALS: $1.50 domestic pints $3 rail mixers $1-off Specialty Burgers $2-off Specialty Pizza\n———-\nPRIZES: $30 gift card $20 gift card $10 gift card\n———-\nGAME PLAY:\n Similar to Family Feud\, the goal is to guess the TOP answer to common survey questions…\n• “An athlete in what sport would be good at a game of Twister?”\n• “If you want to keep the romance ticking\, name something you should NOT have in your bedroom?”\n At the start of the game players are given a white board to write their answers on…\n Players can team up\, or play solo. Either way you’ll be fighting your friends for the top answer\, but you’ll only have 30 seconds to do so…\n———–\n Hold up your whiteboard after the time is up and the host will come around to mark your points.\n Players get 10 points for the top answer and 5 points for the second-top answer.\n———–\n The game is split into 3 rounds of five questions each\, with one Final Feud question at the end\, where players have to come up with five answers.\n Plus\, players will be given two pens for their white boards: a black one and a red one.\n ONCE per round\, teams can use their red pen to answer\, which will double their points for that question if they are correct.
URL:https://upbarreview.com/event/mos-pub-family-feud-night-escanaba/2024-11-21/
LOCATION:Mo’s Pub\, 2116 Ludington St\, Escanaba\, MI\, 49829
CATEGORIES:Menominee
END:VEVENT
BEGIN:VEVENT
DTSTART;TZID=UTC:20241122T080000
DTEND;TZID=UTC:20241122T090000
DTSTAMP:20260424T112125
CREATED:20241029T200811Z
LAST-MODIFIED:20241029T200811Z
UID:10002306-1732262400-1732266000@upbarreview.com
SUMMARY:NSRCC - Beginner Yoga - Pembine
DESCRIPTION:Join us for our beginner yoga class! Never tried yoga before? That’s okay! Learn about what yoga is and how it helps your body. If you have any questions\, contact your trainer\, Brenda Rosenstiel: (920) 327-9981 or brosenstiel@nsrccwi.com\nWe hope to see you there!
URL:https://upbarreview.com/event/nsrcc-beginner-yoga-pembine/2024-11-22/
LOCATION:NSRCC\, 17112 US-141\, Pembine\, WI\, 54156
CATEGORIES:Menominee
END:VEVENT
BEGIN:VEVENT
DTSTART;TZID=UTC:20241122T100000
DTEND;TZID=UTC:20241122T150000
DTSTAMP:20260424T112126
CREATED:20241029T150944Z
LAST-MODIFIED:20241029T150944Z
UID:10002287-1732269600-1732287600@upbarreview.com
SUMMARY:Deer Hunters Widows Weekend - Coleman
DESCRIPTION:Grap your friends and spend the day shopping all the small shops in the neighboring towns. Take A Peek LLC will have refreshments for you to enjoy while shopping. More details to come.
URL:https://upbarreview.com/event/deer-hunters-widows-weekend-coleman/2024-11-22/
LOCATION:Take A Peek LLC\, 218 Sunset Ave\, Coleman\, WI
CATEGORIES:Menominee
END:VEVENT
BEGIN:VEVENT
DTSTART;TZID=UTC:20241122T130000
DTEND;TZID=UTC:20241122T160000
DTSTAMP:20260424T112126
CREATED:20241030T023423Z
LAST-MODIFIED:20241030T023449Z
UID:10002430-1732280400-1732291200@upbarreview.com
SUMMARY:Forever Friendship Drop-in Center - Lego Building Group - Kingsford
DESCRIPTION:Come join other adults you enjoy using their creativity in building and creating their own designs. We have a variety of Lego colors\, parts\, people and accessories to make your creation come to life. If free creation isn’t your style\, we also have variety of kits available for assembly. Building is more fun with others!
URL:https://upbarreview.com/event/forever-friendship-drop-in-center-lego-building-group-kingsford/2024-11-22/
LOCATION:Forever Friendship Drop-in Center\, 501 S Carpenter Ave\, Kingsford\, MI
CATEGORIES:Ironmountain
END:VEVENT
BEGIN:VEVENT
DTSTART;TZID=UTC:20241122T140000
DTEND;TZID=UTC:20241122T190000
DTSTAMP:20260424T112126
CREATED:20240930T172425Z
LAST-MODIFIED:20240930T172425Z
UID:10001736-1732284000-1732302000@upbarreview.com
SUMMARY:Menominee/Marinette/Peshtigo Ladies Night Out!
DESCRIPTION:Grab your girlfriends and head out for some fun at our 2nd Annual Ladies Night Out Poker Run! Make a stop at each participating location\, pick a card\, and have it marked on your scorecard (cards will be available for pickup ahead of time and on night of event). Cards will then be dropped of at final participating location. Person with best Poker Hand wins a gift basket containing gifts from each business! Map will be provided on back of scorecard.\nParticipating Businesses:Julie Huebner Pottery & Arts StudioThe Goose & Gander FinerySimply Charming BoutiqueSpirit HouseMikutowski WoodworkingKlema’s Seguins CheeseForgotten Fire Winery
URL:https://upbarreview.com/event/menominee-marinette-peshtigo-ladies-night-out/
CATEGORIES:Menominee
END:VEVENT
BEGIN:VEVENT
DTSTART;TZID=UTC:20241122T150000
DTEND;TZID=UTC:20241122T200000
DTSTAMP:20260424T112126
CREATED:20241031T190531Z
LAST-MODIFIED:20241031T190531Z
UID:10002450-1732287600-1732305600@upbarreview.com
SUMMARY:Upper Hand Brewery - Battle of The Bands - Escanaba
DESCRIPTION:You’ve perfected your facial hair\, now share it with the world! Bring your buddy and your beard to Battle of the Beards at Upper Hand. Judging will start at 6 PM for this 21+ event. Be hair early to sharpen up your shave!
URL:https://upbarreview.com/event/upper-hand-brewery-battle-of-the-bands-escanaba/
LOCATION:Upper Hand Brewery\, 3525 Airport Rd\, Escanaba\, WI\, 49829
CATEGORIES:Menominee
END:VEVENT
BEGIN:VEVENT
DTSTART;TZID=UTC:20241122T170000
DTEND;TZID=UTC:20241122T200000
DTSTAMP:20260424T112126
CREATED:20241029T130548Z
LAST-MODIFIED:20241029T130548Z
UID:10002144-1732294800-1732305600@upbarreview.com
SUMMARY:Rec Center - Old World Christmas Party - Marinette
DESCRIPTION:Calling all holiday shoppers! Join us for the 11th Annual Old World Christmas Market at the Community REC Center in Marinette\, WI. This two-day event features local artisans\, bakers\, and crafters offering unique and traditional gifts. Enjoy delicious food\, live music\, and a visit from Santa. Donations will be accepted for the Menominee Children’s Museum. \nWhen: November 22nd (5pm-8pm) and November 23rd (9am-4pm)Where: Community REC Center\, Marinette\, WI
URL:https://upbarreview.com/event/rec-center-old-world-christmas-party-marinette/2024-11-22/
LOCATION:Marinette Recreation Center\, 2501 Pierce Avenue\, Marinette\, WI\, 54143\, United States
CATEGORIES:Menominee
END:VEVENT
BEGIN:VEVENT
DTSTART;TZID=UTC:20241122T173000
DTEND;TZID=UTC:20241122T203000
DTSTAMP:20260424T112126
CREATED:20240827T012633Z
LAST-MODIFIED:20240827T012633Z
UID:10001525-1732296600-1732307400@upbarreview.com
SUMMARY:NSRCC BINGO - Pembine
DESCRIPTION:Join us for a fun-filled evening of bingo!Doors open at 5:30pmGames start at 6:00pm\nFood\, drinks\, and daubers will be available for purchase.This event is fun for the whole family! – We look forward to seeing you soon!\nTHIS EVENT HAS FREE WIFI
URL:https://upbarreview.com/event/nsrcc-bingo-pembine/2024-11-22/
LOCATION:NSRCC\, 17112 US-141\, Pembine\, WI\, 54156
CATEGORIES:Menominee
END:VEVENT
BEGIN:VEVENT
DTSTART;TZID=UTC:20241122T180000
DTEND;TZID=UTC:20241122T210000
DTSTAMP:20260424T112126
CREATED:20241029T182252Z
LAST-MODIFIED:20241029T182252Z
UID:10002300-1732298400-1732309200@upbarreview.com
SUMMARY:The Town Tavern Bar & Grill - Todd Wangerin Project - Pembine
DESCRIPTION:The Project is Todd Wangerin and Evan Blagec with an awesome live music set for the Opening Weekend Of Wisconsin Deer Rifle Season!! Come join in on the Fun with the Boyz and enjoy your friends\, food music and cold beverages!
URL:https://upbarreview.com/event/the-town-tavern-bar-grill-todd-wangerin-project-pembine/
LOCATION:The Town Tavern Bar & Grill\, N18727 Sauld St\, Pembine\, WI
CATEGORIES:Menominee
END:VEVENT
BEGIN:VEVENT
DTSTART;TZID=UTC:20241122T180000
DTEND;TZID=UTC:20241122T210000
DTSTAMP:20260424T112126
CREATED:20241029T200628Z
LAST-MODIFIED:20241029T200628Z
UID:10002302-1732298400-1732309200@upbarreview.com
SUMMARY:Four Seasons Resort - Haley Grace - Pembine
DESCRIPTION:Join us in The Lounge Bar with an amazing performance by Haley Grace; 6pm-9pm!\nA divine space for one to experience their burdens being lifted\, even when conditions seem hard to bare. This is exactly what Haley Grace brings to the stage through her music. There is much more to her songs and her life than meets the eye. She deftly weaves well-crafted lyrics with edgy country vibes while pulling in her audience with electric energy. Grace’s whiskey-tinged vocals intimately captivate while her music\, her songs and her performance draws you out of your everyday world and into a state of grace
URL:https://upbarreview.com/event/four-seasons-resort-haley-grace-pembine/
LOCATION:Four Seasons Island Resort\, 16800 Shoreline Dr\, Pembine\, WI\, 54156\, United States
CATEGORIES:Menominee
END:VEVENT
BEGIN:VEVENT
DTSTART;TZID=UTC:20241122T183000
DTEND;TZID=UTC:20241122T200000
DTSTAMP:20260424T112126
CREATED:20241030T012712Z
LAST-MODIFIED:20241030T012712Z
UID:10002346-1732300200-1732305600@upbarreview.com
SUMMARY:Dickinson County Library - Holiday Soiree - Iron Mountain
DESCRIPTION:Join us in building edible holiday houses at our Holiday Soiree for all ages! Supplies will be provided for each person to build their own holiday house out of various food items. Refreshments will be provided\, and participants can enter for raffle prizes. This program will be held after library hours\, please arrive by 6:25 PM as the library doors will be locked at 6:30 PM. Required registration begins on Friday\, November 15; call (906) 774-1218. Space is limited.
URL:https://upbarreview.com/event/dickinson-county-library-holiday-soiree-iron-mountain/
LOCATION:Dickinson County Library\, 401 Iron Mountain St\, Iron Mountain\, MI\, 49801
CATEGORIES:Ironmountain
END:VEVENT
BEGIN:VEVENT
DTSTART;TZID=UTC:20241122T223000
DTEND;TZID=UTC:20241122T233000
DTSTAMP:20260424T112126
CREATED:20240827T132725Z
LAST-MODIFIED:20240827T132725Z
UID:10001684-1732314600-1732318200@upbarreview.com
SUMMARY:Round 2 - Karaoke Night - Iron Mountain
DESCRIPTION:Friday April 12th! Karaoke night at Round 2\, will start at 10:30pm and go until close.Come sing with us!
URL:https://upbarreview.com/event/round-2-karaoke-night-iron-mountain/2024-11-22/
LOCATION:Round 2\, 407 S Stephenson Ave\, Iron Mountain\, MI\, 49801
CATEGORIES:Ironmountain
END:VEVENT
BEGIN:VEVENT
DTSTART;TZID=UTC:20241123T090000
DTEND;TZID=UTC:20241123T140000
DTSTAMP:20260424T112126
CREATED:20241029T145630Z
LAST-MODIFIED:20241029T145630Z
UID:10002271-1732352400-1732370400@upbarreview.com
SUMMARY:Embers 1871 - Widows Weekend Craft Show - Peshtigo
DESCRIPTION:Widow’s Weekend Craft ShowSaturday\, November 239 am to 2 pmAdmission $2 per Person or Bring a non -perishable food item for the local food pantry and get in free!\nBring extra Non- Perishable food & get Extra Tickets for door Prizes\nCrafts |Holiday Ideas | Food | Drinks
URL:https://upbarreview.com/event/embers-1871-widows-weekend-craft-show-peshtigo/
LOCATION:Embers 1871\, W3529 Co Rd B\, Peshtigo\, WI\, 54157\, United States
CATEGORIES:Menominee
END:VEVENT
BEGIN:VEVENT
DTSTART;TZID=UTC:20241123T090000
DTEND;TZID=UTC:20241123T160000
DTSTAMP:20260424T112126
CREATED:20241029T130548Z
LAST-MODIFIED:20241029T130548Z
UID:10002145-1732352400-1732377600@upbarreview.com
SUMMARY:Rec Center - Old World Christmas Party - Marinette
DESCRIPTION:Calling all holiday shoppers! Join us for the 11th Annual Old World Christmas Market at the Community REC Center in Marinette\, WI. This two-day event features local artisans\, bakers\, and crafters offering unique and traditional gifts. Enjoy delicious food\, live music\, and a visit from Santa. Donations will be accepted for the Menominee Children’s Museum. \nWhen: November 22nd (5pm-8pm) and November 23rd (9am-4pm)Where: Community REC Center\, Marinette\, WI
URL:https://upbarreview.com/event/rec-center-old-world-christmas-party-marinette/2024-11-23/
LOCATION:Marinette Recreation Center\, 2501 Pierce Avenue\, Marinette\, WI\, 54143\, United States
CATEGORIES:Menominee
END:VEVENT
BEGIN:VEVENT
DTSTART;TZID=UTC:20241123T100000
DTEND;TZID=UTC:20241123T130000
DTSTAMP:20260424T112126
CREATED:20241029T130945Z
LAST-MODIFIED:20241029T130945Z
UID:10002149-1732356000-1732366800@upbarreview.com
SUMMARY:Nestegg Marine - Fill a Boat - Marinette
DESCRIPTION:Stop by Nestegg Marine on November 23rd\, 10 am-1 pm\, and help us gather items for the Rainbow House and Salvation Army. We will be collecting gifts and non-perishable items. The goal is to completely fill a boat full of goodies and spread Holiday Cheer. Santa will also be making an appearance! Parents\, bring your cameras to snag a picture of your little ones (even the ones with fur) with Santa!
URL:https://upbarreview.com/event/nestegg-marine-fill-a-boat-marinette/
LOCATION:Nestegg Marine\, 300 Wells St\, Marinette\, WI\, 54143
CATEGORIES:Menominee
END:VEVENT
BEGIN:VEVENT
DTSTART;TZID=UTC:20241123T100000
DTEND;TZID=UTC:20241123T140000
DTSTAMP:20260424T112126
CREATED:20241029T135742Z
LAST-MODIFIED:20241029T135742Z
UID:10002205-1732356000-1732370400@upbarreview.com
SUMMARY:Crivitz Youth Wrestling Brat Fry
DESCRIPTION:Come hungry and support Crivitz Youth Wrestling
URL:https://upbarreview.com/event/crivitz-youth-wrestling-brat-fry/
LOCATION:Pelkins Smokey Meat Market\, 600 S US Highway 141\, Crivitz\, WI
CATEGORIES:Menominee
END:VEVENT
BEGIN:VEVENT
DTSTART;TZID=UTC:20241123T100000
DTEND;TZID=UTC:20241123T150000
DTSTAMP:20260424T112126
CREATED:20241029T150944Z
LAST-MODIFIED:20241029T150944Z
UID:10002288-1732356000-1732374000@upbarreview.com
SUMMARY:Deer Hunters Widows Weekend - Coleman
DESCRIPTION:Grap your friends and spend the day shopping all the small shops in the neighboring towns. Take A Peek LLC will have refreshments for you to enjoy while shopping. More details to come.
URL:https://upbarreview.com/event/deer-hunters-widows-weekend-coleman/2024-11-23/
LOCATION:Take A Peek LLC\, 218 Sunset Ave\, Coleman\, WI
CATEGORIES:Menominee
END:VEVENT
BEGIN:VEVENT
DTSTART;TZID=UTC:20241123T130000
DTEND;TZID=UTC:20241123T153000
DTSTAMP:20260424T112126
CREATED:20241029T124310Z
LAST-MODIFIED:20241029T124310Z
UID:10002119-1732366800-1732375800@upbarreview.com
SUMMARY:The Craft Cave - Santa Ho Ho - Marinette
DESCRIPTION:Pizza pan painted Santa. You paint and decorate. Adult class\, BYOB\, cost 25$. You can hang this piece as well. Please call to pre pay and sign up at 715-587-4643.
URL:https://upbarreview.com/event/the-craft-cave-santa-ho-ho-marinette/
LOCATION:The Craft Cave\, 605 Main St.\, Marinette\, WI\, 54143\, United States
CATEGORIES:Menominee
END:VEVENT
BEGIN:VEVENT
DTSTART;TZID=UTC:20241123T153000
DTEND;TZID=UTC:20241123T190000
DTSTAMP:20260424T112126
CREATED:20240728T190537Z
LAST-MODIFIED:20240728T190537Z
UID:10001128-1732375800-1732388400@upbarreview.com
SUMMARY:Birch Creek Roadhouse - Hunters Ball w/ Silver Cream Band - Menominee
DESCRIPTION:The annual Hunters Ball @ Bills Roadhouse.Food\, friends and good times!Live classic rock music provided by The Silver Cream Band
URL:https://upbarreview.com/event/birch-creek-roadhouse-hunters-ball-w-silver-cream-band-menominee/
LOCATION:Birch Creek Roadhouse\, N2504 US-41\, Menominee\, MI\, 49858
CATEGORIES:Menominee
END:VEVENT
BEGIN:VEVENT
DTSTART;TZID=UTC:20241123T190000
DTEND;TZID=UTC:20241123T223000
DTSTAMP:20260424T112126
CREATED:20241029T134208Z
LAST-MODIFIED:20241029T134208Z
UID:10002194-1732388400-1732401000@upbarreview.com
SUMMARY:Uncle Mikes Bar & Grill - The Dirty Martinis Live Music - Crivitz
DESCRIPTION:
URL:https://upbarreview.com/event/uncle-mikes-bar-grill-the-dirty-martinis-live-music-crivitz/
LOCATION:Uncle Mikes Corner Pub & Grill\, N9686 Co Hwy X\, Crivitz\, WI\, 54114
CATEGORIES:Menominee
END:VEVENT
BEGIN:VEVENT
DTSTART;TZID=UTC:20241123T200000
DTEND;TZID=UTC:20241123T230000
DTSTAMP:20260424T112126
CREATED:20241029T132810Z
LAST-MODIFIED:20241029T132810Z
UID:10002187-1732392000-1732402800@upbarreview.com
SUMMARY:Loopys in Loomis - Black Night Rock - Porterfield
DESCRIPTION:Come & Get LOOPY with us at Loopy’s
URL:https://upbarreview.com/event/loopys-in-loomis-black-night-rock-porterfield/
LOCATION:Loopy’s Bar & Grill\, Loomis Rd\, Porterfield\, WI\, 54159
CATEGORIES:Menominee
END:VEVENT
END:VCALENDAR