BEGIN:VCALENDAR
VERSION:2.0
PRODID:-//UP BAR REVIEW - ECPv6.14.2//NONSGML v1.0//EN
CALSCALE:GREGORIAN
METHOD:PUBLISH
X-ORIGINAL-URL:https://upbarreview.com
X-WR-CALDESC:Events for UP BAR REVIEW
REFRESH-INTERVAL;VALUE=DURATION:PT1H
X-Robots-Tag:noindex
X-PUBLISHED-TTL:PT1H
BEGIN:VTIMEZONE
TZID:UTC
BEGIN:STANDARD
TZOFFSETFROM:+0000
TZOFFSETTO:+0000
TZNAME:UTC
DTSTART:20240101T000000
END:STANDARD
END:VTIMEZONE
BEGIN:VEVENT
DTSTART;TZID=UTC:20241020T100000
DTEND;TZID=UTC:20241020T130000
DTSTAMP:20260424T112055
CREATED:20241001T162143Z
LAST-MODIFIED:20241001T162143Z
UID:10002002-1729418400-1729429200@upbarreview.com
SUMMARY:U.P. Fall RC Swap Meet - Iron Mountain
DESCRIPTION:Cash4RC joins The Maxx/Iron Mountain RC Club for their final outdoor race of the 2024 Season. The day will start with a Swap Meet / Cash4RC buying event at 10AM. Off-road racing at noon. Cash4RC will be bringing a variety of door/giveaway prizes. The event will feature IMRC’s Chili Cook-Off bust-up party and season trophy presentation as well. This will be a great opportunity to celebrate the outdoor season and sell your extra items/outdoor cars so you can gear up for Indoor season.
URL:https://upbarreview.com/event/u-p-fall-rc-swap-meet-iron-mountain/
LOCATION:N5991 State Highway M95\, Iron Mountain\, MI\, 49801
CATEGORIES:Ironmountain
END:VEVENT
BEGIN:VEVENT
DTSTART;TZID=UTC:20241020T120000
DTEND;TZID=UTC:20241020T130000
DTSTAMP:20260424T112055
CREATED:20241001T025933Z
LAST-MODIFIED:20241001T025933Z
UID:10001817-1729425600-1729429200@upbarreview.com
SUMMARY:Biehls Bridge to Recovery - CMA Sundays Im More than 2% Meeting - Marinette
DESCRIPTION:This is an open meeting. You can also join the meeting by using Microsoft TeamsMeeting ID: 215 291 811 664Passcode: QouoBu
URL:https://upbarreview.com/event/biehls-bridge-to-recovery-cma-sundays-im-more-than-2-meeting-marinette/2024-10-20/
CATEGORIES:Menominee
END:VEVENT
BEGIN:VEVENT
DTSTART;TZID=UTC:20241020T140000
DTEND;TZID=UTC:20241020T160000
DTSTAMP:20260424T112055
CREATED:20241001T154910Z
LAST-MODIFIED:20241001T154940Z
UID:10001963-1729432800-1729440000@upbarreview.com
SUMMARY:Florence Elementary - Trunk or Treat
DESCRIPTION:The Florence Elementary PTO is excited to announce our annual Trunk or Treat event! This free community event is outside only this year\, rain or shine. We hope to see you there!* Children must be accompanied by an adult. *
URL:https://upbarreview.com/event/florence-elementary-trunk-or-treat/
LOCATION:Florence Elementary\, 5844 Bill Anderson Dr\, Florence\, WI
CATEGORIES:Ironmountain
END:VEVENT
BEGIN:VEVENT
DTSTART;TZID=UTC:20241020T140000
DTEND;TZID=UTC:20241020T180000
DTSTAMP:20260424T112055
CREATED:20240719T180709Z
LAST-MODIFIED:20240728T213207Z
UID:10001049-1729432800-1729447200@upbarreview.com
SUMMARY:Loopy's in Loomis - Sunday Funday
DESCRIPTION:Live music\, drink deals\, and specials for sunday funday at loopys!!
URL:https://upbarreview.com/event/loopys-in-loomis-sunday-funday/2024-10-20/
LOCATION:Loopy’s Bar & Grill\, Loomis Rd\, Porterfield\, WI\, 54159
CATEGORIES:Menominee
END:VEVENT
BEGIN:VEVENT
DTSTART;TZID=UTC:20241020T150000
DTEND;TZID=UTC:20241020T170000
DTSTAMP:20260424T112055
CREATED:20241001T021649Z
LAST-MODIFIED:20241001T021705Z
UID:10001787-1729436400-1729443600@upbarreview.com
SUMMARY:Downtown Escanaba - Trunk or Treat Pumpkin Decorating Contest
DESCRIPTION:As part of the Trunk-or-Treat Teal Pumpkin Project event in downtown Escanaba\, there will be a pumpkin decorating contest. Decorate your pumpkin anyway you want to with a family wholesome theme. Bring them to Center Court at 1025 Ludington Street from 12 to 3 p.m. on Sunday\, Oct. 20 for them to be put on display.\nRibbons will awarded for First\, Second and Third\, Most Unique\, Silliest\, Funniest\, Most Adorable\, Scariest\, Most Original\, Best Pumpkin\, Most Creative\, and Best Tradition\nReturn in your best costume from 4 to 6 p.m. to go Trunk-or-Treating. Take your pumpkin home at the end to enjoy the rest of Halloween.
URL:https://upbarreview.com/event/downtown-escanaba-trunk-or-treat-pumpkin-decorating-contest/
LOCATION:Downtown Escanaba
CATEGORIES:Menominee
END:VEVENT
BEGIN:VEVENT
DTSTART;TZID=UTC:20241020T170000
DTEND;TZID=UTC:20241020T173000
DTSTAMP:20260424T112055
CREATED:20241001T020501Z
LAST-MODIFIED:20241001T020501Z
UID:10001778-1729443600-1729445400@upbarreview.com
SUMMARY:Lavender Spirit Healing & Massage - Sunday Meditation - Wausaukee
DESCRIPTION:Let’s Welcome Chanda and her amazing sound bowl skills fromDrops of Inner Peace!(yes\, look her business page up!)\n30 Min of Reiki infused meditation and sound healing with individual attention for a session like no other!\n$15/class cash onlyRSVPwww.lavenderspiritwi.comChanda or Jill by direct message
URL:https://upbarreview.com/event/lavender-spirit-healing-massage-sunday-meditation-wausaukee/
CATEGORIES:Menominee
END:VEVENT
BEGIN:VEVENT
DTSTART;TZID=UTC:20241020T200000
DTEND;TZID=UTC:20241020T220000
DTSTAMP:20260424T112055
CREATED:20241001T171355Z
LAST-MODIFIED:20241001T171355Z
UID:10002063-1729454400-1729461600@upbarreview.com
SUMMARY:Island Resort & Casino - Marz Timms Comedy - Harris
DESCRIPTION:Comedy show
URL:https://upbarreview.com/event/island-resort-casino-marz-timms-comedy-harris/
LOCATION:Island Resort & Casino\, W 399 US-2\, Harris\, MI\, 49845\, United States
CATEGORIES:Menominee
END:VEVENT
BEGIN:VEVENT
DTSTART;TZID=UTC:20241021T083000
DTEND;TZID=UTC:20241021T093000
DTSTAMP:20260424T112055
CREATED:20240827T014121Z
LAST-MODIFIED:20240827T014121Z
UID:10001551-1729499400-1729503000@upbarreview.com
SUMMARY:NSRCC - Open Workout & Meet the Instructor - Pembine
DESCRIPTION:Meet our fitness class instructor\, Brenda Rosenstiel. There will be information about all of our fitness classes as well as a place for open workout. Contact Brenda for more details: (920) 327-9981 or brosenstiel@nsrccwi.com
URL:https://upbarreview.com/event/nsrcc-open-workout-meet-the-instructor-pembine/2024-10-21/
LOCATION:NSRCC\, 17112 US-141\, Pembine\, WI\, 54156
CATEGORIES:Menominee
END:VEVENT
BEGIN:VEVENT
DTSTART;TZID=UTC:20241021T173000
DTEND;TZID=UTC:20241021T183000
DTSTAMP:20260424T112055
CREATED:20241001T032452Z
LAST-MODIFIED:20241001T032507Z
UID:10001838-1729531800-1729535400@upbarreview.com
SUMMARY:The Blue Room - Yogatini - Marinette
DESCRIPTION:YOGATINI STARTS NEXT WEEK! \n\n\nAdult Yoga classes with cocktails included!\nJoin Yoga With Sally on Mondays this October to beat those Monday blues!\n\n\nEvery Monday in October – 7\, 14\, 21 and 28\n5:30 – 6:15 pm\nDrinks to follow class\n$25 Per class or $80 for the entire month! (Venmo: Sally-VanEyck)\n\n\nRegister via Sally’s facebook DMs – Yoga With Sally or via email at yogawithsally@gmail.com\n\n\nSee you on the Mat!
URL:https://upbarreview.com/event/the-blue-room-yogatini-marinete/2024-10-21/
LOCATION:The Blue Room\, 1975 Riverside Ave\, Marinette\, WI
CATEGORIES:Menominee
END:VEVENT
BEGIN:VEVENT
DTSTART;TZID=UTC:20241021T173000
DTEND;TZID=UTC:20241021T183000
DTSTAMP:20260424T112055
CREATED:20241001T043352Z
LAST-MODIFIED:20241001T043352Z
UID:10001934-1729531800-1729535400@upbarreview.com
SUMMARY:Aromatherapy Chakra Sound Bath - Menominee
DESCRIPTION:Experience profound relaxationand energetic balance in this 60-minute Chakra balancing session. Combining the power of aromatherapy with the transformative effects of sound healing\, this session is designed to harmonize your chakras and promote holistic well-being.\nWhat to Expect:\nAs we learn and talk about each energy center (chakra)\, you will place each essential oil blend on the specific chakra to help balance them.\nSound Healing for All Chakras: Immerse yourself in a unique sound healing experience that incorporates crystal bowls\, chimes\, and other instruments to resonate with each chakra. The harmonious sounds will help clear energetic blockages\, restore balance\, and elevate your vibrational state.\nHolistic Wellness: This session will nurture emotional and spiritual well-being\, fostering a sense of peace and rejuvenation.\nWhether you seek relief from stress\, emotional healing\, or a deeper connection to your inner self\, this Sound bath healing session provides a nurturing space for transformation and renewal.\nPreregistration is required. Limited space available. Text to 906-424-0075 for the link to register.\nCost: $40
URL:https://upbarreview.com/event/aromatherapy-chakra-sound-bath-menominee/
LOCATION:534 1st St\, Menominee\, MI\, 49858
CATEGORIES:Menominee
END:VEVENT
BEGIN:VEVENT
DTSTART;TZID=UTC:20241021T180000
DTEND;TZID=UTC:20241021T200000
DTSTAMP:20260424T112055
CREATED:20241016T005927Z
LAST-MODIFIED:20241016T010803Z
UID:10002074-1729533600-1729540800@upbarreview.com
SUMMARY:Spartan Solutions - Should I Shoot Class - Peshtigo
DESCRIPTION:Should I shoot? The most critical question of self-defense. Answer it with confidence by learning what to do in real-life scenarios like: Leaving your gun at home\, a stranger in a trench coat approaches\, you are caught in the middle of an ATM robbery and many more… Put yourself in situations that will force you to think about whether or not you would be justified in defending yourself. In the heat of the moment when chaos is happening around you and tunnel vision is setting in\, you need to know what to expect before\, during\, and after a self-defense incident. \n\nThe aftermath of a self-defense situation\nWhat’s considered Reasonable Force in your state\nHow to quickly take action and save lives
URL:https://upbarreview.com/event/spartan-solutions-should-i-shoot-class-peshtigo/
LOCATION:Peshtigo Elementary\, 341 N Emery Ave\, Peshtigo\, WI
CATEGORIES:Menominee
END:VEVENT
BEGIN:VEVENT
DTSTART;TZID=UTC:20241022T120000
DTEND;TZID=UTC:20241022T193000
DTSTAMP:20260424T112055
CREATED:20241001T155828Z
LAST-MODIFIED:20241001T155828Z
UID:10001971-1729598400-1729625400@upbarreview.com
SUMMARY:Oak Crest Golf Course - Tuesday Mexican Nights - Norway
DESCRIPTION:It’s back by popular demand. Featuring items such as; tacos\, tostadas\, chimichangas\, taco salad\, quesadillas\, nachos\, and burritos. We will have some Mexican beers to wash it all down. Hope to see you.
URL:https://upbarreview.com/event/oak-crest-golf-course-tuesday-mexican-nights-norway/2024-10-22/
LOCATION:Oak Crest Golf Course\, N1475 US-8\, Norway\, MI\, 49870
CATEGORIES:Ironmountain
END:VEVENT
BEGIN:VEVENT
DTSTART;TZID=UTC:20241022T160000
DTEND;TZID=UTC:20241022T180000
DTSTAMP:20260424T112055
CREATED:20240930T173719Z
LAST-MODIFIED:20240930T173719Z
UID:10001741-1729612800-1729620000@upbarreview.com
SUMMARY:Spirit House - Non Profit Get Together & Social Hour - Menominee
DESCRIPTION:Join us for an exciting opportunity to connect with fellow nonprofit professionals at the Nonprofit Get-Together & Social Hour\, co-hosted by the M&M Area Community Foundation\, Provident Health Foundation\, and UW-Green Bay!\nThis casual gathering is designed to help local nonprofits network\, share ideas\, and build relationships in a relaxed\, friendly environment. Whether you’re a seasoned professional or new to the nonprofit world\, this is your chance to engage with peers and strengthen our community ties.\nFree registration is encouraged but not required – walk-ins are welcome!Light appetizers will be provided.Drinks will be available for purchase.Why Attend?\nMeet and network with other nonprofit leaders and staff in the area.Build collaborative relationships and partnerships.Unwind and enjoy an evening of conversation and connection.We look forward to seeing you there! 
URL:https://upbarreview.com/event/spirit-house-non-profit-get-together-social-hour-menominee/
LOCATION:Spirit House\, 533 10th Ave\, Menominee\, MI 49858\, Menominee\, MI\, 49858\, United States
CATEGORIES:Menominee
END:VEVENT
BEGIN:VEVENT
DTSTART;TZID=UTC:20241022T160000
DTEND;TZID=UTC:20241022T180000
DTSTAMP:20260424T112055
CREATED:20241001T161856Z
LAST-MODIFIED:20241001T161856Z
UID:10002000-1729612800-1729620000@upbarreview.com
SUMMARY:YMCA - Sepsis 911 A Healthcare Guidance - Iron Mountain
DESCRIPTION:More than 1.7 million people in the U. Us. are diagnosed with sepsis every year – that’s one person every 20 seconds. Please join Katie to learn what sepsis is\, who is at risk\, identifying symptoms\, and general information on conditions and infections that can lead to sepsis.Please email Wendy Schmitt – wschmitt@nlymca.com if you plan on attending
URL:https://upbarreview.com/event/ymca-sepsis-911-a-healthcare-guidance-iron-mountain/
LOCATION:Northern Lights YMCA Dickinson Center\, 800 Crystal Lake Blvd\, Iron Mountain\, MI\, 49801
CATEGORIES:Ironmountain
END:VEVENT
BEGIN:VEVENT
DTSTART;TZID=UTC:20241022T170000
DTEND;TZID=UTC:20241022T180000
DTSTAMP:20260424T112055
CREATED:20241001T161107Z
LAST-MODIFIED:20241001T161107Z
UID:10001984-1729616400-1729620000@upbarreview.com
SUMMARY:VA Medical Center - Journey to Wellbriety Recovery Group - Iron Mountain
DESCRIPTION:Tuesdays at 5:00 p.m. CTOscar G. Johnson VAMC325 E H Street\, Iron Mountain\, MIRoom 2378 (2nd floor)\nQuestions may be directed to AJ Osickey at 906-774-3300 ext. 32776\nThis is a traditional recovery group for various forms of addiction and traumas. It is based upon spirituality teachings of the Native Peoples.
URL:https://upbarreview.com/event/va-medical-center-journey-to-wellbriety-recovery-group-iron-mountain/2024-10-22/
LOCATION:Iron Mountain VA Medical Center\, 325 E H St\, Iron Mountain\, MI\, 49801
CATEGORIES:Ironmountain
END:VEVENT
BEGIN:VEVENT
DTSTART;TZID=UTC:20241022T170000
DTEND;TZID=UTC:20241022T190000
DTSTAMP:20260424T112055
CREATED:20241001T164634Z
LAST-MODIFIED:20241001T164634Z
UID:10002015-1729616400-1729623600@upbarreview.com
SUMMARY:Forever Friendship Drop-in Center - Mindfulness\, Meditation\, & Mandalas - Kingsford
DESCRIPTION:Try an alternative to most mental health treatment by focusing on your imagination and creative skills to make functional art project.Each week the Peer Support will lead the group in an art project directly linked to a coping skill. All supplies are included. We do encourage independence\, but keep group work available.Our goal throughout the process is to practice mindfulness skills\, listen to meditation music\, and be surrounded by like-minded individuals.
URL:https://upbarreview.com/event/forever-friendship-drop-in-center-mindfulness-meditation-mandalas-kingsford/2024-10-22/
LOCATION:Forever Friendship Drop-in Center\, 501 S Carpenter Ave\, Kingsford\, MI
CATEGORIES:Ironmountain
END:VEVENT
BEGIN:VEVENT
DTSTART;TZID=UTC:20241022T173000
DTEND;TZID=UTC:20241022T180000
DTSTAMP:20260424T112056
CREATED:20241001T043859Z
LAST-MODIFIED:20241001T043859Z
UID:10001941-1729618200-1729620000@upbarreview.com
SUMMARY:Emmanuel Lutheran Church - Yoga - Menominee
DESCRIPTION:OCTOBER YOGA SCHEDULEYOGATINI Mondays…..5:30-6:15pm at The Blue RoomGENTLE Tuesdays….5:30-6:00pm at EMMANUEL LUTHERAN CHURCH MENOMINEE\,MICHIGAN ELCACHAIR Wednesdays…..5:30-5:00pm at The Cottages
URL:https://upbarreview.com/event/emmanuel-lutheran-church-yoga-menominee/2024-10-22/
LOCATION:Emmanual Lutheran Church\, 2901 13th St\, Menominee\, MI\, 49858
CATEGORIES:Menominee
END:VEVENT
BEGIN:VEVENT
DTSTART;TZID=UTC:20241022T180000
DTEND;TZID=UTC:20241022T200000
DTSTAMP:20260424T112056
CREATED:20241001T153923Z
LAST-MODIFIED:20241001T153923Z
UID:10001954-1729620000-1729627200@upbarreview.com
SUMMARY:Crafters on Central - Paint Your Own Pot - Florence
DESCRIPTION:Come pick from a selection of ceramic pieces\, take a seat and paint away. Stacey will be there to socialize\, assist and offer up creative suggestions. If you don’t finish your project you can leave it with us until you return or take it home with you. Please note that this is NOT an instructor led class.This class is fun for all ages and great for kids looking for something to do after school! Please note\, however\, that each seated guest must have a paid project that they are working on. No loitering please. Children under 13 must be accompanied by an adult chaperone.
URL:https://upbarreview.com/event/crafters-on-central-paint-your-own-pot-florence/2024-10-22/
CATEGORIES:Ironmountain
END:VEVENT
BEGIN:VEVENT
DTSTART;TZID=UTC:20241023T130000
DTEND;TZID=UTC:20241023T150000
DTSTAMP:20260424T112056
CREATED:20241001T042703Z
LAST-MODIFIED:20241001T042703Z
UID:10001929-1729688400-1729695600@upbarreview.com
SUMMARY:Heritage Inn - Bingo! - Wausaukee
DESCRIPTION:October bingo
URL:https://upbarreview.com/event/heritage-inn-bingo-wausaukee/2024-10-23/
LOCATION:The Heritage Inn\, W2505 Co Rd JJ\, Wausaukee\, WI\, 54177
CATEGORIES:Menominee
END:VEVENT
BEGIN:VEVENT
DTSTART;TZID=UTC:20241023T150000
DTEND;TZID=UTC:20241023T180000
DTSTAMP:20260424T112056
CREATED:20240626T145913Z
LAST-MODIFIED:20240728T212922Z
UID:10000569-1729695600-1729706400@upbarreview.com
SUMMARY:Escanaba Farmers Market
DESCRIPTION:The Escanaba Farmers Market runs from 3 to 6 p.m. at the Marketplace on Wednesdays. Catch music from 11:30am-1:30pm beforehand. Come check it out!
URL:https://upbarreview.com/event/escanaba-farmers-market/2024-10-23/
LOCATION:Escanaba Marketplace\, 1501 Ludington St\, Escanaba\, MI\, 49829
CATEGORIES:Menominee
END:VEVENT
BEGIN:VEVENT
DTSTART;TZID=UTC:20241023T160000
DTEND;TZID=UTC:20241023T190000
DTSTAMP:20260424T112056
CREATED:20240930T153224Z
LAST-MODIFIED:20240930T153224Z
UID:10001710-1729699200-1729710000@upbarreview.com
SUMMARY:Bond Community Center - Family Night - Oconto
DESCRIPTION:Join Bellin Health Fitness – Bond Community Center at Family Night!\nFREE & OPEN TO THE PUBLIC!\nBuilding Hours: 5:30am-8pmPool Hours: 5:30am-12pm & 4pm-7:30pm\n Open Gym Open Swim Family Zumba at 5pm Craftsand more!
URL:https://upbarreview.com/event/bond-community-center-family-night-oconto/
LOCATION:Bond Community Center\, 1201 Park Ave\, Oconto\, WI\, 54153
CATEGORIES:Menominee
END:VEVENT
BEGIN:VEVENT
DTSTART;TZID=UTC:20241023T160000
DTEND;TZID=UTC:20241023T193000
DTSTAMP:20260424T112056
CREATED:20240827T133046Z
LAST-MODIFIED:20240827T133046Z
UID:10001695-1729699200-1729711800@upbarreview.com
SUMMARY:Knights of Columbus - Bingo Wednesday - Iron Mountain
DESCRIPTION:The Columbus Club operates the hall and hosts Charity Bingo every Wednesday night. \n\nDoors open at 4:00 PM\nBingo Games start at 6:30 PM.\nFood is available for purchase at the hall.\n\nThe Columbus Club uses all proceeds to maintain the building and support the good works of the council.  Bingo is operated under the regulations set by the State of Michigan Charitable Gaming.
URL:https://upbarreview.com/event/knights-of-columbus-bingo-wednesday-iron-mountain/2024-10-23/
LOCATION:Knights of Columbus Kingsford\, 520 West Breitung Ave\, Kingsford\, MI
CATEGORIES:Ironmountain
END:VEVENT
BEGIN:VEVENT
DTSTART;TZID=UTC:20241023T170000
DTEND;TZID=UTC:20241023T190000
DTSTAMP:20260424T112056
CREATED:20241001T164937Z
LAST-MODIFIED:20241001T164937Z
UID:10002028-1729702800-1729710000@upbarreview.com
SUMMARY:Forever Friendship Drop-in Center - Vintage Video Game Night - Kingsford
DESCRIPTION:Step outside your modern box and have a fun flashback to a simpler time. Please bring vintage game consoles and games to share. Goal is to meet people outside our norm but have gaming and mental health similarities.
URL:https://upbarreview.com/event/forever-friendship-drop-in-center-vintage-video-game-night-kingsford/2024-10-23/
LOCATION:Forever Friendship Drop-in Center\, 501 S Carpenter Ave\, Kingsford\, MI
CATEGORIES:Ironmountain
END:VEVENT
BEGIN:VEVENT
DTSTART;TZID=UTC:20241023T173000
DTEND;TZID=UTC:20241023T180000
DTSTAMP:20260424T112056
CREATED:20241001T044029Z
LAST-MODIFIED:20241001T044029Z
UID:10001946-1729704600-1729706400@upbarreview.com
SUMMARY:The Cottages - Yoga - Menominee
DESCRIPTION:OCTOBER YOGA SCHEDULEYOGATINI Mondays…..5:30-6:15pm at The Blue RoomGENTLE Tuesdays….5:30-6:00pm at EMMANUEL LUTHERAN CHURCH MENOMINEE\,MICHIGAN ELCACHAIR Wednesdays…..5:30-5:00pm at The Cottages
URL:https://upbarreview.com/event/the-cottages-yoga-menominee/2024-10-23/
LOCATION:The Cottages\, 2006 Lake Park Dr\, Marinette\, WI
CATEGORIES:Menominee
END:VEVENT
BEGIN:VEVENT
DTSTART;TZID=UTC:20241023T173000
DTEND;TZID=UTC:20241023T213000
DTSTAMP:20260424T112056
CREATED:20241001T042212Z
LAST-MODIFIED:20241001T042212Z
UID:10001922-1729704600-1729719000@upbarreview.com
SUMMARY:NWTC - First Aide Training - Marinette
DESCRIPTION:𝘓𝘦𝘢𝘳𝘯 𝘴𝘬𝘪𝘭𝘭𝘴 𝘵𝘩𝘢𝘵 𝘴𝘢𝘷𝘦 𝘭𝘪𝘷𝘦𝘴 𝘸𝘪𝘵𝘩 𝘊𝘗𝘙 𝘢𝘯𝘥 𝘍𝘪𝘳𝘴𝘵 𝘈𝘪𝘥 𝘊𝘭𝘢𝘴𝘴𝘦𝘴 𝘢𝘵 𝘕𝘞𝘛𝘊! Don’t wait until it’s too late—equip yourself with the knowledge to save a life!#NWTC #cprblscourse #cprsaveslives
URL:https://upbarreview.com/event/nwtc-first-aide-training-marinette/
LOCATION:NWTC\, 1601 University Dr\, Marinette\, WI\, 54143
CATEGORIES:Menominee
END:VEVENT
BEGIN:VEVENT
DTSTART;TZID=UTC:20241024T150000
DTEND;TZID=UTC:20241024T170000
DTSTAMP:20260424T112056
CREATED:20241001T031035Z
LAST-MODIFIED:20241001T031035Z
UID:10001832-1729782000-1729789200@upbarreview.com
SUMMARY:Menominee Downtown Business Trick or Treat
DESCRIPTION:Menominee Downtown Business Association Trick or Treat!
URL:https://upbarreview.com/event/menominee-downtown-business-trick-or-treat/
LOCATION:Downtown Menominee
CATEGORIES:Menominee
END:VEVENT
BEGIN:VEVENT
DTSTART;TZID=UTC:20241024T170000
DTEND;TZID=UTC:20241024T190000
DTSTAMP:20260424T112056
CREATED:20241001T165045Z
LAST-MODIFIED:20241001T165045Z
UID:10002040-1729789200-1729796400@upbarreview.com
SUMMARY:Forever Friendship Drop-in Center - Womens Discussion Group - Kingsford
DESCRIPTION:This a safe space where women with a mental health diagnosis can talk openly and freely about issues women face in our current society. The facilitator is also a peer and has access to multitude of resources to assist the group in topics\, goals and skill building.
URL:https://upbarreview.com/event/forever-friendship-drop-in-center-womens-discussion-group-kingsford/2024-10-24/
LOCATION:Forever Friendship Drop-in Center\, 501 S Carpenter Ave\, Kingsford\, MI
CATEGORIES:Ironmountain
END:VEVENT
BEGIN:VEVENT
DTSTART;TZID=UTC:20241024T180000
DTEND;TZID=UTC:20241024T200000
DTSTAMP:20260424T112056
CREATED:20241001T020400Z
LAST-MODIFIED:20241001T020400Z
UID:10001777-1729792800-1729800000@upbarreview.com
SUMMARY:The Little House Book Club - Blind Date with a Book - Wausaukee
DESCRIPTION:Blind Date with a Book – Halloween EditionAges 15 & up welcome\nBlind Date with a Book Halloween EditionOctober 24\, 20246pm-8pmHow does this work?Send a $25 fee to me by 9/30/24 to Reserve Your Book!\nEither Venmo or Square – Contact Me!\nThis fee includes a wrapped book with a goodie bag & evenings snacks/drinks.You fill out a book review form (or don’t) and we discuss the first 50 pages (or just skim it) at 6:30pm!
URL:https://upbarreview.com/event/the-little-house-book-club-blind-date-with-a-book-wausaukee/
CATEGORIES:Menominee
END:VEVENT
BEGIN:VEVENT
DTSTART;TZID=UTC:20241024T180000
DTEND;TZID=UTC:20241024T200000
DTSTAMP:20260424T112056
CREATED:20241001T154312Z
LAST-MODIFIED:20241001T154345Z
UID:10001959-1729792800-1729800000@upbarreview.com
SUMMARY:Crafters on Central - Hand Knitting - Florence
DESCRIPTION:INSTRUCTOR: Lisa\nCOST: $80 (includes complimentary drink)\nMINIMUM CLASS SIZE: 5\nMAXIMUM CLASS SIZE: 15\nREGISTRATION DEADLINE: 10-04-24\nCome join the fun in this offered at Crafters on Central. Lisa is a master in her craft and will teacher crafters how to arm knit this beautiful throw blanket.\nPlease select your color during checkout. For this class all guests will use just ONE SOLID COLOR. This will not be the same as the color blanket in the advertisement photo.\nWe anticipate this class lasting for 2 hours. Please be on time. We will spin our prize wheel to kick off the start of class and you must be present to win.\nCOLOR CHOICES\nAqua\nBlack\nBlue\nCharcoal\nOff White\nPink\nRed\nSIlver\nBlankets will not be completed in class and must be taken home to finish but guests will be given Lisa’s contact information should any questions arise.
URL:https://upbarreview.com/event/crafters-on-central-hand-knitting-florence/
LOCATION:Crafters on Central\, 733 Central Ave\, Florence\, WI\, 54121
CATEGORIES:Ironmountain
END:VEVENT
BEGIN:VEVENT
DTSTART;TZID=UTC:20241024T180000
DTEND;TZID=UTC:20241024T210000
DTSTAMP:20260424T112056
CREATED:20241001T040448Z
LAST-MODIFIED:20241001T040448Z
UID:10001857-1729792800-1729803600@upbarreview.com
SUMMARY:Spirit House -Trivia Night! - Menominee
DESCRIPTION:Trivia Night Thursday at Spirit House\, come check out this awesome event!!!!
URL:https://upbarreview.com/event/spirit-house-trivia-night-menominee/2024-10-24/
LOCATION:Spirit House\, 533 10th Ave\, Menominee\, MI 49858\, Menominee\, MI\, 49858\, United States
CATEGORIES:Menominee
END:VEVENT
END:VCALENDAR