BEGIN:VCALENDAR
VERSION:2.0
PRODID:-//UP BAR REVIEW - ECPv6.14.2//NONSGML v1.0//EN
CALSCALE:GREGORIAN
METHOD:PUBLISH
X-WR-CALNAME:UP BAR REVIEW
X-ORIGINAL-URL:https://upbarreview.com
X-WR-CALDESC:Events for UP BAR REVIEW
REFRESH-INTERVAL;VALUE=DURATION:PT1H
X-Robots-Tag:noindex
X-PUBLISHED-TTL:PT1H
BEGIN:VTIMEZONE
TZID:UTC
BEGIN:STANDARD
TZOFFSETFROM:+0000
TZOFFSETTO:+0000
TZNAME:UTC
DTSTART:20250101T000000
END:STANDARD
END:VTIMEZONE
BEGIN:VEVENT
DTSTART;TZID=UTC:20250628T150000
DTEND;TZID=UTC:20250703T150000
DTSTAMP:20260421T094625
CREATED:20250620T143941Z
LAST-MODIFIED:20250620T143941Z
UID:10004979-1751122800-1751554800@upbarreview.com
SUMMARY:Gladstone Sports Park - Major Boys District Tournament
DESCRIPTION:Come out to the Gladstone Sports Park and cheer on the local AllStar Teams for the Major Boys District Tournament June 28th to July 3rd!!
URL:https://upbarreview.com/event/gladstone-sports-park-major-boys-district-tournament/
LOCATION:Gladstone Sports Park\, Gladstone\, MI
CATEGORIES:Menominee
END:VEVENT
BEGIN:VEVENT
DTSTART;TZID=UTC:20250701T100000
DTEND;TZID=UTC:20250701T130000
DTSTAMP:20260421T094625
CREATED:20250207T193742Z
LAST-MODIFIED:20250207T193742Z
UID:10003030-1751364000-1751374800@upbarreview.com
SUMMARY:Escanaba Public Library - Tech Help Tuesdays - Escanaba
DESCRIPTION:Need help printing from your phone? Setting up Libby on your personal device? Using Zoom? How about getting started on your Chromebook or iPad? Using a Wi-Fi hotspot? Creating an email address? Google searches? or how to use the library’s online catalog?\nWe have the answers and assistance you need! Make an appointment or stop in at the circulation desk. Appointments are one hour (maximum).\nThe Escanaba Public Library staff do not repair computers/devices. The library assumes no liability for personal patron devices.
URL:https://upbarreview.com/event/escanaba-public-library-tech-help-tuesdays-escanaba/2025-07-01/
LOCATION:Escanaba Public Library\, 400 Ludington St\, Escanaba\, WI\, 49829
CATEGORIES:Menominee
END:VEVENT
BEGIN:VEVENT
DTSTART;TZID=UTC:20250701T100000
DTEND;TZID=UTC:20250701T140000
DTSTAMP:20260421T094625
CREATED:20250618T033156Z
LAST-MODIFIED:20250618T033238Z
UID:10004704-1751364000-1751378400@upbarreview.com
SUMMARY:Rec Center - Farmers Market - Marinette
DESCRIPTION:Do you have things that you would like to sell but you don’t have the space or you aren’t up for cleaning your garage etc.Here is your opportunity-This will be Farmers Market and (This & That- Avon\, crafts\, new items\, promoting your business or hobbyWe will have a weekly drawing- Stop in & get registered for drawingRegistration available online www.wowsolutions4u.comPlease Share!**IMPORTANT**DO NOT SEND MONEY to People Commenting that they have spots or spaces available-check out their picture and their name-they are SCAMMERS!
URL:https://upbarreview.com/event/rec-center-farmers-market-marinette/2025-07-01/
LOCATION:Marinette Recreation Center\, 2501 Pierce Avenue\, Marinette\, WI\, 54143\, United States
CATEGORIES:Menominee
END:VEVENT
BEGIN:VEVENT
DTSTART;TZID=UTC:20250701T103000
DTEND;TZID=UTC:20250701T120000
DTSTAMP:20260421T094625
CREATED:20250619T203429Z
LAST-MODIFIED:20250619T203429Z
UID:10004880-1751365800-1751371200@upbarreview.com
SUMMARY:Bay College - Lunchtime Live! - Escanaba
DESCRIPTION:Bay College is thrilled to announce the return of Lunchtime Live!\, our popular summer outdoor music and food truck series. Join us for live music and delicious food on select Tuesdays during the lunch hour from 11:30am to 1pm ET on the Escanaba Bay College Campus.\nThis year’s schedule features an exciting lineup of local and regional artists:\n\nTuesday\, July 1 | Pickstop – featuring artists Brayden Mathias\, Noah Dier\, Logan Veeser\, Kayla Hamelin\, and Logan MathiasFood Vendors: Taco Kitchen\, The Curious Pig\, and Main Squeeze\nTuesday\, July 15 | Singe – featuring artists Jim Hanke and Susan HankeFood Vendors: Taco Kitchen\, Wildmans Munchie Mobile\, and Main Squeeze\nTuesday\, July 29 | George Sailor – featuring local artist\, George SailorFood Vendors: Taco Kitchen\, The Curious Pig\, and Main Squeeze\nTuesday\, August 26 | Wingin’ It – featuring artists Pat Feldhusen\, Pete Ammel\, Michael Hall\, Heather Grimes\, and Scott BreaultFood Vendors: Taco Kitchen\, The Grateful Cheese\, and Main Squeeze\n\nLunchtime Live! is a free event and open to the public – no tickets are required! Performances will take place in the beautiful courtyard located between the Catherine Bonifas Building (Building 200) and the Student Services Building (Building 500) at 2001 N. Lincoln Rd. Closest parking is available in Parking Lot E off of College Avenue.\nIf inclement weather occurs\, the performances will be moved inside the Bay Café\, located in the Student Services Building.\nCome hungry! A variety of food trucks will be serving up local favorites from 10am – 2pm ET in Parking Lot E. just steps away from the music. Enjoy options ranging from tacos and burrito bowls from the Taco Kitchen (located inside the Bay Café) to barbeque\, gourmet grilled cheese\, fresh-squeezed lemonade\, and more. Make sure to check out the schedule for the correlating food vendors.\nFor any questions\, please contact the Events Department at events@baycollege.edu or call (906) 217-4040.
URL:https://upbarreview.com/event/bay-college-lunchtime-live-escanaba/2025-07-01/
CATEGORIES:Menominee
END:VEVENT
BEGIN:VEVENT
DTSTART;TZID=UTC:20250701T130000
DTEND;TZID=UTC:20250701T150000
DTSTAMP:20260421T094625
CREATED:20250513T233410Z
LAST-MODIFIED:20250513T233410Z
UID:10004338-1751374800-1751382000@upbarreview.com
SUMMARY:Farnsworth Public Library - Girls Therapeutic Art Club - Oconto
DESCRIPTION:About the Group:Hey changemakers\, creators\, and future leaders! Ready to tap into your strength and shine? Join us for Girls Art Club – a FREE weekly therapeutic art group designed to empower girls and women (ages 9 and up) through creativity\, connection\, and self-expression.\nLed by a licensed art therapist\, each session includes guided art activities that foster confidence\, leadership skills\, and emotional well-being. Whether you’re here to make art\, make friends\, or just take a break – this space is for you._____________________________________\nWhat to Expect: All art supplies and materials provided Reflective and empowering art directives Supportive group conversations A final art exhibition to celebrate your work\n_____________________________________\nWho Can Join: Girls and women ages 9+ All identities and experience levels welcome FREE to attend – but signed consent forms are required\nPlease contact us at 906.330.0082 or info@creativeroutes.org for more info and consent forms!_____________________________________\nSpecial Thanks:This program is made possible through generous support from local partners and funders who believe in the power of creativity and community. Huge thanks to Women’s Fund\, the Greater Green Bay Community Foundation\, and other generous supporters for helping make this safe and inspiring space a reality. \nTogether\, we’re empowering the next generation of artists\, leaders\, and changemakers.
URL:https://upbarreview.com/event/farnsworth-public-library-girls-therapeutic-art-club-oconto/2025-07-01/
LOCATION:Farnsworth Public Library\, 715 Main St\, Oconto\, WI
CATEGORIES:Menominee
END:VEVENT
BEGIN:VEVENT
DTSTART;TZID=UTC:20250701T170000
DTEND;TZID=UTC:20250701T200000
DTSTAMP:20260421T094625
CREATED:20250514T011428Z
LAST-MODIFIED:20250514T011428Z
UID:10004435-1751389200-1751400000@upbarreview.com
SUMMARY:Mr Bike & Ski - Tuesday Road Ride - Escanaba
DESCRIPTION:This is an unofficial Mr. Bike and Ski group ride\, meaning there isn’t always a shop crew member in the pack. Riders should be comfortable with group dynamics\, pacing\, and route navigation.\nAll groups require a road bike—if you’re unsure what that means\, you probably don’t have one! Road bikes are built for speed and efficiency on pavement\, designed to take you as far and as fast as your legs can push. Curious about road cycling? Swing by the shop—we’re happy to help get you rolling.\nRide Season:These rides roll out as soon as the weather allows\, so keep an eye out for early-season meetups. Plan on riding every Tuesday from the week after Memorial Day through Labor Day.\nPro Tip:Got pre-ride jitters? Channel that energy into your legs and send it! Show up early\, introduce yourself\, and chat with the group about your riding experience. They’ll help you find the right pack. Not sure where you fit? Ask! Or\, if you’re feeling strong\, jump in\, hammer the pedals\, and drop some watts.\n22-Mile C Group – M35/Hyde Cut Across RouteThe C Group is ideal for newer riders looking to build endurance and confidence in a group setting. Expect a 15 mph average over 22 miles. Be ready to roll at 6:00 PM—arrive early to check your gear and meet the crew. A helmet and road bike are required.\n30-Mile B Group – M35+ RouteThe B Group is for intermediate riders looking for a solid\, steady ride. Expect a 15-19 mph average over 30 miles. This group focuses on smooth pacing and efficient drafting. Arrive at 6:00 PM to meet the group and check your setup. A helmet and road bike are required.\n40+ Mile A Group – Advanced RideThe A Group is for experienced riders who thrive on high-speed\, long-distance efforts. Expect a 20+ mph pace over 40+ miles. Routes vary weekly\, and the ride is often a drop ride—come prepared to hold the pace and work with the pack. A helmet and road bike are required
URL:https://upbarreview.com/event/mr-bike-ski-tuesday-road-ride-escanaba/2025-07-01/
CATEGORIES:Menominee
END:VEVENT
BEGIN:VEVENT
DTSTART;TZID=UTC:20250701T180000
DTEND;TZID=UTC:20250701T190000
DTSTAMP:20260421T094625
CREATED:20250618T032016Z
LAST-MODIFIED:20250618T032016Z
UID:10004682-1751392800-1751396400@upbarreview.com
SUMMARY:SMART Recovery Family & Friends - Marinette
DESCRIPTION:https://teams.microsoft.com/l/meetup-join/19%3ameeting_OWQ5MjVkZDEtNTZjNC00YTgzLWFkOWEtMjQ4OTlhMGYzZTE4%40thread.v2/0?context=%7b%22Tid%22%3a%222edf2a13-d3ff-43fd-b41d-0035b01a1b27%22%2c%22Oid%22%3a%22931785d2-5592-4dd0-9e72-0dc35feb55e4%22%7d\nDo you have a loved one with addictive behaviors? Need help coping and someone who understands the challenges you face?\nIn person or online\, get together with other family and friends of people with problem behaviors to learn more about how you can stay sane and healthy while offering support to your loved one.\nAll meetings facilitated by a certified SMART Recovery Family & Friends Facilitator.\n\n\nMessage us here or call 906-399-6662 for more information!
URL:https://upbarreview.com/event/smart-recovery-family-friends-marinette/2025-07-01/
LOCATION:Biehl Bridge To Recovery\, 3123 Shore Dr\, Marinette\, WI\, 54143
CATEGORIES:Menominee
END:VEVENT
BEGIN:VEVENT
DTSTART;TZID=UTC:20250701T180000
DTEND;TZID=UTC:20250701T200000
DTSTAMP:20260421T094625
CREATED:20250402T234345Z
LAST-MODIFIED:20250402T234345Z
UID:10003360-1751392800-1751400000@upbarreview.com
SUMMARY:Mo's Pub - Trivia Night - Escanaba
DESCRIPTION:Join us for our Tuesday Trivia!!!! We will start at 7pm and we’ll be in the back room of the pub. TRIVIA TIME!!!! Trivia starts at 7pm!!!!6 Prizes given out.1st place $50 Mos Card 2nd place $25 Mos Card 3rd place $15 Mos Card 4th\, 5th and last place a free appetizer. $2 domestic beer. $3.50 rail\, $2.00 off Specialty Pizza\, $1.00 off specialty burger. We are looking forward to spending the time with you!!!
URL:https://upbarreview.com/event/mos-pub-trivia-night-escanaba/2025-07-01/
LOCATION:Mo’s Pub\, 2116 Ludington St\, Escanaba\, MI\, 49829
CATEGORIES:Menominee
END:VEVENT
BEGIN:VEVENT
DTSTART;TZID=UTC:20250701T180000
DTEND;TZID=UTC:20250701T200000
DTSTAMP:20260421T094625
CREATED:20250513T232918Z
LAST-MODIFIED:20250513T232918Z
UID:10004326-1751392800-1751400000@upbarreview.com
SUMMARY:Oconto Tunes on Tuesday
DESCRIPTION:O.T.T. Is a summer series of music that brings some of the greatest music acts in Wisconsin to Oconto
URL:https://upbarreview.com/event/oconto-tunes-on-tuesday/2025-07-01/
LOCATION:917 Park Ave\, Oconto\, WI
CATEGORIES:Menominee
END:VEVENT
BEGIN:VEVENT
DTSTART;TZID=UTC:20250701T200000
DTEND;TZID=UTC:20250701T233000
DTSTAMP:20260421T094625
CREATED:20250403T021715Z
LAST-MODIFIED:20250403T021741Z
UID:10003999-1751400000-1751412600@upbarreview.com
SUMMARY:Forever Friendship Drop-in Center - Mindfulness\, Meditation\, Mandalas - Kingsford
DESCRIPTION:Art Therapy Style Group\nMindfulness is the practice of purposely bringing one’s attention in the present moment without judgment.\nJoin each week to create a unique art project to help you cope with your mental health
URL:https://upbarreview.com/event/forever-friendship-drop-in-center-mindfulness-meditation-mandalas-kingsford-2/2025-07-01/
LOCATION:Forever Friendship Drop-in Center\, 501 S Carpenter Ave\, Kingsford\, MI
CATEGORIES:Ironmountain
END:VEVENT
BEGIN:VEVENT
DTSTART;TZID=UTC:20250702T090000
DTEND;TZID=UTC:20250702T100000
DTSTAMP:20260421T094625
CREATED:20250619T203053Z
LAST-MODIFIED:20250619T203121Z
UID:10004873-1751446800-1751450400@upbarreview.com
SUMMARY:Michigan DNR Pocket Park - Outdoor Yoga - Escanaba
DESCRIPTION:Unwind and reconnect with nature during gentle outdoor yoga sessions every Wednesday and Friday. Great for all ages and experience levels—just bring a mat or towel.
URL:https://upbarreview.com/event/michigan-dnr-pocket-park-outdoor-yoga-escanaba/2025-07-02/
LOCATION:Michigan DNR Pocket Park\, 2401 12th Avenue North\, Escanaba\, MI\, 49829
CATEGORIES:Menominee
END:VEVENT
BEGIN:VEVENT
DTSTART;TZID=UTC:20250702T100000
DTEND;TZID=UTC:20250702T120000
DTSTAMP:20260421T094625
CREATED:20250619T212205Z
LAST-MODIFIED:20250619T212205Z
UID:10004916-1751450400-1751457600@upbarreview.com
SUMMARY:Michigan DNR Pocket Park - Open Archery - Escanaba
DESCRIPTION:Take aim and sharpen your skills at the Pocket Park Archery Range. This supervised open session is perfect for beginners and enthusiasts alike.\nWe have all the equipment necessary.
URL:https://upbarreview.com/event/michigan-dnr-pocket-park-open-archery-escanaba/2025-07-02/
LOCATION:Michigan DNR Pocket Park\, 2401 12th Avenue North\, Escanaba\, MI\, 49829
CATEGORIES:Menominee
END:VEVENT
BEGIN:VEVENT
DTSTART;TZID=UTC:20250702T120000
DTEND;TZID=UTC:20250702T140000
DTSTAMP:20260421T094625
CREATED:20250618T032424Z
LAST-MODIFIED:20250618T032424Z
UID:10004696-1751457600-1751464800@upbarreview.com
SUMMARY:Cat County 95.1FM - Weiner Wednesday - Marinette
DESCRIPTION:MARK YOUR CALENDARS!! We will be hosting the Cat Country 95.1 FM “Wiener Wednesday” on JULY 2nd! The first 100 people are welcome to a free hot dog and bottled water! Stop by and enter our basket drawing! Want to know more about us or know of anyone who may like to see our spacious apartments? Come and tour our community on July 2nd\, as well!
URL:https://upbarreview.com/event/cat-county-95-1fm-weiner-wednesday-marinette/
LOCATION:Washington Square\, 2502 Taylor St\, Marinette\, WI\, 54143
CATEGORIES:Menominee
END:VEVENT
BEGIN:VEVENT
DTSTART;TZID=UTC:20250702T130000
DTEND;TZID=UTC:20250702T160000
DTSTAMP:20260421T094625
CREATED:20250403T015518Z
LAST-MODIFIED:20250403T015518Z
UID:10003838-1751461200-1751472000@upbarreview.com
SUMMARY:Bored Bard Games - Board Games - Iron Mountain
DESCRIPTION:Come join us for unique and engaging games and make a few new friends along the way. Plus it is all FUN & FREE!
URL:https://upbarreview.com/event/bored-bard-games-board-games-iron-mountain/2025-07-02/
LOCATION:Bored Bard Games\, 224 E Hughitt St\, Iron Mountain\, mi\, 49801
CATEGORIES:Ironmountain
END:VEVENT
BEGIN:VEVENT
DTSTART;TZID=UTC:20250702T160000
DTEND;TZID=UTC:20250702T200000
DTSTAMP:20260421T094625
CREATED:20250619T182445Z
LAST-MODIFIED:20250619T182445Z
UID:10004790-1751472000-1751486400@upbarreview.com
SUMMARY:Peshtigo Gun Club - 50-Bird Annual Club Shoot
DESCRIPTION:Annual mid-summer-league club shoot. League shooters compete against others in their class for class champion. Handicaps do not apply. Ties in each class will participate in a 25-bird shoot-off. Remaining ties will be determined by a sudden-death round. Shooters absent during the shoot-off automatically forfeit.\nMembers who wish to participate but are not shooting summer league will default to class A. This is a very busy event so attend early if time is a concern.
URL:https://upbarreview.com/event/peshtigo-gun-club-50-bird-annual-club-shoot/
LOCATION:Peshtigo Gun Club\, W2803 Pheasant Farm Rd\, Peshtigo\, WI\, 54157
CATEGORIES:Menominee
END:VEVENT
BEGIN:VEVENT
DTSTART;TZID=UTC:20250702T160000
DTEND;TZID=UTC:20250702T210000
DTSTAMP:20260421T094625
CREATED:20250403T022035Z
LAST-MODIFIED:20250403T022035Z
UID:10004074-1751472000-1751490000@upbarreview.com
SUMMARY:Knights of Columbus - Super Bingo - Kingsford
DESCRIPTION:Super Bingo$2\,535 Regular Pay Out(Attendance Permitting)22 Games for $12.00 Per PackPull Tab GamesHot BallComplete Concession StandDoors open at 4:00Early bird games start at 6:00Regular bingo starts at 6:30
URL:https://upbarreview.com/event/knights-of-columbus-super-bingo-kingsford/2025-07-02/
LOCATION:Knights of Columbus Kingsford\, 520 West Breitung Ave\, Kingsford\, MI
CATEGORIES:Ironmountain
END:VEVENT
BEGIN:VEVENT
DTSTART;TZID=UTC:20250702T170000
DTEND;TZID=UTC:20250702T200000
DTSTAMP:20260421T094625
CREATED:20250620T135413Z
LAST-MODIFIED:20250620T135413Z
UID:10004949-1751475600-1751486400@upbarreview.com
SUMMARY:Halfway Bar & Grill - UP Night Market - Stephenson
DESCRIPTION:Introducing the U.P. Night Market at Halfway Bar & Grill\nA Celebration of Local Flavor\, Music\, and Community\nWe’re excited to announce a brand-new Monthly Night Market right here in Cedar River.\nStarting July 2nd and happening the 1st Wednesday of every month!\n-Live Local Music to keep the good vibes flowing-Michigan-Made Goods from talented artisans-Farmers Market Finds with fresh\, seasonal products-Great Food & Drinks from our kitchen and bar\nWhether you’re a local or just passing through\, this is your chance to connect\, shop\, eat\, and enjoy the creative spirit of the U.P. community.\nInterested in becoming a vendor? Send us a message or submit an application on our website!
URL:https://upbarreview.com/event/halfway-bar-grill-up-night-market-stephenson/
LOCATION:The Halfway Bar & Grill\, N 8241 M-35\, Cedar River\, MI\, 49887
CATEGORIES:Menominee
END:VEVENT
BEGIN:VEVENT
DTSTART;TZID=UTC:20250702T180000
DTEND;TZID=UTC:20250702T190000
DTSTAMP:20260421T094625
CREATED:20250618T013644Z
LAST-MODIFIED:20250618T013644Z
UID:10004553-1751479200-1751482800@upbarreview.com
SUMMARY:The Argonaut - Grounding and Nervous System Reset Sound Bath - Menominee
DESCRIPTION: Grounding & Nervous System Reset Sound Bath \nYou don’t have to keep living in survival mode.\nIf you’ve been feeling anxious\, scattered\, overstimulated\, or like your body just won’t settle — this session is for you.\nJoin me for a deeply restorative Sound Bath designed to calm your nervous system\, anchor your energy\, and bring you back into your body.Let the frequencies guide you out of your head and into a space of peace\, safety\, and stillness.\n Gentle crystal bowls and chimes Essential oils to support nervous system regulation A space to simply be\nWe’ll reset the overwhelm — together.
URL:https://upbarreview.com/event/the-argonaut-grounding-and-nervous-system-reset-sound-bath-menominee/
LOCATION:The Argonaut\, 432 10th Ave\, Menominee\, MI
CATEGORIES:Menominee
END:VEVENT
BEGIN:VEVENT
DTSTART;TZID=UTC:20250702T180000
DTEND;TZID=UTC:20250702T200000
DTSTAMP:20260421T094625
CREATED:20250620T183508Z
LAST-MODIFIED:20250620T183508Z
UID:10005322-1751479200-1751486400@upbarreview.com
SUMMARY:Moose Head Bar - Song Bingo - Norway
DESCRIPTION: Song Bingo – Every Wednesday Night! \nThe fun doesn’t stop! Song Bingo is here EVERY Wednesday night at Norway Mountain!  Grab your friends & family and test your music knowledge while enjoying $1 off beer and $1 off appetizers! \nIt’s the perfect midweek hangout—great tunes\, great food\, and great company! Don’t miss out on the fun!\nTag your crew and join us every Wednesday night for a good time! \n6pm-8pm
URL:https://upbarreview.com/event/moose-head-bar-song-bingo-norway/2025-07-02/
LOCATION:Moose Head Bar & Restaurant\, 4948 Brier Mountain Rd\, Norway\, MI
CATEGORIES:Ironmountain
END:VEVENT
BEGIN:VEVENT
DTSTART;TZID=UTC:20250702T180000
DTEND;TZID=UTC:20250702T220000
DTSTAMP:20260421T094625
CREATED:20250620T154502Z
LAST-MODIFIED:20250620T155057Z
UID:10005013-1751479200-1751493600@upbarreview.com
SUMMARY:Sandstone Terrace - Live Music - Iron Mountain
DESCRIPTION:Great way to spend your time after dinner with friend’s and family!
URL:https://upbarreview.com/event/sandstone-terrace-saturday-night-live-music-iron-mountain/2025-07-02/
LOCATION:Sandstone Terrace Rooftop Bar\, 220 Iron Mountain St\, Iron Mountain\, MI\, 49801
CATEGORIES:Ironmountain
END:VEVENT
BEGIN:VEVENT
DTSTART;TZID=UTC:20250703T080000
DTEND;TZID=UTC:20250703T170000
DTSTAMP:20260421T094625
CREATED:20241202T212718Z
LAST-MODIFIED:20241202T212718Z
UID:10002554-1751529600-1751562000@upbarreview.com
SUMMARY:Biehl Bridges to Recovery - Overeaters Anonymous - Marinette
DESCRIPTION:A new year! A new you! Want to know if you’re an overeater? Struggling to find support? Wanting support? Come join us on Thursday evenings from 5:30pm-6:30pm.
URL:https://upbarreview.com/event/biehl-bridges-to-recovery-overeaters-anonymous-marinette/2025-07-03/
LOCATION:Biehl Bridge To Recovery\, 3123 Shore Dr\, Marinette\, WI\, 54143
CATEGORIES:Menominee
END:VEVENT
BEGIN:VEVENT
DTSTART;TZID=UTC:20250703T090000
DTEND;TZID=UTC:20250703T140000
DTSTAMP:20260421T094625
CREATED:20250619T154258Z
LAST-MODIFIED:20250619T154258Z
UID:10004719-1751533200-1751551200@upbarreview.com
SUMMARY:Crivitz Flea & Farmers Market
DESCRIPTION:Hand made crafts\, glassware\, clothing\, books\, collectibles\, soaps\, household items\, jewelry\, home decor\, seasonal items\, food\, beverages\, baked goods\, and so much more!
URL:https://upbarreview.com/event/crivitz-flea-farmers-market-2/2025-07-03/
LOCATION:800 Henriette Ave\, Crivitz\, WI
CATEGORIES:Menominee
END:VEVENT
BEGIN:VEVENT
DTSTART;TZID=UTC:20250703T100000
DTEND;TZID=UTC:20250703T120000
DTSTAMP:20260421T094625
CREATED:20250619T212205Z
LAST-MODIFIED:20250619T212205Z
UID:10004917-1751536800-1751544000@upbarreview.com
SUMMARY:Michigan DNR Pocket Park - Open Archery - Escanaba
DESCRIPTION:Take aim and sharpen your skills at the Pocket Park Archery Range. This supervised open session is perfect for beginners and enthusiasts alike.\nWe have all the equipment necessary.
URL:https://upbarreview.com/event/michigan-dnr-pocket-park-open-archery-escanaba/2025-07-03/
LOCATION:Michigan DNR Pocket Park\, 2401 12th Avenue North\, Escanaba\, MI\, 49829
CATEGORIES:Menominee
END:VEVENT
BEGIN:VEVENT
DTSTART;TZID=UTC:20250703T100000
DTEND;TZID=UTC:20250703T233000
DTSTAMP:20260421T094625
CREATED:20241029T145445Z
LAST-MODIFIED:20241029T145445Z
UID:10002253-1751536800-1751585400@upbarreview.com
SUMMARY:Alibi's - Free Pool Thursdays - Marinette
DESCRIPTION:Free Pool!!
URL:https://upbarreview.com/event/alibis-free-pool-thursdays-marinette/2025-07-03/
LOCATION:ALiBi Bar & Grill\, 829 Main St\, Marinette\, WI\, 54143\, United States
CATEGORIES:Menominee
END:VEVENT
BEGIN:VEVENT
DTSTART;TZID=UTC:20250703T103000
DTEND;TZID=UTC:20250703T120000
DTSTAMP:20260421T094625
CREATED:20250619T200541Z
LAST-MODIFIED:20250619T200541Z
UID:10004841-1751538600-1751544000@upbarreview.com
SUMMARY:Escanaba Public Library - Live on the Lawn at Lunch - Escanaba
DESCRIPTION:The Cloverland Band hails from Michigan’s Upper Peninsula\, a landscape that’s been cutover and cultivated\, regrown and regenerated. Cloverland charts a distinctive musical topography by blending driving bluegrass\, old-time melodies\, soulful harmonies\, classic country\, and the timeless energy of rock. Combining their own original compositions with traditional American music\, Cloverland’s sound pays homage to the past while growing something fresh\, vibrant\, and uniquely theirs.\nBring your chair or blanket\, pack a picnic lunch\, or stop by Bobaloon’s Food Truck or Main Squeeze Lemonade and enjoy the library’s second concert of the 2025 Live on the Lawn at Lunch series.\nThis series is funded in part by a Michigan Arts & Culture Council grant (www.michiganbusiness.org/industries/macc/) and the Friends of the Escanaba Public Library.
URL:https://upbarreview.com/event/escanaba-public-library-live-on-the-lawn-at-lunch-escanaba/
LOCATION:Escanaba Public Library\, 400 Ludington St\, Escanaba\, WI\, 49829
CATEGORIES:Menominee
END:VEVENT
BEGIN:VEVENT
DTSTART;TZID=UTC:20250703T110000
DTEND;TZID=UTC:20250703T193000
DTSTAMP:20260421T094625
CREATED:20250619T185358Z
LAST-MODIFIED:20250619T185358Z
UID:10004811-1751540400-1751571000@upbarreview.com
SUMMARY:Upper Hand Brewery - Red\, White\, & Beer - Escanaba
DESCRIPTION:Start your holiday weekend off right with sunshine\, tunes\, & brews!The Pierogi Rig will be on site @ 12pm.Anna p.s. is taking the stage @ 5pm.
URL:https://upbarreview.com/event/upper-hand-brewery-red-white-beer-escanaba/
LOCATION:Upper Hand Brewery\, 3525 Airport Rd\, Escanaba\, WI\, 49829
CATEGORIES:Menominee
END:VEVENT
BEGIN:VEVENT
DTSTART;TZID=UTC:20250703T130000
DTEND;TZID=UTC:20250703T180000
DTSTAMP:20260421T094626
CREATED:20250619T161501Z
LAST-MODIFIED:20250619T161501Z
UID:10004749-1751547600-1751565600@upbarreview.com
SUMMARY:Farnsworth Public Library - Bingo For All - Oconto
DESCRIPTION:Happiness is yelling BINGO!! Come play Bingo with us and win some prizes!! This is a free event\, open to all. Come for a little bit or the full 2 hours.
URL:https://upbarreview.com/event/farnsworth-public-library-bingo-for-all-oconto-3/
LOCATION:Farnsworth Public Library\, 715 Main St\, Oconto\, WI
CATEGORIES:Menominee
END:VEVENT
BEGIN:VEVENT
DTSTART;TZID=UTC:20250703T150000
DTEND;TZID=UTC:20250703T190000
DTSTAMP:20260421T094626
CREATED:20250428T124346Z
LAST-MODIFIED:20250428T124346Z
UID:10004219-1751554800-1751569200@upbarreview.com
SUMMARY:Menominee Waterfront Market
DESCRIPTION: Join us on Thursday\, May 29\, from 3 PM to 7 PM\, and every Thursday through August 28\, 2025.\nExplore a vibrant marketplace featuring farmers\, crafters\, artists\, food trucks\, and more! Leading up to the Grand Opening\, we’ll spotlight one of our returning vendors each week.\nThis week\, we’re highlighting Schwittay Farms—a long-standing name in the farming community and the founder of Harmony Market in 2021. Now\, you have the opportunity to experience their farm-fresh market at the Menominee Waterfront Market every Thursday! Come check out their meats\, eggs\, fruits\, vegetables\, seafood\, and more. Help us welcome them back at our Grand Opening!\nWe’re still looking for more vendors! If you’re a farmer\, crafter\, direct sales vendor\, nonprofit\, school\, or church group\, we’d love for you to join us at our Thursday Market.\nFind our application on our website: https://menomineefarmersmarket.com.\nSee you at the market!”
URL:https://upbarreview.com/event/menominee-waterfront-market/2025-07-03/
LOCATION:Downtown Menominee
CATEGORIES:Menominee
END:VEVENT
BEGIN:VEVENT
DTSTART;TZID=UTC:20250703T160000
DTEND;TZID=UTC:20250703T200000
DTSTAMP:20260421T094626
CREATED:20250514T023421Z
LAST-MODIFIED:20250514T023435Z
UID:10004526-1751558400-1751572800@upbarreview.com
SUMMARY:Car & Offroad Meet Up - Norway
DESCRIPTION:Rev it up—Thursday Nights at Norway Mountain are for the gearheads!\nGot a car\, side-by-side\, Jeep\, or off-road rig you love to show off? Or just want to hang with others who share your passion for horsepower and mud?\nJoin us every Thursday from 4–8 PM at Norway Mountain for an open\, no-entry-fee vehicle meetup!Cruise in\, park\, chat\, and check out some awesome rides—come and go as you please.\nAnd while you’re here\, head upstairs to Moosehead Bar & Restaurant for some great food\, cold drinks\, and unbeatable views.\nLet’s make Thursday nights the best pit stop of the week!
URL:https://upbarreview.com/event/car-offroad-meet-up-norway/2025-07-03/
CATEGORIES:Ironmountain
END:VEVENT
BEGIN:VEVENT
DTSTART;TZID=UTC:20250703T170000
DTEND;TZID=UTC:20250703T190000
DTSTAMP:20260421T094626
CREATED:20250403T021855Z
LAST-MODIFIED:20250403T021855Z
UID:10004037-1751562000-1751569200@upbarreview.com
SUMMARY:Forever Friendship Drop-in Center - Womens Discussion Group- Kingsford
DESCRIPTION:Safe space for women with mental health diagnoses to discuss issues real women face in society.Play games\, enjoy community outings and events.
URL:https://upbarreview.com/event/forever-friendship-drop-in-center-womens-discussion-group-kingsford-2/2025-07-03/
LOCATION:Forever Friendship Drop-in Center\, 501 S Carpenter Ave\, Kingsford\, MI
CATEGORIES:Ironmountain
END:VEVENT
END:VCALENDAR