BEGIN:VCALENDAR
VERSION:2.0
PRODID:-//UP BAR REVIEW - ECPv6.14.2//NONSGML v1.0//EN
CALSCALE:GREGORIAN
METHOD:PUBLISH
X-WR-CALNAME:UP BAR REVIEW
X-ORIGINAL-URL:https://upbarreview.com
X-WR-CALDESC:Events for UP BAR REVIEW
REFRESH-INTERVAL;VALUE=DURATION:PT1H
X-Robots-Tag:noindex
X-PUBLISHED-TTL:PT1H
BEGIN:VTIMEZONE
TZID:UTC
BEGIN:STANDARD
TZOFFSETFROM:+0000
TZOFFSETTO:+0000
TZNAME:UTC
DTSTART:20250101T000000
END:STANDARD
END:VTIMEZONE
BEGIN:VEVENT
DTSTART;TZID=UTC:20250605T080000
DTEND;TZID=UTC:20250605T160000
DTSTAMP:20260421T094956
CREATED:20250513T232117Z
LAST-MODIFIED:20250513T232117Z
UID:10004313-1749110400-1749139200@upbarreview.com
SUMMARY:Oconto City Wide Rummage Sale
DESCRIPTION:SAVE THE DATE ! Oconto City Wide Rummage Sales are June 5-7\, 2025. Farnsworth Library will be organizing the map this year. Forms to get on the maps will be available starting\, Monday\, May 5. Forms will be due back at the Library by Friday\, May 23.\nSave the date!!
URL:https://upbarreview.com/event/oconto-city-wide-rummage-sale/2025-06-05/
CATEGORIES:Menominee
END:VEVENT
BEGIN:VEVENT
DTSTART;TZID=UTC:20250605T080000
DTEND;TZID=UTC:20250605T170000
DTSTAMP:20260421T094957
CREATED:20241202T212718Z
LAST-MODIFIED:20241202T212718Z
UID:10002550-1749110400-1749142800@upbarreview.com
SUMMARY:Biehl Bridges to Recovery - Overeaters Anonymous - Marinette
DESCRIPTION:A new year! A new you! Want to know if you’re an overeater? Struggling to find support? Wanting support? Come join us on Thursday evenings from 5:30pm-6:30pm.
URL:https://upbarreview.com/event/biehl-bridges-to-recovery-overeaters-anonymous-marinette/2025-06-05/
LOCATION:Biehl Bridge To Recovery\, 3123 Shore Dr\, Marinette\, WI\, 54143
CATEGORIES:Menominee
END:VEVENT
BEGIN:VEVENT
DTSTART;TZID=UTC:20250605T100000
DTEND;TZID=UTC:20250605T233000
DTSTAMP:20260421T094957
CREATED:20241029T145445Z
LAST-MODIFIED:20241029T145445Z
UID:10002249-1749117600-1749166200@upbarreview.com
SUMMARY:Alibi's - Free Pool Thursdays - Marinette
DESCRIPTION:Free Pool!!
URL:https://upbarreview.com/event/alibis-free-pool-thursdays-marinette/2025-06-05/
LOCATION:ALiBi Bar & Grill\, 829 Main St\, Marinette\, WI\, 54143\, United States
CATEGORIES:Menominee
END:VEVENT
BEGIN:VEVENT
DTSTART;TZID=UTC:20250605T150000
DTEND;TZID=UTC:20250605T190000
DTSTAMP:20260421T094957
CREATED:20250428T124346Z
LAST-MODIFIED:20250428T124346Z
UID:10004215-1749135600-1749150000@upbarreview.com
SUMMARY:Menominee Waterfront Market
DESCRIPTION: Join us on Thursday\, May 29\, from 3 PM to 7 PM\, and every Thursday through August 28\, 2025.\nExplore a vibrant marketplace featuring farmers\, crafters\, artists\, food trucks\, and more! Leading up to the Grand Opening\, we’ll spotlight one of our returning vendors each week.\nThis week\, we’re highlighting Schwittay Farms—a long-standing name in the farming community and the founder of Harmony Market in 2021. Now\, you have the opportunity to experience their farm-fresh market at the Menominee Waterfront Market every Thursday! Come check out their meats\, eggs\, fruits\, vegetables\, seafood\, and more. Help us welcome them back at our Grand Opening!\nWe’re still looking for more vendors! If you’re a farmer\, crafter\, direct sales vendor\, nonprofit\, school\, or church group\, we’d love for you to join us at our Thursday Market.\nFind our application on our website: https://menomineefarmersmarket.com.\nSee you at the market!”
URL:https://upbarreview.com/event/menominee-waterfront-market/2025-06-05/
LOCATION:Downtown Menominee
CATEGORIES:Menominee
END:VEVENT
BEGIN:VEVENT
DTSTART;TZID=UTC:20250605T160000
DTEND;TZID=UTC:20250605T200000
DTSTAMP:20260421T094957
CREATED:20250514T023421Z
LAST-MODIFIED:20250514T023435Z
UID:10004522-1749139200-1749153600@upbarreview.com
SUMMARY:Car & Offroad Meet Up - Norway
DESCRIPTION:Rev it up—Thursday Nights at Norway Mountain are for the gearheads!\nGot a car\, side-by-side\, Jeep\, or off-road rig you love to show off? Or just want to hang with others who share your passion for horsepower and mud?\nJoin us every Thursday from 4–8 PM at Norway Mountain for an open\, no-entry-fee vehicle meetup!Cruise in\, park\, chat\, and check out some awesome rides—come and go as you please.\nAnd while you’re here\, head upstairs to Moosehead Bar & Restaurant for some great food\, cold drinks\, and unbeatable views.\nLet’s make Thursday nights the best pit stop of the week!
URL:https://upbarreview.com/event/car-offroad-meet-up-norway/2025-06-05/
CATEGORIES:Ironmountain
END:VEVENT
BEGIN:VEVENT
DTSTART;TZID=UTC:20250605T170000
DTEND;TZID=UTC:20250605T190000
DTSTAMP:20260421T094957
CREATED:20250403T021855Z
LAST-MODIFIED:20250403T021855Z
UID:10004033-1749142800-1749150000@upbarreview.com
SUMMARY:Forever Friendship Drop-in Center - Womens Discussion Group- Kingsford
DESCRIPTION:Safe space for women with mental health diagnoses to discuss issues real women face in society.Play games\, enjoy community outings and events.
URL:https://upbarreview.com/event/forever-friendship-drop-in-center-womens-discussion-group-kingsford-2/2025-06-05/
LOCATION:Forever Friendship Drop-in Center\, 501 S Carpenter Ave\, Kingsford\, MI
CATEGORIES:Ironmountain
END:VEVENT
BEGIN:VEVENT
DTSTART;TZID=UTC:20250605T180000
DTEND;TZID=UTC:20250605T210000
DTSTAMP:20260421T094957
CREATED:20241001T040448Z
LAST-MODIFIED:20241001T040448Z
UID:10001889-1749146400-1749157200@upbarreview.com
SUMMARY:Spirit House -Trivia Night! - Menominee
DESCRIPTION:Trivia Night Thursday at Spirit House\, come check out this awesome event!!!!
URL:https://upbarreview.com/event/spirit-house-trivia-night-menominee/2025-06-05/
LOCATION:Spirit House\, 533 10th Ave\, Menominee\, MI 49858\, Menominee\, MI\, 49858\, United States
CATEGORIES:Menominee
END:VEVENT
BEGIN:VEVENT
DTSTART;TZID=UTC:20250606T043000
DTEND;TZID=UTC:20250606T230000
DTSTAMP:20260421T094957
CREATED:20250513T232406Z
LAST-MODIFIED:20250513T232406Z
UID:10004317-1749184200-1749250800@upbarreview.com
SUMMARY:Copperfest - Oconto
DESCRIPTION:
URL:https://upbarreview.com/event/copperfest-oconto-4/2025-06-06/
LOCATION:Copperfest/American Legion Post 74 Park\, 709 Madison\, Oconto\, WI\, 54143
CATEGORIES:Menominee
END:VEVENT
BEGIN:VEVENT
DTSTART;TZID=UTC:20250606T080000
DTEND;TZID=UTC:20250606T160000
DTSTAMP:20260421T094957
CREATED:20250513T232117Z
LAST-MODIFIED:20250513T232117Z
UID:10004314-1749196800-1749225600@upbarreview.com
SUMMARY:Oconto City Wide Rummage Sale
DESCRIPTION:SAVE THE DATE ! Oconto City Wide Rummage Sales are June 5-7\, 2025. Farnsworth Library will be organizing the map this year. Forms to get on the maps will be available starting\, Monday\, May 5. Forms will be due back at the Library by Friday\, May 23.\nSave the date!!
URL:https://upbarreview.com/event/oconto-city-wide-rummage-sale/2025-06-06/
CATEGORIES:Menominee
END:VEVENT
BEGIN:VEVENT
DTSTART;TZID=UTC:20250606T093000
DTEND;TZID=UTC:20250606T113000
DTSTAMP:20260421T094958
CREATED:20250430T021944Z
LAST-MODIFIED:20250430T021944Z
UID:10004294-1749202200-1749209400@upbarreview.com
SUMMARY:Lavender Spirit Healing & Massage - Womans Program - Crivitz
DESCRIPTION:I am so excited and incredibly honored to bring this opportunity to you. The link below gives a summary of content\, a bio of yours truly and how to enroll.\nWe will meet 5 times spread between June and January to give you the teachings\, tools and support as you awaken\, remember and embrace your authentic self! The program includes rites of passage ceremony\, rituals and much more! We will also discuss how to work on others If you choose.\nJune 6 – 8\, 2025July 18- 20Sept. 12 – 14Nov 6-9Jan 9-11\, 2026\nThe sessions will be held at Lavender Spirit Healing in Wausaukee\, Wisconsin. Plan on attending all sessions. Friday start time will be 9:30/10am and we conclude Sunday by late afternoon.\nIf you need accommodations\, please contact me personally for more information and cost. I am working with a fantastic local airbnb near my home and business.\nMore Info including content summary\, payment options and to Enroll:\nhttps://tri.ps/AYcsE\n*open to barters – please contact me directly to discuss
URL:https://upbarreview.com/event/lavender-spirit-healing-massage-womans-program-crivitz/
LOCATION:Lavender Spirit Healing & Massage\, 544 Van Buren St.\, Wausaukee\, WI
CATEGORIES:Menominee
END:VEVENT
BEGIN:VEVENT
DTSTART;TZID=UTC:20250606T170000
DTEND;TZID=UTC:20250606T190000
DTSTAMP:20260421T094958
CREATED:20250403T021557Z
LAST-MODIFIED:20250403T021615Z
UID:10003958-1749229200-1749236400@upbarreview.com
SUMMARY:Forever Friendship Drop-in Center - Mens Social Sober Club - Kingsford
DESCRIPTION:A safe and sober space for men to get together and hangout or talk about issues that affect men in our society. We have different games\, community outings and events depending on wether.
URL:https://upbarreview.com/event/forever-friendship-drop-in-center-mens-social-sober-club-iron-mountain/2025-06-06/
LOCATION:Forever Friendship Drop-in Center\, 501 S Carpenter Ave\, Kingsford\, MI
CATEGORIES:Ironmountain
END:VEVENT
BEGIN:VEVENT
DTSTART;TZID=UTC:20250606T170000
DTEND;TZID=UTC:20250606T190000
DTSTAMP:20260421T094958
CREATED:20250513T233203Z
LAST-MODIFIED:20250513T233203Z
UID:10004332-1749229200-1749236400@upbarreview.com
SUMMARY:Breezy Aces Equine Services - Painting the Parts - Abrams
DESCRIPTION:Feel like a kid again and paint a pony!\nWhat better way to learn than hands on with a live horse. We will discuss the muscle and then paint to see where it lies on the horse. There will also be horse bones available to enhance our learning experience!\nLearn important muscles and how they work.\nThis clinic will be two sessions! June 6th will be the front end. June 13 will be the hind end. Cost is $50/session or $90 for both.\nContact Carrie through messenger\, call/text 920-604-3045 or email breezyacres09@gmail.com
URL:https://upbarreview.com/event/breezy-aces-equine-services-painting-the-parts-abrams/
LOCATION:Breezy Acres Equine Services\, 4230 Nichols Rd\, Oconto\, WI
CATEGORIES:Menominee
END:VEVENT
BEGIN:VEVENT
DTSTART;TZID=UTC:20250606T170000
DTEND;TZID=UTC:20250606T190000
DTSTAMP:20260421T094958
CREATED:20250514T021422Z
LAST-MODIFIED:20250514T021422Z
UID:10004505-1749229200-1749236400@upbarreview.com
SUMMARY:Bored Bard Games - Final Fantasy Pre-Release - Iron Mountain
DESCRIPTION:Event Name: Magic: The Gathering – Final Fantasy Pre-Release EventDate & Time: Thursday\, June 6th @ 5:00 PMLocation: Bored Bard Games\nJoin us for one of the most anticipated Magic events of the year — the Final Fantasy Pre-Release! This special crossover set brings iconic Final Fantasy characters and worlds to the Magic universe\, and we’re celebrating with a pre-release you won’t want to miss.\nDetails: Entry includes your pre-release kit and prize support Format: 3 Swiss rounds (best-of-three) Win a round\, win a pack! No holds — first come\, first served This event WILL sell out\, so be sure to arrive early to secure your spot!\nGet ready to cast some spells and summon some legends — see you June 6th
URL:https://upbarreview.com/event/bored-bard-games-final-fantasy-pre-release-iron-mountain/
LOCATION:Bored Bard Games\, 224 E Hughitt St\, Iron Mountain\, mi\, 49801
CATEGORIES:Ironmountain
END:VEVENT
BEGIN:VEVENT
DTSTART;TZID=UTC:20250606T180000
DTEND;TZID=UTC:20250606T200000
DTSTAMP:20260421T094958
CREATED:20250513T232642Z
LAST-MODIFIED:20250513T232642Z
UID:10004321-1749232800-1749240000@upbarreview.com
SUMMARY:Truck Pull - Oconto
DESCRIPTION:Registration 3:30-5pm. Pull starts at 6pm.\nSled is Double J.\n*No carry-ins*
URL:https://upbarreview.com/event/truck-pull-oconto/
LOCATION:Park Lane\, Oconto
CATEGORIES:Menominee
END:VEVENT
BEGIN:VEVENT
DTSTART;TZID=UTC:20250606T190000
DTEND;TZID=UTC:20250606T220000
DTSTAMP:20260421T094958
CREATED:20250430T010807Z
LAST-MODIFIED:20250430T010807Z
UID:10004272-1749236400-1749247200@upbarreview.com
SUMMARY:The Lodge - Whiskey Daizy - Marinette
DESCRIPTION: **Introducing Whiskey Daizy!** \nJoin Vince on acoustic guitar and the soulful voice of Cerina as they bring the heart of country music to life! This dynamic duo combines rich harmonies and captivating melodies\, playing a delightful mix of classic favorites and modern hits. Whether you’re in the mood for toe-tapping tunes or heartfelt ballads\, Whiskey Daizy has something for everyone. Perfect for any occasion\, their performances promise to create unforgettable memories. Don’t miss out on the magic—experience Whiskey Daizy live
URL:https://upbarreview.com/event/the-lodge-whiskey-daizy-marinette/
LOCATION:Ironworks\, 1333 Main St.\, Marinette\, WI\, 54143\, United States
CATEGORIES:Menominee
END:VEVENT
BEGIN:VEVENT
DTSTART;TZID=UTC:20250606T200000
DTEND;TZID=UTC:20250606T230000
DTSTAMP:20260421T094958
CREATED:20250207T191746Z
LAST-MODIFIED:20250207T191746Z
UID:10002957-1749240000-1749250800@upbarreview.com
SUMMARY:The Granada - Karaoke Night - Escanaba
DESCRIPTION:Welcome to the Hottest Karaoke show in Town! Every Friday at The Granada in Escanaba\, MI Starts at 9:00 pm\nCreate your FREE Performer Account with Songbooks Online App to Browse the Karaoke song library\, keep a favorites list and submit your song requests remotely! Use Show ID: MSK23 after you create your account. You can also just tell me your name and the song you want if you don’t know how to install an app.
URL:https://upbarreview.com/event/the-granada-karaoke-night-escanaba/2025-06-06/
LOCATION:The Granada\, 330 S 10th St\, Escanaba\, MI
CATEGORIES:Menominee
END:VEVENT
BEGIN:VEVENT
DTSTART;TZID=UTC:20250606T210000
DTEND;TZID=UTC:20250606T233000
DTSTAMP:20260421T094958
CREATED:20250403T021054Z
LAST-MODIFIED:20250403T021054Z
UID:10003926-1749243600-1749252600@upbarreview.com
SUMMARY:Round 2 - Karaoke - Iron Mountain
DESCRIPTION:Karaoke Every Other Friday at Round 2 9pm to 1am
URL:https://upbarreview.com/event/round-2-karaoke-iron-mountain/2025-06-06/
LOCATION:Round 2\, 407 S Stephenson Ave\, Iron Mountain\, MI\, 49801
CATEGORIES:Ironmountain
END:VEVENT
BEGIN:VEVENT
DTSTART;TZID=UTC:20250607T070000
DTEND;TZID=UTC:20250607T120000
DTSTAMP:20260421T094958
CREATED:20250514T010704Z
LAST-MODIFIED:20250514T010704Z
UID:10004422-1749279600-1749297600@upbarreview.com
SUMMARY:UP Cadence Schooling Show - Escanaba
DESCRIPTION:Welcome to another dressage schooling show. Judge Joan Waak!\nWith a Western Dressage Clinic to follow the show!\nJoin us for another fun year!
URL:https://upbarreview.com/event/up-cadence-schooling-show-escanaba/
LOCATION:UP State Fairgrounds\, 2401 12th Avenue North\, Escanaba
CATEGORIES:Menominee
END:VEVENT
BEGIN:VEVENT
DTSTART;TZID=UTC:20250607T080000
DTEND;TZID=UTC:20250607T120000
DTSTAMP:20260421T094958
CREATED:20250514T010451Z
LAST-MODIFIED:20250514T010451Z
UID:10004420-1749283200-1749297600@upbarreview.com
SUMMARY:Bay College - Bash at Bayside 3v3 Tournament & Equipment Sale - Escanaba
DESCRIPTION:We will be hosting a 3v3 outdoor soccer tournament and equipment sale/exchange.
URL:https://upbarreview.com/event/bay-college-bash-at-bayside-3v3-tournament-equipment-sale-escanaba/
LOCATION:Bay College\, 2801 US-2\, Iron Mountain\, MI
CATEGORIES:Menominee
END:VEVENT
BEGIN:VEVENT
DTSTART;TZID=UTC:20250607T080000
DTEND;TZID=UTC:20250607T120000
DTSTAMP:20260421T094958
CREATED:20250514T010814Z
LAST-MODIFIED:20250514T010814Z
UID:10004423-1749283200-1749297600@upbarreview.com
SUMMARY:11th Annual Walk 4 Life - Escanaba
DESCRIPTION:https://secure.fundeasy.com/ministrysync/event/?e=29664\nPlease join us for our 11th Annual Walk 4 Life Event. This year’s walk will be at the Miracle of Life Building at the U.P State Fairgrounds. We will have a Silent Auction and live music; and a bounce house and face painting for the kids.\nRegistration begins at 9:00am and the program will start at 10:00am. The walk will follow immediately. After the Walk Lunch will be provided.\nHope to see you there!
URL:https://upbarreview.com/event/11th-annual-walk-4-life-escanaba/
CATEGORIES:Menominee
END:VEVENT
BEGIN:VEVENT
DTSTART;TZID=UTC:20250607T080000
DTEND;TZID=UTC:20250607T150000
DTSTAMP:20260421T094958
CREATED:20250514T023808Z
LAST-MODIFIED:20250514T023808Z
UID:10004538-1749283200-1749308400@upbarreview.com
SUMMARY:Kingsford City Wide Rummage Sale
DESCRIPTION:Register online: https://forms.gle/yWxgmG1Vh5CYNWBBAor in-person at the Kingsford City Hall (305 S. Carpenter Ave.).Must be a City of Kingsford resident to list your sale.\nDeadline to Register is Wednesday\, May 23rd\, 2025 to be listed on the map of sales – No exceptions. Following the deadline you will not be listed on the map if you choose to have a sale.
URL:https://upbarreview.com/event/kingsford-city-wide-rummage-sale/
CATEGORIES:Ironmountain
END:VEVENT
BEGIN:VEVENT
DTSTART;TZID=UTC:20250607T080000
DTEND;TZID=UTC:20250607T160000
DTSTAMP:20260421T094958
CREATED:20250513T232117Z
LAST-MODIFIED:20250513T232117Z
UID:10004315-1749283200-1749312000@upbarreview.com
SUMMARY:Oconto City Wide Rummage Sale
DESCRIPTION:SAVE THE DATE ! Oconto City Wide Rummage Sales are June 5-7\, 2025. Farnsworth Library will be organizing the map this year. Forms to get on the maps will be available starting\, Monday\, May 5. Forms will be due back at the Library by Friday\, May 23.\nSave the date!!
URL:https://upbarreview.com/event/oconto-city-wide-rummage-sale/2025-06-07/
CATEGORIES:Menominee
END:VEVENT
BEGIN:VEVENT
DTSTART;TZID=UTC:20250607T080000
DTEND;TZID=UTC:20250608T053000
DTSTAMP:20260421T094958
CREATED:20250430T010100Z
LAST-MODIFIED:20250430T010100Z
UID:10004266-1749283200-1749360600@upbarreview.com
SUMMARY:APBA - Queen Marinette Run The River Race
DESCRIPTION: 𝐐𝐮𝐞𝐞𝐧 𝐌𝐚𝐫𝐢𝐧𝐞𝐭𝐭𝐞’𝐬 𝐑𝐮𝐧 𝐭𝐡𝐞 𝐑𝐢𝐯𝐞𝐫 𝐏𝐨𝐰𝐞𝐫 𝐁𝐨𝐚𝐭 𝐑𝐚𝐜𝐞𝐬 𝘗𝘳𝘦𝘴𝘦𝘯𝘵𝘦𝘥 𝘣𝘺 𝘵𝘩𝘦 𝘊𝘪𝘵𝘺 𝘰𝘧 𝘔𝘢𝘳𝘪𝘯𝘦𝘵𝘵𝘦\nGet ready for high-speed excitement on the Menominee River! Join us for the First Annual Queen Marinette’s Run the River Power Boat Races happening June 7th & 8th!\nWatch as powerful boats roar down the river above the Hattie Street Bridge\, with Riverside Avenue offering the best seats in the house for this adrenaline-pumping event.\n FREE Admission Riverside Avenue\, Marinette June 7th & 8th\, 2025\nBring your family\, friends\, and lawn chairs for a weekend of racing action and summer fun!\nThis is the perfect way to kick off summer in Marinette — don’t miss it! Follow this event for race times\, event updates\, and more!\nQuestions? Contact Shawn Katzbeck at skatzbeck@marinette.wi.us or Call (715)732-5126 or message us on FB!
URL:https://upbarreview.com/event/apba-queen-marinette-run-the-river-race/
CATEGORIES:Menominee
END:VEVENT
BEGIN:VEVENT
DTSTART;TZID=UTC:20250607T083000
DTEND;TZID=UTC:20250607T120000
DTSTAMP:20260421T094958
CREATED:20250430T023117Z
LAST-MODIFIED:20250430T023117Z
UID:10004296-1749285000-1749297600@upbarreview.com
SUMMARY:2nd Annual Run - Crivitz
DESCRIPTION:Join us Saturday\, June 7th\, for the second annual Run to Remember 5k run / 1-mile walk at the Crivitz Community Veterans Park – Shaffer Pavilion.\nThis memorial event honors Vito E. Cinquepalmi and all veterans who have tragically lost the battle to PTSD through suicide. It’s an opportunity to raise awareness about PTSD and veteran suicide while supporting H.O.O.A.H. WI\, an organization dedicated to preventing veteran suicide.\nThroughout the event\, we will feature several organizations that support veterans in coping with and overcoming PTSD. Each organization will have a dedicated table with more information to share.\nSchedule of Events:8:30 – 9:45 am: check-in and day of registration*raffles and resource tables open10:00 am: 5K and 1 mile Walk/Run Start10:30 am: Post-Event Reception Begins12:00 pm: Ceremony\, Speakers & Raffles Winners Announced
URL:https://upbarreview.com/event/2nd-annual-run-crivitz/
LOCATION:Crivitz Community Veterans Park\, 515 Park Place\, Crivitz\, WI\, 54114
CATEGORIES:Menominee
END:VEVENT
BEGIN:VEVENT
DTSTART;TZID=UTC:20250607T090000
DTEND;TZID=UTC:20250607T100000
DTSTAMP:20260421T094958
CREATED:20250430T014114Z
LAST-MODIFIED:20250430T014145Z
UID:10004282-1749286800-1749290400@upbarreview.com
SUMMARY:Sacred Space Studio - Mindful Mornings - June 7th
DESCRIPTION:Start your day off with some mindful practice! We will meet monthly (the first Saturday of each month) so if you can’t make this event\, plan to come to a future one!\nYou can bring your journal and a blanket or whatever to make you comfy in the space. There are some mats and blankets available in the room for use as well.\nIf you have questions\, feel free to reach out to me via messenger or phone 262-490-4864.\nCost: $10
URL:https://upbarreview.com/event/sacred-space-studio-mindful-mornings-june-7th/2025-06-07/
LOCATION:The Sacred Space\, 1712 Dunlap Ave\, Marinette\, WI
CATEGORIES:Menominee
END:VEVENT
BEGIN:VEVENT
DTSTART;TZID=UTC:20250607T090000
DTEND;TZID=UTC:20250607T120000
DTSTAMP:20260421T094958
CREATED:20250428T124102Z
LAST-MODIFIED:20250428T124921Z
UID:10004202-1749286800-1749297600@upbarreview.com
SUMMARY:Menominee Historic Downtown Farmers Market
DESCRIPTION:The countdown is on! Join us at Spies Public Library Parking Lot on May 24\, 2025\, from 9 AM to 12 PM for the grand opening of the Menominee Historic Downtown Farmers Market—and don’t forget\, we’ll be here every Saturday after that!\nEach week\, we’ll spotlight one of our amazing returning vendors\, and this week\, we’re thrilled to feature Rabbitry & Yarn LLC! ��\nGet ready for a stunning selection of: � Handspun yarn & handmade knitwear/crochet items\, designed and created with love � Naturally dyed mill-spun wool yarns using plants and insects for a truly one-of-a-kind touch � A special mill-spun blend of local sheep & angora fiber (if the mill finishes it in time!) � Beautiful handmade wood items—bowls\, honey dippers\, toys\, all crafted from local woods � A custom-designed organic cotton tote bag (because\, of course\, it features an adorable rabbit!)\nDon’t miss out on this fantastic opportunity to shop local\, support artisans\, and be part of something special. Mark your calendars and we’ll see you there!\n#FarmersMarket #ShopLocal #HandmadeGoods #RabbitryAndYarn #MenomineeMarket
URL:https://upbarreview.com/event/menominee-historic-downtown-farmers-market-5/2025-06-07/
LOCATION:Spies Public Library\, 940 1st St.\, Menominee\, MI\, 49858
CATEGORIES:Menominee
END:VEVENT
BEGIN:VEVENT
DTSTART;TZID=UTC:20250607T090000
DTEND;TZID=UTC:20250607T170000
DTSTAMP:20260421T094959
CREATED:20250428T123612Z
LAST-MODIFIED:20250428T123612Z
UID:10004199-1749286800-1749315600@upbarreview.com
SUMMARY:Marinette/Menominee Bigfoot Convention - Menominee
DESCRIPTION:There will be speakers and venders pertaining to Big Foot and a Question and Answer session as well.
URL:https://upbarreview.com/event/marinette-menominee-bigfoot-convention-menominee/
LOCATION:Menominee Highschool
CATEGORIES:Menominee
END:VEVENT
BEGIN:VEVENT
DTSTART;TZID=UTC:20250607T090000
DTEND;TZID=UTC:20250607T180000
DTSTAMP:20260421T094959
CREATED:20250514T004041Z
LAST-MODIFIED:20250514T004106Z
UID:10004393-1749286800-1749319200@upbarreview.com
SUMMARY:2nd Annual UP Pet Festival - Escanaba
DESCRIPTION:The UP Pet Festival is a full-weekend of pet fun and activities of all kinds\, presented by D&D Dog Dynamics! Saturday June 7th from 10-6 and Sunday June 8th 10-4 in and around the Ruth Butler Building at the UP State Fairgrounds!\nAt the UP Pet Festival we’re bringing together all-things pet related. We’ll be featuring top notch entertainment\, and exciting demonstrations. There’s plenty to do with your furry bff!\nCheer along with the agility presentations from Bay De Noc Kennel Club. See how working K9s practice their skills during demonstrations from UP K9 teams. Watch Upper Peninsula Dynamic Dogs show off their superior nosework skills. Follow along with the “Meet-The-Breed” event and learn what makes different types of dogs unique. Explore the marketplace\, featuring a diverse array of pet products and accessories from talented local vendors. Get ready for delicious food favorites\, for both people and pets. The second annual UP Pet Festival is set to be a paw-some day of bonding\, laughter\, and furry fun for the entire community.\nAs we grow our list of activities\, shows\, and vendors\, be sure to follow along on social!
URL:https://upbarreview.com/event/2nd-annual-up-pet-festival-escanaba/2025-06-07/
LOCATION:UP State Fairgrounds\, 2401 12th Avenue North\, Escanaba
CATEGORIES:Menominee
END:VEVENT
BEGIN:VEVENT
DTSTART;TZID=UTC:20250607T093000
DTEND;TZID=UTC:20250607T110000
DTSTAMP:20260421T094959
CREATED:20250403T000217Z
LAST-MODIFIED:20250403T000217Z
UID:10003708-1749288600-1749294000@upbarreview.com
SUMMARY:Escanaba Public Library - Ink Society Writers Group - Escanaba
DESCRIPTION:Ink Society is an informal group of local writers that connect at the library monthly to discuss their current work\, seek feedback\, and share ideas. Bring your work and prepare to be inspired!\nThe Ink Society meets the first Saturday of each month at 10:30 a.m
URL:https://upbarreview.com/event/escanaba-public-library-ink-society-writers-group-escanaba/2025-06-07/
LOCATION:Escanaba Public Library\, 400 Ludington St\, Escanaba\, WI\, 49829
CATEGORIES:Menominee
END:VEVENT
BEGIN:VEVENT
DTSTART;TZID=UTC:20250607T100000
DTEND;TZID=UTC:20250607T110000
DTSTAMP:20260421T094959
CREATED:20250403T004921Z
LAST-MODIFIED:20250403T004921Z
UID:10003773-1749290400-1749294000@upbarreview.com
SUMMARY:Saunders Point Brewing - Brewery Boot Camp - Gladstone
DESCRIPTION:Brewery Bootcamp with Bri is personal trainer-led motivational fitness class designed for ALL fitness levels. Expect to be energized with a 45 min aerobic full-body workout to upbeat tunes\, followed by a 15 min relaxation stretch. Elevate your heartrate and feel refreshed while building strength and mobility. Expect a warmup\, full-body strength\, combined with light cardio conditioning through the use of bodyweight movements. Bring your own mat & water bottle! (We will have a few extra mats)\nEach $25 ticket purchase will also receive two drink tokens for the brewery
URL:https://upbarreview.com/event/saunders-point-brewing-brewery-boot-camp-gladstone/2025-06-07/
LOCATION:Saunders Point Brewing\, 8199 M-35\, Gladstone\, MI
CATEGORIES:Menominee
END:VEVENT
END:VCALENDAR