BEGIN:VCALENDAR
VERSION:2.0
PRODID:-//UP BAR REVIEW - ECPv6.14.2//NONSGML v1.0//EN
CALSCALE:GREGORIAN
METHOD:PUBLISH
X-WR-CALNAME:UP BAR REVIEW
X-ORIGINAL-URL:https://upbarreview.com
X-WR-CALDESC:Events for UP BAR REVIEW
REFRESH-INTERVAL;VALUE=DURATION:PT1H
X-Robots-Tag:noindex
X-PUBLISHED-TTL:PT1H
BEGIN:VTIMEZONE
TZID:UTC
BEGIN:STANDARD
TZOFFSETFROM:+0000
TZOFFSETTO:+0000
TZNAME:UTC
DTSTART:20250101T000000
END:STANDARD
END:VTIMEZONE
BEGIN:VEVENT
DTSTART;TZID=UTC:20250423T130000
DTEND;TZID=UTC:20250427T170000
DTSTAMP:20260423T100505
CREATED:20250403T025203Z
LAST-MODIFIED:20250403T025203Z
UID:10004190-1745413200-1745773200@upbarreview.com
SUMMARY:Kosirs Whitewater Rafting - Pesh Fest - Athelstane
DESCRIPTION:PRE-ORDER YOUR WRISTBAND TO MAKE SURE YOU GET THE CORRECT SHIRT SIZE! 715-927-3608\n10th Year of Pesh Fest!\nWednesday: Raft Trip at 1:00PM Hot Wing Comp at 7:00PM$10 entry or included in Ultimate Wristband Prize for winner\nThursday: Raft Trip at 1:00PM Pool and bags Tournament inside Rapids 6:00PM\n\nFriday: Race Registration (all day)Register with race coordinator\n 10:00AM and 1:00PM Raft trip\nRaft Guide Olympics 4:00PM – Dark(Record Time at anytime between then)\n Gallivant\nSaturday: Race Registration Ends at 10:00AM 10:00AM and 2:00PM raft trip Race at 12:00PM Meal at 6:00PM Awards at 7:30PM Sensory Bliss & DJ Real Widdit\n\nSaturday Night @ Rapids: Let’s GLOW! (Neon Party) Prize for best dressed!\n Should we bring the mechanical Bull back to rapids?!\n\nSunday: Fun Run & River Clean Up\n\n\nWristbands:\nUltimate Kayaking Wristband: $70-Pesh Fest T-shirt-Camping Tuesday – Sunday-Wing Comp. Entry-Choice of Entry into pool tourney or bags tourney at Rapids-Entry for raft guide olympics-Shuttle-Race Entry\n\n\nUltimate Rafting Wristband: $70– Pesh Fest T-Shirt– Camping Tuesday – Sunday– Raft trip during Pesh Fest*Discount available for 2nd raft trip
URL:https://upbarreview.com/event/kosirs-whitewater-rafting-pesh-fest-athelstane/
LOCATION:W14073 CR-C\, Athelstane\, WI
CATEGORIES:Menominee
END:VEVENT
BEGIN:VEVENT
DTSTART;TZID=UTC:20250424T080000
DTEND;TZID=UTC:20250424T170000
DTSTAMP:20260423T100505
CREATED:20241202T212718Z
LAST-MODIFIED:20241202T212718Z
UID:10002544-1745481600-1745514000@upbarreview.com
SUMMARY:Biehl Bridges to Recovery - Overeaters Anonymous - Marinette
DESCRIPTION:A new year! A new you! Want to know if you’re an overeater? Struggling to find support? Wanting support? Come join us on Thursday evenings from 5:30pm-6:30pm.
URL:https://upbarreview.com/event/biehl-bridges-to-recovery-overeaters-anonymous-marinette/2025-04-24/
LOCATION:Biehl Bridge To Recovery\, 3123 Shore Dr\, Marinette\, WI\, 54143
CATEGORIES:Menominee
END:VEVENT
BEGIN:VEVENT
DTSTART;TZID=UTC:20250424T100000
DTEND;TZID=UTC:20250424T150000
DTSTAMP:20260423T100505
CREATED:20250403T014313Z
LAST-MODIFIED:20250403T014313Z
UID:10003811-1745488800-1745506800@upbarreview.com
SUMMARY:Echo Boutique - Semi Annual Color Tag Sale - Iron Mountain
DESCRIPTION:Join us at Echo Boutique for our Semi-Annual Color Tag Sale!Discover incredible discounts on a wide range of items!\nDon’t miss out on this exciting opportunity to refresh your wardrobe with fabulous deals! Hurry in while the colors last!\n**Thursday 4/24 take 40% off entire store**Friday 4/25 take 60% off entire store**Saturday 4/26 take 75% off entire store\n*Some exclusions may apply*
URL:https://upbarreview.com/event/echo-boutique-semi-annual-color-tag-sale-iron-mountain-2/2025-04-24/
LOCATION:Echo Boutique\, 408 S Stephenson Ave\, Iron Mountain\, MI\, 49801
CATEGORIES:Ironmountain
END:VEVENT
BEGIN:VEVENT
DTSTART;TZID=UTC:20250424T100000
DTEND;TZID=UTC:20250424T233000
DTSTAMP:20260423T100505
CREATED:20241029T145445Z
LAST-MODIFIED:20241029T145445Z
UID:10002243-1745488800-1745537400@upbarreview.com
SUMMARY:Alibi's - Free Pool Thursdays - Marinette
DESCRIPTION:Free Pool!!
URL:https://upbarreview.com/event/alibis-free-pool-thursdays-marinette/2025-04-24/
LOCATION:ALiBi Bar & Grill\, 829 Main St\, Marinette\, WI\, 54143\, United States
CATEGORIES:Menominee
END:VEVENT
BEGIN:VEVENT
DTSTART;TZID=UTC:20250424T153000
DTEND;TZID=UTC:20250424T183000
DTSTAMP:20260423T100505
CREATED:20250402T212824Z
LAST-MODIFIED:20250402T212824Z
UID:10003245-1745508600-1745519400@upbarreview.com
SUMMARY:Sno-Haven Pottery - Youth Acrylic Painting Class - Marinette
DESCRIPTION:Youths will learn a many techniques of the how to’s in Acrylic Painting. We will explore values and a some color theory\, in addition to what makes a great composition\, color mixing. We will explore a wide variety of subjects matters\, from adding people\, painting florals\, landscapes\, sunsets\, clouds\, painting water and more. This class is open for ages 10 and up. The class is 5 sessions that meets for 1 hour a week on Thursdays at 3:30 pm to 4:30 pm. the cost of the class is $125.00 plus tax\, all materials are included. Call 715-587-2163 to register
URL:https://upbarreview.com/event/sno-haven-pottery-youth-acrylic-painting-class-marinette/2025-04-24/
LOCATION:Sno Haven Pottery\, 1215 9th St\, Marinette\, WI\, 54143
CATEGORIES:Menominee
END:VEVENT
BEGIN:VEVENT
DTSTART;TZID=UTC:20250424T163000
DTEND;TZID=UTC:20250424T193000
DTSTAMP:20260423T100505
CREATED:20250403T012922Z
LAST-MODIFIED:20250403T012922Z
UID:10003799-1745512200-1745523000@upbarreview.com
SUMMARY:Maxx Entertainment Center - Purse & Pour - Iron Mountain
DESCRIPTION:Purse & Pour 2025 is almost here!!\nHosted at The Maxx to benefit Backpack Blessings – a program to prevent food insecurities among local students.\nApril 24th\, 4:30 – 7:30pm\nDesigner Purse Live Auction\, Silent Auction\, Purse Bingo\, Paddle Wheel\, Wine Tasting with LoDuca Wines\, Basket Raffle\, 50/50\, Appetizers\, Door Prizes – All included with your ticket!\nWine Available for purchase & Cash bar available\nGet your early bird tickets available now at Results Broadcasting – 212 West J Street\, Iron Mountain; or Lydia’s – 108 East B Street\, Iron Mountain\n$25 in Advance or 5 for $100$30 at the door\nEarly Bird tickets get put into a drawing!
URL:https://upbarreview.com/event/maxx-entertainment-center-purse-pour-iron-mountain/
LOCATION:The Maxx Entertainment Center\, 2202 Aragon St\, Iron Mountain\, MI\, 49801
CATEGORIES:Ironmountain
END:VEVENT
BEGIN:VEVENT
DTSTART;TZID=UTC:20250424T170000
DTEND;TZID=UTC:20250424T190000
DTSTAMP:20260423T100505
CREATED:20250402T212925Z
LAST-MODIFIED:20250402T212925Z
UID:10003249-1745514000-1745521200@upbarreview.com
SUMMARY:Biehl Bridges to Recovery - Painting with Paul - Marinette
DESCRIPTION:Come and Paint with Paul! $5 suggested donation but not required.
URL:https://upbarreview.com/event/biehl-bridges-to-recovery-painting-with-paul-marinette/
LOCATION:Biehl Bridge To Recovery\, 3123 Shore Dr\, Marinette\, WI\, 54143
CATEGORIES:Menominee
END:VEVENT
BEGIN:VEVENT
DTSTART;TZID=UTC:20250424T170000
DTEND;TZID=UTC:20250424T190000
DTSTAMP:20260423T100505
CREATED:20250403T021855Z
LAST-MODIFIED:20250403T021855Z
UID:10004027-1745514000-1745521200@upbarreview.com
SUMMARY:Forever Friendship Drop-in Center - Womens Discussion Group- Kingsford
DESCRIPTION:Safe space for women with mental health diagnoses to discuss issues real women face in society.Play games\, enjoy community outings and events.
URL:https://upbarreview.com/event/forever-friendship-drop-in-center-womens-discussion-group-kingsford-2/2025-04-24/
LOCATION:Forever Friendship Drop-in Center\, 501 S Carpenter Ave\, Kingsford\, MI
CATEGORIES:Ironmountain
END:VEVENT
BEGIN:VEVENT
DTSTART;TZID=UTC:20250424T170000
DTEND;TZID=UTC:20250424T200000
DTSTAMP:20260423T100505
CREATED:20250402T200135Z
LAST-MODIFIED:20250402T200135Z
UID:10003172-1745514000-1745524800@upbarreview.com
SUMMARY:The Craft Cave - Resin Frame - Marinette
DESCRIPTION:Frame sizes will vary. You can paint frame or leave original. You will decorate with crushed glass\, glass rounds and pressed flowers. You will pour resin and this needs to dry over night. Cost 25$ BYOB. Call to pre pay and sign up at 715-587-4643
URL:https://upbarreview.com/event/the-craft-cave-resin-frame-marinette/2025-04-24/
LOCATION:The Craft Cave\, 605 Main St.\, Marinette\, WI\, 54143\, United States
CATEGORIES:Menominee
END:VEVENT
BEGIN:VEVENT
DTSTART;TZID=UTC:20250424T180000
DTEND;TZID=UTC:20250424T203000
DTSTAMP:20260423T100505
CREATED:20250402T214803Z
LAST-MODIFIED:20250402T214803Z
UID:10003262-1745517600-1745526600@upbarreview.com
SUMMARY:Virgo Sunrise - Meditation and Art Workshop - Menominee
DESCRIPTION:Ready to meet your spirit guide? Step into a world of creativity and intuition as you embark on a guided imagery meditation\, led by Tracy Kellner of Virgo Sunrise\, to connect with your spirit guide who has a special gift just for you! Then under the guidance of an art therapist\, Marissa Biswabic from Creative Routes\, you’ll bring a piece of your vision to life by crafting a one-of-a-kind spirit doll! Whether your hands are seasoned in art-making or you’ve never created before\, you are welcome to join us. No experience needed—just a curious spirit!\nTHE DETAILS:Cost: $30 per ParticipantDate: Thursday\, April 24thTime: 6:00-8:00 pmLocation: Virgo Sunrise534 1st StreetMenominee\, MI 49858
URL:https://upbarreview.com/event/virgo-sunrise-meditation-and-art-workshop-menominee/
LOCATION:Virgo Sunrise\, 534 1st St\, Menominee\, MI
CATEGORIES:Menominee
END:VEVENT
BEGIN:VEVENT
DTSTART;TZID=UTC:20250424T180000
DTEND;TZID=UTC:20250424T210000
DTSTAMP:20260423T100505
CREATED:20241001T040448Z
LAST-MODIFIED:20241001T040448Z
UID:10001883-1745517600-1745528400@upbarreview.com
SUMMARY:Spirit House -Trivia Night! - Menominee
DESCRIPTION:Trivia Night Thursday at Spirit House\, come check out this awesome event!!!!
URL:https://upbarreview.com/event/spirit-house-trivia-night-menominee/2025-04-24/
LOCATION:Spirit House\, 533 10th Ave\, Menominee\, MI 49858\, Menominee\, MI\, 49858\, United States
CATEGORIES:Menominee
END:VEVENT
BEGIN:VEVENT
DTSTART;TZID=UTC:20250425T090000
DTEND;TZID=UTC:20250425T120000
DTSTAMP:20260423T100505
CREATED:20250402T211102Z
LAST-MODIFIED:20250402T211102Z
UID:10003223-1745571600-1745582400@upbarreview.com
SUMMARY:CJs Glass - Wet Felt Landscape - Marinette
DESCRIPTION:PreRegistration RequiredTwo class times available 9-12 or 12:30-3:30Call or msg Cj 608-354-2303$60 cash\, local check written to guest artist\, or card accepted.Try something new today!Local artist\, Dawn Ertl\, will guide you through this unique art experience. Wet Felting involves layering dyed wool roving fibers. Similar to painting a picture\, students place different colors of wool in locations to create desired picture. Soap and water\, some agitation\, and compaction come together to create your unique art. Completed projects measure between 5×7 and 8×10.Bring an old bath towel and a landscape picture for your reference. Instructor will have some pics to choose from as well
URL:https://upbarreview.com/event/cjs-glass-wet-felt-landscape-marinette/2025-04-25/1/
LOCATION:CJ’s Glass\, 802 Main St\, Marinette\, WI\, 54143
CATEGORIES:Menominee
END:VEVENT
BEGIN:VEVENT
DTSTART;TZID=UTC:20250425T100000
DTEND;TZID=UTC:20250425T150000
DTSTAMP:20260423T100505
CREATED:20250403T014313Z
LAST-MODIFIED:20250403T014313Z
UID:10003812-1745575200-1745593200@upbarreview.com
SUMMARY:Echo Boutique - Semi Annual Color Tag Sale - Iron Mountain
DESCRIPTION:Join us at Echo Boutique for our Semi-Annual Color Tag Sale!Discover incredible discounts on a wide range of items!\nDon’t miss out on this exciting opportunity to refresh your wardrobe with fabulous deals! Hurry in while the colors last!\n**Thursday 4/24 take 40% off entire store**Friday 4/25 take 60% off entire store**Saturday 4/26 take 75% off entire store\n*Some exclusions may apply*
URL:https://upbarreview.com/event/echo-boutique-semi-annual-color-tag-sale-iron-mountain-2/2025-04-25/
LOCATION:Echo Boutique\, 408 S Stephenson Ave\, Iron Mountain\, MI\, 49801
CATEGORIES:Ironmountain
END:VEVENT
BEGIN:VEVENT
DTSTART;TZID=UTC:20250425T120000
DTEND;TZID=UTC:20250425T150000
DTSTAMP:20260423T100505
CREATED:20250402T211102Z
LAST-MODIFIED:20250402T211102Z
UID:10003224-1745582400-1745593200@upbarreview.com
SUMMARY:CJs Glass - Wet Felt Landscape - Marinette
DESCRIPTION:PreRegistration RequiredTwo class times available 9-12 or 12:30-3:30Call or msg Cj 608-354-2303$60 cash\, local check written to guest artist\, or card accepted.Try something new today!Local artist\, Dawn Ertl\, will guide you through this unique art experience. Wet Felting involves layering dyed wool roving fibers. Similar to painting a picture\, students place different colors of wool in locations to create desired picture. Soap and water\, some agitation\, and compaction come together to create your unique art. Completed projects measure between 5×7 and 8×10.Bring an old bath towel and a landscape picture for your reference. Instructor will have some pics to choose from as well
URL:https://upbarreview.com/event/cjs-glass-wet-felt-landscape-marinette/2025-04-25/2/
LOCATION:CJ’s Glass\, 802 Main St\, Marinette\, WI\, 54143
CATEGORIES:Menominee
END:VEVENT
BEGIN:VEVENT
DTSTART;TZID=UTC:20250425T130000
DTEND;TZID=UTC:20250425T150000
DTSTAMP:20260423T100505
CREATED:20250403T022458Z
LAST-MODIFIED:20250403T022458Z
UID:10004108-1745586000-1745593200@upbarreview.com
SUMMARY:Forever Friendship Drop-in Center - Budgeting 101 - Kingsford
DESCRIPTION:
URL:https://upbarreview.com/event/forever-friendship-drop-in-center-budgeting-101-kingsford-2/2025-04-25/
LOCATION:Forever Friendship Drop-in Center\, 501 S Carpenter Ave\, Kingsford\, MI
CATEGORIES:Ironmountain
END:VEVENT
BEGIN:VEVENT
DTSTART;TZID=UTC:20250425T163000
DTEND;TZID=UTC:20250425T183000
DTSTAMP:20260423T100505
CREATED:20250403T005448Z
LAST-MODIFIED:20250403T005448Z
UID:10003777-1745598600-1745605800@upbarreview.com
SUMMARY:Gladstone Area High School - Spaghetti Dinner Fundraiser - Gladstone
DESCRIPTION:Join us for Cameron Elementary’s Annual Spaghetti Dinner Fundraiser!OPEN TO THE PUBLIC!Friday\, April 25th\, 5:30-7:30pmLocated at Gladstone High School CommonsAdults $5\, Children under 12 eat FREE!There will be basket raffles\, 50/50 Drawing\, and big prizes.All proceeds benefit the Cameron PTO\, students\, staff\, and community
URL:https://upbarreview.com/event/gladstone-area-high-school-spaghetti-dinner-fundraiser-gladstone/
LOCATION:Gladstone Area High School\, 2100 state highway M35\, Gladstone\, MI
CATEGORIES:Menominee
END:VEVENT
BEGIN:VEVENT
DTSTART;TZID=UTC:20250425T170000
DTEND;TZID=UTC:20250425T190000
DTSTAMP:20260423T100505
CREATED:20250403T021557Z
LAST-MODIFIED:20250403T021615Z
UID:10003952-1745600400-1745607600@upbarreview.com
SUMMARY:Forever Friendship Drop-in Center - Mens Social Sober Club - Kingsford
DESCRIPTION:A safe and sober space for men to get together and hangout or talk about issues that affect men in our society. We have different games\, community outings and events depending on wether.
URL:https://upbarreview.com/event/forever-friendship-drop-in-center-mens-social-sober-club-iron-mountain/2025-04-25/
LOCATION:Forever Friendship Drop-in Center\, 501 S Carpenter Ave\, Kingsford\, MI
CATEGORIES:Ironmountain
END:VEVENT
BEGIN:VEVENT
DTSTART;TZID=UTC:20250425T170000
DTEND;TZID=UTC:20250425T200000
DTSTAMP:20260423T100505
CREATED:20250403T010058Z
LAST-MODIFIED:20250403T010058Z
UID:10003782-1745600400-1745611200@upbarreview.com
SUMMARY:Saunders Point Brewing - Live Music - Gladstone
DESCRIPTION:Join Jack Neumann at the brewery for a night of live music and fresh craft beers! Kick back\, relax\, and enjoy a great set while sipping on our finest brews. We can’t wait to see you there!
URL:https://upbarreview.com/event/saunders-point-brewing-live-music-gladstone-4/2025-04-25/
LOCATION:Saunders Point Brewing\, 8199 M-35\, Gladstone\, MI
CATEGORIES:Menominee
END:VEVENT
BEGIN:VEVENT
DTSTART;TZID=UTC:20250425T173000
DTEND;TZID=UTC:20250425T203000
DTSTAMP:20260423T100505
CREATED:20250402T215558Z
LAST-MODIFIED:20250402T215558Z
UID:10003269-1745602200-1745613000@upbarreview.com
SUMMARY:McCrafties - Morning in the Magnolias - Menominee
DESCRIPTION: ** Morning in the magnolias ** Join us at McCraftie’s for an afternoon of creativity and relaxation with our **Acrylic Canvas Painting Workshop**! \n **What You’ll Create:**A stunning scene featuring a delicate bird nestled among blossoming pink flowers on a 12×12” canvas ~ a perfect reflection of spring’s charm.\n **When:** April 25 **Time:** 5:30 **Where:** McCraftie Creations Studio\n **Who Can Join:**Whether you’re a seasoned artist or just starting\, this workshop is for everyone! We’ll provide all the materials and guidance you need.\n Cost: $30.00\nSpaces are limited—secure your spot today by messaging us or visiting our website. Let’s paint and celebrate spring together! \nPRE-PAYMENT of $30 is required to save your spot. Feel free to call the studio with any questions or to sign up. 715-440-5959\nOr use our easy to navigate website.\nhttps://mccraftiellc.square.site\nCLASS REFUND POLICY:\n-full in studio credit if cancellation is 1 week prior to the class-50% in studio credit up to 24 hours prior to the class-less than 24 hours’ notice\, no credit-NO SHOW/NO CALL/NO CREDIT
URL:https://upbarreview.com/event/mccrafties-morning-in-the-magnolias-menominee/
LOCATION:McCrafties\, 625 1st St\, Menominee\, MI\, 49858\, United States
CATEGORIES:Menominee
END:VEVENT
BEGIN:VEVENT
DTSTART;TZID=UTC:20250425T180000
DTEND;TZID=UTC:20250425T203000
DTSTAMP:20260423T100505
CREATED:20250403T014719Z
LAST-MODIFIED:20250403T014719Z
UID:10003817-1745604000-1745613000@upbarreview.com
SUMMARY:Hope Church - April Family & Friends Game Night - Iron Mountain
DESCRIPTION:Join us at Hope Church for an evening of fun\, laughter\, and friendly competition at our April Family & Friends Game Night! Whether you’re a board game champ\, card game lover\, or just in it for the snacks and great company… there’s something for everyone. \n*Classic & new games for all ages* FREE pizza & snacks* Bring the whole family – and a friend or two!\nLet’s build community\, create memories\, and enjoy a night of fun.\nWe can’t wait to see you there!
URL:https://upbarreview.com/event/hope-church-april-family-friends-game-night-iron-mountain/
LOCATION:Hope Church Iron Mountain\, 200 East B St\, Iron Mountain\, MI
CATEGORIES:Ironmountain
END:VEVENT
BEGIN:VEVENT
DTSTART;TZID=UTC:20250425T183000
DTEND;TZID=UTC:20250425T213000
DTSTAMP:20260423T100505
CREATED:20250402T234507Z
LAST-MODIFIED:20250402T234507Z
UID:10003387-1745605800-1745616600@upbarreview.com
SUMMARY:Amvets Post 123 - Amvets Party - Escanaba
DESCRIPTION:Hey all\, We are back\, down at the Amvets club to play all your Favorites from Country to Classic Rock and 50 and 60’s Oldies. So invite all Your Friends and Family and be ready to be entertained\, We start playing for you at 7:30
URL:https://upbarreview.com/event/amvets-post-123-amvets-party-escanaba/
LOCATION:Amvets Post 123\, 1315 N Lincoln Rd\, Escanaba\, MI
CATEGORIES:Menominee
END:VEVENT
BEGIN:VEVENT
DTSTART;TZID=UTC:20250425T200000
DTEND;TZID=UTC:20250425T230000
DTSTAMP:20260423T100505
CREATED:20250207T191746Z
LAST-MODIFIED:20250207T191746Z
UID:10002951-1745611200-1745622000@upbarreview.com
SUMMARY:The Granada - Karaoke Night - Escanaba
DESCRIPTION:Welcome to the Hottest Karaoke show in Town! Every Friday at The Granada in Escanaba\, MI Starts at 9:00 pm\nCreate your FREE Performer Account with Songbooks Online App to Browse the Karaoke song library\, keep a favorites list and submit your song requests remotely! Use Show ID: MSK23 after you create your account. You can also just tell me your name and the song you want if you don’t know how to install an app.
URL:https://upbarreview.com/event/the-granada-karaoke-night-escanaba/2025-04-25/
LOCATION:The Granada\, 330 S 10th St\, Escanaba\, MI
CATEGORIES:Menominee
END:VEVENT
BEGIN:VEVENT
DTSTART;TZID=UTC:20250425T200000
DTEND;TZID=UTC:20250425T230000
DTSTAMP:20260423T100505
CREATED:20250403T025309Z
LAST-MODIFIED:20250403T025309Z
UID:10004191-1745611200-1745622000@upbarreview.com
SUMMARY:Equity Hall - Miranda Lambert & Luke Bryan Tribute - Pound
DESCRIPTION:Equity Hall presents Icons Of Country tributes to MIRANDA LAMBERT and LUKE BRYAN Live!
URL:https://upbarreview.com/event/equity-hall-miranda-lambert-luke-bryan-tribute-pound/
LOCATION:Equity Hall\, W7403 WI-64\, Pound\, WI\, 54161\, United States
CATEGORIES:Menominee
END:VEVENT
BEGIN:VEVENT
DTSTART;TZID=UTC:20250425T210000
DTEND;TZID=UTC:20250425T233000
DTSTAMP:20260423T100505
CREATED:20250403T021054Z
LAST-MODIFIED:20250403T021054Z
UID:10003923-1745614800-1745623800@upbarreview.com
SUMMARY:Round 2 - Karaoke - Iron Mountain
DESCRIPTION:Karaoke Every Other Friday at Round 2 9pm to 1am
URL:https://upbarreview.com/event/round-2-karaoke-iron-mountain/2025-04-25/
LOCATION:Round 2\, 407 S Stephenson Ave\, Iron Mountain\, MI\, 49801
CATEGORIES:Ironmountain
END:VEVENT
BEGIN:VEVENT
DTSTART;TZID=UTC:20250426T080000
DTEND;TZID=UTC:20250426T120000
DTSTAMP:20260423T100505
CREATED:20250403T011337Z
LAST-MODIFIED:20250403T011337Z
UID:10003788-1745654400-1745668800@upbarreview.com
SUMMARY:Clover Leaf Conservatory - 2025 Season Opening Day - Iron Mountain
DESCRIPTION:Come see us and feel the warmth of Spring at the 2025 Season Opening Day at Clover Leaf Conservatory\, Formerly Grandma’s Garden! All perennials will be in for the year so come in early for first pick and get the color you are looking for! We can’t wait to show you all the fun decor and new supplies!!
URL:https://upbarreview.com/event/clover-leaf-conservatory-2025-season-opening-day-iron-mountain/
LOCATION:Clover Leaf Conservatory\, 625 Vulcan St\, Iron Mountain\, MI
CATEGORIES:Ironmountain
END:VEVENT
BEGIN:VEVENT
DTSTART;TZID=UTC:20250426T080000
DTEND;TZID=UTC:20250426T160000
DTSTAMP:20260423T100505
CREATED:20250403T025401Z
LAST-MODIFIED:20250403T025401Z
UID:10004192-1745654400-1745683200@upbarreview.com
SUMMARY:Meta 365 - NPL Powerlifting Meet - Menominee
DESCRIPTION:Date & Time: 26 April 2025\, 0900 \nLocation: Meta 365 Fitness\, 1331 8th ave\, Menominee MI\, 49858\, USA\,  (920-857-7456) Meta365FitnessLLC@gmail.com \nThis event will be held within Meta 365 Fitness and spectators will need to purchase a ticket to enter the event (lifters will not). \nSanction: National Powerlifting League (NPL)  www.npleague.net \nBest Overall DOT Men and Women will recieve a Cash Prize depending on number of registered lifts
URL:https://upbarreview.com/event/meta-365-npl-powerlifting-meet-menominee/
LOCATION:Meta 365\, 1009 8th Ave\, Menominee\, MI\, 49858
CATEGORIES:Menominee
END:VEVENT
BEGIN:VEVENT
DTSTART;TZID=UTC:20250426T080000
DTEND;TZID=UTC:20250426T170000
DTSTAMP:20260423T100505
CREATED:20250403T022732Z
LAST-MODIFIED:20250403T022732Z
UID:10004156-1745654400-1745686800@upbarreview.com
SUMMARY:Larsons Pine Creek Greenhouse - Opening Day - Norway
DESCRIPTION:Mark your calendars: We’re opening for our 23rd season on SATURDAY\, APRIL 26! 
URL:https://upbarreview.com/event/larsons-pine-creek-greenhouse-opening-day-norway/
LOCATION:Larsons Pine Creek Greenhouse\, W6552 Upper Pine Creek Dr\, Iron Mountain\, MI
CATEGORIES:Ironmountain
END:VEVENT
BEGIN:VEVENT
DTSTART;TZID=UTC:20250426T090000
DTEND;TZID=UTC:20250426T120000
DTSTAMP:20260423T100505
CREATED:20250402T233157Z
LAST-MODIFIED:20250402T233157Z
UID:10003340-1745658000-1745668800@upbarreview.com
SUMMARY:Northern Lights YMCA - Great Start Childrens Fun Fest - Escanaba
DESCRIPTION:A celebration of Early Childhood and all things that help kids grow and thrive. Filled with engaging games and activities for kids\, ages 0-8. Children must be accompanied by an adult.On-site concessions are available at family-friendly prices. FREE and open to the public!
URL:https://upbarreview.com/event/northern-lights-ymca-great-start-childrens-fun-fest-escanaba/
LOCATION:Northern Lights YMCA Dickinson Center\, 800 Crystal Lake Blvd\, Iron Mountain\, MI\, 49801
CATEGORIES:Menominee
END:VEVENT
BEGIN:VEVENT
DTSTART;TZID=UTC:20250426T090000
DTEND;TZID=UTC:20250426T120000
DTSTAMP:20260423T100505
CREATED:20250403T023459Z
LAST-MODIFIED:20250403T023459Z
UID:10004163-1745658000-1745668800@upbarreview.com
SUMMARY:Support Salvation Army/Arlos Pantry - Norway
DESCRIPTION:Come out and support the Salvation Army\, Arlo’s Pantry
URL:https://upbarreview.com/event/support-salvation-army-arlos-pantry-norway/
CATEGORIES:Ironmountain
END:VEVENT
BEGIN:VEVENT
DTSTART;TZID=UTC:20250426T090000
DTEND;TZID=UTC:20250426T170000
DTSTAMP:20260423T100505
CREATED:20250403T025456Z
LAST-MODIFIED:20250403T025456Z
UID:10004193-1745658000-1745686800@upbarreview.com
SUMMARY:Camp Daniel - Spring Work Day - Athelstane
DESCRIPTION:Join Us for a Spring Work Day at Camp Daniel!  [��] [��]\nWinter is behind us\, and it’s time to freshen up Camp Daniel for the warmer months ahead! Whether you’re skilled or simply willing to help\, we have projects for everyone—outdoor cleanup\, painting\, landscaping\, deep cleaning\, and general maintenance.\nWe’ll start at 9:00 AM and finish around 4:30 PM\, with a delicious lunch provided. Your time and effort make a huge impact in keeping our campus beautiful and welcoming for all who visit. Come enjoy a day of teamwork\, fresh air\, and community!\nHelp us spread the word and bring a friend!\nWant specifics on what jobs we will have reach out to Evan!\nPlease RSVP at http://Campdaniel.org/form/work-day/ or contact\nEvan Hartwig at 715-891-0528 or Evan@campdaniel.org so we can plan for lunch.\nWe appreciate you—thank you for making a difference
URL:https://upbarreview.com/event/camp-daniel-spring-work-day-athelstane/
LOCATION:Camp Daniel\, W10541 Army Ln\, Athestane\, WI\, 54104
CATEGORIES:Menominee
END:VEVENT
END:VCALENDAR