BEGIN:VCALENDAR
VERSION:2.0
PRODID:-//UP BAR REVIEW - ECPv6.14.2//NONSGML v1.0//EN
CALSCALE:GREGORIAN
METHOD:PUBLISH
X-WR-CALNAME:UP BAR REVIEW
X-ORIGINAL-URL:https://upbarreview.com
X-WR-CALDESC:Events for UP BAR REVIEW
REFRESH-INTERVAL;VALUE=DURATION:PT1H
X-Robots-Tag:noindex
X-PUBLISHED-TTL:PT1H
BEGIN:VTIMEZONE
TZID:UTC
BEGIN:STANDARD
TZOFFSETFROM:+0000
TZOFFSETTO:+0000
TZNAME:UTC
DTSTART:20250101T000000
END:STANDARD
END:VTIMEZONE
BEGIN:VEVENT
DTSTART;TZID=UTC:20250414T050000
DTEND;TZID=UTC:20250414T070000
DTSTAMP:20260423T112918
CREATED:20250403T013719Z
LAST-MODIFIED:20250403T013719Z
UID:10003804-1744606800-1744614000@upbarreview.com
SUMMARY:Anytime Fitness - 8 Week Challenge - Iron Mountain
DESCRIPTION:Did someone say a challenge?\nStarting April 14th we are offering an 8 week challenge that includes our AF Nutrition coaching and 2x a week small group training classes.\nIn previous challenges we have noticed significant results and excited to share you get more biweekly check ins with a coach and Evolt body scans to keep track of your progress.\nAsk a coach about our coaching programs and bundle packages to get you closer to your fitness goals
URL:https://upbarreview.com/event/anytime-fitness-8-week-challenge-iron-mountain/
LOCATION:Anytime Fitness Iron Mountain\, 1078 S Stephenson Ave\, Iron Mountain\, MI
CATEGORIES:Ironmountain
END:VEVENT
BEGIN:VEVENT
DTSTART;TZID=UTC:20250414T130000
DTEND;TZID=UTC:20250414T160000
DTSTAMP:20260423T112918
CREATED:20250403T015733Z
LAST-MODIFIED:20250403T015733Z
UID:10003867-1744635600-1744646400@upbarreview.com
SUMMARY:Dickinson County Library - Mahjong Monday - Iron Mountain
DESCRIPTION:Beginner and expert adults will play Mahjong\, a tile-based game developed in 19th century China. Those new to the game can learn from our instructor\, and seasoned players can play the game with one another. Feel free to bring your own tiles to use\, but it’s not necessary
URL:https://upbarreview.com/event/dickinson-county-library-mahjong-monday-iron-mountain/2025-04-14/
CATEGORIES:Ironmountain
END:VEVENT
BEGIN:VEVENT
DTSTART;TZID=UTC:20250414T130000
DTEND;TZID=UTC:20250414T160000
DTSTAMP:20260423T112919
CREATED:20250403T021438Z
LAST-MODIFIED:20250403T021438Z
UID:10003942-1744635600-1744646400@upbarreview.com
SUMMARY:Forever Friendship Drop-in Center - Diamond Painting - Iron Mountain
DESCRIPTION:Come join us for Diamond Painting! You can participate if you are an expert or a beginner\, or come try if you have never tried before! We offer supplies for free. We have small projects or large projects\, or you can bring your own. It’s all free. We provide a relaxing environment\, meditation music\, and friendly people. Our goal was to create a fun environment while also practicing useful coping skills like mindfulness.
URL:https://upbarreview.com/event/forever-friendship-drop-in-center-diamond-painting-iron-mountain/2025-04-14/
LOCATION:Forever Friendship Drop-in Center\, 501 S Carpenter Ave\, Kingsford\, MI
CATEGORIES:Ironmountain
END:VEVENT
BEGIN:VEVENT
DTSTART;TZID=UTC:20250414T133000
DTEND;TZID=UTC:20250414T150000
DTSTAMP:20260423T112919
CREATED:20250402T215910Z
LAST-MODIFIED:20250402T215910Z
UID:10003271-1744637400-1744642800@upbarreview.com
SUMMARY:Spies Library - April Book Club - Marinette
DESCRIPTION:Join us for April’s Monday book club on April 14\, at 1:30pm! We’ll be discussing the book “West with Giraffes.”
URL:https://upbarreview.com/event/spies-library-april-book-club-marinette/
LOCATION:Spies Public Library\, 940 1st St.\, Menominee\, MI\, 49858
CATEGORIES:Menominee
END:VEVENT
BEGIN:VEVENT
DTSTART;TZID=UTC:20250414T153000
DTEND;TZID=UTC:20250414T163000
DTSTAMP:20260423T112919
CREATED:20250402T231235Z
LAST-MODIFIED:20250402T231235Z
UID:10003309-1744644600-1744648200@upbarreview.com
SUMMARY:Farnsworth Public Library - Bingo For All - Oconto
DESCRIPTION:Happiness is yelling BINGO!! Come play Bingo with us and win some prizes!! This is a free event\, open to all. Come for a little bit or the full hour.
URL:https://upbarreview.com/event/farnsworth-public-library-bingo-for-all-oconto-2/
LOCATION:Farnsworth Public Library\, 715 Main St\, Oconto\, WI
CATEGORIES:Menominee
END:VEVENT
BEGIN:VEVENT
DTSTART;TZID=UTC:20250414T170000
DTEND;TZID=UTC:20250414T180000
DTSTAMP:20260423T112919
CREATED:20250402T212658Z
LAST-MODIFIED:20250402T212658Z
UID:10003240-1744650000-1744653600@upbarreview.com
SUMMARY:Sno-Haven Pottery - Adult Watercolor Painting Class - Marinette
DESCRIPTION:This Watercolor class is for Adults. Learning Watercolor can be very rewarding once you gain your skill set. We cover all the basics and then cover some more advanced techniques. This is just in time before summer\, and is a great medium to take on the go. we cover color mixing and value studies and a variety of subject matters\, from painting water to florals\, landscapes and people. You will be able to choose your own subjects as well. All materials are included in the price of the class which is $125.00 Plus tax. Class meets on Monday for an hour from 5:00 pm to 6:00 pm for 5 sessions. Call 715-587-2163 to register.
URL:https://upbarreview.com/event/sno-haven-pottery-adult-watercolor-painting-class-marinette/2025-04-14/
LOCATION:Sno Haven Pottery\, 1215 9th St\, Marinette\, WI\, 54143
CATEGORIES:Menominee
END:VEVENT
BEGIN:VEVENT
DTSTART;TZID=UTC:20250414T170000
DTEND;TZID=UTC:20250414T190000
DTSTAMP:20260423T112919
CREATED:20250403T022612Z
LAST-MODIFIED:20250403T022612Z
UID:10004118-1744650000-1744657200@upbarreview.com
SUMMARY:Forever Friendship Drop-in Center - Disorder Discussion Group - Kingsford
DESCRIPTION:We understand that the road to overcoming addiction is unique for each individual\, and we’re here to offer unwavering peer support\, personalized care\, and a beacon of hope for a brighter tomorrow! This is available to individuals with Substance Misuse Disorder & or Alcoholism + Mental Health Diagnosis
URL:https://upbarreview.com/event/forever-friendship-drop-in-center-disorder-discussion-group-kingsford/2025-04-14/
LOCATION:Forever Friendship Drop-in Center\, 501 S Carpenter Ave\, Kingsford\, MI
CATEGORIES:Ironmountain
END:VEVENT
BEGIN:VEVENT
DTSTART;TZID=UTC:20250414T170000
DTEND;TZID=UTC:20250414T213000
DTSTAMP:20260423T112919
CREATED:20250402T224237Z
LAST-MODIFIED:20250402T224237Z
UID:10003283-1744650000-1744666200@upbarreview.com
SUMMARY:Rene's Dining Room - CBA Awards Banquet - Crivitz
DESCRIPTION:Network Cocktails 5pmDinner and awards to follow.
URL:https://upbarreview.com/event/renes-dining-room-cba-awards-banquet-crivitz/
LOCATION:Rene’s Dining Room\, W11590 CR-X\, Crivitz\, WI
CATEGORIES:Menominee
END:VEVENT
BEGIN:VEVENT
DTSTART;TZID=UTC:20250414T173000
DTEND;TZID=UTC:20250414T200000
DTSTAMP:20260423T112919
CREATED:20250403T003026Z
LAST-MODIFIED:20250403T003026Z
UID:10003756-1744651800-1744660800@upbarreview.com
SUMMARY:Precipice Yoga - Pizza\, Pints\, & Poses - Powers
DESCRIPTION:Join Precipice Yoga at the Sidetrack in Powers\, MI\, for a night of energetic yoga\, awesome food\, and drinks!\nWe will start with a 45 minute yoga sequence\, taught by Jessica\, followed by the famous Sidetrack pizza\, drinks\, and the opportunity hang out with other participants!\nJessica and Sam will be available after to answer any questions about yoga or our services!\n$30 per person\, message Precipice Yoga\, or call/text Jessica 906-399-8018 to register. Registration and payment required to hold your spot. Space is limited so register early\nCost includes yoga\, pizza\, and 2 beer drink tickets for the registrant
URL:https://upbarreview.com/event/precipice-yoga-pizza-pints-poses-powers/
LOCATION:Precipice Yoga & Wellness
CATEGORIES:Menominee
END:VEVENT
BEGIN:VEVENT
DTSTART;TZID=UTC:20250414T173000
DTEND;TZID=UTC:20250414T203000
DTSTAMP:20260423T112919
CREATED:20250402T213721Z
LAST-MODIFIED:20250402T213721Z
UID:10003253-1744651800-1744662600@upbarreview.com
SUMMARY:McCrafties - Echos of Creativity  Menominee
DESCRIPTION:Immerse yourself in a transformative experience where sound and creativity unite in our Sound Bath with Free Style Art workshop for $40 per person on April 14 at 5:30 pm.\nMcCraftie’s has teamed up with Drops of Inner Peace to provide a unique session of healing vibrations of a sound bath with the liberating expression of free-style art on a 8×10 canvas.\nAs soothing sound waves from instruments like crystal bowls and chimes wash over you\, you’ll be guided into a deep state of relaxation and mindfulness. In this peaceful space\, you’ll have the opportunity to express your inner world through intuitive art-making after the sound bath\, using various mediums with creative freedom.\nThis workshop invites you to release stress\, discover inner peace\, and explore the connection between sound\, healing\, and creative expression. No artistic experience required—just bring an open mind and heart.\nSupplies you will need to bring with you is a blanket\, yoga mat\, and pillow to make you comfortable during the sound bath!\nSpots are limited so do not wait to sign up!\nPRE-PAYMENT of $40 is required to save your spot. Feel free to call the studio with any questions or to sign up. 715-440-5959\nOr use our easy to navigate website.\nhttps://mccraftiellc.square.site/ \n-All skill levels are welcome-We provide all the necessary supplies\nCLASS REFUND POLICY:\n-full in studio credit if cancellation is 1 week prior to the class-50% in studio credit up to 24 hours prior to the class-less than 24 hours’ notice\, no credit-NO SHOW/NO CALL/NO CREDIT
URL:https://upbarreview.com/event/mccrafties-echos-of-creativity-menominee/
LOCATION:McCrafties\, 625 1st St\, Menominee\, MI\, 49858\, United States
CATEGORIES:Menominee
END:VEVENT
BEGIN:VEVENT
DTSTART;TZID=UTC:20250414T180000
DTEND;TZID=UTC:20250414T200000
DTSTAMP:20260423T112919
CREATED:20250403T002644Z
LAST-MODIFIED:20250403T002644Z
UID:10003752-1744653600-1744660800@upbarreview.com
SUMMARY:Storehouse Community Center - Should I Shoot - Stephenson
DESCRIPTION:This course guides you through the critical decision-making process involved in self-defense situations\, focusing on when and how to use force.\nWe’ll cover the concepts of reasonable force\, deadly force\, and the use of force continuum\, helping you understand when each level of force is justified. You’ll also learn what to do when left with no other choice but to defend yourself\, including strategies to stop a threat quickly and effectively.\nThe course concludes with essential guidance on managing the immediate aftermath of a self-defense incident\, ensuring you’re prepared for the legal and emotional challenges that may follow.\nContent Overview:– Reasonable Force– Deadly Force– Use-of-Force Continuum– When You’re Left with No Other Choice– The Immediate Aftermath
URL:https://upbarreview.com/event/storehouse-community-center-should-i-shoot-stephenson/
LOCATION:The Storehouse Community Center\, 299 Solander St\, Stephenson\, MI\, 49887
CATEGORIES:Menominee
END:VEVENT
BEGIN:VEVENT
DTSTART;TZID=UTC:20250415T100000
DTEND;TZID=UTC:20250415T130000
DTSTAMP:20260423T112919
CREATED:20250207T193742Z
LAST-MODIFIED:20250207T193742Z
UID:10003019-1744711200-1744722000@upbarreview.com
SUMMARY:Escanaba Public Library - Tech Help Tuesdays - Escanaba
DESCRIPTION:Need help printing from your phone? Setting up Libby on your personal device? Using Zoom? How about getting started on your Chromebook or iPad? Using a Wi-Fi hotspot? Creating an email address? Google searches? or how to use the library’s online catalog?\nWe have the answers and assistance you need! Make an appointment or stop in at the circulation desk. Appointments are one hour (maximum).\nThe Escanaba Public Library staff do not repair computers/devices. The library assumes no liability for personal patron devices.
URL:https://upbarreview.com/event/escanaba-public-library-tech-help-tuesdays-escanaba/2025-04-15/
LOCATION:Escanaba Public Library\, 400 Ludington St\, Escanaba\, WI\, 49829
CATEGORIES:Menominee
END:VEVENT
BEGIN:VEVENT
DTSTART;TZID=UTC:20250415T160000
DTEND;TZID=UTC:20250415T173000
DTSTAMP:20260423T112919
CREATED:20250402T230953Z
LAST-MODIFIED:20250402T230953Z
UID:10003307-1744732800-1744738200@upbarreview.com
SUMMARY:Farnsworth Public Library - Mufasa Movie - Oconto
DESCRIPTION:Join us to enjoy the new film: Mufasa. Free popcorn!
URL:https://upbarreview.com/event/farnsworth-public-library-mufasa-movie-oconto/
LOCATION:Farnsworth Public Library\, 715 Main St\, Oconto\, WI
CATEGORIES:Menominee
END:VEVENT
BEGIN:VEVENT
DTSTART;TZID=UTC:20250415T160000
DTEND;TZID=UTC:20250415T190000
DTSTAMP:20260423T112919
CREATED:20250402T210551Z
LAST-MODIFIED:20250402T210551Z
UID:10003214-1744732800-1744743600@upbarreview.com
SUMMARY:The Craft Cave - Sun Catcher Hoop - Marinette
DESCRIPTION:6 inch hoop you can paint or leave natural. Choose from supply of beads to decorate. Add a charm or flower to hang in window. Adult class\, BYOB cost 20$. Call to pre pay and sign up at 715-587-4643
URL:https://upbarreview.com/event/the-craft-cave-sun-catcher-hoop-marinette/2025-04-15/
LOCATION:The Craft Cave\, 605 Main St.\, Marinette\, WI\, 54143\, United States
CATEGORIES:Menominee
END:VEVENT
BEGIN:VEVENT
DTSTART;TZID=UTC:20250415T160000
DTEND;TZID=UTC:20250415T190000
DTSTAMP:20260423T112919
CREATED:20250403T015615Z
LAST-MODIFIED:20250403T015615Z
UID:10003865-1744732800-1744743600@upbarreview.com
SUMMARY:Culvers - Night for BDP PTO - Iron Mountain
DESCRIPTION:Mark your calendar! Head to Culver’s for dinner on Tuesday\, April 15th to support BDP PTO! Share with all your local friends and family!
URL:https://upbarreview.com/event/culvers-night-for-bdp-pto-iron-mountain/
CATEGORIES:Ironmountain
END:VEVENT
BEGIN:VEVENT
DTSTART;TZID=UTC:20250415T170000
DTEND;TZID=UTC:20250415T180000
DTSTAMP:20260423T112919
CREATED:20250402T230637Z
LAST-MODIFIED:20250402T230637Z
UID:10003304-1744736400-1744740000@upbarreview.com
SUMMARY:Bellin Health Fitness - Pilates - Oconto
DESCRIPTION:For 4 weeks only!\nClass Dates: 4/1\, 4/8\, 4/15\, 4/22\nPilates is a full-body mat workout that focuses on strength\, stability and flexibility. This class will help develop a strong inner core while sculpting long and lean muscles.\nA variety of props such as light hand weights\, the mini ball\, ankle weights\, and a yoga block will be incorporated to enhance muscle engagement and provide added resistance for a more challenging workout.\nGroup fitness classes are included in your Bellin Fitness membership. Non-members may participate with the purchase of a guest pass or a 5-class Punch Card.
URL:https://upbarreview.com/event/bellin-health-fitness-pilates-oconto/2025-04-15/
LOCATION:Bellin Health Fitness Oconto\, 1201 Park Ave\, Oconto\, WI
CATEGORIES:Menominee
END:VEVENT
BEGIN:VEVENT
DTSTART;TZID=UTC:20250415T180000
DTEND;TZID=UTC:20250415T200000
DTSTAMP:20260423T112919
CREATED:20250402T234345Z
LAST-MODIFIED:20250402T234345Z
UID:10003349-1744740000-1744747200@upbarreview.com
SUMMARY:Mo's Pub - Trivia Night - Escanaba
DESCRIPTION:Join us for our Tuesday Trivia!!!! We will start at 7pm and we’ll be in the back room of the pub. TRIVIA TIME!!!! Trivia starts at 7pm!!!!6 Prizes given out.1st place $50 Mos Card 2nd place $25 Mos Card 3rd place $15 Mos Card 4th\, 5th and last place a free appetizer. $2 domestic beer. $3.50 rail\, $2.00 off Specialty Pizza\, $1.00 off specialty burger. We are looking forward to spending the time with you!!!
URL:https://upbarreview.com/event/mos-pub-trivia-night-escanaba/2025-04-15/
LOCATION:Mo’s Pub\, 2116 Ludington St\, Escanaba\, MI\, 49829
CATEGORIES:Menominee
END:VEVENT
BEGIN:VEVENT
DTSTART;TZID=UTC:20250415T200000
DTEND;TZID=UTC:20250415T233000
DTSTAMP:20260423T112919
CREATED:20250403T021715Z
LAST-MODIFIED:20250403T021741Z
UID:10003988-1744747200-1744759800@upbarreview.com
SUMMARY:Forever Friendship Drop-in Center - Mindfulness\, Meditation\, Mandalas - Kingsford
DESCRIPTION:Art Therapy Style Group\nMindfulness is the practice of purposely bringing one’s attention in the present moment without judgment.\nJoin each week to create a unique art project to help you cope with your mental health
URL:https://upbarreview.com/event/forever-friendship-drop-in-center-mindfulness-meditation-mandalas-kingsford-2/2025-04-15/
LOCATION:Forever Friendship Drop-in Center\, 501 S Carpenter Ave\, Kingsford\, MI
CATEGORIES:Ironmountain
END:VEVENT
BEGIN:VEVENT
DTSTART;TZID=UTC:20250416T083000
DTEND;TZID=UTC:20250416T100000
DTSTAMP:20260423T112919
CREATED:20250402T230155Z
LAST-MODIFIED:20250402T230234Z
UID:10003293-1744792200-1744797600@upbarreview.com
SUMMARY:Monthly CBA Meeting - Crivitz
DESCRIPTION:Join us the 3rd Wednesday of every month for the CBA Meeting!Discussion topics such as\, business involvement\, village events\, village improvements and so much more!Current\, New and Old Business Welcome!
URL:https://upbarreview.com/event/monthly-cba-meeting-crivitz/2025-04-16/
LOCATION:800 Henriette Ave\, Crivitz\, WI
CATEGORIES:Menominee
END:VEVENT
BEGIN:VEVENT
DTSTART;TZID=UTC:20250416T130000
DTEND;TZID=UTC:20250416T160000
DTSTAMP:20260423T112919
CREATED:20250403T015518Z
LAST-MODIFIED:20250403T015518Z
UID:10003827-1744808400-1744819200@upbarreview.com
SUMMARY:Bored Bard Games - Board Games - Iron Mountain
DESCRIPTION:Come join us for unique and engaging games and make a few new friends along the way. Plus it is all FUN & FREE!
URL:https://upbarreview.com/event/bored-bard-games-board-games-iron-mountain/2025-04-16/
LOCATION:Bored Bard Games\, 224 E Hughitt St\, Iron Mountain\, mi\, 49801
CATEGORIES:Ironmountain
END:VEVENT
BEGIN:VEVENT
DTSTART;TZID=UTC:20250416T160000
DTEND;TZID=UTC:20250416T210000
DTSTAMP:20260423T112919
CREATED:20250403T022035Z
LAST-MODIFIED:20250403T022035Z
UID:10004063-1744819200-1744837200@upbarreview.com
SUMMARY:Knights of Columbus - Super Bingo - Kingsford
DESCRIPTION:Super Bingo$2\,535 Regular Pay Out(Attendance Permitting)22 Games for $12.00 Per PackPull Tab GamesHot BallComplete Concession StandDoors open at 4:00Early bird games start at 6:00Regular bingo starts at 6:30
URL:https://upbarreview.com/event/knights-of-columbus-super-bingo-kingsford/2025-04-16/
LOCATION:Knights of Columbus Kingsford\, 520 West Breitung Ave\, Kingsford\, MI
CATEGORIES:Ironmountain
END:VEVENT
BEGIN:VEVENT
DTSTART;TZID=UTC:20250416T163000
DTEND;TZID=UTC:20250416T190000
DTSTAMP:20260423T112919
CREATED:20250402T233041Z
LAST-MODIFIED:20250402T233041Z
UID:10003339-1744821000-1744830000@upbarreview.com
SUMMARY:Escanaba Public Library - Family Fun Night - Escanaba
DESCRIPTION:United Way of Delta County is hosting a storytime that explores the excitement of how everything is always changing\, and all of the feelings that come with those transitions. Kids 0-8 will enjoy stories\, fun activities\, a snack\, and free book! You don’t need to register.
URL:https://upbarreview.com/event/escanaba-public-library-family-fun-night-escanaba-2/
LOCATION:Escanaba Public Library\, 400 Ludington St\, Escanaba\, WI\, 49829
CATEGORIES:Menominee
END:VEVENT
BEGIN:VEVENT
DTSTART;TZID=UTC:20250416T170000
DTEND;TZID=UTC:20250416T190000
DTSTAMP:20260423T112920
CREATED:20250402T215148Z
LAST-MODIFIED:20250402T215148Z
UID:10003266-1744822800-1744830000@upbarreview.com
SUMMARY:McCrafties - Paint and Propogate - Menominee
DESCRIPTION: Paint & Propagate Night \nLet your creativity bloom! Join us on **April 16th at 5:00 PM** for a cozy evening of painting.– Personalize a **handmade ceramic mason jar flower topper.**– Take home a **free mason jar** along with a **clipping of our vibrant wandering dude plant.**– Feel free to bring your favorite snacks and drinks to enjoy while you create! **Cost:** $20 per person.”\nPRE-PAYMENT of $20 is required to save your spot. Feel free to call the studio with any questions or to sign up. 715-440-5959\nOr use our easy to navigate website.\nhttps://mccraftiellc.square.site/\n-All skill levels are welcome-We provide all the necessary suppliesWe look forward to crafting with you\nCLASS REFUND POLICY:\n-full in studio credit if cancellation is 1 week prior to the class-50% in studio credit up to 24 hours prior to the class-less than 24 hours’ notice\, no credit-NO SHOW/NO CALL/NO CREDIT
URL:https://upbarreview.com/event/mccrafties-paint-and-propogate-menominee/
LOCATION:McCrafties\, 625 1st St\, Menominee\, MI\, 49858\, United States
CATEGORIES:Menominee
END:VEVENT
BEGIN:VEVENT
DTSTART;TZID=UTC:20250416T170000
DTEND;TZID=UTC:20250416T200000
DTSTAMP:20260423T112920
CREATED:20250402T210551Z
LAST-MODIFIED:20250402T210551Z
UID:10003215-1744822800-1744833600@upbarreview.com
SUMMARY:The Craft Cave - Sun Catcher Hoop - Marinette
DESCRIPTION:6 inch hoop you can paint or leave natural. Choose from supply of beads to decorate. Add a charm or flower to hang in window. Adult class\, BYOB cost 20$. Call to pre pay and sign up at 715-587-4643
URL:https://upbarreview.com/event/the-craft-cave-sun-catcher-hoop-marinette/2025-04-16/
LOCATION:The Craft Cave\, 605 Main St.\, Marinette\, WI\, 54143\, United States
CATEGORIES:Menominee
END:VEVENT
BEGIN:VEVENT
DTSTART;TZID=UTC:20250416T173000
DTEND;TZID=UTC:20250416T183000
DTSTAMP:20260423T112920
CREATED:20250402T215054Z
LAST-MODIFIED:20250402T215054Z
UID:10003265-1744824600-1744828200@upbarreview.com
SUMMARY:Spirit House - Easter Centerpiece with French Street Floral - Menominee
DESCRIPTION:Spring is in the air\, and we’re bringing the blooms to Spirit House with a hands-on Easter Centerpiece Class hosted by French Street Floral. Whether you’re looking to level up your Easter table decor or just want a fun night out\, this class is the perfect way to get creative while sipping on your favorite cocktails.\n•Wednesday\, April 16th•5:30 PM Start Time•$50 Per Person•Only 20 Seats Available\nYou’ll learn how to craft a stunning Easter-themed arrangement\, just like the one pictured\, while enjoying the cozy vibes of Spirit House. Spots are limited\, so grab your ticket before they’re gone.\nReady to let your creativity bloom? Secure your seat today
URL:https://upbarreview.com/event/spirit-house-easter-centerpiece-with-french-street-floral-menominee/
LOCATION:Spirit House\, 533 10th Ave\, Menominee\, MI 49858\, Menominee\, MI\, 49858\, United States
CATEGORIES:Menominee
END:VEVENT
BEGIN:VEVENT
DTSTART;TZID=UTC:20250416T173000
DTEND;TZID=UTC:20250416T210000
DTSTAMP:20260423T112920
CREATED:20250403T004234Z
LAST-MODIFIED:20250403T004234Z
UID:10003766-1744824600-1744837200@upbarreview.com
SUMMARY:Saunders Point Brewing - Cornhole Night - Gladstone
DESCRIPTION:Tournament format with randomly chosen teams\, $10 buy-in\, and payouts determined by number of teams entered. Bring your A-game\, friends\, and love of great beer!
URL:https://upbarreview.com/event/saunders-point-brewing-cornhole-night-gladstone/2025-04-16/
LOCATION:Saunders Point Brewing\, 8199 M-35\, Gladstone\, MI
CATEGORIES:Menominee
END:VEVENT
BEGIN:VEVENT
DTSTART;TZID=UTC:20250416T180000
DTEND;TZID=UTC:20250416T210000
DTSTAMP:20260423T112920
CREATED:20250403T023607Z
LAST-MODIFIED:20250403T023607Z
UID:10004165-1744826400-1744837200@upbarreview.com
SUMMARY:True North Outpost - Adult Climb - Norway
DESCRIPTION:Join us at our Basecamp Climbing Gym every Wednesday evening from 6pm to 8pm for Adult Climb. All skill levels welcome!\n$15 includes shoe rentals
URL:https://upbarreview.com/event/true-north-outpost-adult-climb-norway-3/2025-04-16/
LOCATION:True North Outpost\, W 5768 Old Piers Gorge Rd.\, Norway\, MI\, 49870
CATEGORIES:Ironmountain
END:VEVENT
BEGIN:VEVENT
DTSTART;TZID=UTC:20250417T080000
DTEND;TZID=UTC:20250417T170000
DTSTAMP:20260423T112920
CREATED:20241202T212718Z
LAST-MODIFIED:20241202T212718Z
UID:10002543-1744876800-1744909200@upbarreview.com
SUMMARY:Biehl Bridges to Recovery - Overeaters Anonymous - Marinette
DESCRIPTION:A new year! A new you! Want to know if you’re an overeater? Struggling to find support? Wanting support? Come join us on Thursday evenings from 5:30pm-6:30pm.
URL:https://upbarreview.com/event/biehl-bridges-to-recovery-overeaters-anonymous-marinette/2025-04-17/
LOCATION:Biehl Bridge To Recovery\, 3123 Shore Dr\, Marinette\, WI\, 54143
CATEGORIES:Menominee
END:VEVENT
BEGIN:VEVENT
DTSTART;TZID=UTC:20250417T100000
DTEND;TZID=UTC:20250417T233000
DTSTAMP:20260423T112920
CREATED:20241029T145445Z
LAST-MODIFIED:20241029T145445Z
UID:10002242-1744884000-1744932600@upbarreview.com
SUMMARY:Alibi's - Free Pool Thursdays - Marinette
DESCRIPTION:Free Pool!!
URL:https://upbarreview.com/event/alibis-free-pool-thursdays-marinette/2025-04-17/
LOCATION:ALiBi Bar & Grill\, 829 Main St\, Marinette\, WI\, 54143\, United States
CATEGORIES:Menominee
END:VEVENT
BEGIN:VEVENT
DTSTART;TZID=UTC:20250417T140000
DTEND;TZID=UTC:20250417T160000
DTSTAMP:20260423T112920
CREATED:20250402T220439Z
LAST-MODIFIED:20250402T220439Z
UID:10003274-1744898400-1744905600@upbarreview.com
SUMMARY:Spies Public Library - Thursday Storytime: Easter - Menominee
DESCRIPTION:Stop by for storytime at 2 on April 17th! We’ll read\, sing\, craft\, and learn sign language. Storytimes are geared towards ages 0-6 but all are welcome! This week’s theme is all about EASTER!\n\n\nMenomin
URL:https://upbarreview.com/event/spies-public-library-thursday-storytime-easter-menominee/
LOCATION:Spies Public Library\, 940 1st St.\, Menominee\, MI\, 49858
CATEGORIES:Menominee
END:VEVENT
END:VCALENDAR