BEGIN:VCALENDAR
VERSION:2.0
PRODID:-//UP BAR REVIEW - ECPv6.14.2//NONSGML v1.0//EN
CALSCALE:GREGORIAN
METHOD:PUBLISH
X-WR-CALNAME:UP BAR REVIEW
X-ORIGINAL-URL:https://upbarreview.com
X-WR-CALDESC:Events for UP BAR REVIEW
REFRESH-INTERVAL;VALUE=DURATION:PT1H
X-Robots-Tag:noindex
X-PUBLISHED-TTL:PT1H
BEGIN:VTIMEZONE
TZID:UTC
BEGIN:STANDARD
TZOFFSETFROM:+0000
TZOFFSETTO:+0000
TZNAME:UTC
DTSTART:20250101T000000
END:STANDARD
END:VTIMEZONE
BEGIN:VEVENT
DTSTART;TZID=UTC:20250411T100000
DTEND;TZID=UTC:20250411T180000
DTSTAMP:20260421T111258
CREATED:20250403T014201Z
LAST-MODIFIED:20250403T014201Z
UID:10003810-1744365600-1744394400@upbarreview.com
SUMMARY:GFWC - Used Book Sale - Iron Mountain
DESCRIPTION:We are collecting gently used books for our Used Book Sale. Fiction\, non-fiction\, childrens and more.\nBring them by Midtown Mall\, Monday and Tuesday\, April 7th – 8th\, 2025 from 10 am – 4 pm.\nWe do not accept magazines\, dictionaries\, bibles or out-of-date reference material and certain romance books
URL:https://upbarreview.com/event/gfwc-used-book-sale-iron-mountain/2025-04-11/
LOCATION:GFWC\, 1108 S Stephenson Ave\, Iron Mountain\, MI
CATEGORIES:Ironmountain
END:VEVENT
BEGIN:VEVENT
DTSTART;TZID=UTC:20250411T130000
DTEND;TZID=UTC:20250411T150000
DTSTAMP:20260421T111258
CREATED:20250402T214949Z
LAST-MODIFIED:20250402T214949Z
UID:10003264-1744376400-1744383600@upbarreview.com
SUMMARY:McCrafties - Blossoming Hydrangea Epoxy Art - Menominee
DESCRIPTION:Join us for this adorable “Blooming Hydrangea Epoxy Glass art” event at McCraftie’s. The colors are customizable to match your decor. This is a great girl bonding time\, so grab some friends and join us April 11 at 1:00.\nPRE-PAYMENT of $35 is required to save your spot. Feel free to call the studio with any questions715-440-5959\nOr use our easy to navigate website.\nhttps://mccraftiellc.square.site/\n\n-All skill levels are welcome-We will be using a 12 x 12 canvas along with glass and epoxy-We provide all the necessary suppliesWe look forward to crafting with you\nCLASS REFUND POLICY:\n-full in studio credit if cancellations are 1 week prior to the class-50% in studio credit up to 24 hours prior to the class-less than 24 hours’ notice\, no credit-NO SHOW/NO CALL/NO CREDIT
URL:https://upbarreview.com/event/mccrafties-blossoming-hydrangea-epoxy-art-menominee/
LOCATION:McCrafties\, 625 1st St\, Menominee\, MI\, 49858\, United States
CATEGORIES:Menominee
END:VEVENT
BEGIN:VEVENT
DTSTART;TZID=UTC:20250411T130000
DTEND;TZID=UTC:20250411T150000
DTSTAMP:20260421T111258
CREATED:20250403T022352Z
LAST-MODIFIED:20250403T022352Z
UID:10004099-1744376400-1744383600@upbarreview.com
SUMMARY:Forever Friendship Drop-in Center - Budgeting 101 - Kingsford
DESCRIPTION:Learn how to make the most of a limited income while living within your means.Open to individuals employed or on visibility.We will offer night and day options to include more people but keep the groups small and confidential.
URL:https://upbarreview.com/event/forever-friendship-drop-in-center-budgeting-101-kingsford/2025-04-11/
CATEGORIES:Ironmountain
END:VEVENT
BEGIN:VEVENT
DTSTART;TZID=UTC:20250411T130000
DTEND;TZID=UTC:20250411T160000
DTSTAMP:20260421T111258
CREATED:20250402T200556Z
LAST-MODIFIED:20250402T200556Z
UID:10003176-1744376400-1744387200@upbarreview.com
SUMMARY:CJ's Glass - Hummingbird or Butterfly Workshop - Marinette
DESCRIPTION:Call or msg to register 608-354-2303(This class is available for your individual or small group custom date/time)$65Class size is 6Ages 12+PreRegistration required by call or msg toCJ 608-354-2303Choose any color you would like to create your unique Suncatcher. Each person chooses one design. You will be instructed in the copper foil method of stained glass (patterning\, score\, break\, grind\, foil\, solder\, finish).Call or msg with questions or to schedule your custom individual or small group time/project.
URL:https://upbarreview.com/event/cjs-glass-hummingbird-or-butterfly-workshop-marinette/2025-04-11/
LOCATION:CJ’s Glass\, 802 Main St\, Marinette\, WI\, 54143
CATEGORIES:Menominee
END:VEVENT
BEGIN:VEVENT
DTSTART;TZID=UTC:20250411T163000
DTEND;TZID=UTC:20250411T190000
DTSTAMP:20260421T111258
CREATED:20250402T203859Z
LAST-MODIFIED:20250402T203859Z
UID:10003208-1744389000-1744398000@upbarreview.com
SUMMARY:Saint Thomas Aquinas - CCAC Fish Fry - Marinette
DESCRIPTION:Famous Walleye\, Perch\, or Grilled Cheese Dinners served up by the CCAC.
URL:https://upbarreview.com/event/saint-thomas-aquinas-ccac-fish-fry-marinette/
LOCATION:Saint Thomas Aquinas Academy\, 1200 Main St\, Marinette\, WI\, 54143
CATEGORIES:Menominee
END:VEVENT
BEGIN:VEVENT
DTSTART;TZID=UTC:20250411T170000
DTEND;TZID=UTC:20250411T190000
DTSTAMP:20260421T111258
CREATED:20250403T000747Z
LAST-MODIFIED:20250403T000747Z
UID:10003717-1744390800-1744398000@upbarreview.com
SUMMARY:Lavender Spirit Healing - Reiki 1 Workshop - Wausaukee
DESCRIPTION:Reiki 1\nGreat for beginners or a refresher if its been a bit.\nLearn the art of Reiki\, an ancient practice that utilizes energy healing to reduce stress\, improve overall well-being\, and facilitate physical and emotional healing. This Reiki 1 workshop includes lessons on chakras\, intuitive development exercises\, and the ability to perform Reiki on oneself or others within close range.\n$111 per person(50% deposit at time of enrollment\, 50% due at time of class)\nDirect Sign Up:\nhttps://www.vagaro.com/…/P0yHORYpKnZyeQL4Sf…
URL:https://upbarreview.com/event/lavender-spirit-healing-reiki-1-workshop-wausaukee/
LOCATION:544 Van Buren Ave\, Wausaukee\, WI\, 54177
CATEGORIES:Menominee
END:VEVENT
BEGIN:VEVENT
DTSTART;TZID=UTC:20250411T170000
DTEND;TZID=UTC:20250411T190000
DTSTAMP:20260421T111258
CREATED:20250403T021557Z
LAST-MODIFIED:20250403T021615Z
UID:10003950-1744390800-1744398000@upbarreview.com
SUMMARY:Forever Friendship Drop-in Center - Mens Social Sober Club - Kingsford
DESCRIPTION:A safe and sober space for men to get together and hangout or talk about issues that affect men in our society. We have different games\, community outings and events depending on wether.
URL:https://upbarreview.com/event/forever-friendship-drop-in-center-mens-social-sober-club-iron-mountain/2025-04-11/
LOCATION:Forever Friendship Drop-in Center\, 501 S Carpenter Ave\, Kingsford\, MI
CATEGORIES:Ironmountain
END:VEVENT
BEGIN:VEVENT
DTSTART;TZID=UTC:20250411T170000
DTEND;TZID=UTC:20250411T200000
DTSTAMP:20260421T111258
CREATED:20250403T005551Z
LAST-MODIFIED:20250403T005618Z
UID:10003778-1744390800-1744401600@upbarreview.com
SUMMARY:Saunders Point Brewing - Live Music - Gladstone
DESCRIPTION:Join us for a special night of soulful acoustic music with the talented Rob Rise. Set in the cozy ambiance of our brewery\, Rob’s live performance will create the perfect backdrop for an evening of relaxation and great conversation. Enjoy a selection of expertly crafted beers while immersing yourself in intimate\, unplugged tunes that promise to elevate your night.
URL:https://upbarreview.com/event/saunders-point-brewing-live-music-gladstone-3/2025-04-11/
LOCATION:Saunders Point Brewing\, 8199 M-35\, Gladstone\, MI
CATEGORIES:Menominee
END:VEVENT
BEGIN:VEVENT
DTSTART;TZID=UTC:20250411T170000
DTEND;TZID=UTC:20250411T230000
DTSTAMP:20260421T111258
CREATED:20250403T001008Z
LAST-MODIFIED:20250403T001008Z
UID:10003718-1744390800-1744412400@upbarreview.com
SUMMARY:Wausaukee Bowl - Up North Mud Mowers - Escanaba
DESCRIPTION:Get ready for some action packed off road fun. We will be making our way on a long adventure of river crossings\, hill climbs\, bog runs and more. If we get a wet spring we could even find spots where you could need a snorkel for those that want a challenge. We will most likely ride up Friday evening so we can have a full day of riding on Saturday. The cabin will be full but we have room for campers and tents at the public campsite which is a 5 min tractor ride from the cabin. Some outdoor space is available at the cabin as well for campers and tents. If you require power please bring a generator\, we run the cabin off of solar and a small generator. Firewood will be available as well. Please be respectful and leave the area cleaner than you found it. Looking forward to an action packed weekend. Let me know if you have any questions.
URL:https://upbarreview.com/event/wausaukee-bowl-up-north-mud-mowers-escanaba/2025-04-11/
LOCATION:Wausaukee Bowl\, 326 Main St\, Wausaukee\, WI
CATEGORIES:Menominee
END:VEVENT
BEGIN:VEVENT
DTSTART;TZID=UTC:20250411T190000
DTEND;TZID=UTC:20250411T213000
DTSTAMP:20260421T111258
CREATED:20250402T200839Z
LAST-MODIFIED:20250402T200839Z
UID:10003181-1744398000-1744407000@upbarreview.com
SUMMARY:Bayshore Arts Center - Jesus Christ Superstar - Marinette
DESCRIPTION:Co-Produced by Coastal Players and Bayshore Arts CenterPG13\nWhat’s the buzz? The first musical by Andrew Lloyd Webber and Tim Rice to be produced for the professional stage\, Jesus Christ Superstar has wowed audiences for over 50 years. A timeless work\, the rock opera is set against the backdrop of an extraordinary and universally known series of events but seen\, unusually\, through the eyes of Judas Iscariot. Loosely based on the Gospels of Matthew\, Mark\, Luke and John\, Superstar follows the last week of Jesus Christ’s life. The story\, told entirely through song\, explores the personal relationships and struggles between Jesus\, Judas\, Mary Magdalene\, his disciples\, his followers and the Roman Empire.The iconic 1970s rock score contains such well-known numbers as “Superstar\,” “I Don’t Know How to Love Him” and “Gethsemane.” A true global phenomenon and perfect pick for schools\, community theaters and professionals alike\, Superstar continues to touch new generations of audiences and performers.\nDirected by Chase Grabowski\nDrinks/Concessions are available for purchase by Embers 1871
URL:https://upbarreview.com/event/bayshore-arts-center-jesus-christ-superstar-marinette/2025-04-11/
CATEGORIES:Menominee
END:VEVENT
BEGIN:VEVENT
DTSTART;TZID=UTC:20250411T200000
DTEND;TZID=UTC:20250411T230000
DTSTAMP:20260421T111258
CREATED:20250207T191746Z
LAST-MODIFIED:20250207T191746Z
UID:10002949-1744401600-1744412400@upbarreview.com
SUMMARY:The Granada - Karaoke Night - Escanaba
DESCRIPTION:Welcome to the Hottest Karaoke show in Town! Every Friday at The Granada in Escanaba\, MI Starts at 9:00 pm\nCreate your FREE Performer Account with Songbooks Online App to Browse the Karaoke song library\, keep a favorites list and submit your song requests remotely! Use Show ID: MSK23 after you create your account. You can also just tell me your name and the song you want if you don’t know how to install an app.
URL:https://upbarreview.com/event/the-granada-karaoke-night-escanaba/2025-04-11/
LOCATION:The Granada\, 330 S 10th St\, Escanaba\, MI
CATEGORIES:Menominee
END:VEVENT
BEGIN:VEVENT
DTSTART;TZID=UTC:20250411T210000
DTEND;TZID=UTC:20250411T233000
DTSTAMP:20260421T111259
CREATED:20250403T021054Z
LAST-MODIFIED:20250403T021054Z
UID:10003922-1744405200-1744414200@upbarreview.com
SUMMARY:Round 2 - Karaoke - Iron Mountain
DESCRIPTION:Karaoke Every Other Friday at Round 2 9pm to 1am
URL:https://upbarreview.com/event/round-2-karaoke-iron-mountain/2025-04-11/
LOCATION:Round 2\, 407 S Stephenson Ave\, Iron Mountain\, MI\, 49801
CATEGORIES:Ironmountain
END:VEVENT
BEGIN:VEVENT
DTSTART;TZID=UTC:20250412T080000
DTEND;TZID=UTC:20250412T220000
DTSTAMP:20260421T111259
CREATED:20250403T001008Z
LAST-MODIFIED:20250403T001008Z
UID:10003719-1744444800-1744495200@upbarreview.com
SUMMARY:Wausaukee Bowl - Up North Mud Mowers - Escanaba
DESCRIPTION:Get ready for some action packed off road fun. We will be making our way on a long adventure of river crossings\, hill climbs\, bog runs and more. If we get a wet spring we could even find spots where you could need a snorkel for those that want a challenge. We will most likely ride up Friday evening so we can have a full day of riding on Saturday. The cabin will be full but we have room for campers and tents at the public campsite which is a 5 min tractor ride from the cabin. Some outdoor space is available at the cabin as well for campers and tents. If you require power please bring a generator\, we run the cabin off of solar and a small generator. Firewood will be available as well. Please be respectful and leave the area cleaner than you found it. Looking forward to an action packed weekend. Let me know if you have any questions.
URL:https://upbarreview.com/event/wausaukee-bowl-up-north-mud-mowers-escanaba/2025-04-12/
LOCATION:Wausaukee Bowl\, 326 Main St\, Wausaukee\, WI
CATEGORIES:Menominee
END:VEVENT
BEGIN:VEVENT
DTSTART;TZID=UTC:20250412T083000
DTEND;TZID=UTC:20250412T170000
DTSTAMP:20260421T111259
CREATED:20250403T001110Z
LAST-MODIFIED:20250403T001110Z
UID:10003721-1744446600-1744477200@upbarreview.com
SUMMARY:Lavender Spirit Healing - Beginners Mediumship - Escanaba
DESCRIPTION:Discover the fundamentals of spirit communication in the Beginners Mediumship class. This beginner workshop will guide you through essential techniques and practices to enhance your intuitive skills and deepen your connection to the unseen. Recommended Reading List to continue your skills\, Materials and Lunch provided.\n$111 per person\nDirect Sign Up:\nhttps://www.vagaro.com/…/T5I5eOerrPToE6DwdJ…
URL:https://upbarreview.com/event/lavender-spirit-healing-beginners-mediumship-escanaba/
LOCATION:544 Van Buren Ave\, Wausaukee\, WI\, 54177
CATEGORIES:Menominee
END:VEVENT
BEGIN:VEVENT
DTSTART;TZID=UTC:20250412T090000
DTEND;TZID=UTC:20250412T120000
DTSTAMP:20260421T111259
CREATED:20250402T234637Z
LAST-MODIFIED:20250402T234637Z
UID:10003388-1744448400-1744459200@upbarreview.com
SUMMARY:Wells Sports Complex - 2025-2026 Tryout - Escanaba
DESCRIPTION:We are excited to announce our tryout for the 2025-2026 season!!\nGirls Tier 2\, 14U & 19U\nRegister at https://forms.gle/mkhuaEgSr6gEthyr5\nIf you are unable to attend the tryout\, please register and send us an email at superioricebreakers@gmail.com
URL:https://upbarreview.com/event/wells-sports-complex-2025-2026-tryout-escanaba/
LOCATION:Wells Sports Complex\, 1647 17.4 Rd\, Escanaba\, MI
CATEGORIES:Menominee
END:VEVENT
BEGIN:VEVENT
DTSTART;TZID=UTC:20250412T100000
DTEND;TZID=UTC:20250412T120000
DTSTAMP:20260421T111259
CREATED:20250403T011153Z
LAST-MODIFIED:20250403T011207Z
UID:10003787-1744452000-1744459200@upbarreview.com
SUMMARY:Dickinson County Library - Glow in the Dark Egg Hunt - Iron Mountain
DESCRIPTION:Egg hunt at the library for ages birth-12! Registration is not required; however\, space is limited\, and participants will be allowed in on a first come first-serve basis. Sponsored by the Friends of the Library.
URL:https://upbarreview.com/event/dickinson-county-library-glow-in-the-bark-egg-hunt-iron-mountain/
LOCATION:Dickinson County Library\, 401 Iron Mountain St\, Iron Mountain\, MI\, 49801
CATEGORIES:Ironmountain
END:VEVENT
BEGIN:VEVENT
DTSTART;TZID=UTC:20250412T100000
DTEND;TZID=UTC:20250412T120000
DTSTAMP:20260421T111259
CREATED:20250403T013849Z
LAST-MODIFIED:20250403T013849Z
UID:10003805-1744452000-1744459200@upbarreview.com
SUMMARY:Iron Mountain Senior Center - Senior Crafting Connections
DESCRIPTION:Senior Crafting Connections is hosting a community wide event in April! All senior citizens are welcome to join us for a fun-filled card-making event – where creativity meets great conversation. Please send this along to anyone who might be interested!
URL:https://upbarreview.com/event/iron-mountain-senior-center-senior-crafting-connections/
LOCATION:Iron Mountain Senior Center\, 700 Crystal Lake Blvd\, Iron Mountain\, MI
CATEGORIES:Ironmountain
END:VEVENT
BEGIN:VEVENT
DTSTART;TZID=UTC:20250412T100000
DTEND;TZID=UTC:20250412T120000
DTSTAMP:20260421T111259
CREATED:20250403T015126Z
LAST-MODIFIED:20250403T015126Z
UID:10003821-1744452000-1744459200@upbarreview.com
SUMMARY:Kingsford Guitar - Winter Acoustic Jazz Jam Session - Iron Mountain
DESCRIPTION:Winter Acoustic Jazz Jam SessionAt the Iron Mountain Dickinson County Library Main BranchSaturdays 10 am – 12 pm January-April\nWe’ll be playing out of The Real Book Sixth Edition. Each session will start with the same 5 songs and after that open song requests. If you want to try out a song not in the Real Book bring a few copies of the lead sheet and we’ll give it a shot. Taking a turn improvising is encouraged\, but not required.\nThe first 5 songs:Night Train – page 304Satin Doll – page 349The Saga of Harrison Crabfeathers – page 348Scotch & Soda – page 350I Could Write a Book – page 186\nAnyone interested in trying out Jazz is welcome. I have cheat sheets and tips to get you up to speed. If you have any questions you can reach out to me at alyssa@kingsfordguitar.com or 906-970-9204. Email or texting is best
URL:https://upbarreview.com/event/kingsford-guitar-winter-acoustic-jazz-jam-session-iron-mountain/2025-04-12/
LOCATION:Kingsford Guitar\, 401 Iron Mountain St
CATEGORIES:Ironmountain
END:VEVENT
BEGIN:VEVENT
DTSTART;TZID=UTC:20250412T100000
DTEND;TZID=UTC:20250412T123000
DTSTAMP:20260421T111259
CREATED:20250403T001426Z
LAST-MODIFIED:20250403T001426Z
UID:10003724-1744452000-1744461000@upbarreview.com
SUMMARY:Country Roads Bar & Grill - Mini Golf - Wausaukee
DESCRIPTION:4 person teams. $20/team. Make a stop at each bar and end at Amberg Pub for prizes 
URL:https://upbarreview.com/event/country-roads-bar-grill-mini-golf-wausaukee/
LOCATION:Country Roads Bar & Grill\, W8901 Co Rd C\, Wausaukee\, WI
CATEGORIES:Menominee
END:VEVENT
BEGIN:VEVENT
DTSTART;TZID=UTC:20250412T100000
DTEND;TZID=UTC:20250412T130000
DTSTAMP:20260421T111259
CREATED:20250402T234121Z
LAST-MODIFIED:20250402T234121Z
UID:10003347-1744452000-1744462800@upbarreview.com
SUMMARY:New Life Church - Easter Egg Hunt - Escanaba
DESCRIPTION:Family Easter Egg HuntChildren (ages 2 years- 5th Grade)Prizes and lots of Candy! FreeThere are 2 time slots available:This Should help with overcrowding and ensure that everyone has a great timeSwing by at either 11:00 am or 1:00 pm\, your choice!
URL:https://upbarreview.com/event/new-life-church-easter-egg-hunt-escanaba/
LOCATION:New Life Church Escanaba\, 2005 8th Ave\, Escanaba\, MI
CATEGORIES:Menominee
END:VEVENT
BEGIN:VEVENT
DTSTART;TZID=UTC:20250412T100000
DTEND;TZID=UTC:20250412T140000
DTSTAMP:20260421T111259
CREATED:20250207T201054Z
LAST-MODIFIED:20250207T201054Z
UID:10003108-1744452000-1744466400@upbarreview.com
SUMMARY:Blazing Bear Homestead - Baby Goat Cuddle Sessions - Peshtigo
DESCRIPTION:Tiny hooves\, big hearts: Get your cuddles & giggles in with our baby goats!\nBlazing Bear Homestead is excited to offer Baby Goat Cuddle Sessions again in 2025! Immerse yourself in a world of cuddly goats\, where soft fur\, warm snuggles\, and contagious laughter await. Bring your loved ones or come solo – our friendly goats are here to make your heart happy. Casi will be there to answer any questions you have\, help you get some great pictures\, and tell you all about our little herd.\nPrice is per person participating\, maximum of 6 per time slot. Each person will get a small cup of grain to feed to the goats that are old enough to have them. We provide benches for you to sit on and each guest gets a complimentary beverage to enjoy.\nIf you would like a private session\, you are welcome to buy out all tickets for that time slot\, or contact us to set up a special session time. Please arrive 5 minutes early to sign waivers. Adults MUST accompany children 12 years of age and under at all times. Children 24 months and under get in free. Human attendees only\, no dogs/pets/outside animals of any kind.\nNOTE: These tickets are non-refundable. Baby Goat Cuddle Sessions are held in our detached garage\, rain or shine. The room is not climate controlled so please dress for the weather. We do not yet have a public restroom\, so please plan accordingly.\nSaturdaysMarch-July30 minute sessions starting at 10am\, 10:40am\, 11:20am\, 12pm\, 12:40pm\, 1:20pm\, and 2pm.\nBuy tickets here: https://www.blazingbearhomestead.net/goatevents
URL:https://upbarreview.com/event/blazing-bear-homestead-baby-goat-cuddle-sessions-peshtigo/2025-04-12/
LOCATION:Blazing Bear Homestead\, W3070 Hale School Rd\, Peshtigo\, WI\, 54157
CATEGORIES:Menominee
END:VEVENT
BEGIN:VEVENT
DTSTART;TZID=UTC:20250412T110000
DTEND;TZID=UTC:20250412T130000
DTSTAMP:20260421T111259
CREATED:20250403T004450Z
LAST-MODIFIED:20250403T004450Z
UID:10003769-1744455600-1744462800@upbarreview.com
SUMMARY:Saunders Point Brewing - Larger Succulent Garden Workshop - Gladstone
DESCRIPTION:We were able to pull together another workshop to build your own succulent garden. This garden is larger than the other sold-out class. Ceramic planter measures 9″ across and the plants will be a larger size. Cost is $60Join us on a Saturday afternoon to sip some craft beer and play with plants. There are only 14 spots available. Book your spot by Venmo @trottersfloral or come in the flower shop or call to pay. 906 428-3130
URL:https://upbarreview.com/event/saunders-point-brewing-larger-succulent-garden-workshop-gladstone/
LOCATION:Saunders Point Brewing\, 8199 M-35\, Gladstone\, MI
CATEGORIES:Menominee
END:VEVENT
BEGIN:VEVENT
DTSTART;TZID=UTC:20250412T110000
DTEND;TZID=UTC:20250412T130000
DTSTAMP:20260421T111259
CREATED:20250403T011810Z
LAST-MODIFIED:20250403T011810Z
UID:10003791-1744455600-1744462800@upbarreview.com
SUMMARY:Presents of Mine - Easter Egg Hunt - Iron Mountain
DESCRIPTION:Join Us for an Easter Egg Hunt at Presents of Mine! \n Date: April 12th Time: 11am – 1pm Location: Presents of Mine/The Drug Store\n Find Hidden Eggs & Win Amazing Prizes! KIDS EGGS: Dye-free candy!ADULT EGGS: Discounts up to 25% off your purchaseGOLDEN EGGS: 30% off your purchase and $50 off your purchase\nLimit 1 egg per person – so everyone gets a chance to win!\nBring your whole family for a fun-filled shopping experience!
URL:https://upbarreview.com/event/presents-of-mine-easter-egg-hunt-iron-mountain/
LOCATION:Presents of Mine\, 1112 S Stephenson Ave\, Iron Mountain\, MI
CATEGORIES:Ironmountain
END:VEVENT
BEGIN:VEVENT
DTSTART;TZID=UTC:20250412T120000
DTEND;TZID=UTC:20250412T150000
DTSTAMP:20260421T111259
CREATED:20250403T003316Z
LAST-MODIFIED:20250403T003316Z
UID:10003758-1744459200-1744470000@upbarreview.com
SUMMARY:Sidetrack Restaurant - Lawnmower Pulling Show - Powers
DESCRIPTION:See attached flyer and come down to check out some sooped up mowers! There will be displays\, exhibitions and people on hand to answer questions on this up and coming sport. U.P. Driven\, U.P. Pride! 12-3 CST
URL:https://upbarreview.com/event/sidetrack-restaurant-lawnmower-pulling-show-powers/
LOCATION:Sidetrack Restaurant\, N15903 Pine St\, Powers\, MI
CATEGORIES:Menominee
END:VEVENT
BEGIN:VEVENT
DTSTART;TZID=UTC:20250412T120000
DTEND;TZID=UTC:20250412T150000
DTSTAMP:20260421T111259
CREATED:20250403T024405Z
LAST-MODIFIED:20250403T024405Z
UID:10004185-1744459200-1744470000@upbarreview.com
SUMMARY:The Country Bar - Northern Boarder Wars Arm Wrestling - Niagara
DESCRIPTION:Arm wrestling for every ability\, all ages\, Kids\, Women’s\, amateur and open Men’s classes. venue has great food and atmosphere.Kids will be divided by age and weightEntry fee $5\, Awards to 1st – 3rd\nAmateur right and left hand classesweight classes are70kg\, 78kg\, 86kg\, 95kg\, 105kg\, 105+kgEntry fee $10\, Awards to 1st – 3rd\nLadies right and left 70kg\, 70+kgEntry fee $10\, Cash & Awards 1st-3rd\nMen’s Open right and left70kg\, 78kg\, 86kg\, 95kg\, 105kg\, 105+kgEntry fee $20\, Cash & Awards to 1st – 3rd
URL:https://upbarreview.com/event/the-country-bar-northern-boarder-wars-arm-wrestling-niagara/
CATEGORIES:Ironmountain
END:VEVENT
BEGIN:VEVENT
DTSTART;TZID=UTC:20250412T130000
DTEND;TZID=UTC:20250412T150000
DTSTAMP:20260421T111259
CREATED:20250402T232312Z
LAST-MODIFIED:20250402T232312Z
UID:10003333-1744462800-1744470000@upbarreview.com
SUMMARY:Crazy Joes - Beach Glass Wind Chimes - Escanaba
DESCRIPTION:Join our beach glass workshop to create beautiful wind chimes!The top of your wind chimes is created with a real\, large starfish. Each string of beach glass will swing from the arms of the starfish to create a beautiful sound and look. Participants get to choose the beach glass colors of their choice. Perfect to hang and enjoy.Ages 10 and up welcome
URL:https://upbarreview.com/event/crazy-joes-beach-glass-wind-chimes-escanaba/
LOCATION:Crazy Joes\, 224 Stephenson Ave\, Escanaba\, MI
CATEGORIES:Menominee
END:VEVENT
BEGIN:VEVENT
DTSTART;TZID=UTC:20250412T130000
DTEND;TZID=UTC:20250412T160000
DTSTAMP:20260421T111259
CREATED:20250402T202938Z
LAST-MODIFIED:20250402T203038Z
UID:10003204-1744462800-1744473600@upbarreview.com
SUMMARY:The Craft Cave - Bunny Bait - Marinette
DESCRIPTION:Painted and decoupaged bunny soup can. Adult class BYOB cost 20$. Call to pre pay and sign up at 715-587-4643.
URL:https://upbarreview.com/event/the-craft-cave-bunny-bait-marinette/2025-04-12/
LOCATION:The Craft Cave\, 605 Main St.\, Marinette\, WI\, 54143\, United States
CATEGORIES:Menominee
END:VEVENT
BEGIN:VEVENT
DTSTART;TZID=UTC:20250412T150000
DTEND;TZID=UTC:20250412T180000
DTSTAMP:20260421T111259
CREATED:20250402T214346Z
LAST-MODIFIED:20250402T214346Z
UID:10003258-1744470000-1744480800@upbarreview.com
SUMMARY:Spirit House - Sparkle & Shine - Menominee
DESCRIPTION:Spirit House Distillery\, MI is teaming up with Knotted Chain Permanent Jewelry for the perfect evening of yummy drinks & permanent jewelry. Permanent Bracelets\, Anklets\, Necklaces & Rings will be available! Over 40+ Chains and 100+ charms.\nCrafted in-house at Spirit House Distillery & Cocktail Lounge\, these featured cocktails shine with premium\, handcrafted spirits—expertly distilled for a one-of-a-kind experience will be featured this night:\nPrincess Cut A shimmering blend of Spirit House Orange Vodka\, Spirit House Coconut Rum\, and almond\, kissed with white cranberry and fresh lime. Smooth\, sparkling\, and effortlessly elegant.\nBling & Tonic A luminous mix of Spirit House Botanical Gin\, sweet cranberry\, and crisp tonic\, shimmering with a golden glow for the ultimate rose gold vibe. Refreshing\, radiant\, and effortlessly luxe.\nBe sure to come visit Knotted Chain Permanent Jewelry and enjoy all that Spirit House has to offer! Bring your family or grab a friend and be sure to help spread the word!
URL:https://upbarreview.com/event/spirit-house-sparkle-shine-menominee/
LOCATION:Spirit House\, 533 10th Ave\, Menominee\, MI 49858\, Menominee\, MI\, 49858\, United States
CATEGORIES:Menominee
END:VEVENT
BEGIN:VEVENT
DTSTART;TZID=UTC:20250412T160000
DTEND;TZID=UTC:20250412T180000
DTSTAMP:20260421T111259
CREATED:20250402T211347Z
LAST-MODIFIED:20250402T211347Z
UID:10003226-1744473600-1744480800@upbarreview.com
SUMMARY:Calvary Church of God - Messiah Inquest Drama - Marinette
DESCRIPTION:Calvary drama team presents:\n“Messiah Inquest.”\nIn a contemporary courtroom\, the characters in the real life drama of the last days of Christ take the witness stand to examine the question\, “Was Jesus the Messiah?” Witnesses include a man healed from blindness\, Judas Iscariot\, Caiaphas\, Pontius Pilate\, Joseph of Arimathea\, Mary Magdalene\, the captain of the guard\, and Simon Peter. Emotional tension runs high as attorneys for both the defense and prosecution grill the witnesses to prove their cases. The audience\, cast as the jury\, makes the final decision. A riveting and unforgettable play. Are you ready to help make the final decision?\n**About 90 minutes.\n**Childcare provided for both showings 6wks to 5th grade.\n**No tickets needed.
URL:https://upbarreview.com/event/calvary-church-of-god-messiah-inquest-drama-marinette/2025-04-12/
LOCATION:Calvary Church\, W1498 State Highway 64\, Marinette\, WI
CATEGORIES:Menominee
END:VEVENT
BEGIN:VEVENT
DTSTART;TZID=UTC:20250412T170000
DTEND;TZID=UTC:20250412T200000
DTSTAMP:20260421T111259
CREATED:20250402T214536Z
LAST-MODIFIED:20250402T214536Z
UID:10003260-1744477200-1744488000@upbarreview.com
SUMMARY:McCrafties - Nerd Night - Menominee
DESCRIPTION:Join us for Nerd Night 2025\, an enchanting evening filled making your dream wand. We provide the wand and potion ingredients (glazes or paints) to make your wand unique to you. While you bring your own elixir of dreams and wonders.Get ready to charm your friends and family with your own unique creations!\n• Reserve your spot today for $10.The $10 comes off your total for the end of the night.• You do not need to make the wand. All of our ceramics are available during this after hours evening.• Prices of our ceramics vary depending on the item.\nCall 715-440-5959 orSign-up onlinehttps://mccraftiellc.square.site/\n\nCLASS REFUND POLICY:\n-full in studio credit if cancellation is 1 week prior to the class-50% in studio credit up to 24 hours prior to class.-less than 24 hours notice\, no credit-NO SHOW/ NO CALL/NO CREDIT
URL:https://upbarreview.com/event/mccrafties-nerd-night-menominee/
LOCATION:McCrafties\, 625 1st St\, Menominee\, MI\, 49858\, United States
CATEGORIES:Menominee
END:VEVENT
END:VCALENDAR