BEGIN:VCALENDAR
VERSION:2.0
PRODID:-//UP BAR REVIEW - ECPv6.14.2//NONSGML v1.0//EN
CALSCALE:GREGORIAN
METHOD:PUBLISH
X-WR-CALNAME:UP BAR REVIEW
X-ORIGINAL-URL:https://upbarreview.com
X-WR-CALDESC:Events for UP BAR REVIEW
REFRESH-INTERVAL;VALUE=DURATION:PT1H
X-Robots-Tag:noindex
X-PUBLISHED-TTL:PT1H
BEGIN:VTIMEZONE
TZID:UTC
BEGIN:STANDARD
TZOFFSETFROM:+0000
TZOFFSETTO:+0000
TZNAME:UTC
DTSTART:20250101T000000
END:STANDARD
END:VTIMEZONE
BEGIN:VEVENT
DTSTART;TZID=UTC:20250409T100000
DTEND;TZID=UTC:20250409T180000
DTSTAMP:20260421T111710
CREATED:20250403T014201Z
LAST-MODIFIED:20250403T014201Z
UID:10003808-1744192800-1744221600@upbarreview.com
SUMMARY:GFWC - Used Book Sale - Iron Mountain
DESCRIPTION:We are collecting gently used books for our Used Book Sale. Fiction\, non-fiction\, childrens and more.\nBring them by Midtown Mall\, Monday and Tuesday\, April 7th – 8th\, 2025 from 10 am – 4 pm.\nWe do not accept magazines\, dictionaries\, bibles or out-of-date reference material and certain romance books
URL:https://upbarreview.com/event/gfwc-used-book-sale-iron-mountain/2025-04-09/
LOCATION:GFWC\, 1108 S Stephenson Ave\, Iron Mountain\, MI
CATEGORIES:Ironmountain
END:VEVENT
BEGIN:VEVENT
DTSTART;TZID=UTC:20250409T110000
DTEND;TZID=UTC:20250409T123000
DTSTAMP:20260421T111710
CREATED:20250403T014823Z
LAST-MODIFIED:20250403T014823Z
UID:10003818-1744196400-1744201800@upbarreview.com
SUMMARY:VA Medical Center - Caregiver Monthly Social - Iron Mountain
DESCRIPTION:Calling all Veterans and Caregivers! Join us for a cozy morning of connection and conversation.\nDrop in on April 9th (11:00 AM – 12:30 PM CT) for some refreshments\, friendly faces\, and an guest speaker. It’s the perfect chance to share stories\, swap tips\, and meet others who get what you’re going through.\nNo agenda\, no pressure – just good people and good conversation. See you there!
URL:https://upbarreview.com/event/va-medical-center-caregiver-monthly-social-iron-mountain/
LOCATION:Iron Mountain VA Medical Center\, 325 E H St\, Iron Mountain\, MI\, 49801
CATEGORIES:Ironmountain
END:VEVENT
BEGIN:VEVENT
DTSTART;TZID=UTC:20250409T130000
DTEND;TZID=UTC:20250409T160000
DTSTAMP:20260421T111710
CREATED:20250403T015518Z
LAST-MODIFIED:20250403T015518Z
UID:10003826-1744203600-1744214400@upbarreview.com
SUMMARY:Bored Bard Games - Board Games - Iron Mountain
DESCRIPTION:Come join us for unique and engaging games and make a few new friends along the way. Plus it is all FUN & FREE!
URL:https://upbarreview.com/event/bored-bard-games-board-games-iron-mountain/2025-04-09/
LOCATION:Bored Bard Games\, 224 E Hughitt St\, Iron Mountain\, mi\, 49801
CATEGORIES:Ironmountain
END:VEVENT
BEGIN:VEVENT
DTSTART;TZID=UTC:20250409T160000
DTEND;TZID=UTC:20250409T170000
DTSTAMP:20260421T111710
CREATED:20250207T201806Z
LAST-MODIFIED:20250207T201806Z
UID:10003131-1744214400-1744218000@upbarreview.com
SUMMARY:Farnsworth Public Library - 1903 Book Club - Oconto
DESCRIPTION:The 1903 Book Club meets the 2nd Wednesday of each month. At our February meeting we will be discussing Lessons in Chemistry by Bonnie Garmus. Join us for great discussions of some wonderful books!
URL:https://upbarreview.com/event/farnsworth-public-library-1903-book-club-oconto-2/2025-04-09/
LOCATION:Farnsworth Public Library\, 715 Main St\, Oconto\, WI
CATEGORIES:Menominee
END:VEVENT
BEGIN:VEVENT
DTSTART;TZID=UTC:20250409T160000
DTEND;TZID=UTC:20250409T180000
DTSTAMP:20260421T111710
CREATED:20250402T214129Z
LAST-MODIFIED:20250402T214129Z
UID:10003256-1744214400-1744221600@upbarreview.com
SUMMARY:Exploring Early Childhood - Menominee
DESCRIPTION:The Great Start Collaborative of Menominee County will host the third annual Exploring Early Childhood Event on Wednesday\, April 9th at the Menominee Early Learning Center (former Central Elementary) at 1800 18th Ave.\, Menominee from 4:00-5:30 p.m. The Collaborative is partnering with numerous organizations to provide Menominee County families with children ages 0-5 the opportunity to learn about the programs and resources available to them. There will also be snacks\, activities\, and raffle prizes for participants. Each child that attends will also receive a free book.\nPlease contact the Collaborative at 906-863-5665 ext. 1028 with any questions you may have
URL:https://upbarreview.com/event/exploring-early-childhood-menominee/
LOCATION:Menominee Early Learning Center\, 1800 18th Ave\, Menominee\, MI
CATEGORIES:Menominee
END:VEVENT
BEGIN:VEVENT
DTSTART;TZID=UTC:20250409T160000
DTEND;TZID=UTC:20250409T210000
DTSTAMP:20260421T111710
CREATED:20250403T022035Z
LAST-MODIFIED:20250403T022035Z
UID:10004062-1744214400-1744232400@upbarreview.com
SUMMARY:Knights of Columbus - Super Bingo - Kingsford
DESCRIPTION:Super Bingo$2\,535 Regular Pay Out(Attendance Permitting)22 Games for $12.00 Per PackPull Tab GamesHot BallComplete Concession StandDoors open at 4:00Early bird games start at 6:00Regular bingo starts at 6:30
URL:https://upbarreview.com/event/knights-of-columbus-super-bingo-kingsford/2025-04-09/
LOCATION:Knights of Columbus Kingsford\, 520 West Breitung Ave\, Kingsford\, MI
CATEGORIES:Ironmountain
END:VEVENT
BEGIN:VEVENT
DTSTART;TZID=UTC:20250409T170000
DTEND;TZID=UTC:20250409T200000
DTSTAMP:20260421T111710
CREATED:20250402T202938Z
LAST-MODIFIED:20250402T203038Z
UID:10003203-1744218000-1744228800@upbarreview.com
SUMMARY:The Craft Cave - Bunny Bait - Marinette
DESCRIPTION:Painted and decoupaged bunny soup can. Adult class BYOB cost 20$. Call to pre pay and sign up at 715-587-4643.
URL:https://upbarreview.com/event/the-craft-cave-bunny-bait-marinette/2025-04-09/
LOCATION:The Craft Cave\, 605 Main St.\, Marinette\, WI\, 54143\, United States
CATEGORIES:Menominee
END:VEVENT
BEGIN:VEVENT
DTSTART;TZID=UTC:20250409T173000
DTEND;TZID=UTC:20250409T200000
DTSTAMP:20260421T111710
CREATED:20250403T023823Z
LAST-MODIFIED:20250403T023823Z
UID:10004171-1744219800-1744228800@upbarreview.com
SUMMARY:Mikes on Main - Landowner Dinner - Norway
DESCRIPTION:We are hosting our landowner dinner to thank them for allowing us to use their land during snowmobile season.\nMembers pay $15 for the dinnerNon-Members pay $20 for the dinner\nPlease lets us know by March 31st so we can give an accurate headcount.
URL:https://upbarreview.com/event/mikes-on-main-landowner-dinner-norway/
CATEGORIES:Ironmountain
END:VEVENT
BEGIN:VEVENT
DTSTART;TZID=UTC:20250409T173000
DTEND;TZID=UTC:20250409T210000
DTSTAMP:20260421T111710
CREATED:20250403T004234Z
LAST-MODIFIED:20250403T004234Z
UID:10003765-1744219800-1744232400@upbarreview.com
SUMMARY:Saunders Point Brewing - Cornhole Night - Gladstone
DESCRIPTION:Tournament format with randomly chosen teams\, $10 buy-in\, and payouts determined by number of teams entered. Bring your A-game\, friends\, and love of great beer!
URL:https://upbarreview.com/event/saunders-point-brewing-cornhole-night-gladstone/2025-04-09/
LOCATION:Saunders Point Brewing\, 8199 M-35\, Gladstone\, MI
CATEGORIES:Menominee
END:VEVENT
BEGIN:VEVENT
DTSTART;TZID=UTC:20250409T180000
DTEND;TZID=UTC:20250409T210000
DTSTAMP:20260421T111711
CREATED:20250403T023607Z
LAST-MODIFIED:20250403T023607Z
UID:10004164-1744221600-1744232400@upbarreview.com
SUMMARY:True North Outpost - Adult Climb - Norway
DESCRIPTION:Join us at our Basecamp Climbing Gym every Wednesday evening from 6pm to 8pm for Adult Climb. All skill levels welcome!\n$15 includes shoe rentals
URL:https://upbarreview.com/event/true-north-outpost-adult-climb-norway-3/2025-04-09/
LOCATION:True North Outpost\, W 5768 Old Piers Gorge Rd.\, Norway\, MI\, 49870
CATEGORIES:Ironmountain
END:VEVENT
BEGIN:VEVENT
DTSTART;TZID=UTC:20250410T080000
DTEND;TZID=UTC:20250410T170000
DTSTAMP:20260421T111711
CREATED:20241202T212718Z
LAST-MODIFIED:20241202T212718Z
UID:10002542-1744272000-1744304400@upbarreview.com
SUMMARY:Biehl Bridges to Recovery - Overeaters Anonymous - Marinette
DESCRIPTION:A new year! A new you! Want to know if you’re an overeater? Struggling to find support? Wanting support? Come join us on Thursday evenings from 5:30pm-6:30pm.
URL:https://upbarreview.com/event/biehl-bridges-to-recovery-overeaters-anonymous-marinette/2025-04-10/
LOCATION:Biehl Bridge To Recovery\, 3123 Shore Dr\, Marinette\, WI\, 54143
CATEGORIES:Menominee
END:VEVENT
BEGIN:VEVENT
DTSTART;TZID=UTC:20250410T100000
DTEND;TZID=UTC:20250410T180000
DTSTAMP:20260421T111711
CREATED:20250403T014201Z
LAST-MODIFIED:20250403T014201Z
UID:10003809-1744279200-1744308000@upbarreview.com
SUMMARY:GFWC - Used Book Sale - Iron Mountain
DESCRIPTION:We are collecting gently used books for our Used Book Sale. Fiction\, non-fiction\, childrens and more.\nBring them by Midtown Mall\, Monday and Tuesday\, April 7th – 8th\, 2025 from 10 am – 4 pm.\nWe do not accept magazines\, dictionaries\, bibles or out-of-date reference material and certain romance books
URL:https://upbarreview.com/event/gfwc-used-book-sale-iron-mountain/2025-04-10/
LOCATION:GFWC\, 1108 S Stephenson Ave\, Iron Mountain\, MI
CATEGORIES:Ironmountain
END:VEVENT
BEGIN:VEVENT
DTSTART;TZID=UTC:20250410T100000
DTEND;TZID=UTC:20250410T233000
DTSTAMP:20260421T111711
CREATED:20241029T145445Z
LAST-MODIFIED:20241029T145445Z
UID:10002241-1744279200-1744327800@upbarreview.com
SUMMARY:Alibi's - Free Pool Thursdays - Marinette
DESCRIPTION:Free Pool!!
URL:https://upbarreview.com/event/alibis-free-pool-thursdays-marinette/2025-04-10/
LOCATION:ALiBi Bar & Grill\, 829 Main St\, Marinette\, WI\, 54143\, United States
CATEGORIES:Menominee
END:VEVENT
BEGIN:VEVENT
DTSTART;TZID=UTC:20250410T140000
DTEND;TZID=UTC:20250410T153000
DTSTAMP:20260421T111711
CREATED:20250207T202405Z
LAST-MODIFIED:20250207T202405Z
UID:10003148-1744293600-1744299000@upbarreview.com
SUMMARY:Farnsworth Public Library - 2nd Thursday Book Club - Oconto
DESCRIPTION:Participants share and discuss books they are reading from all genres and authors. There is no assigned reading – just a great discussion each month about any and all types of books. Join us!
URL:https://upbarreview.com/event/farnsworth-public-library-2nd-thursday-book-club-oconto/2025-04-10/
LOCATION:Farnsworth Public Library\, 715 Main St\, Oconto\, WI
CATEGORIES:Menominee
END:VEVENT
BEGIN:VEVENT
DTSTART;TZID=UTC:20250410T140000
DTEND;TZID=UTC:20250410T160000
DTSTAMP:20260421T111711
CREATED:20250402T220325Z
LAST-MODIFIED:20250402T220325Z
UID:10003273-1744293600-1744300800@upbarreview.com
SUMMARY:Spies Public Library - Thursday Storytime: Money with Integra - Menominee
DESCRIPTION:Stop by for a very special storytime on April 10th with Integra First Federal Credit Union! We’ll We’ll read\, sing\, craft\, and learn sign language. This storytime is geared towards learning all about money!
URL:https://upbarreview.com/event/spies-public-library-thursday-storytime-money-with-integra-menominee/
LOCATION:Spies Public Library\, 940 1st St.\, Menominee\, MI\, 49858
CATEGORIES:Menominee
END:VEVENT
BEGIN:VEVENT
DTSTART;TZID=UTC:20250410T160000
DTEND;TZID=UTC:20250410T180000
DTSTAMP:20260421T111711
CREATED:20250207T193316Z
LAST-MODIFIED:20250207T193355Z
UID:10002995-1744300800-1744308000@upbarreview.com
SUMMARY:Escanaba Public Library - Fiber Arts a la Carte - Escanaba
DESCRIPTION:Fiber Arts a la Carte\, a social gathering for fiber artists ages 16+\, meets at the Escanaba Public Library on the second Thursday of each month.\nIf you crochet\, embroider\, knit\, quilt\, sew\, weave\, or do any other craft that does not involve a machine\, you are welcome! From beginners to the most experienced fiber worker\, join us for a time of socializing\, learning\, and teaching.\nIf you have extra craft materials\, feel free to bring them to swap and share
URL:https://upbarreview.com/event/escanaba-public-library-fiber-arts-a-la-carte-escanaba/2025-04-10/
LOCATION:Escanaba Public Library\, 400 Ludington St\, Escanaba\, WI\, 49829
CATEGORIES:Menominee
END:VEVENT
BEGIN:VEVENT
DTSTART;TZID=UTC:20250410T160000
DTEND;TZID=UTC:20250410T190000
DTSTAMP:20260421T111711
CREATED:20250403T000045Z
LAST-MODIFIED:20250403T000045Z
UID:10003705-1744300800-1744311600@upbarreview.com
SUMMARY:Bethany Lutheran Church - Infant First Aid - Escanaba
DESCRIPTION:Infant First Aid/CPRFor Parents and Expecting Parents \nWhen:April 10th 5pm-8pm\nWhere:Bethany Lutheran Church202 S 11th st. Escanaba\, MI\nCost:$45 per person\nThis course is being offered to parents and expecting parents of children under 1 year of age.\nFor more information\, or to register\, visit www.littlebayaquatics.com\nAmerican Red Cross InstructorCherish Hoylittlebayaquatics@gmail.com920-333-2320www.littlebayaquatics.com
URL:https://upbarreview.com/event/bethany-lutheran-church-infant-first-aid-escanaba/
LOCATION:Bethany Lutheran Church\, 202 S 11th St\, Escanaba\, MI
CATEGORIES:Menominee
END:VEVENT
BEGIN:VEVENT
DTSTART;TZID=UTC:20250410T170000
DTEND;TZID=UTC:20250410T190000
DTSTAMP:20260421T111711
CREATED:20250402T212045Z
LAST-MODIFIED:20250402T212045Z
UID:10003232-1744304400-1744311600@upbarreview.com
SUMMARY:Rec Center - Queer Craft: Open Art Studio - Marinette
DESCRIPTION: Queer Craft: A Monthly LGBTQ+ Open Art Studio & Support Group \nLooking for a space to get creative\, connect with community\, and just be yourself? Queer Craft is a relaxed\, welcoming monthly open art studio for LGBTQ+ folks and allies. Whether you’re here to express yourself through art\, process big feelings\, or simply enjoy a chill creative night with like-minded people\, you’re in the right place!\n No art experience? No worries! We’ve got a diverse selection of materials—paint\, markers\, collage supplies\, and more—so you can create however you like. Each month\, we’ll offer an optional creative prompt for inspiration\, but you’re always free to do your own thing.\n Facilitated by a Licensed Art Therapist – Queer Craft is led by a licensed art therapist\, ensuring a supportive\, affirming space for creative self-expression and connection. Whether you’re making art for fun\, self-care\, or personal exploration\, you’ll have guidance from a professional who understands the power of creative expression.\n Pay What You Can – We want Queer Craft to be accessible to everyone\, no matter their financial situation. A suggested donation of $10 helps cover the cost of art supplies\, utility fees\, and facilitation. If you can give more\, your generosity helps keep this space open for others! If funds are tight\, no worries—pay what you can\, and come create with us. No one will be turned away for lack of funds.\n Where: Marinette Community REC Center (Room 124) When:2nd Thursdays Each Month from 5-7 PM Who: Open to all LGBTQ+ individuals and allies Cost: Suggested $10 Donation\nCome craft\, connect\, and celebrate community with us!
URL:https://upbarreview.com/event/rec-center-queer-craft-open-art-studio-marinette/2025-04-10/
LOCATION:Marinette Recreation Center\, 2501 Pierce Avenue\, Marinette\, WI\, 54143\, United States
CATEGORIES:Menominee
END:VEVENT
BEGIN:VEVENT
DTSTART;TZID=UTC:20250410T170000
DTEND;TZID=UTC:20250410T190000
DTSTAMP:20260421T111711
CREATED:20250403T003529Z
LAST-MODIFIED:20250403T003529Z
UID:10003759-1744304400-1744311600@upbarreview.com
SUMMARY:Saunders Point Brewing - Beach Glass Wind Chime - Gladstone
DESCRIPTION:Join our beach glass workshop to create beautiful wind chimes!The top of your wind chimes is created with a real\, large starfish. Each string of beach glass will swing from the arms of the starfish to create a beautiful sound and look. Participants get to choose the beach glass colors of their choice. Perfect to hang and enjoy.\nAges 10 and up welcome.
URL:https://upbarreview.com/event/saunders-point-brewing-beach-glass-wind-chime-gladstone/
LOCATION:Saunders Point Brewing\, 8199 M-35\, Gladstone\, MI
CATEGORIES:Menominee
END:VEVENT
BEGIN:VEVENT
DTSTART;TZID=UTC:20250410T170000
DTEND;TZID=UTC:20250410T190000
DTSTAMP:20260421T111711
CREATED:20250403T021855Z
LAST-MODIFIED:20250403T021855Z
UID:10004025-1744304400-1744311600@upbarreview.com
SUMMARY:Forever Friendship Drop-in Center - Womens Discussion Group- Kingsford
DESCRIPTION:Safe space for women with mental health diagnoses to discuss issues real women face in society.Play games\, enjoy community outings and events.
URL:https://upbarreview.com/event/forever-friendship-drop-in-center-womens-discussion-group-kingsford-2/2025-04-10/
LOCATION:Forever Friendship Drop-in Center\, 501 S Carpenter Ave\, Kingsford\, MI
CATEGORIES:Ironmountain
END:VEVENT
BEGIN:VEVENT
DTSTART;TZID=UTC:20250410T170000
DTEND;TZID=UTC:20250410T193000
DTSTAMP:20260421T111711
CREATED:20250402T202938Z
LAST-MODIFIED:20250402T203038Z
UID:10003201-1744304400-1744313400@upbarreview.com
SUMMARY:The Craft Cave - Bunny Bait - Marinette
DESCRIPTION:Painted and decoupaged bunny soup can. Adult class BYOB cost 20$. Call to pre pay and sign up at 715-587-4643.
URL:https://upbarreview.com/event/the-craft-cave-bunny-bait-marinette/2025-04-10/
LOCATION:The Craft Cave\, 605 Main St.\, Marinette\, WI\, 54143\, United States
CATEGORIES:Menominee
END:VEVENT
BEGIN:VEVENT
DTSTART;TZID=UTC:20250410T180000
DTEND;TZID=UTC:20250410T210000
DTSTAMP:20260421T111711
CREATED:20241001T040448Z
LAST-MODIFIED:20241001T040448Z
UID:10001881-1744308000-1744318800@upbarreview.com
SUMMARY:Spirit House -Trivia Night! - Menominee
DESCRIPTION:Trivia Night Thursday at Spirit House\, come check out this awesome event!!!!
URL:https://upbarreview.com/event/spirit-house-trivia-night-menominee/2025-04-10/
LOCATION:Spirit House\, 533 10th Ave\, Menominee\, MI 49858\, Menominee\, MI\, 49858\, United States
CATEGORIES:Menominee
END:VEVENT
BEGIN:VEVENT
DTSTART;TZID=UTC:20250410T180000
DTEND;TZID=UTC:20250410T210000
DTSTAMP:20260421T111711
CREATED:20250402T195608Z
LAST-MODIFIED:20250402T195634Z
UID:10003168-1744308000-1744318800@upbarreview.com
SUMMARY:Little River Country Club - DAR Club Blue Door Gala - Menominee
DESCRIPTION:Join us for a night of tastings from local restaurants\, raffle baskets\, live auctions\, entertainment\, and more!
URL:https://upbarreview.com/event/little-river-country-club-dar-club-blue-door-gala/
LOCATION:Little River Country Club\, N2235 Shore Dr\, Marinette\, WI\, 54143
CATEGORIES:Menominee
END:VEVENT
BEGIN:VEVENT
DTSTART;TZID=UTC:20250410T180000
DTEND;TZID=UTC:20250410T210000
DTSTAMP:20260421T111711
CREATED:20250403T013116Z
LAST-MODIFIED:20250403T013116Z
UID:10003800-1744308000-1744318800@upbarreview.com
SUMMARY:Bimbos Wine Press - Live Music - Iron Mountain
DESCRIPTION:Join us April 10th to hear the amazing Norton & Chartier perform LIVE at Bimbos Wine Press from 6pm-9pm!
URL:https://upbarreview.com/event/bimbos-wine-press-live-music-iron-mountain/
LOCATION:Bimbos Wine Press\, 314 E Main\, Iron Mountain\, MI
CATEGORIES:Ironmountain
END:VEVENT
BEGIN:VEVENT
DTSTART;TZID=UTC:20250411T100000
DTEND;TZID=UTC:20250411T180000
DTSTAMP:20260421T111711
CREATED:20250403T014201Z
LAST-MODIFIED:20250403T014201Z
UID:10003810-1744365600-1744394400@upbarreview.com
SUMMARY:GFWC - Used Book Sale - Iron Mountain
DESCRIPTION:We are collecting gently used books for our Used Book Sale. Fiction\, non-fiction\, childrens and more.\nBring them by Midtown Mall\, Monday and Tuesday\, April 7th – 8th\, 2025 from 10 am – 4 pm.\nWe do not accept magazines\, dictionaries\, bibles or out-of-date reference material and certain romance books
URL:https://upbarreview.com/event/gfwc-used-book-sale-iron-mountain/2025-04-11/
LOCATION:GFWC\, 1108 S Stephenson Ave\, Iron Mountain\, MI
CATEGORIES:Ironmountain
END:VEVENT
BEGIN:VEVENT
DTSTART;TZID=UTC:20250411T130000
DTEND;TZID=UTC:20250411T150000
DTSTAMP:20260421T111711
CREATED:20250402T214949Z
LAST-MODIFIED:20250402T214949Z
UID:10003264-1744376400-1744383600@upbarreview.com
SUMMARY:McCrafties - Blossoming Hydrangea Epoxy Art - Menominee
DESCRIPTION:Join us for this adorable “Blooming Hydrangea Epoxy Glass art” event at McCraftie’s. The colors are customizable to match your decor. This is a great girl bonding time\, so grab some friends and join us April 11 at 1:00.\nPRE-PAYMENT of $35 is required to save your spot. Feel free to call the studio with any questions715-440-5959\nOr use our easy to navigate website.\nhttps://mccraftiellc.square.site/\n\n-All skill levels are welcome-We will be using a 12 x 12 canvas along with glass and epoxy-We provide all the necessary suppliesWe look forward to crafting with you\nCLASS REFUND POLICY:\n-full in studio credit if cancellations are 1 week prior to the class-50% in studio credit up to 24 hours prior to the class-less than 24 hours’ notice\, no credit-NO SHOW/NO CALL/NO CREDIT
URL:https://upbarreview.com/event/mccrafties-blossoming-hydrangea-epoxy-art-menominee/
LOCATION:McCrafties\, 625 1st St\, Menominee\, MI\, 49858\, United States
CATEGORIES:Menominee
END:VEVENT
BEGIN:VEVENT
DTSTART;TZID=UTC:20250411T130000
DTEND;TZID=UTC:20250411T150000
DTSTAMP:20260421T111711
CREATED:20250403T022352Z
LAST-MODIFIED:20250403T022352Z
UID:10004099-1744376400-1744383600@upbarreview.com
SUMMARY:Forever Friendship Drop-in Center - Budgeting 101 - Kingsford
DESCRIPTION:Learn how to make the most of a limited income while living within your means.Open to individuals employed or on visibility.We will offer night and day options to include more people but keep the groups small and confidential.
URL:https://upbarreview.com/event/forever-friendship-drop-in-center-budgeting-101-kingsford/2025-04-11/
CATEGORIES:Ironmountain
END:VEVENT
BEGIN:VEVENT
DTSTART;TZID=UTC:20250411T130000
DTEND;TZID=UTC:20250411T160000
DTSTAMP:20260421T111711
CREATED:20250402T200556Z
LAST-MODIFIED:20250402T200556Z
UID:10003176-1744376400-1744387200@upbarreview.com
SUMMARY:CJ's Glass - Hummingbird or Butterfly Workshop - Marinette
DESCRIPTION:Call or msg to register 608-354-2303(This class is available for your individual or small group custom date/time)$65Class size is 6Ages 12+PreRegistration required by call or msg toCJ 608-354-2303Choose any color you would like to create your unique Suncatcher. Each person chooses one design. You will be instructed in the copper foil method of stained glass (patterning\, score\, break\, grind\, foil\, solder\, finish).Call or msg with questions or to schedule your custom individual or small group time/project.
URL:https://upbarreview.com/event/cjs-glass-hummingbird-or-butterfly-workshop-marinette/2025-04-11/
LOCATION:CJ’s Glass\, 802 Main St\, Marinette\, WI\, 54143
CATEGORIES:Menominee
END:VEVENT
BEGIN:VEVENT
DTSTART;TZID=UTC:20250411T163000
DTEND;TZID=UTC:20250411T190000
DTSTAMP:20260421T111711
CREATED:20250402T203859Z
LAST-MODIFIED:20250402T203859Z
UID:10003208-1744389000-1744398000@upbarreview.com
SUMMARY:Saint Thomas Aquinas - CCAC Fish Fry - Marinette
DESCRIPTION:Famous Walleye\, Perch\, or Grilled Cheese Dinners served up by the CCAC.
URL:https://upbarreview.com/event/saint-thomas-aquinas-ccac-fish-fry-marinette/
LOCATION:Saint Thomas Aquinas Academy\, 1200 Main St\, Marinette\, WI\, 54143
CATEGORIES:Menominee
END:VEVENT
BEGIN:VEVENT
DTSTART;TZID=UTC:20250411T170000
DTEND;TZID=UTC:20250411T190000
DTSTAMP:20260421T111711
CREATED:20250403T000747Z
LAST-MODIFIED:20250403T000747Z
UID:10003717-1744390800-1744398000@upbarreview.com
SUMMARY:Lavender Spirit Healing - Reiki 1 Workshop - Wausaukee
DESCRIPTION:Reiki 1\nGreat for beginners or a refresher if its been a bit.\nLearn the art of Reiki\, an ancient practice that utilizes energy healing to reduce stress\, improve overall well-being\, and facilitate physical and emotional healing. This Reiki 1 workshop includes lessons on chakras\, intuitive development exercises\, and the ability to perform Reiki on oneself or others within close range.\n$111 per person(50% deposit at time of enrollment\, 50% due at time of class)\nDirect Sign Up:\nhttps://www.vagaro.com/…/P0yHORYpKnZyeQL4Sf…
URL:https://upbarreview.com/event/lavender-spirit-healing-reiki-1-workshop-wausaukee/
LOCATION:544 Van Buren Ave\, Wausaukee\, WI\, 54177
CATEGORIES:Menominee
END:VEVENT
END:VCALENDAR