BEGIN:VCALENDAR
VERSION:2.0
PRODID:-//UP BAR REVIEW - ECPv6.14.2//NONSGML v1.0//EN
CALSCALE:GREGORIAN
METHOD:PUBLISH
X-WR-CALNAME:UP BAR REVIEW
X-ORIGINAL-URL:https://upbarreview.com
X-WR-CALDESC:Events for UP BAR REVIEW
REFRESH-INTERVAL;VALUE=DURATION:PT1H
X-Robots-Tag:noindex
X-PUBLISHED-TTL:PT1H
BEGIN:VTIMEZONE
TZID:UTC
BEGIN:STANDARD
TZOFFSETFROM:+0000
TZOFFSETTO:+0000
TZNAME:UTC
DTSTART:20250101T000000
END:STANDARD
END:VTIMEZONE
BEGIN:VEVENT
DTSTART;TZID=UTC:20250211T080000
DTEND;TZID=UTC:20250211T170000
DTSTAMP:20260424T125419
CREATED:20250207T202600Z
LAST-MODIFIED:20250207T202600Z
UID:10003157-1739260800-1739293200@upbarreview.com
SUMMARY:Job Fair - Oconto
DESCRIPTION:McDonald’s in Oconto\, WI is hiring! Come in for an in-person interview. Job Offers will be made at the event.
URL:https://upbarreview.com/event/job-fair-oconto/2025-02-11/
CATEGORIES:Menominee
END:VEVENT
BEGIN:VEVENT
DTSTART;TZID=UTC:20250211T100000
DTEND;TZID=UTC:20250211T120000
DTSTAMP:20260424T125419
CREATED:20250207T181527Z
LAST-MODIFIED:20250207T181527Z
UID:10002897-1739268000-1739275200@upbarreview.com
SUMMARY:Julie Huebner Pottery & Art Studio - Ceramic Flowers Class - Marinette
DESCRIPTION:Start with raw clay to create 3 ceramic flowers on stems. Your choice of shape\, texture and color. This class is beginner friendly\, you have the choice to come back and glaze your own flowers or I’m happy to glaze them for you.*Cost $45 for 3 flowersYou may add a butterfly for an additional $10.Call 715-938-2546 or message to sign up. Must have six to run class. BYOB**PREREGISTRATION IS REQUIRED
URL:https://upbarreview.com/event/julie-huebner-pottery-art-studio-ceramic-flowers-class-marinette/
LOCATION:Julie Huebner Pottery & Art Studio\, W758 Edwards Ave\, Marinette\, WI
CATEGORIES:Menominee
END:VEVENT
BEGIN:VEVENT
DTSTART;TZID=UTC:20250211T100000
DTEND;TZID=UTC:20250211T130000
DTSTAMP:20260424T125419
CREATED:20250207T193742Z
LAST-MODIFIED:20250207T193742Z
UID:10003010-1739268000-1739278800@upbarreview.com
SUMMARY:Escanaba Public Library - Tech Help Tuesdays - Escanaba
DESCRIPTION:Need help printing from your phone? Setting up Libby on your personal device? Using Zoom? How about getting started on your Chromebook or iPad? Using a Wi-Fi hotspot? Creating an email address? Google searches? or how to use the library’s online catalog?\nWe have the answers and assistance you need! Make an appointment or stop in at the circulation desk. Appointments are one hour (maximum).\nThe Escanaba Public Library staff do not repair computers/devices. The library assumes no liability for personal patron devices.
URL:https://upbarreview.com/event/escanaba-public-library-tech-help-tuesdays-escanaba/2025-02-11/
LOCATION:Escanaba Public Library\, 400 Ludington St\, Escanaba\, WI\, 49829
CATEGORIES:Menominee
END:VEVENT
BEGIN:VEVENT
DTSTART;TZID=UTC:20250211T120000
DTEND;TZID=UTC:20250211T193000
DTSTAMP:20260424T125419
CREATED:20241030T021353Z
LAST-MODIFIED:20241030T021353Z
UID:10002407-1739275200-1739302200@upbarreview.com
SUMMARY:Oak Crest Golf Course - Tuesday Mexican Nights - Norway
DESCRIPTION:It’s back by popular demand. Featuring items such as; tacos\, tostadas\, chimichangas\, taco salad\, quesadillas\, nachos\, and burritos. We will have some Mexican beers to wash it all down. Hope to see you
URL:https://upbarreview.com/event/oak-crest-golf-course-tuesday-mexican-nights-norway-2/2025-02-11/
LOCATION:Oak Crest Golf Course\, N1475 US-8\, Norway\, MI\, 49870
CATEGORIES:Ironmountain
END:VEVENT
BEGIN:VEVENT
DTSTART;TZID=UTC:20250211T150000
DTEND;TZID=UTC:20250211T190000
DTSTAMP:20260424T125419
CREATED:20250207T200114Z
LAST-MODIFIED:20250207T200114Z
UID:10003094-1739286000-1739300400@upbarreview.com
SUMMARY:Peshtigo Pub & Grill - Bingo\, Tacos\, and Happy Hours - Peshtigo
DESCRIPTION:Bingo$1.50 tacosHappy Hours M-F 4-6
URL:https://upbarreview.com/event/peshtigo-pub-grill-bingo-tacos-and-happy-hours-peshtigo/
LOCATION:Peshtigo Pub & Grill\, 350 Oconto Ave\, Peshtigo\, WI\, 54157
CATEGORIES:Menominee
END:VEVENT
BEGIN:VEVENT
DTSTART;TZID=UTC:20250211T160000
DTEND;TZID=UTC:20250211T180000
DTSTAMP:20260424T125419
CREATED:20250207T180620Z
LAST-MODIFIED:20250207T180620Z
UID:10002888-1739289600-1739296800@upbarreview.com
SUMMARY:The Craft Cave - Cup of Love - Marinette
DESCRIPTION:Cup of Joe to go ! Cup of coffee decorated to your liking\, hanging door tag. Adult class BYOB Cost 20$. Call to pre pay and sign up at 715-587-4643
URL:https://upbarreview.com/event/the-craft-cave-cup-of-love-marinette-2/
LOCATION:The Craft Cave\, 605 Main St.\, Marinette\, WI\, 54143\, United States
CATEGORIES:Menominee
END:VEVENT
BEGIN:VEVENT
DTSTART;TZID=UTC:20250211T170000
DTEND;TZID=UTC:20250211T200000
DTSTAMP:20260424T125419
CREATED:20241029T131610Z
LAST-MODIFIED:20241029T131610Z
UID:10002167-1739293200-1739304000@upbarreview.com
SUMMARY:Biehl Bridges to Recovery - All Recovery Meeting - Marinette
DESCRIPTION:This is a meeting for anyone in recovery to talk about Recovery!
URL:https://upbarreview.com/event/biehl-bridges-to-recovery-all-recovery-meeting-marinette/2025-02-11/
LOCATION:Biehl Bridge To Recovery\, 3123 Shore Dr\, Marinette\, WI\, 54143
CATEGORIES:Menominee
END:VEVENT
BEGIN:VEVENT
DTSTART;TZID=UTC:20250211T173000
DTEND;TZID=UTC:20250211T203000
DTSTAMP:20260424T125419
CREATED:20250207T172627Z
LAST-MODIFIED:20250207T172627Z
UID:10002844-1739295000-1739305800@upbarreview.com
SUMMARY:McCrafties - Billy in a Bucket - Menominee
DESCRIPTION:Join us on February 11th at 5:30 to paint “Billy in a Bucket\,” a charming depiction of a cute Billy goat adorned with flowers\, signaling the arrival of spring. This guided painting session will be conducted on a 12 x 12” canvas\, and the cost is $30 per person.\nPRE-PAYMENT of $30 is required to save your spot. Feel free to call the studio with any questions or to sign up. 715-440-5959\nOr use our easy to navigate website.\nhttps://mccraftiellc.square.site/\n-All skill levels are welcome-We provide all the necessary suppliesWe look forward to painting with you\nCLASS REFUND POLICY:\n-full in studio credit if cancellation is 1 week prior to the class-50% in studio credit up to 24 hours prior to the class-less than 24 hours’ notice\, no credit-NO SHOW/NO CALL/NO CREDIT
URL:https://upbarreview.com/event/mccrafties-billy-in-a-bucket-menominee/
LOCATION:McCrafties\, 625 1st St\, Menominee\, MI\, 49858\, United States
CATEGORIES:Menominee
END:VEVENT
BEGIN:VEVENT
DTSTART;TZID=UTC:20250212T130000
DTEND;TZID=UTC:20250212T160000
DTSTAMP:20260424T125419
CREATED:20250207T194821Z
LAST-MODIFIED:20250207T194821Z
UID:10003077-1739365200-1739376000@upbarreview.com
SUMMARY:Judy Bloom Studio - Beginner Watercolor Painting Class - Mushroom - Crivitz
DESCRIPTION:Have you ever wanted to learn to paint with watercolor? Here is your chance. Come join artist Judy Bloom as she guides you to create this beautiful work of art. You will trace this image on watercolor paper so you do not have to fear drawing from scratch. Class fee is $40. and will include all materials to create your 8×10″ painting ready for framing. Feel free to bring snacks\, drinks and friends for a fun afternoon. Painting is a great stress reliever and a relaxing hobby.Call or text me at 931-787-6559 to pre-register for this class. Payment due at event\, cash or check only.
URL:https://upbarreview.com/event/judy-bloom-studio-beginner-watercolor-painting-class-mushroom-crivitz/
LOCATION:Judy Bloom Studio\, 800 Henriette Ave\, Peshtigo\, WI
CATEGORIES:Menominee
END:VEVENT
BEGIN:VEVENT
DTSTART;TZID=UTC:20250212T160000
DTEND;TZID=UTC:20250212T170000
DTSTAMP:20260424T125419
CREATED:20250207T201806Z
LAST-MODIFIED:20250207T201806Z
UID:10003129-1739376000-1739379600@upbarreview.com
SUMMARY:Farnsworth Public Library - 1903 Book Club - Oconto
DESCRIPTION:The 1903 Book Club meets the 2nd Wednesday of each month. At our February meeting we will be discussing Lessons in Chemistry by Bonnie Garmus. Join us for great discussions of some wonderful books!
URL:https://upbarreview.com/event/farnsworth-public-library-1903-book-club-oconto-2/2025-02-12/
LOCATION:Farnsworth Public Library\, 715 Main St\, Oconto\, WI
CATEGORIES:Menominee
END:VEVENT
BEGIN:VEVENT
DTSTART;TZID=UTC:20250212T173000
DTEND;TZID=UTC:20250212T193000
DTSTAMP:20260424T125419
CREATED:20250207T175752Z
LAST-MODIFIED:20250207T175752Z
UID:10002877-1739381400-1739388600@upbarreview.com
SUMMARY:The Craft Cave - Cup of Love - Marinette
DESCRIPTION:Cup of your favorite coffee to go. Decorate to your style\, door hanging tag. Adult class BYOB cost 20$. Call to pre pay and sign up at 715-587-4643
URL:https://upbarreview.com/event/the-craft-cave-cup-of-love-marinette/
LOCATION:The Craft Cave\, 605 Main St.\, Marinette\, WI\, 54143\, United States
CATEGORIES:Menominee
END:VEVENT
BEGIN:VEVENT
DTSTART;TZID=UTC:20250213T080000
DTEND;TZID=UTC:20250213T170000
DTSTAMP:20260424T125419
CREATED:20241202T212718Z
LAST-MODIFIED:20241202T212718Z
UID:10002534-1739433600-1739466000@upbarreview.com
SUMMARY:Biehl Bridges to Recovery - Overeaters Anonymous - Marinette
DESCRIPTION:A new year! A new you! Want to know if you’re an overeater? Struggling to find support? Wanting support? Come join us on Thursday evenings from 5:30pm-6:30pm.
URL:https://upbarreview.com/event/biehl-bridges-to-recovery-overeaters-anonymous-marinette/2025-02-13/
LOCATION:Biehl Bridge To Recovery\, 3123 Shore Dr\, Marinette\, WI\, 54143
CATEGORIES:Menominee
END:VEVENT
BEGIN:VEVENT
DTSTART;TZID=UTC:20250213T090000
DTEND;TZID=UTC:20250213T100000
DTSTAMP:20260424T125419
CREATED:20241203T012051Z
LAST-MODIFIED:20241203T012113Z
UID:10002651-1739437200-1739440800@upbarreview.com
SUMMARY:Hummingbird Cafe - Bible Study with Nancy - Crivitz
DESCRIPTION:A casual group Bible study where we can give information\, discuss anything\, and answer any questions you have or if you want support we are here.
URL:https://upbarreview.com/event/hummingbird-cafe-bible-study-with-nancy-crivitz/2025-02-13/
LOCATION:Hummingibird Cafe\, 508 Henriette Ave\, Crivitz\, WI
CATEGORIES:Menominee
END:VEVENT
BEGIN:VEVENT
DTSTART;TZID=UTC:20250213T090000
DTEND;TZID=UTC:20250213T100000
DTSTAMP:20260424T125419
CREATED:20250207T195324Z
LAST-MODIFIED:20250207T195324Z
UID:10003082-1739437200-1739440800@upbarreview.com
SUMMARY:Hummingbird Cafe - Bible Study w/ Nancy - Crivitz
DESCRIPTION:A casual group Bible study where we can give information\, discuss anything\, and answer any questions you have or if you want support we are here.
URL:https://upbarreview.com/event/hummingbird-cafe-bible-study-w-nancy-crivitz/2025-02-13/
LOCATION:Hummingibird Cafe\, 508 Henriette Ave\, Crivitz\, WI
CATEGORIES:Menominee
END:VEVENT
BEGIN:VEVENT
DTSTART;TZID=UTC:20250213T100000
DTEND;TZID=UTC:20250213T120000
DTSTAMP:20260424T125419
CREATED:20250207T174845Z
LAST-MODIFIED:20250207T174845Z
UID:10002864-1739440800-1739448000@upbarreview.com
SUMMARY:Julie Huebner Pottery & Art Studio - 6'' Wall Flower Class - Marinette
DESCRIPTION:Join me in my studio located in the backyard at W758 Edwards Ave. Marinette. Start with raw clay to create this pretty wall flower. Your choice of shape\, texture and color. This class is beginner friendly\, you have the choice to come back and glaze your own flowers or I’m happy to glaze them for you. Cost $40. Call 715-938-2546 or message to sign up. Must have six to run class. BYOB See less
URL:https://upbarreview.com/event/julie-huebner-pottery-art-studio-6-wall-flower-class-marinette/
LOCATION:Julie Huebner Pottery & Art Studio\, W758 Edwards Ave\, Marinette\, WI
CATEGORIES:Menominee
END:VEVENT
BEGIN:VEVENT
DTSTART;TZID=UTC:20250213T100000
DTEND;TZID=UTC:20250213T233000
DTSTAMP:20260424T125419
CREATED:20241029T145445Z
LAST-MODIFIED:20241029T145445Z
UID:10002233-1739440800-1739489400@upbarreview.com
SUMMARY:Alibi's - Free Pool Thursdays - Marinette
DESCRIPTION:Free Pool!!
URL:https://upbarreview.com/event/alibis-free-pool-thursdays-marinette/2025-02-13/
LOCATION:ALiBi Bar & Grill\, 829 Main St\, Marinette\, WI\, 54143\, United States
CATEGORIES:Menominee
END:VEVENT
BEGIN:VEVENT
DTSTART;TZID=UTC:20250213T130000
DTEND;TZID=UTC:20250213T150000
DTSTAMP:20260424T125419
CREATED:20250207T173413Z
LAST-MODIFIED:20250207T173413Z
UID:10002851-1739451600-1739458800@upbarreview.com
SUMMARY:McCrafties - Frosty Romance - Menominee
DESCRIPTION:Join us February 13th at 1:00 PM to paint the Frosty Romance! This is a two-part class. The first class will focus on creating the “Frosty” with epoxy and painting the base board. The second class will be dedicated to assembling your finished piece.\nPRE-PAYMENT of $30 is required to save your spot. Feel free to call the studio with any questions or to sign up. 715-440-5959\nOr use our easy to navigate website.\nhttps://mccraftiellc.square.site/\n-All skill levels are welcome-We provide all the necessary suppliesWe look forward to crafting with you\nCLASS REFUND POLICY:\n-full in studio credit if cancellation is 1 week prior to the class-50% in studio credit up to 24 hours prior to the class-less than 24 hours’ notice\, no credit-NO SHOW/NO CALL/NO CREDIT
URL:https://upbarreview.com/event/mccrafties-frosty-romance-menominee/
LOCATION:McCrafties\, 625 1st St\, Menominee\, MI\, 49858\, United States
CATEGORIES:Menominee
END:VEVENT
BEGIN:VEVENT
DTSTART;TZID=UTC:20250213T130000
DTEND;TZID=UTC:20250213T170000
DTSTAMP:20260424T125419
CREATED:20250207T182009Z
LAST-MODIFIED:20250207T182009Z
UID:10002901-1739451600-1739466000@upbarreview.com
SUMMARY:CJ's Glass - Heart Plant Stakes - Marinette
DESCRIPTION:come create (2) Heart Plant Stakes!An abundance of colors will be available!$65 includes everythingages 12+. no prior experience neededPre-registration Required.call or msg Cj 608-354-2303class size 6Come learn something new today! You will have hands on teaching in the copper foil method of stained glass to create a beautiful plant stake.. Participants will score and break glass\, grind\, foil and solder. Decorate with curly wire and beads! Please wear closed toed shoes. 
URL:https://upbarreview.com/event/cjs-glass-heart-plant-stakes-marinette/
LOCATION:CJ’s Glass\, 802 Main St\, Marinette\, WI\, 54143
CATEGORIES:Menominee
END:VEVENT
BEGIN:VEVENT
DTSTART;TZID=UTC:20250213T140000
DTEND;TZID=UTC:20250213T153000
DTSTAMP:20260424T125419
CREATED:20250207T202405Z
LAST-MODIFIED:20250207T202405Z
UID:10003146-1739455200-1739460600@upbarreview.com
SUMMARY:Farnsworth Public Library - 2nd Thursday Book Club - Oconto
DESCRIPTION:Participants share and discuss books they are reading from all genres and authors. There is no assigned reading – just a great discussion each month about any and all types of books. Join us!
URL:https://upbarreview.com/event/farnsworth-public-library-2nd-thursday-book-club-oconto/2025-02-13/
LOCATION:Farnsworth Public Library\, 715 Main St\, Oconto\, WI
CATEGORIES:Menominee
END:VEVENT
BEGIN:VEVENT
DTSTART;TZID=UTC:20250213T160000
DTEND;TZID=UTC:20250213T180000
DTSTAMP:20260424T125419
CREATED:20250207T193316Z
LAST-MODIFIED:20250207T193355Z
UID:10002993-1739462400-1739469600@upbarreview.com
SUMMARY:Escanaba Public Library - Fiber Arts a la Carte - Escanaba
DESCRIPTION:Fiber Arts a la Carte\, a social gathering for fiber artists ages 16+\, meets at the Escanaba Public Library on the second Thursday of each month.\nIf you crochet\, embroider\, knit\, quilt\, sew\, weave\, or do any other craft that does not involve a machine\, you are welcome! From beginners to the most experienced fiber worker\, join us for a time of socializing\, learning\, and teaching.\nIf you have extra craft materials\, feel free to bring them to swap and share
URL:https://upbarreview.com/event/escanaba-public-library-fiber-arts-a-la-carte-escanaba/2025-02-13/
LOCATION:Escanaba Public Library\, 400 Ludington St\, Escanaba\, WI\, 49829
CATEGORIES:Menominee
END:VEVENT
BEGIN:VEVENT
DTSTART;TZID=UTC:20250213T160000
DTEND;TZID=UTC:20250213T190000
DTSTAMP:20260424T125419
CREATED:20250207T172245Z
LAST-MODIFIED:20250207T172245Z
UID:10002840-1739462400-1739473200@upbarreview.com
SUMMARY:Spirit House - The Grateful Cheese - Menominee
DESCRIPTION:Hot\, savory and perfect for these chilly temps! Stop out and enjoy gourmet grilled cheese\, cheese curds and other cheesy creations. Serving 4-7pm\nFood carry ins welcome at Spirit House. Doors open at 5pm.
URL:https://upbarreview.com/event/spirit-house-the-grateful-cheese-menominee/
LOCATION:Spirit House\, 533 10th Ave\, Menominee\, MI 49858\, Menominee\, MI\, 49858\, United States
CATEGORIES:Menominee
END:VEVENT
BEGIN:VEVENT
DTSTART;TZID=UTC:20250213T170000
DTEND;TZID=UTC:20250213T190000
DTSTAMP:20260424T125419
CREATED:20250207T181141Z
LAST-MODIFIED:20250207T181141Z
UID:10002893-1739466000-1739473200@upbarreview.com
SUMMARY:The Craft Cave - Cup of Love - Marinette
DESCRIPTION:Hanging door tag ! Cup of your favorite coffee to go. Decorate to your liking. Adult class BYOB cost 20$. Call to sign up and pre pay at 715-587-4643
URL:https://upbarreview.com/event/the-craft-cave-cup-of-love-marinette-3/
LOCATION:The Craft Cave\, 605 Main St.\, Marinette\, WI\, 54143\, United States
CATEGORIES:Menominee
END:VEVENT
BEGIN:VEVENT
DTSTART;TZID=UTC:20250213T180000
DTEND;TZID=UTC:20250213T200000
DTSTAMP:20260424T125419
CREATED:20250207T184726Z
LAST-MODIFIED:20250207T184726Z
UID:10002913-1739469600-1739476800@upbarreview.com
SUMMARY:Bay College - Makin Cake - Escanaba
DESCRIPTION:Bay College is excited to announce the upcoming event\, Makin’ Cake\, a thought-provoking performance by Dasha Kelly Hamilton\, taking place on Thursday\, February 13 at 7pm ET in the Besse Theater on the Escanaba Campus.\nBaking a cake has long been a process requiring patience\, resources\, and a touch of luck. For much of human history\, ingredients were scarce and costly\, chemistry was unpredictable\, and the process spanned days. Even as abundance grew in our nation\, many Americans struggled to afford basic cake ingredients.\nWritten and performed by Dasha Kelly Hamilton—an acclaimed author\, poet laureate\, and create change agent— Makin’ Cake cuts into the history of cake\, revealing what its ingredients and evolution can teach us about race\, class\, and equity in America. The performance combines storytelling\, humor\, and insight to spark meaningful conversations about culture and social change.\nThis event is open to the public and promises to be both refreshing and fun. Following the performance\, attendees are invited to stay for a cake reception\, leaving room for dessert and dialogue.\nTickets are $5 for the general public\, and free for any K-Bay students and employees. Tickets can be purchased online (https://www.tix.com/ticket-sales/baycollege/3755)\, over the phone at (906) 217-4045\, or in person at the Box Office\, located in the Besse Center.\nDon’t miss this incredible opportunity to experience a powerful performance\, meaningful conversations\, and delicious cake. Bring your friends\, family\, and colleagues for an unforgettable evening.\nFor more information\, contact the Bay College Events Department at (906) 217-4040 or events@baycollege.edu.
URL:https://upbarreview.com/event/bay-college-makin-cake-escanaba/
LOCATION:Bay College\, 2801 US-2\, Iron Mountain\, MI
CATEGORIES:Menominee
END:VEVENT
BEGIN:VEVENT
DTSTART;TZID=UTC:20250213T180000
DTEND;TZID=UTC:20250213T210000
DTSTAMP:20260424T125419
CREATED:20241001T040448Z
LAST-MODIFIED:20241001T040448Z
UID:10001873-1739469600-1739480400@upbarreview.com
SUMMARY:Spirit House -Trivia Night! - Menominee
DESCRIPTION:Trivia Night Thursday at Spirit House\, come check out this awesome event!!!!
URL:https://upbarreview.com/event/spirit-house-trivia-night-menominee/2025-02-13/
LOCATION:Spirit House\, 533 10th Ave\, Menominee\, MI 49858\, Menominee\, MI\, 49858\, United States
CATEGORIES:Menominee
END:VEVENT
BEGIN:VEVENT
DTSTART;TZID=UTC:20250213T180000
DTEND;TZID=UTC:20250213T210000
DTSTAMP:20260424T125419
CREATED:20241030T021051Z
LAST-MODIFIED:20241030T021051Z
UID:10002385-1739469600-1739480400@upbarreview.com
SUMMARY:Oak Crest Golf Course - Trivia Time - Norway
DESCRIPTION:It is back by popular demand. Oak Crest Golf Club Thursday Night Trivia. Trivia will start at 6pm sharp\, but come early and enjoy Happy Hour from 4-6pm with a $1.00 off all drinks. Bring your friends and family for a fun couple of hours of laughs and Trivia.
URL:https://upbarreview.com/event/oak-crest-golf-course-trivia-time-norway/2025-02-13/
LOCATION:Oak Crest Golf Course\, N1475 US-8\, Norway\, MI\, 49870
CATEGORIES:Ironmountain
END:VEVENT
BEGIN:VEVENT
DTSTART;TZID=UTC:20250214T103000
DTEND;TZID=UTC:20250214T170000
DTSTAMP:20260424T125419
CREATED:20250207T171813Z
LAST-MODIFIED:20250207T171813Z
UID:10002836-1739529000-1739552400@upbarreview.com
SUMMARY:De P.R. - Grand Opening - Menominee
DESCRIPTION:Come and enjoy our typical dishes\, from a good mofongo to a juicy pork with rice with gandules\, sandwiches and more\, with everything with the seasoning that distinguishes us.\n Address: 2356 10th st menominee Opening date: Friday\, February 14\, 2025  Schedule: 10:30 am\nCome and celebrate our opening and the day of love and friendship with us.
URL:https://upbarreview.com/event/de-p-r-grand-opening-menominee/
LOCATION:De P.R.\, 2356 10th St\, Menominee\, MI
CATEGORIES:Menominee
END:VEVENT
BEGIN:VEVENT
DTSTART;TZID=UTC:20250214T120000
DTEND;TZID=UTC:20250214T170000
DTSTAMP:20260424T125419
CREATED:20250207T200505Z
LAST-MODIFIED:20250207T200505Z
UID:10003097-1739534400-1739552400@upbarreview.com
SUMMARY:Forgotten Fire Winery - Fortunes - Peshtigo
DESCRIPTION:We’re back for another edition of Fortunes by the Fire! Join LJ for palm and card readings while you enjoy sipping on your favorite wines from Forgotten Fire Winery.\nSign up sheet will be available\, LJ is cash only.AND\, LJ will have her $5 and $10 Mystery Bags available!We’re looking forward to seeing you!
URL:https://upbarreview.com/event/forgotten-fire-winery-fortunes-peshtigo/
LOCATION:Forgotten Fire Winery\, N2393 Schacht Road\, Marinette\, WI\, 54143\, United States
CATEGORIES:Menominee
END:VEVENT
BEGIN:VEVENT
DTSTART;TZID=UTC:20250214T130000
DTEND;TZID=UTC:20250214T190000
DTSTAMP:20260424T125419
CREATED:20250207T184242Z
LAST-MODIFIED:20250207T184242Z
UID:10002908-1739538000-1739559600@upbarreview.com
SUMMARY:Upper Hand Brewery - Love Stinks\, Beer Doesnt - Escanaba
DESCRIPTION:Bring your special someone (or not) for an evening of lovely deals! We’ll be serving hot and delicious Smelted pizzas and have cold beer on draft! Show us some love!21+
URL:https://upbarreview.com/event/upper-hand-brewery-love-stinks-beer-doesnt-escanaba/
LOCATION:Upper Hand Brewery\, 3525 Airport Rd\, Escanaba\, WI\, 49829
CATEGORIES:Menominee
END:VEVENT
BEGIN:VEVENT
DTSTART;TZID=UTC:20250214T170000
DTEND;TZID=UTC:20250214T190000
DTSTAMP:20260424T125419
CREATED:20250207T184638Z
LAST-MODIFIED:20250207T184638Z
UID:10002912-1739552400-1739559600@upbarreview.com
SUMMARY:New Life Church - Valentines Day Dinner - Escanaba
DESCRIPTION:Dinner\, Music\, Photo Booth\,Trivia and more$50.00 per couple for 5 course Meal\nSign up here https://newlife906.churchcenter.com/regist…/events/2719264\nMenuBeverage and Hors d’oeuvresSalad w/ French or Ranch DressingSoupMeal 1Chicken Fettuccine Alfredo w/ Broccoli and RollMeal 2Filet MignonGarlic and Herb Mashed PotatosSeasoned AsparagusRollDessert1) Brownies w/ vanilla ice cream\, whipped cream\, caramel drizzle and nuts2) Cheese cake topped with chocolate/ raspberry sause\nMeal at 6:30pm. Doors open at 6pm
URL:https://upbarreview.com/event/new-life-church-valentines-day-dinner-escanaba/
LOCATION:New Life Church Escanaba\, 2005 8th Ave\, Escanaba\, MI
CATEGORIES:Menominee
END:VEVENT
BEGIN:VEVENT
DTSTART;TZID=UTC:20250214T170000
DTEND;TZID=UTC:20250214T200000
DTSTAMP:20260424T125420
CREATED:20250207T172039Z
LAST-MODIFIED:20250207T172039Z
UID:10002838-1739552400-1739563200@upbarreview.com
SUMMARY:Spirit House & Tasty Traveler - Valentines Day Pop-up
DESCRIPTION:�Time to make dinner plans with your sweetie for Valentine’s Day �.\nTasty Traveler is hosting one of their legendary dinners at Spirit House and you don’t want to miss this menu! Tickets are selling fast so book while you can.\nEach ticket includes � drink tokens and � delicious courses.\n� https://www.eventbrite.com/e/1146540757269?aff=oddtdtcreator\n� Friday\, February 14th �� doors open at 5\, dinner served at 6pm\nSpirit House Distillery�533 10th AvenueMenominee\, MI
URL:https://upbarreview.com/event/spirit-house-tasty-traveler-valentines-day-pop-up/
LOCATION:Spirit House\, 533 10th Ave\, Menominee\, MI 49858\, Menominee\, MI\, 49858\, United States
CATEGORIES:Menominee
END:VEVENT
END:VCALENDAR