BEGIN:VCALENDAR
VERSION:2.0
PRODID:-//UP BAR REVIEW - ECPv6.14.2//NONSGML v1.0//EN
CALSCALE:GREGORIAN
METHOD:PUBLISH
X-WR-CALNAME:UP BAR REVIEW
X-ORIGINAL-URL:https://upbarreview.com
X-WR-CALDESC:Events for UP BAR REVIEW
REFRESH-INTERVAL;VALUE=DURATION:PT1H
X-Robots-Tag:noindex
X-PUBLISHED-TTL:PT1H
BEGIN:VTIMEZONE
TZID:UTC
BEGIN:STANDARD
TZOFFSETFROM:+0000
TZOFFSETTO:+0000
TZNAME:UTC
DTSTART:20240101T000000
END:STANDARD
END:VTIMEZONE
BEGIN:VEVENT
DTSTART;TZID=UTC:20241216T083000
DTEND;TZID=UTC:20241216T093000
DTSTAMP:20260422T105444
CREATED:20240827T014121Z
LAST-MODIFIED:20240827T014121Z
UID:10001559-1734337800-1734341400@upbarreview.com
SUMMARY:NSRCC - Open Workout & Meet the Instructor - Pembine
DESCRIPTION:Meet our fitness class instructor\, Brenda Rosenstiel. There will be information about all of our fitness classes as well as a place for open workout. Contact Brenda for more details: (920) 327-9981 or brosenstiel@nsrccwi.com
URL:https://upbarreview.com/event/nsrcc-open-workout-meet-the-instructor-pembine/2024-12-16/
LOCATION:NSRCC\, 17112 US-141\, Pembine\, WI\, 54156
CATEGORIES:Menominee
END:VEVENT
BEGIN:VEVENT
DTSTART;TZID=UTC:20241216T150000
DTEND;TZID=UTC:20241216T220000
DTSTAMP:20260422T105444
CREATED:20241204T014001Z
LAST-MODIFIED:20241204T014001Z
UID:10002784-1734361200-1734386400@upbarreview.com
SUMMARY:Heights Park - Niagara Christmas Village Walk-Thru - Niagara
DESCRIPTION:First Annual Niagara Christmas Village is a walk-thru Christmas display with 12 sites decorated by local families\, groups\, organizations\, and businesses. The Christmas Village will be lit nightly from December 6th to January 11th from 3:00pm-10:00pm.\nEach display is supporting a local charity or organization. Votes (donations) for each site will go to their local charity/organization ($1=1 vote\, $10=10 votes\, etc). Voting locations are listed below. Voting starts December 6th. December 6th from 5:00pm to 7:00pm will be the annual tree lighting event with the tree lighting at 5:30pm.\nVoting Locations:City Hall – 1029 Roosevelt Rd\, Niagara (24 hr secure drop box\, lower level between glass doors\, enter in rear);Forward Financial Credit Union – 1250 Roosevelt Rd\, Niagara (Monday-Friday 8:30am-5:00pm Saturday 8:30am-12:00pm);Nicolet National Bank – 900 Roosevelt Rd\, Niagara (Monday-Friday 8:30am-5:00pm);Northwoods IGA – 501 Washington Ave\, Niagara (Monday-Saturday 7:30am-7:00pm Sunday 8:00am-4:00pm);Pit Stop Bar & Grill – 1059 Roosevelt Rd\, Niagara (Sunday-Thursday 10:00am-2:00am Friday & Saturday 10:00am-2:30am);Scott’s Uptown Lanes – 1201 Roosevelt Rd\, Niagara (Daily 11:00am-2:00am);Trip’s Tavern – 1001 Roosevelt Rd\, Niagara (Monday-Thursday 10:00am-close Friday-Sunday 9:00am-close)
URL:https://upbarreview.com/event/heights-park-niagara-christmas-village-walk-thru-niagara/2024-12-16/
LOCATION:Niagara Heights Park\, 1201 Grant Street\, Niagara\, wi\, 54151
CATEGORIES:Ironmountain
END:VEVENT
BEGIN:VEVENT
DTSTART;TZID=UTC:20241216T160000
DTEND;TZID=UTC:20241216T200000
DTSTAMP:20260422T105444
CREATED:20241203T013406Z
LAST-MODIFIED:20241203T013429Z
UID:10002668-1734364800-1734379200@upbarreview.com
SUMMARY:Mo's Pub - Italian Night - Escanaba
DESCRIPTION:Enjoy a delicious Italian meal featuring all of your classic favorites! noodles are imported from Italy. every dish is made with love from scratch! Available for dine-in\, carry-out\, delivery through DoorDash.
URL:https://upbarreview.com/event/mos-pub-italian-night-escanaba/2024-12-16/
LOCATION:Mo’s Pub\, 2116 Ludington St\, Escanaba\, MI\, 49829
CATEGORIES:Menominee
END:VEVENT
BEGIN:VEVENT
DTSTART;TZID=UTC:20241216T170000
DTEND;TZID=UTC:20241216T190000
DTSTAMP:20260422T105444
CREATED:20241030T023659Z
LAST-MODIFIED:20241030T023659Z
UID:10002442-1734368400-1734375600@upbarreview.com
SUMMARY:Forever Friendship Drop-in Center - Co-occuring Disorder Discussion Group - Kingsford
DESCRIPTION:What is Co-occurring Disorder?Is a disorder diagnosed by the individual having a Mental Health Diagnosis + Substance Misuse Disorder & or Alcohol Disorder. Studies have shown that treating both disorders at the same time increases the chance of long-term recovery.\nLong term recovery also comes from support\, understanding\, acceptance\, advice from those who are also in long-term recovery.\nThis is a group is designed to give you all of those skills without the inference of tradition and religion. Just and open mind and an open heart with lots of lived experience.
URL:https://upbarreview.com/event/forever-friendship-drop-in-center-co-occuring-disorder-discussion-group-kingsford/2024-12-16/
LOCATION:Forever Friendship Drop-in Center\, 501 S Carpenter Ave\, Kingsford\, MI
CATEGORIES:Ironmountain
END:VEVENT
BEGIN:VEVENT
DTSTART;TZID=UTC:20241216T170000
DTEND;TZID=UTC:20241216T200000
DTSTAMP:20260422T105444
CREATED:20241203T011654Z
LAST-MODIFIED:20241203T011654Z
UID:10002638-1734368400-1734379200@upbarreview.com
SUMMARY:Judy Bloom Studio - Beginner Watercolor Painting Class - Crivitz
DESCRIPTION:Join Judy Bloom as she guides you to create this beautiful work of art. Cost is $40. and all materials will be provided for you to create this 11×14 painting. Bring a friend\, snacks and drink. Please call or text Judy Bloom at 931-787-6559 to pre-register. Payment is cash or check at time of class. Class is at Crivitz Village Hall.
URL:https://upbarreview.com/event/judy-bloom-studio-beginner-watercolor-painting-class-crivitz-3/
LOCATION:Judy Bloom Studio\, 800 Henriette Ave\, Peshtigo\, WI
CATEGORIES:Menominee
END:VEVENT
BEGIN:VEVENT
DTSTART;TZID=UTC:20241216T170000
DTEND;TZID=UTC:20241216T210000
DTSTAMP:20260422T105444
CREATED:20241202T210738Z
LAST-MODIFIED:20241202T210738Z
UID:10002510-1734368400-1734382800@upbarreview.com
SUMMARY:CJ's Glass - Stained Glass Dover Ornament Workshop - Marinette
DESCRIPTION:You choose between the pumpkin or the feather! An abundance of colors will be available.!$65 includes everythingages 12+. no prior experience neededPre-registration Required.call or msg Cj 608-354-2303class size 6Come learn something new today! You will have hands on teaching in the copper foil method of stained glass to create a beautiful Suncatcher. Participants will score and break glass\, grind\, foil and solder. Please wear closed toed shoes. 
URL:https://upbarreview.com/event/cjs-glass-stained-glass-dover-ornament-workshop-marinette/
LOCATION:CJ’s Glass\, 802 Main St\, Marinette\, WI\, 54143
CATEGORIES:Menominee
END:VEVENT
BEGIN:VEVENT
DTSTART;TZID=UTC:20241216T180000
DTEND;TZID=UTC:20241216T220000
DTSTAMP:20260422T105444
CREATED:20241029T132219Z
LAST-MODIFIED:20241029T132219Z
UID:10002183-1734372000-1734386400@upbarreview.com
SUMMARY:Game Knights - Monday Night Magic The Gathering - Marinette
DESCRIPTION: Commander Clash: Weekly Magic Tournament \nWelcome\, Planeswalkers\, to the battleground of strategy and sorcery! Dive into the exhilarating realm of Magic: The Gathering with our weekly Commander Clash tournament\, where the mightiest decks clash for supremacy.\nEvent Highlights:\nEpic Battles: Engage in thrilling multiplayer matches where every card played could tip the scales of victory.Deck Diversity: Explore the vast array of strategies and commanders available in the Commander format\, from cunning combos to rampaging hordes.Friendly Competition: Forge new alliances and rivalries as you navigate the ever-changing landscape of the battlefield.Community Spirit: Join a vibrant community of Magic enthusiasts\, sharing insights\, deck ideas\, and camaraderie.Casual or Competitive: Whether you’re a seasoned veteran or a novice mage\, our tournament offers an inclusive environment for all skill levels.Prepare your decks\, summon your commanders\, and let the spells fly as you vie for dominance in our weekly Commander Clash tournament! Will you emerge as the ultimate champion\, or will your opponents rewrite the fate of the multiverse? Only one way to find out—join us for an unforgettable Magic experience!
URL:https://upbarreview.com/event/game-knights-monday-night-magic-the-gathering-marinette/2024-12-16/
LOCATION:Game Knights\, 2035 Marinette Ave\, Marinette\, WI\, 54143
CATEGORIES:Menominee
END:VEVENT
BEGIN:VEVENT
DTSTART;TZID=UTC:20241217T080000
DTEND;TZID=UTC:20241217T090000
DTSTAMP:20260422T105444
CREATED:20241203T003336Z
LAST-MODIFIED:20241203T003336Z
UID:10002610-1734422400-1734426000@upbarreview.com
SUMMARY:NSRCC - Cardio & Strength - Pembine
DESCRIPTION:Join us for a cardio-based workout to start the day off strong! This 45-minute class will help keep you “healthy for life.” Contact your trainer\, Brenda Rosenstiel for more information: (920) 327-9981 or brosenstiel@nsrccwi.com\nWe hope to see you there!
URL:https://upbarreview.com/event/nsrcc-cardio-strength-pembine/2024-12-17/
LOCATION:NSRCC\, 17112 US-141\, Pembine\, WI\, 54156
CATEGORIES:Menominee
END:VEVENT
BEGIN:VEVENT
DTSTART;TZID=UTC:20241217T090000
DTEND;TZID=UTC:20241217T173000
DTSTAMP:20260422T105444
CREATED:20241202T211717Z
LAST-MODIFIED:20241202T211717Z
UID:10002517-1734426000-1734456600@upbarreview.com
SUMMARY:Sno-Haven Pottery - Holiday Sale - Marinette
DESCRIPTION:Sno-Haven Pottery’s Holiday Sale\, December 17-20\, 2024. Time 9:00 AM- 5:30 PM. 1215 9TH\, ST. Marinette\, Wi. Looking for a unique artisan gift? Sno-Haven Pottery has pottery and paintings and jewelry for your special gift. Give a gift of art for everyday living well. We have gift certificate available for Holiday gifts\, that can be used for classes or in our gift shop.
URL:https://upbarreview.com/event/sno-haven-pottery-holiday-sale-marinette/
LOCATION:Sno Haven Pottery\, 1215 9th St\, Marinette\, WI\, 54143
CATEGORIES:Menominee
END:VEVENT
BEGIN:VEVENT
DTSTART;TZID=UTC:20241217T100000
DTEND;TZID=UTC:20241217T103000
DTSTAMP:20260422T105444
CREATED:20241202T201928Z
LAST-MODIFIED:20241202T201928Z
UID:10002476-1734429600-1734431400@upbarreview.com
SUMMARY:Spies Public Library - Parent-Child Coffee Chat - Menominee
DESCRIPTION:Come enjoy conversation with other parents while the children play! We will bring the coffee!
URL:https://upbarreview.com/event/spies-public-library-parent-child-coffee-chat-menominee/
LOCATION:Spies Public Library\, 940 1st St.\, Menominee\, MI\, 49858
CATEGORIES:Menominee
END:VEVENT
BEGIN:VEVENT
DTSTART;TZID=UTC:20241217T100000
DTEND;TZID=UTC:20241217T120000
DTSTAMP:20260422T105444
CREATED:20241203T015216Z
LAST-MODIFIED:20241203T015216Z
UID:10002687-1734429600-1734436800@upbarreview.com
SUMMARY:Escanaba Public Library - Tech Tuesday Tech Help - Escanaba
DESCRIPTION:Need help printing from your phone? Setting up Libby on your personal device? Using Zoom?\nHow about getting started on your Chromebook or iPad? Using a Wi-Fi hotspot? Creating an email address? Google searches? or how to use the library’s online catalog?\nWe have the answers and assistance you need! Make an appointment or stop in at the circulation desk. Appointments are one hour (maximum).\nThe Escanaba Public Library staff do not repair computers/devices. The library assumes no liability for personal patron devices.
URL:https://upbarreview.com/event/escanaba-public-library-tech-tuesday-tech-help-escanaba/2024-12-17/
LOCATION:Escanaba Public Library\, 400 Ludington St\, Escanaba\, WI\, 49829
CATEGORIES:Menominee
END:VEVENT
BEGIN:VEVENT
DTSTART;TZID=UTC:20241217T103000
DTEND;TZID=UTC:20241217T113000
DTSTAMP:20260422T105444
CREATED:20240930T164308Z
LAST-MODIFIED:20240930T164308Z
UID:10001719-1734431400-1734435000@upbarreview.com
SUMMARY:Spies Public Library - Family Coalition Meeting - Menominee
DESCRIPTION:Come join the Great Start Collaborative’s Family Coalition Meetings at Spies Public Library every third tuesday of the month following our Parent/Child Coffee Chats! This group plans events and parent education for our community!
URL:https://upbarreview.com/event/spies-public-library-family-coalition-meeting-menominee/2024-12-17/
LOCATION:Spies Public Library\, 940 1st St.\, Menominee\, MI\, 49858
CATEGORIES:Menominee
END:VEVENT
BEGIN:VEVENT
DTSTART;TZID=UTC:20241217T120000
DTEND;TZID=UTC:20241217T193000
DTSTAMP:20260422T105444
CREATED:20241030T021353Z
LAST-MODIFIED:20241030T021353Z
UID:10002399-1734436800-1734463800@upbarreview.com
SUMMARY:Oak Crest Golf Course - Tuesday Mexican Nights - Norway
DESCRIPTION:It’s back by popular demand. Featuring items such as; tacos\, tostadas\, chimichangas\, taco salad\, quesadillas\, nachos\, and burritos. We will have some Mexican beers to wash it all down. Hope to see you
URL:https://upbarreview.com/event/oak-crest-golf-course-tuesday-mexican-nights-norway-2/2024-12-17/
LOCATION:Oak Crest Golf Course\, N1475 US-8\, Norway\, MI\, 49870
CATEGORIES:Ironmountain
END:VEVENT
BEGIN:VEVENT
DTSTART;TZID=UTC:20241217T150000
DTEND;TZID=UTC:20241217T220000
DTSTAMP:20260422T105444
CREATED:20241204T014001Z
LAST-MODIFIED:20241204T014001Z
UID:10002785-1734447600-1734472800@upbarreview.com
SUMMARY:Heights Park - Niagara Christmas Village Walk-Thru - Niagara
DESCRIPTION:First Annual Niagara Christmas Village is a walk-thru Christmas display with 12 sites decorated by local families\, groups\, organizations\, and businesses. The Christmas Village will be lit nightly from December 6th to January 11th from 3:00pm-10:00pm.\nEach display is supporting a local charity or organization. Votes (donations) for each site will go to their local charity/organization ($1=1 vote\, $10=10 votes\, etc). Voting locations are listed below. Voting starts December 6th. December 6th from 5:00pm to 7:00pm will be the annual tree lighting event with the tree lighting at 5:30pm.\nVoting Locations:City Hall – 1029 Roosevelt Rd\, Niagara (24 hr secure drop box\, lower level between glass doors\, enter in rear);Forward Financial Credit Union – 1250 Roosevelt Rd\, Niagara (Monday-Friday 8:30am-5:00pm Saturday 8:30am-12:00pm);Nicolet National Bank – 900 Roosevelt Rd\, Niagara (Monday-Friday 8:30am-5:00pm);Northwoods IGA – 501 Washington Ave\, Niagara (Monday-Saturday 7:30am-7:00pm Sunday 8:00am-4:00pm);Pit Stop Bar & Grill – 1059 Roosevelt Rd\, Niagara (Sunday-Thursday 10:00am-2:00am Friday & Saturday 10:00am-2:30am);Scott’s Uptown Lanes – 1201 Roosevelt Rd\, Niagara (Daily 11:00am-2:00am);Trip’s Tavern – 1001 Roosevelt Rd\, Niagara (Monday-Thursday 10:00am-close Friday-Sunday 9:00am-close)
URL:https://upbarreview.com/event/heights-park-niagara-christmas-village-walk-thru-niagara/2024-12-17/
LOCATION:Niagara Heights Park\, 1201 Grant Street\, Niagara\, wi\, 54151
CATEGORIES:Ironmountain
END:VEVENT
BEGIN:VEVENT
DTSTART;TZID=UTC:20241217T153000
DTEND;TZID=UTC:20241217T170000
DTSTAMP:20260422T105444
CREATED:20241204T013347Z
LAST-MODIFIED:20241204T013347Z
UID:10002770-1734449400-1734454800@upbarreview.com
SUMMARY:Kingsford High School - KMS Choirs Winter Concert - Kingsford
DESCRIPTION:It’s the most wonderful time of the year! The Kingsford Middle School Choirs present their annual Winter Concert on Tuesday December 17th at 3:45pm in the KHS Auditorium. This concert includes performances from the KMS Choir Club\, 6th Grade\, 7th Grade\, and 8th Grade Choirs. The Kingsford Music Boosters will also be selling Kwik Trip Cards and Kingsford Music merchandise\, We hope to see you there!
URL:https://upbarreview.com/event/kingsford-high-school-kms-choirs-winter-concert-kingsford/
LOCATION:Kingsford High School\, 463 Bus Dr\, Kingsford\, MI
CATEGORIES:Ironmountain
END:VEVENT
BEGIN:VEVENT
DTSTART;TZID=UTC:20241217T160000
DTEND;TZID=UTC:20241217T183000
DTSTAMP:20260422T105444
CREATED:20241204T012752Z
LAST-MODIFIED:20241204T012752Z
UID:10002765-1734451200-1734460200@upbarreview.com
SUMMARY:Kingsford High School - KHS Choirs Winter Concert - Kingsford
DESCRIPTION:It’s the most wonderful time of the year! The Kingsford High School Choirs present their annual Winter Concert on Tuesday December 17th at 6:00pm in the KHS Auditorium. This concert includes performances from the KHS Concert Chorale and Chamber Singers. The Kingsford Music Boosters will also be selling Kwik Trip Cards and Kingsford Music merchandise\, We hope to see you there!
URL:https://upbarreview.com/event/kingsford-high-school-khs-choirs-winter-concert-kingsford/
LOCATION:Kingsford High School\, 463 Bus Dr\, Kingsford\, MI
CATEGORIES:Ironmountain
END:VEVENT
BEGIN:VEVENT
DTSTART;TZID=UTC:20241217T170000
DTEND;TZID=UTC:20241217T180000
DTSTAMP:20260422T105444
CREATED:20241001T161107Z
LAST-MODIFIED:20241001T161107Z
UID:10001992-1734454800-1734458400@upbarreview.com
SUMMARY:VA Medical Center - Journey to Wellbriety Recovery Group - Iron Mountain
DESCRIPTION:Tuesdays at 5:00 p.m. CTOscar G. Johnson VAMC325 E H Street\, Iron Mountain\, MIRoom 2378 (2nd floor)\nQuestions may be directed to AJ Osickey at 906-774-3300 ext. 32776\nThis is a traditional recovery group for various forms of addiction and traumas. It is based upon spirituality teachings of the Native Peoples.
URL:https://upbarreview.com/event/va-medical-center-journey-to-wellbriety-recovery-group-iron-mountain/2024-12-17/
LOCATION:Iron Mountain VA Medical Center\, 325 E H St\, Iron Mountain\, MI\, 49801
CATEGORIES:Ironmountain
END:VEVENT
BEGIN:VEVENT
DTSTART;TZID=UTC:20241217T170000
DTEND;TZID=UTC:20241217T190000
DTSTAMP:20260422T105444
CREATED:20241001T164634Z
LAST-MODIFIED:20241001T164634Z
UID:10002023-1734454800-1734462000@upbarreview.com
SUMMARY:Forever Friendship Drop-in Center - Mindfulness\, Meditation\, & Mandalas - Kingsford
DESCRIPTION:Try an alternative to most mental health treatment by focusing on your imagination and creative skills to make functional art project.Each week the Peer Support will lead the group in an art project directly linked to a coping skill. All supplies are included. We do encourage independence\, but keep group work available.Our goal throughout the process is to practice mindfulness skills\, listen to meditation music\, and be surrounded by like-minded individuals.
URL:https://upbarreview.com/event/forever-friendship-drop-in-center-mindfulness-meditation-mandalas-kingsford/2024-12-17/
LOCATION:Forever Friendship Drop-in Center\, 501 S Carpenter Ave\, Kingsford\, MI
CATEGORIES:Ironmountain
END:VEVENT
BEGIN:VEVENT
DTSTART;TZID=UTC:20241217T170000
DTEND;TZID=UTC:20241217T200000
DTSTAMP:20260422T105444
CREATED:20241029T131610Z
LAST-MODIFIED:20241029T131610Z
UID:10002159-1734454800-1734465600@upbarreview.com
SUMMARY:Biehl Bridges to Recovery - All Recovery Meeting - Marinette
DESCRIPTION:This is a meeting for anyone in recovery to talk about Recovery!
URL:https://upbarreview.com/event/biehl-bridges-to-recovery-all-recovery-meeting-marinette/2024-12-17/
LOCATION:Biehl Bridge To Recovery\, 3123 Shore Dr\, Marinette\, WI\, 54143
CATEGORIES:Menominee
END:VEVENT
BEGIN:VEVENT
DTSTART;TZID=UTC:20241217T170000
DTEND;TZID=UTC:20241217T200000
DTSTAMP:20260422T105444
CREATED:20241203T013800Z
LAST-MODIFIED:20241203T013800Z
UID:10002671-1734454800-1734465600@upbarreview.com
SUMMARY:Leigh's Garden Winery - Beach Glass Christmas Tree - Escanaba
DESCRIPTION:Christmas trees you design and make! You will be able to select your color choice(s) from a variety of beach glass colors. You will also be provided with a selection of ornaments including mini starfish\, mini seashells\, and faux pearls. A large starfish will be provided as a topper for your tree. And you will receive a string of led lights to wrap around and light your tree up!\nAges 10 and up welcome.\nBeginner Friendly Class
URL:https://upbarreview.com/event/leighs-garden-winery-beach-glass-christmas-tree-escanaba/
LOCATION:Leigh’s Garden Winery\, 904 Ludington St\, Escanaba\, MI
CATEGORIES:Menominee
END:VEVENT
BEGIN:VEVENT
DTSTART;TZID=UTC:20241217T180000
DTEND;TZID=UTC:20241217T200000
DTSTAMP:20260422T105444
CREATED:20241203T014422Z
LAST-MODIFIED:20241203T014512Z
UID:10002677-1734458400-1734465600@upbarreview.com
SUMMARY:Mo's Pub -Trivia - Escanaba
DESCRIPTION:Join us every Tuesday night at 7pm for our Trivia nights!!! Teams of up to 8 people can play. There are 7 rounds\, 5 of which are questions one roun of music and a picture round. Food and drink specials are available!!!! 1st place get $50\, 2nd Place gets $25 3rd place gets $15 4th and 5th and last place get free app coupon. Looking forward to seeing you!!!!
URL:https://upbarreview.com/event/mos-pub-trivia-escanaba/2024-12-17/
LOCATION:Mo’s Pub\, 2116 Ludington St\, Escanaba\, MI\, 49829
CATEGORIES:Menominee
END:VEVENT
BEGIN:VEVENT
DTSTART;TZID=UTC:20241217T180000
DTEND;TZID=UTC:20241217T203000
DTSTAMP:20260422T105444
CREATED:20241202T201517Z
LAST-MODIFIED:20241202T201517Z
UID:10002473-1734458400-1734467400@upbarreview.com
SUMMARY:McCrafties - Grinch Hand - Menominee
DESCRIPTION:Join us on Tuesday evening for a fun-filled painting session! We’ll be creating a festive Grinch hand on a 16×20 canvas. No experience is necessary – all skill levels are welcome! We’ll provide a template to guide you through the process\, so you can relax and enjoy the creative experience.\nPRE-PAYMENT of $40 is required to save your spot. Feel free to call the studio\, use our website or stop in with payment.\n715-440-5959\nhttps://mccraftiellc.square.site/\nAll skill levels are welcome.\nWe provide all the necessary supplies.\nWe look forward to crafting with you.\nCLASS REFUND POLICY\n-full in studio credit if cancellation is 1 week prior to the class-50% in studio credit up to 24 hours prior to class.-less than 24 hours notice\, no credit-NO SHOW/ NO CALL/NO CREDIT
URL:https://upbarreview.com/event/mccrafties-grinch-hand-menominee/
LOCATION:McCrafties\, 625 1st St\, Menominee\, MI\, 49858\, United States
CATEGORIES:Menominee
END:VEVENT
BEGIN:VEVENT
DTSTART;TZID=UTC:20241218T083000
DTEND;TZID=UTC:20241218T093000
DTSTAMP:20260422T105444
CREATED:20241203T003147Z
LAST-MODIFIED:20241203T003147Z
UID:10002606-1734510600-1734514200@upbarreview.com
SUMMARY:NSRCC - Strength & Core - Pembine
DESCRIPTION:Join us for our power hour fitness class! This will be a weight-centered class\, focussed on helping you build your muscles. If you have any questions\, contact your trainer\, Brenda Rosenstiel: (920) 327-9981 or brosenstiel@nsrccwi.com\nWe hope to see you there!
URL:https://upbarreview.com/event/nsrcc-strength-core-pembine/2024-12-18/
LOCATION:NSRCC\, 17112 US-141\, Pembine\, WI\, 54156
CATEGORIES:Menominee
END:VEVENT
BEGIN:VEVENT
DTSTART;TZID=UTC:20241218T133000
DTEND;TZID=UTC:20241218T160000
DTSTAMP:20260422T105444
CREATED:20241203T002419Z
LAST-MODIFIED:20241203T002419Z
UID:10002601-1734528600-1734537600@upbarreview.com
SUMMARY:Country Roads Bar & Grill - Cribbage - Wausaukee
DESCRIPTION:Beginners or Advanced players come together and play some Cribbage!
URL:https://upbarreview.com/event/country-roads-bar-grill-cribbage-wausaukee/2024-12-18/
LOCATION:Country Roads Bar & Grill\, W8901 Co Rd C\, Wausaukee\, WI
CATEGORIES:Menominee
END:VEVENT
BEGIN:VEVENT
DTSTART;TZID=UTC:20241218T150000
DTEND;TZID=UTC:20241218T220000
DTSTAMP:20260422T105444
CREATED:20241204T014001Z
LAST-MODIFIED:20241204T014001Z
UID:10002786-1734534000-1734559200@upbarreview.com
SUMMARY:Heights Park - Niagara Christmas Village Walk-Thru - Niagara
DESCRIPTION:First Annual Niagara Christmas Village is a walk-thru Christmas display with 12 sites decorated by local families\, groups\, organizations\, and businesses. The Christmas Village will be lit nightly from December 6th to January 11th from 3:00pm-10:00pm.\nEach display is supporting a local charity or organization. Votes (donations) for each site will go to their local charity/organization ($1=1 vote\, $10=10 votes\, etc). Voting locations are listed below. Voting starts December 6th. December 6th from 5:00pm to 7:00pm will be the annual tree lighting event with the tree lighting at 5:30pm.\nVoting Locations:City Hall – 1029 Roosevelt Rd\, Niagara (24 hr secure drop box\, lower level between glass doors\, enter in rear);Forward Financial Credit Union – 1250 Roosevelt Rd\, Niagara (Monday-Friday 8:30am-5:00pm Saturday 8:30am-12:00pm);Nicolet National Bank – 900 Roosevelt Rd\, Niagara (Monday-Friday 8:30am-5:00pm);Northwoods IGA – 501 Washington Ave\, Niagara (Monday-Saturday 7:30am-7:00pm Sunday 8:00am-4:00pm);Pit Stop Bar & Grill – 1059 Roosevelt Rd\, Niagara (Sunday-Thursday 10:00am-2:00am Friday & Saturday 10:00am-2:30am);Scott’s Uptown Lanes – 1201 Roosevelt Rd\, Niagara (Daily 11:00am-2:00am);Trip’s Tavern – 1001 Roosevelt Rd\, Niagara (Monday-Thursday 10:00am-close Friday-Sunday 9:00am-close)
URL:https://upbarreview.com/event/heights-park-niagara-christmas-village-walk-thru-niagara/2024-12-18/
LOCATION:Niagara Heights Park\, 1201 Grant Street\, Niagara\, wi\, 54151
CATEGORIES:Ironmountain
END:VEVENT
BEGIN:VEVENT
DTSTART;TZID=UTC:20241218T160000
DTEND;TZID=UTC:20241218T193000
DTSTAMP:20260422T105444
CREATED:20240827T133046Z
LAST-MODIFIED:20240827T133046Z
UID:10001703-1734537600-1734550200@upbarreview.com
SUMMARY:Knights of Columbus - Bingo Wednesday - Iron Mountain
DESCRIPTION:The Columbus Club operates the hall and hosts Charity Bingo every Wednesday night. \n\nDoors open at 4:00 PM\nBingo Games start at 6:30 PM.\nFood is available for purchase at the hall.\n\nThe Columbus Club uses all proceeds to maintain the building and support the good works of the council.  Bingo is operated under the regulations set by the State of Michigan Charitable Gaming.
URL:https://upbarreview.com/event/knights-of-columbus-bingo-wednesday-iron-mountain/2024-12-18/
LOCATION:Knights of Columbus Kingsford\, 520 West Breitung Ave\, Kingsford\, MI
CATEGORIES:Ironmountain
END:VEVENT
BEGIN:VEVENT
DTSTART;TZID=UTC:20241218T170000
DTEND;TZID=UTC:20241218T190000
DTSTAMP:20260422T105444
CREATED:20241001T164937Z
LAST-MODIFIED:20241001T164937Z
UID:10002036-1734541200-1734548400@upbarreview.com
SUMMARY:Forever Friendship Drop-in Center - Vintage Video Game Night - Kingsford
DESCRIPTION:Step outside your modern box and have a fun flashback to a simpler time. Please bring vintage game consoles and games to share. Goal is to meet people outside our norm but have gaming and mental health similarities.
URL:https://upbarreview.com/event/forever-friendship-drop-in-center-vintage-video-game-night-kingsford/2024-12-18/
LOCATION:Forever Friendship Drop-in Center\, 501 S Carpenter Ave\, Kingsford\, MI
CATEGORIES:Ironmountain
END:VEVENT
BEGIN:VEVENT
DTSTART;TZID=UTC:20241218T180000
DTEND;TZID=UTC:20241218T203000
DTSTAMP:20260422T105444
CREATED:20241203T002603Z
LAST-MODIFIED:20241203T002603Z
UID:10002602-1734544800-1734553800@upbarreview.com
SUMMARY:Lavender Spirit Healing & Massage - December Full Moon Meditation - Wausaukee
DESCRIPTION:Designed to help you find balance and release stuck energy during the powerful influence of the full moon. Through progressive relaxation techniques\, we will align and balance your energy centers for a soothing and rejuvenating experience.Enjoy this session online or in-person!In Person\, $15 cash only
URL:https://upbarreview.com/event/lavender-spirit-healing-massage-december-full-moon-meditation-wausaukee/
LOCATION:Lavender Spirit Healing & Massage\, 544 Van Buren St.\, Wausaukee\, WI
CATEGORIES:Menominee
END:VEVENT
BEGIN:VEVENT
DTSTART;TZID=UTC:20241218T183000
DTEND;TZID=UTC:20241218T203000
DTSTAMP:20260422T105444
CREATED:20241202T202134Z
LAST-MODIFIED:20241202T202134Z
UID:10002478-1734546600-1734553800@upbarreview.com
SUMMARY:Spirit House - A Winter's Night w/ Anthony Cardella - Menominee
DESCRIPTION:Come join us for a magical evening at Spirit House. Let Anthony Cardella serenade you in an intimate candlelit setting. Immerse yourself in the cozy atmosphere as you enjoy a night of beautiful melodies.Anthony Cardella is an award winning concert pianist who has won national and international piano competitions around the world. Anthony currently resides in Los Angeles where he is a professor of music at Occidental College. This year\, Anthony has appeared in concert halls in the U.S.\, Serbia\, Hungary\, Turkey\, Italy\, Spain\, and France.Don’t miss out on this special event – it’s sure to be a night to remember!\nTicket link: https://www.eventbrite.com/…/a-winters-night-a…
URL:https://upbarreview.com/event/spirit-house-a-winters-night-w-anthony-cardella-menominee/
LOCATION:Spirit House\, 533 10th Ave\, Menominee\, MI 49858\, Menominee\, MI\, 49858\, United States
CATEGORIES:Menominee
END:VEVENT
BEGIN:VEVENT
DTSTART;TZID=UTC:20241219T080000
DTEND;TZID=UTC:20241219T090000
DTSTAMP:20260422T105444
CREATED:20241203T003336Z
LAST-MODIFIED:20241203T003336Z
UID:10002611-1734595200-1734598800@upbarreview.com
SUMMARY:NSRCC - Cardio & Strength - Pembine
DESCRIPTION:Join us for a cardio-based workout to start the day off strong! This 45-minute class will help keep you “healthy for life.” Contact your trainer\, Brenda Rosenstiel for more information: (920) 327-9981 or brosenstiel@nsrccwi.com\nWe hope to see you there!
URL:https://upbarreview.com/event/nsrcc-cardio-strength-pembine/2024-12-19/
LOCATION:NSRCC\, 17112 US-141\, Pembine\, WI\, 54156
CATEGORIES:Menominee
END:VEVENT
END:VCALENDAR