BEGIN:VCALENDAR
VERSION:2.0
PRODID:-//UP BAR REVIEW - ECPv6.14.2//NONSGML v1.0//EN
CALSCALE:GREGORIAN
METHOD:PUBLISH
X-WR-CALNAME:UP BAR REVIEW
X-ORIGINAL-URL:https://upbarreview.com
X-WR-CALDESC:Events for UP BAR REVIEW
REFRESH-INTERVAL;VALUE=DURATION:PT1H
X-Robots-Tag:noindex
X-PUBLISHED-TTL:PT1H
BEGIN:VTIMEZONE
TZID:UTC
BEGIN:STANDARD
TZOFFSETFROM:+0000
TZOFFSETTO:+0000
TZNAME:UTC
DTSTART:20240101T000000
END:STANDARD
END:VTIMEZONE
BEGIN:VEVENT
DTSTART;TZID=UTC:20241208T080000
DTEND;TZID=UTC:20241208T113000
DTSTAMP:20260423T112522
CREATED:20241203T004647Z
LAST-MODIFIED:20241203T004647Z
UID:10002626-1733644800-1733657400@upbarreview.com
SUMMARY:St. Mary Parish - Pancake & Porkie Breakfast - Peshtigo
DESCRIPTION:Join us for a delicious breakfast of pancakes and porkies hosted by the St. Mary Parish Pastoral Council. Enjoy good food\, friendly company\, and a warm community atmosphere.!\nBreakfast includes: pancakes\, french toast\, sausage links\, coffee\, orange juice\, and milk.Cost: $7 per person\, 5 and under eat free.\nThis event runs concurrently with the Christmas Cookie Sale hosted by the Women of Faith. So enjoy a delicious meal and get your Christmas cookies. The baking’s already done!
URL:https://upbarreview.com/event/st-mary-parish-pancake-porkie-breakfast-peshtigo/
LOCATION:St. Mary Parish\, 171 South Wood Ave\, Peshtigo\, WI
CATEGORIES:Menominee
END:VEVENT
BEGIN:VEVENT
DTSTART;TZID=UTC:20241208T080000
DTEND;TZID=UTC:20241208T113000
DTSTAMP:20260423T112522
CREATED:20241203T005152Z
LAST-MODIFIED:20241203T005152Z
UID:10002630-1733644800-1733657400@upbarreview.com
SUMMARY:St. Mary Parish - Women of Faith Cookie Extravaganza - Peshtigo
DESCRIPTION:St. Marys Women of Faith are selling cookies! Tables and tables full of decorated cookies to pick from and bring home in a provided container. Prices vary on size of container. There will also be limited prepackaged plates of cookies available for purchase.\nThis event is held during the Pancake & Porkie Breakfast. Stay and enjoy some Christmas tunes and a visit with Santa!
URL:https://upbarreview.com/event/st-mary-parish-women-of-faith-cookie-extravaganza-peshtigo/
LOCATION:St. Mary Parish\, 171 South Wood Ave\, Peshtigo\, WI
CATEGORIES:Menominee
END:VEVENT
BEGIN:VEVENT
DTSTART;TZID=UTC:20241208T080000
DTEND;TZID=UTC:20241208T170000
DTSTAMP:20260423T112522
CREATED:20241202T201247Z
LAST-MODIFIED:20241202T201247Z
UID:10002471-1733644800-1733677200@upbarreview.com
SUMMARY:YMCA Marinette/Menominee - Gliders Gymnastics Home Meet - Menominee
DESCRIPTION:Our Gliders Gymnastics team is hosting multiple YMCAs right here in our facility December 7-8\, 2024. Raffles\, gymnastics\, half pig raffle\, and more!\nThe YMCA will be open as normal but some spaces due to the event will be closed.\nGymnasium & all racquetball courts closed starting Friday at 7:00 AM through Sunday 5:00 PM\n*this is a public event
URL:https://upbarreview.com/event/ymca-marinette-menominee-gliders-gymnastics-home-meet-menominee/2024-12-08/
LOCATION:YMCA Menominee/Marinette\, 1600 West Dr\, Menominee\, MI\, 49858\, United States
CATEGORIES:Menominee
END:VEVENT
BEGIN:VEVENT
DTSTART;TZID=UTC:20241208T090000
DTEND;TZID=UTC:20241208T110000
DTSTAMP:20260423T112522
CREATED:20241203T015504Z
LAST-MODIFIED:20241203T015504Z
UID:10002691-1733648400-1733655600@upbarreview.com
SUMMARY:Cornerstone Nutrition - Craft & Sip - Oconto
DESCRIPTION:Create & Take A 30oz Acrylic Tumbler• Stop In Between 9:00-11:00• Pick Your Tumbler & Wrap• We Will Assist You With Assembly.• Pick Your Favorite Boosted Tea To Add ToYour Tumbler & Enjoy!!!• Pre Registration Is Required!! Message OrCall Us To Reserve Your Spot.• Cost $22.50 includes Tumbler & Boosted Tea• Sign Up Early 20 Max Participants
URL:https://upbarreview.com/event/cornerstone-nutrition-craft-sip-oconto/
LOCATION:Cornerstone Nutrition\, 1133 Main St\, Oconto
CATEGORIES:Menominee
END:VEVENT
BEGIN:VEVENT
DTSTART;TZID=UTC:20241208T110000
DTEND;TZID=UTC:20241208T130000
DTSTAMP:20260423T112522
CREATED:20241204T011117Z
LAST-MODIFIED:20241204T011117Z
UID:10002730-1733655600-1733662800@upbarreview.com
SUMMARY:Echo Boutique - Photos w/ Santa and Mrs Claus - Iron Mountain
DESCRIPTION:Step into a winter wonderland and snap a picture with Santa and Mrs. Claus! Each family will receive one free digital print!Bring your holiday cheer and capture the joy of the season\, Fun for the whole family!\nand if you need your holiday apparel\, be sure to check out our Christmas section at Echo Boutique!
URL:https://upbarreview.com/event/echo-boutique-photos-w-santa-and-mrs-claus-iron-mountain/
LOCATION:Echo Boutique\, 408 S Stephenson Ave\, Iron Mountain\, MI\, 49801
CATEGORIES:Ironmountain
END:VEVENT
BEGIN:VEVENT
DTSTART;TZID=UTC:20241208T110000
DTEND;TZID=UTC:20241208T140000
DTSTAMP:20260423T112522
CREATED:20241203T015344Z
LAST-MODIFIED:20241203T015344Z
UID:10002690-1733655600-1733666400@upbarreview.com
SUMMARY:Whispering Pines Tree Farm - Highland Cows - Oconto
DESCRIPTION:SUNDAY DECEMBER 8th THE HIGHLAND COWS\, FROM TABLETOP ACRES\, ARE COMING BACK TO WHISPERING PINES!!!\nSunday\, DECEMBER 8 from 11:00 am until 2:00 pm our neighbors from Tabletop Acres are back for some Highland shenanigans!! #highlandcows #tabletopacres
URL:https://upbarreview.com/event/whispering-pines-tree-farm-highland-cows-oconto/
LOCATION:Whispering Pines Tree Farm\, 3680 Airport Rd\, Oconto\, WI
CATEGORIES:Menominee
END:VEVENT
BEGIN:VEVENT
DTSTART;TZID=UTC:20241208T120000
DTEND;TZID=UTC:20241208T130000
DTSTAMP:20260423T112522
CREATED:20241001T025933Z
LAST-MODIFIED:20241001T025933Z
UID:10001824-1733659200-1733662800@upbarreview.com
SUMMARY:Biehls Bridge to Recovery - CMA Sundays Im More than 2% Meeting - Marinette
DESCRIPTION:This is an open meeting. You can also join the meeting by using Microsoft TeamsMeeting ID: 215 291 811 664Passcode: QouoBu
URL:https://upbarreview.com/event/biehls-bridge-to-recovery-cma-sundays-im-more-than-2-meeting-marinette/2024-12-08/
CATEGORIES:Menominee
END:VEVENT
BEGIN:VEVENT
DTSTART;TZID=UTC:20241208T140000
DTEND;TZID=UTC:20241208T150000
DTSTAMP:20260423T112522
CREATED:20241202T201700Z
LAST-MODIFIED:20241202T201700Z
UID:10002474-1733666400-1733670000@upbarreview.com
SUMMARY:Rooted In Friendship Plant Group - Christmas Party Plant Bingo - Menominee
DESCRIPTION:We are getting together for a Christmas Party! Savannah is so graciously allowing us to use her house for the party. We will be playing plant bingo\, so please bring a plant to participate and a snack to share. I will create a post in the event for people to comment what snack they are bringing.
URL:https://upbarreview.com/event/rooted-in-friendship-plant-group-christmas-party-plant-bingo-menominee/
LOCATION:1009 16th St.\, Menominee\, MI\, 49858
CATEGORIES:Menominee
END:VEVENT
BEGIN:VEVENT
DTSTART;TZID=UTC:20241208T140000
DTEND;TZID=UTC:20241208T150000
DTSTAMP:20260423T112522
CREATED:20241202T205422Z
LAST-MODIFIED:20241202T205422Z
UID:10002501-1733666400-1733670000@upbarreview.com
SUMMARY:Bayshore Arts Center - West Shore Chorale - Marinette
DESCRIPTION:Join us for the December 2024 West Shore Chorale concert\, Sure on this Shining Night \nDoors will open at 1:00PM\, Concert to begin at 2:00PMFREE ADMISSION! Free will donation offered at the door.\nThere will be a light reception to follow the concert. Reception admission is free.
URL:https://upbarreview.com/event/bayshore-arts-center-west-shore-chorale-marinette/
LOCATION:Bayshore Arts Center\, 750 W Bay Shore St\, Marinette\, WI\, 54143
CATEGORIES:Menominee
END:VEVENT
BEGIN:VEVENT
DTSTART;TZID=UTC:20241208T150000
DTEND;TZID=UTC:20241208T220000
DTSTAMP:20260423T112522
CREATED:20241204T014001Z
LAST-MODIFIED:20241204T014001Z
UID:10002776-1733670000-1733695200@upbarreview.com
SUMMARY:Heights Park - Niagara Christmas Village Walk-Thru - Niagara
DESCRIPTION:First Annual Niagara Christmas Village is a walk-thru Christmas display with 12 sites decorated by local families\, groups\, organizations\, and businesses. The Christmas Village will be lit nightly from December 6th to January 11th from 3:00pm-10:00pm.\nEach display is supporting a local charity or organization. Votes (donations) for each site will go to their local charity/organization ($1=1 vote\, $10=10 votes\, etc). Voting locations are listed below. Voting starts December 6th. December 6th from 5:00pm to 7:00pm will be the annual tree lighting event with the tree lighting at 5:30pm.\nVoting Locations:City Hall – 1029 Roosevelt Rd\, Niagara (24 hr secure drop box\, lower level between glass doors\, enter in rear);Forward Financial Credit Union – 1250 Roosevelt Rd\, Niagara (Monday-Friday 8:30am-5:00pm Saturday 8:30am-12:00pm);Nicolet National Bank – 900 Roosevelt Rd\, Niagara (Monday-Friday 8:30am-5:00pm);Northwoods IGA – 501 Washington Ave\, Niagara (Monday-Saturday 7:30am-7:00pm Sunday 8:00am-4:00pm);Pit Stop Bar & Grill – 1059 Roosevelt Rd\, Niagara (Sunday-Thursday 10:00am-2:00am Friday & Saturday 10:00am-2:30am);Scott’s Uptown Lanes – 1201 Roosevelt Rd\, Niagara (Daily 11:00am-2:00am);Trip’s Tavern – 1001 Roosevelt Rd\, Niagara (Monday-Thursday 10:00am-close Friday-Sunday 9:00am-close)
URL:https://upbarreview.com/event/heights-park-niagara-christmas-village-walk-thru-niagara/2024-12-08/
LOCATION:Niagara Heights Park\, 1201 Grant Street\, Niagara\, wi\, 54151
CATEGORIES:Ironmountain
END:VEVENT
BEGIN:VEVENT
DTSTART;TZID=UTC:20241208T190000
DTEND;TZID=UTC:20241208T230000
DTSTAMP:20260423T112522
CREATED:20241203T012610Z
LAST-MODIFIED:20241203T012610Z
UID:10002662-1733684400-1733698800@upbarreview.com
SUMMARY:Island Resort & Casino - Melanies Debut w/ 141 North Band - Escanaba
DESCRIPTION:Join us for Melanies debut with the 141 North Band at the Island casino in club 41!
URL:https://upbarreview.com/event/island-resort-casino-melanies-debut-w-141-north-band-escanaba/2024-12-08/
LOCATION:Island Resort & Casino\, W 399 US-2\, Harris\, MI\, 49845\, United States
CATEGORIES:Menominee
END:VEVENT
BEGIN:VEVENT
DTSTART;TZID=UTC:20241209T083000
DTEND;TZID=UTC:20241209T093000
DTSTAMP:20260423T112522
CREATED:20240827T014121Z
LAST-MODIFIED:20240827T014121Z
UID:10001558-1733733000-1733736600@upbarreview.com
SUMMARY:NSRCC - Open Workout & Meet the Instructor - Pembine
DESCRIPTION:Meet our fitness class instructor\, Brenda Rosenstiel. There will be information about all of our fitness classes as well as a place for open workout. Contact Brenda for more details: (920) 327-9981 or brosenstiel@nsrccwi.com
URL:https://upbarreview.com/event/nsrcc-open-workout-meet-the-instructor-pembine/2024-12-09/
LOCATION:NSRCC\, 17112 US-141\, Pembine\, WI\, 54156
CATEGORIES:Menominee
END:VEVENT
BEGIN:VEVENT
DTSTART;TZID=UTC:20241209T150000
DTEND;TZID=UTC:20241209T220000
DTSTAMP:20260423T112522
CREATED:20241204T014001Z
LAST-MODIFIED:20241204T014001Z
UID:10002777-1733756400-1733781600@upbarreview.com
SUMMARY:Heights Park - Niagara Christmas Village Walk-Thru - Niagara
DESCRIPTION:First Annual Niagara Christmas Village is a walk-thru Christmas display with 12 sites decorated by local families\, groups\, organizations\, and businesses. The Christmas Village will be lit nightly from December 6th to January 11th from 3:00pm-10:00pm.\nEach display is supporting a local charity or organization. Votes (donations) for each site will go to their local charity/organization ($1=1 vote\, $10=10 votes\, etc). Voting locations are listed below. Voting starts December 6th. December 6th from 5:00pm to 7:00pm will be the annual tree lighting event with the tree lighting at 5:30pm.\nVoting Locations:City Hall – 1029 Roosevelt Rd\, Niagara (24 hr secure drop box\, lower level between glass doors\, enter in rear);Forward Financial Credit Union – 1250 Roosevelt Rd\, Niagara (Monday-Friday 8:30am-5:00pm Saturday 8:30am-12:00pm);Nicolet National Bank – 900 Roosevelt Rd\, Niagara (Monday-Friday 8:30am-5:00pm);Northwoods IGA – 501 Washington Ave\, Niagara (Monday-Saturday 7:30am-7:00pm Sunday 8:00am-4:00pm);Pit Stop Bar & Grill – 1059 Roosevelt Rd\, Niagara (Sunday-Thursday 10:00am-2:00am Friday & Saturday 10:00am-2:30am);Scott’s Uptown Lanes – 1201 Roosevelt Rd\, Niagara (Daily 11:00am-2:00am);Trip’s Tavern – 1001 Roosevelt Rd\, Niagara (Monday-Thursday 10:00am-close Friday-Sunday 9:00am-close)
URL:https://upbarreview.com/event/heights-park-niagara-christmas-village-walk-thru-niagara/2024-12-09/
LOCATION:Niagara Heights Park\, 1201 Grant Street\, Niagara\, wi\, 54151
CATEGORIES:Ironmountain
END:VEVENT
BEGIN:VEVENT
DTSTART;TZID=UTC:20241209T160000
DTEND;TZID=UTC:20241209T200000
DTSTAMP:20260423T112522
CREATED:20241203T013406Z
LAST-MODIFIED:20241203T013429Z
UID:10002667-1733760000-1733774400@upbarreview.com
SUMMARY:Mo's Pub - Italian Night - Escanaba
DESCRIPTION:Enjoy a delicious Italian meal featuring all of your classic favorites! noodles are imported from Italy. every dish is made with love from scratch! Available for dine-in\, carry-out\, delivery through DoorDash.
URL:https://upbarreview.com/event/mos-pub-italian-night-escanaba/2024-12-09/
LOCATION:Mo’s Pub\, 2116 Ludington St\, Escanaba\, MI\, 49829
CATEGORIES:Menominee
END:VEVENT
BEGIN:VEVENT
DTSTART;TZID=UTC:20241209T170000
DTEND;TZID=UTC:20241209T190000
DTSTAMP:20260423T112522
CREATED:20241030T023659Z
LAST-MODIFIED:20241030T023659Z
UID:10002441-1733763600-1733770800@upbarreview.com
SUMMARY:Forever Friendship Drop-in Center - Co-occuring Disorder Discussion Group - Kingsford
DESCRIPTION:What is Co-occurring Disorder?Is a disorder diagnosed by the individual having a Mental Health Diagnosis + Substance Misuse Disorder & or Alcohol Disorder. Studies have shown that treating both disorders at the same time increases the chance of long-term recovery.\nLong term recovery also comes from support\, understanding\, acceptance\, advice from those who are also in long-term recovery.\nThis is a group is designed to give you all of those skills without the inference of tradition and religion. Just and open mind and an open heart with lots of lived experience.
URL:https://upbarreview.com/event/forever-friendship-drop-in-center-co-occuring-disorder-discussion-group-kingsford/2024-12-09/
LOCATION:Forever Friendship Drop-in Center\, 501 S Carpenter Ave\, Kingsford\, MI
CATEGORIES:Ironmountain
END:VEVENT
BEGIN:VEVENT
DTSTART;TZID=UTC:20241209T173000
DTEND;TZID=UTC:20241209T193000
DTSTAMP:20260423T112522
CREATED:20241203T014031Z
LAST-MODIFIED:20241203T014031Z
UID:10002672-1733765400-1733772600@upbarreview.com
SUMMARY:New Life Church - Ladies Cookies Cocoa Coffee and Craft Night - Escanaba
DESCRIPTION:Ladies Night: Monday\, December 9th\, 6:30 PM. You are invited to an evening of Cookies\, Coffee\, Cocoa\, and Crafts at New Life Church. Please bring a dozen cookies to exchange for a game. Have cookies in a container that you don’t want back\, because we will be playing fun game for our cookie exchange!
URL:https://upbarreview.com/event/new-life-church-ladies-cookies-cocoa-coffee-and-craft-night-escanaba/
LOCATION:New Life Church Escanaba\, 2005 8th Ave\, Escanaba\, MI
CATEGORIES:Menominee
END:VEVENT
BEGIN:VEVENT
DTSTART;TZID=UTC:20241209T173000
DTEND;TZID=UTC:20241209T203000
DTSTAMP:20260423T112522
CREATED:20241202T200254Z
LAST-MODIFIED:20241202T200254Z
UID:10002464-1733765400-1733776200@upbarreview.com
SUMMARY:McCraftie's - Merry & Bright - Menominee
DESCRIPTION:Join us for a festive and creative experience! Our Merry and Bright Epoxy Stained Glass Woodform class on December 9th at 5:30 PM is the perfect way to get into the holiday spirit. Learn how to create a stunning door hanger that can be customized to your personal taste. Don’t miss this opportunity to add a unique touch to your holiday decor!\nPRE-PAYMENT of $50 is required to save your spot. Feel free to call the studio\, use our easy friendly website or stop in with payment.\n715-440-5959\nhttps://mccraftiellc.square.site\nAll skill levels are welcome.\nWe provide all the necessary supplies.\nWe look forward to crafting with you.\nCLASS REFUND POLICY\n-full in studio credit if cancellation is 1 week prior to the class-50% in studio credit up to 24 hours prior to class.-less than 24 hours notice\, no credit-NO SHOW/ NO CALL/NO CREDIT
URL:https://upbarreview.com/event/mccrafties-merry-bright-menominee/
LOCATION:McCrafties\, 625 1st St\, Menominee\, MI\, 49858\, United States
CATEGORIES:Menominee
END:VEVENT
BEGIN:VEVENT
DTSTART;TZID=UTC:20241209T180000
DTEND;TZID=UTC:20241209T200000
DTSTAMP:20260423T112522
CREATED:20241204T010550Z
LAST-MODIFIED:20241204T010550Z
UID:10002726-1733767200-1733774400@upbarreview.com
SUMMARY:The Cure - Intro to Healthy Boundaries Workshop (Adults Only) - Iron Mountain
DESCRIPTION:Join us for an Intro to Healthy Boundaries Workshop (Adults Only) from 6-8 PM on October 7th\, November 4th\, or December 9th\, led by Transformative Life Coach and Mental Health Educator\, Heather Ruesch. These standalone sessions provide an excellent opportunity to learn about the principles of setting healthy boundaries and gain insights into the upcoming 5-week Set Boundaries\, Find Peace book study starting in January. Attend any of the sessions to explore how boundaries can transform your life—no need to commit to all three!\nClick the “ticket” button below to register to attend an Intro to Boundaries Workshop! This workshop is free and open for all adults.
URL:https://upbarreview.com/event/the-cure-intro-to-healthy-boundaries-workshop-adults-only-iron-mountain/
LOCATION:The Cure\, 922 River Ave\, Iron Mountain\, MI
CATEGORIES:Ironmountain
END:VEVENT
BEGIN:VEVENT
DTSTART;TZID=UTC:20241209T180000
DTEND;TZID=UTC:20241209T220000
DTSTAMP:20260423T112522
CREATED:20241029T132219Z
LAST-MODIFIED:20241029T132219Z
UID:10002182-1733767200-1733781600@upbarreview.com
SUMMARY:Game Knights - Monday Night Magic The Gathering - Marinette
DESCRIPTION: Commander Clash: Weekly Magic Tournament \nWelcome\, Planeswalkers\, to the battleground of strategy and sorcery! Dive into the exhilarating realm of Magic: The Gathering with our weekly Commander Clash tournament\, where the mightiest decks clash for supremacy.\nEvent Highlights:\nEpic Battles: Engage in thrilling multiplayer matches where every card played could tip the scales of victory.Deck Diversity: Explore the vast array of strategies and commanders available in the Commander format\, from cunning combos to rampaging hordes.Friendly Competition: Forge new alliances and rivalries as you navigate the ever-changing landscape of the battlefield.Community Spirit: Join a vibrant community of Magic enthusiasts\, sharing insights\, deck ideas\, and camaraderie.Casual or Competitive: Whether you’re a seasoned veteran or a novice mage\, our tournament offers an inclusive environment for all skill levels.Prepare your decks\, summon your commanders\, and let the spells fly as you vie for dominance in our weekly Commander Clash tournament! Will you emerge as the ultimate champion\, or will your opponents rewrite the fate of the multiverse? Only one way to find out—join us for an unforgettable Magic experience!
URL:https://upbarreview.com/event/game-knights-monday-night-magic-the-gathering-marinette/2024-12-09/
LOCATION:Game Knights\, 2035 Marinette Ave\, Marinette\, WI\, 54143
CATEGORIES:Menominee
END:VEVENT
BEGIN:VEVENT
DTSTART;TZID=UTC:20241210T080000
DTEND;TZID=UTC:20241210T090000
DTSTAMP:20260423T112522
CREATED:20241203T003336Z
LAST-MODIFIED:20241203T003336Z
UID:10002608-1733817600-1733821200@upbarreview.com
SUMMARY:NSRCC - Cardio & Strength - Pembine
DESCRIPTION:Join us for a cardio-based workout to start the day off strong! This 45-minute class will help keep you “healthy for life.” Contact your trainer\, Brenda Rosenstiel for more information: (920) 327-9981 or brosenstiel@nsrccwi.com\nWe hope to see you there!
URL:https://upbarreview.com/event/nsrcc-cardio-strength-pembine/2024-12-10/
LOCATION:NSRCC\, 17112 US-141\, Pembine\, WI\, 54156
CATEGORIES:Menominee
END:VEVENT
BEGIN:VEVENT
DTSTART;TZID=UTC:20241210T100000
DTEND;TZID=UTC:20241210T120000
DTSTAMP:20260423T112522
CREATED:20241203T015216Z
LAST-MODIFIED:20241203T015216Z
UID:10002686-1733824800-1733832000@upbarreview.com
SUMMARY:Escanaba Public Library - Tech Tuesday Tech Help - Escanaba
DESCRIPTION:Need help printing from your phone? Setting up Libby on your personal device? Using Zoom?\nHow about getting started on your Chromebook or iPad? Using a Wi-Fi hotspot? Creating an email address? Google searches? or how to use the library’s online catalog?\nWe have the answers and assistance you need! Make an appointment or stop in at the circulation desk. Appointments are one hour (maximum).\nThe Escanaba Public Library staff do not repair computers/devices. The library assumes no liability for personal patron devices.
URL:https://upbarreview.com/event/escanaba-public-library-tech-tuesday-tech-help-escanaba/2024-12-10/
LOCATION:Escanaba Public Library\, 400 Ludington St\, Escanaba\, WI\, 49829
CATEGORIES:Menominee
END:VEVENT
BEGIN:VEVENT
DTSTART;TZID=UTC:20241210T120000
DTEND;TZID=UTC:20241210T193000
DTSTAMP:20260423T112522
CREATED:20241030T021353Z
LAST-MODIFIED:20241030T021353Z
UID:10002398-1733832000-1733859000@upbarreview.com
SUMMARY:Oak Crest Golf Course - Tuesday Mexican Nights - Norway
DESCRIPTION:It’s back by popular demand. Featuring items such as; tacos\, tostadas\, chimichangas\, taco salad\, quesadillas\, nachos\, and burritos. We will have some Mexican beers to wash it all down. Hope to see you
URL:https://upbarreview.com/event/oak-crest-golf-course-tuesday-mexican-nights-norway-2/2024-12-10/
LOCATION:Oak Crest Golf Course\, N1475 US-8\, Norway\, MI\, 49870
CATEGORIES:Ironmountain
END:VEVENT
BEGIN:VEVENT
DTSTART;TZID=UTC:20241210T130000
DTEND;TZID=UTC:20241210T160000
DTSTAMP:20260423T112522
CREATED:20241202T210209Z
LAST-MODIFIED:20241202T210209Z
UID:10002505-1733835600-1733846400@upbarreview.com
SUMMARY:CJ's Glass - Beginner Watercolor Winter Themed Cards - Marinette
DESCRIPTION:$40 cash or check to Judy BloomClass size: 12 Ages 12+Preregistration required by calling or messaging CJ’s Glass(608)354-2303You will paint 3) 5×7 cards. There will be choices of designs to choose from.Come try your hand at watercolor for the first time or refresh your skills in this watercolor class taught by Judy Bloom Studio! No previous experience needed. Judy offers a template and step by step\, demonstrated lessons to help you create this one of a kind painting.
URL:https://upbarreview.com/event/cjs-glass-beginner-watercolor-winter-themed-cards-marinette/
LOCATION:CJ’s Glass\, 802 Main St\, Marinette\, WI\, 54143
CATEGORIES:Menominee
END:VEVENT
BEGIN:VEVENT
DTSTART;TZID=UTC:20241210T150000
DTEND;TZID=UTC:20241210T173000
DTSTAMP:20260423T112522
CREATED:20241203T001039Z
LAST-MODIFIED:20241203T001104Z
UID:10002591-1733842800-1733851800@upbarreview.com
SUMMARY:County Library - Reading Adventure Night - Stephenson
DESCRIPTION:Join us for a Reading Adventure Night! There will be a story\, craft\, games\, and a snack. Please call to register 906-352-4111. We hope to see you there 
URL:https://upbarreview.com/event/county-library-reading-adventure-night-stephenson/
LOCATION:Menominee County Library\, S319 Railroad St\, Stephenson\, MI\, 49887
CATEGORIES:Menominee
END:VEVENT
BEGIN:VEVENT
DTSTART;TZID=UTC:20241210T150000
DTEND;TZID=UTC:20241210T220000
DTSTAMP:20260423T112522
CREATED:20241204T014001Z
LAST-MODIFIED:20241204T014001Z
UID:10002778-1733842800-1733868000@upbarreview.com
SUMMARY:Heights Park - Niagara Christmas Village Walk-Thru - Niagara
DESCRIPTION:First Annual Niagara Christmas Village is a walk-thru Christmas display with 12 sites decorated by local families\, groups\, organizations\, and businesses. The Christmas Village will be lit nightly from December 6th to January 11th from 3:00pm-10:00pm.\nEach display is supporting a local charity or organization. Votes (donations) for each site will go to their local charity/organization ($1=1 vote\, $10=10 votes\, etc). Voting locations are listed below. Voting starts December 6th. December 6th from 5:00pm to 7:00pm will be the annual tree lighting event with the tree lighting at 5:30pm.\nVoting Locations:City Hall – 1029 Roosevelt Rd\, Niagara (24 hr secure drop box\, lower level between glass doors\, enter in rear);Forward Financial Credit Union – 1250 Roosevelt Rd\, Niagara (Monday-Friday 8:30am-5:00pm Saturday 8:30am-12:00pm);Nicolet National Bank – 900 Roosevelt Rd\, Niagara (Monday-Friday 8:30am-5:00pm);Northwoods IGA – 501 Washington Ave\, Niagara (Monday-Saturday 7:30am-7:00pm Sunday 8:00am-4:00pm);Pit Stop Bar & Grill – 1059 Roosevelt Rd\, Niagara (Sunday-Thursday 10:00am-2:00am Friday & Saturday 10:00am-2:30am);Scott’s Uptown Lanes – 1201 Roosevelt Rd\, Niagara (Daily 11:00am-2:00am);Trip’s Tavern – 1001 Roosevelt Rd\, Niagara (Monday-Thursday 10:00am-close Friday-Sunday 9:00am-close)
URL:https://upbarreview.com/event/heights-park-niagara-christmas-village-walk-thru-niagara/2024-12-10/
LOCATION:Niagara Heights Park\, 1201 Grant Street\, Niagara\, wi\, 54151
CATEGORIES:Ironmountain
END:VEVENT
BEGIN:VEVENT
DTSTART;TZID=UTC:20241210T160000
DTEND;TZID=UTC:20241210T180000
DTSTAMP:20260423T112522
CREATED:20241202T201820Z
LAST-MODIFIED:20241202T201820Z
UID:10002475-1733846400-1733853600@upbarreview.com
SUMMARY:Mighty Pet - Place Training Workshop - Menominee
DESCRIPTION:PRE-REGISTRATION REQUIREDLearn how to teach your dog the invaluable skill of “place\,” where they can relax and stay calmly on a designated spot until released. This workshop will provide hands-on guidance to get your dog started\, as well as tips for making this skill a practical part of your daily routine. Whether you’re managing door greetings\, meal times\, or just need a calm moment\, place training is a game-changer. Spaces are limited\, so sign up today!\nDates: Tuesday\, December 10th at 4pmCost: $45 Duration: 2 hoursDetails: Limited to 3 spots per sessionWorkshop Registration: Pre-registration (form\, payment\, proof of vaccinations\, and confirmation from Meghan) is required to hold your spot.Current/former clients with a form and vaccinations on file can text Meghan at 906.424.0356 to register. New clients please complete this form https://form.jotform.com/202575559999175
URL:https://upbarreview.com/event/mighty-pet-place-training-workshop-menominee/
LOCATION:Mighty Pet\, 1207 8th Ave\, Menominee\, MI\, 49858
CATEGORIES:Menominee
END:VEVENT
BEGIN:VEVENT
DTSTART;TZID=UTC:20241210T170000
DTEND;TZID=UTC:20241210T180000
DTSTAMP:20260423T112522
CREATED:20241001T161107Z
LAST-MODIFIED:20241001T161107Z
UID:10001991-1733850000-1733853600@upbarreview.com
SUMMARY:VA Medical Center - Journey to Wellbriety Recovery Group - Iron Mountain
DESCRIPTION:Tuesdays at 5:00 p.m. CTOscar G. Johnson VAMC325 E H Street\, Iron Mountain\, MIRoom 2378 (2nd floor)\nQuestions may be directed to AJ Osickey at 906-774-3300 ext. 32776\nThis is a traditional recovery group for various forms of addiction and traumas. It is based upon spirituality teachings of the Native Peoples.
URL:https://upbarreview.com/event/va-medical-center-journey-to-wellbriety-recovery-group-iron-mountain/2024-12-10/
LOCATION:Iron Mountain VA Medical Center\, 325 E H St\, Iron Mountain\, MI\, 49801
CATEGORIES:Ironmountain
END:VEVENT
BEGIN:VEVENT
DTSTART;TZID=UTC:20241210T170000
DTEND;TZID=UTC:20241210T183000
DTSTAMP:20260423T112522
CREATED:20240729T153505Z
LAST-MODIFIED:20240729T153505Z
UID:10001365-1733850000-1733855400@upbarreview.com
SUMMARY:Redemption Riders Monthly Meeting
DESCRIPTION:5:00 pm – Bible Study (optional)5:30 pm – Dinner (optional)6:30 pm – Meeting(all times are central standard time)
URL:https://upbarreview.com/event/redemption-riders-monthly-meeting/2024-12-10/
LOCATION:Pizza Hut\, 1780 S Stephenson Ave\, Iron Mountain\, MI\, 49801
CATEGORIES:Ironmountain
END:VEVENT
BEGIN:VEVENT
DTSTART;TZID=UTC:20241210T170000
DTEND;TZID=UTC:20241210T190000
DTSTAMP:20260423T112522
CREATED:20241001T164634Z
LAST-MODIFIED:20241001T164634Z
UID:10002022-1733850000-1733857200@upbarreview.com
SUMMARY:Forever Friendship Drop-in Center - Mindfulness\, Meditation\, & Mandalas - Kingsford
DESCRIPTION:Try an alternative to most mental health treatment by focusing on your imagination and creative skills to make functional art project.Each week the Peer Support will lead the group in an art project directly linked to a coping skill. All supplies are included. We do encourage independence\, but keep group work available.Our goal throughout the process is to practice mindfulness skills\, listen to meditation music\, and be surrounded by like-minded individuals.
URL:https://upbarreview.com/event/forever-friendship-drop-in-center-mindfulness-meditation-mandalas-kingsford/2024-12-10/
LOCATION:Forever Friendship Drop-in Center\, 501 S Carpenter Ave\, Kingsford\, MI
CATEGORIES:Ironmountain
END:VEVENT
BEGIN:VEVENT
DTSTART;TZID=UTC:20241210T170000
DTEND;TZID=UTC:20241210T190000
DTSTAMP:20260423T112522
CREATED:20241203T001802Z
LAST-MODIFIED:20241203T001802Z
UID:10002595-1733850000-1733857200@upbarreview.com
SUMMARY:Manor on Main - Supper with Santa - Wausaukee
DESCRIPTION:Join us on Tuesday\, December 10th from 5 – 7 pm at Manor on Main for dinner with the one and only Santa Claus! Enjoy this free community event with food\, music\, baked goods\, and crafts for kids. Every child gets a gift and a picture with Santa and Mrs. Claus!!
URL:https://upbarreview.com/event/manor-on-main-supper-with-santa-wausaukee/
LOCATION:Manor on Main\, 722 Main St.\, Wausaukee\, WI
CATEGORIES:Menominee
END:VEVENT
END:VCALENDAR