BEGIN:VCALENDAR
VERSION:2.0
PRODID:-//UP BAR REVIEW - ECPv6.14.2//NONSGML v1.0//EN
CALSCALE:GREGORIAN
METHOD:PUBLISH
X-WR-CALNAME:UP BAR REVIEW
X-ORIGINAL-URL:https://upbarreview.com
X-WR-CALDESC:Events for UP BAR REVIEW
REFRESH-INTERVAL;VALUE=DURATION:PT1H
X-Robots-Tag:noindex
X-PUBLISHED-TTL:PT1H
BEGIN:VTIMEZONE
TZID:UTC
BEGIN:STANDARD
TZOFFSETFROM:+0000
TZOFFSETTO:+0000
TZNAME:UTC
DTSTART:20240101T000000
END:STANDARD
END:VTIMEZONE
BEGIN:VEVENT
DTSTART;TZID=UTC:20241113T070000
DTEND;TZID=UTC:20241113T170000
DTSTAMP:20260424T142740
CREATED:20241030T022959Z
LAST-MODIFIED:20241030T022959Z
UID:10002423-1731481200-1731517200@upbarreview.com
SUMMARY:Monettes Market & Cafe - Third Annual Porketta Day - Kingsford
DESCRIPTION:Mark your Calendars! Third Annual Porketta Day!The One Day a Year that Porketta is on sale!
URL:https://upbarreview.com/event/monettes-market-cafe-third-annual-porketta-day-kingsford/
LOCATION:Monettes Market & Cafe\, 393 Woodward Ave\, Kingsford\, MI\, 49802
CATEGORIES:Ironmountain
END:VEVENT
BEGIN:VEVENT
DTSTART;TZID=UTC:20241113T080000
DTEND;TZID=UTC:20241113T170000
DTSTAMP:20260424T142740
CREATED:20241030T022343Z
LAST-MODIFIED:20241030T022403Z
UID:10002417-1731484800-1731517200@upbarreview.com
SUMMARY:True North Outpost - Adult Climb - Norway
DESCRIPTION:Join us every Wednesday for Adult Climb from 6-8pm at our Base Camp Climbing Gym.\nAll skill levels are welcome! Come climb with us and enjoy all the benefits of bouldering.\n$15 includes shoe rental and coachesMemberships are also available!
URL:https://upbarreview.com/event/true-north-outpost-adult-climb-norway-2/2024-11-13/
LOCATION:True North Outpost\, W 5768 Old Piers Gorge Rd.\, Norway\, MI\, 49870
CATEGORIES:Ironmountain
END:VEVENT
BEGIN:VEVENT
DTSTART;TZID=UTC:20241113T160000
DTEND;TZID=UTC:20241113T193000
DTSTAMP:20260424T142740
CREATED:20240827T133046Z
LAST-MODIFIED:20240827T133046Z
UID:10001698-1731513600-1731526200@upbarreview.com
SUMMARY:Knights of Columbus - Bingo Wednesday - Iron Mountain
DESCRIPTION:The Columbus Club operates the hall and hosts Charity Bingo every Wednesday night. \n\nDoors open at 4:00 PM\nBingo Games start at 6:30 PM.\nFood is available for purchase at the hall.\n\nThe Columbus Club uses all proceeds to maintain the building and support the good works of the council.  Bingo is operated under the regulations set by the State of Michigan Charitable Gaming.
URL:https://upbarreview.com/event/knights-of-columbus-bingo-wednesday-iron-mountain/2024-11-13/
LOCATION:Knights of Columbus Kingsford\, 520 West Breitung Ave\, Kingsford\, MI
CATEGORIES:Ironmountain
END:VEVENT
BEGIN:VEVENT
DTSTART;TZID=UTC:20241113T170000
DTEND;TZID=UTC:20241113T180000
DTSTAMP:20260424T142740
CREATED:20241030T022216Z
LAST-MODIFIED:20241030T022216Z
UID:10002415-1731517200-1731520800@upbarreview.com
SUMMARY:Dickinson County Library - Bow Wows & Books - Norway
DESCRIPTION:Patrons of all ages and reading abilities can practice reading aloud to therapy dogs\, Azul\, a Siberian Husky-Mix\, and Belle\, a Labrador Retriever-Mix. Reading aloud to therapy dogs can boost a child’s confidence in reading. Required registration begins on Wednesday\, November 13; please call (906) 563-8617 to sign up for a 15-minute time slot with either or both dogs.
URL:https://upbarreview.com/event/dickinson-county-library-bow-wows-books-norway/
LOCATION:Dickinson County Library – Norway\, 620 Section St\, Norway\, MI
CATEGORIES:Ironmountain
END:VEVENT
BEGIN:VEVENT
DTSTART;TZID=UTC:20241113T170000
DTEND;TZID=UTC:20241113T190000
DTSTAMP:20260424T142740
CREATED:20241001T164937Z
LAST-MODIFIED:20241001T164937Z
UID:10002031-1731517200-1731524400@upbarreview.com
SUMMARY:Forever Friendship Drop-in Center - Vintage Video Game Night - Kingsford
DESCRIPTION:Step outside your modern box and have a fun flashback to a simpler time. Please bring vintage game consoles and games to share. Goal is to meet people outside our norm but have gaming and mental health similarities.
URL:https://upbarreview.com/event/forever-friendship-drop-in-center-vintage-video-game-night-kingsford/2024-11-13/
LOCATION:Forever Friendship Drop-in Center\, 501 S Carpenter Ave\, Kingsford\, MI
CATEGORIES:Ironmountain
END:VEVENT
BEGIN:VEVENT
DTSTART;TZID=UTC:20241113T173000
DTEND;TZID=UTC:20241113T203000
DTSTAMP:20260424T142740
CREATED:20241029T125514Z
LAST-MODIFIED:20241029T125514Z
UID:10002133-1731519000-1731529800@upbarreview.com
SUMMARY:The Craft Cave - Exploding Canvas - Marinette
DESCRIPTION:Here comes Santa Clause! You can do Santa or Snowman. 9×12 canvas. BYOB \, cost 20 $. Call to pre pay and sign up at 715-587-4643
URL:https://upbarreview.com/event/the-craft-cave-exploding-canvas-marinette-3/
LOCATION:The Craft Cave\, 605 Main St.\, Marinette\, WI\, 54143\, United States
CATEGORIES:Menominee
END:VEVENT
BEGIN:VEVENT
DTSTART;TZID=UTC:20241113T180000
DTEND;TZID=UTC:20241113T203000
DTSTAMP:20260424T142740
CREATED:20241029T201734Z
LAST-MODIFIED:20241029T201734Z
UID:10002318-1731520800-1731529800@upbarreview.com
SUMMARY:Lavender Spirit Healing & Massage - November Full Moon Meditation - Wausaukee
DESCRIPTION:Designed to help you find balance and release stuck energy during the powerful influence of the full moon. Through progressive relaxation techniques\, we will align and balance your energy centers for a soothing and rejuvenating experience.Enjoy this session online or in-person!In Person\, $15 cash only
URL:https://upbarreview.com/event/lavender-spirit-healing-massage-november-full-moon-meditation-wausaukee/
LOCATION:Lavender Spirit Healing & Massage\, 544 Van Buren St.\, Wausaukee\, WI
CATEGORIES:Menominee
END:VEVENT
BEGIN:VEVENT
DTSTART;TZID=UTC:20241114T100000
DTEND;TZID=UTC:20241114T233000
DTSTAMP:20260424T142740
CREATED:20241029T145445Z
LAST-MODIFIED:20241029T145445Z
UID:10002220-1731578400-1731627000@upbarreview.com
SUMMARY:Alibi's - Free Pool Thursdays - Marinette
DESCRIPTION:Free Pool!!
URL:https://upbarreview.com/event/alibis-free-pool-thursdays-marinette/2024-11-14/
LOCATION:ALiBi Bar & Grill\, 829 Main St\, Marinette\, WI\, 54143\, United States
CATEGORIES:Menominee
END:VEVENT
BEGIN:VEVENT
DTSTART;TZID=UTC:20241114T150000
DTEND;TZID=UTC:20241114T200000
DTSTAMP:20260424T142740
CREATED:20241029T150148Z
LAST-MODIFIED:20241029T150212Z
UID:10002277-1731596400-1731614400@upbarreview.com
SUMMARY:The Outback - BINGO - Marinette
DESCRIPTION:3:00 pm – 5:00 pm & 6:00 pm -8:00 pmWe hope to see you!!
URL:https://upbarreview.com/event/the-outback-bingo-marinette/2024-11-14/
LOCATION:The Outback\, 1997 Old Peshtigo Rd\, Marinette\, WI\, 54143\, United States
CATEGORIES:Menominee
END:VEVENT
BEGIN:VEVENT
DTSTART;TZID=UTC:20241114T170000
DTEND;TZID=UTC:20241114T190000
DTSTAMP:20260424T142740
CREATED:20241001T165045Z
LAST-MODIFIED:20241001T165045Z
UID:10002043-1731603600-1731610800@upbarreview.com
SUMMARY:Forever Friendship Drop-in Center - Womens Discussion Group - Kingsford
DESCRIPTION:This a safe space where women with a mental health diagnosis can talk openly and freely about issues women face in our current society. The facilitator is also a peer and has access to multitude of resources to assist the group in topics\, goals and skill building.
URL:https://upbarreview.com/event/forever-friendship-drop-in-center-womens-discussion-group-kingsford/2024-11-14/
LOCATION:Forever Friendship Drop-in Center\, 501 S Carpenter Ave\, Kingsford\, MI
CATEGORIES:Ironmountain
END:VEVENT
BEGIN:VEVENT
DTSTART;TZID=UTC:20241114T170000
DTEND;TZID=UTC:20241114T210000
DTSTAMP:20260424T142740
CREATED:20241030T005227Z
LAST-MODIFIED:20241030T005227Z
UID:10002328-1731603600-1731618000@upbarreview.com
SUMMARY:Stardust Healing Center - Girls Night Out - Iron Mountain
DESCRIPTION:It is beautiful how many women come together each year for Girls Night Out\, and women in numbers can be a very powerful force for light in this world. That is why we are hosting a special fundraiser event as part of this year’s celebration. There will be a raffle and silent auction of locally made art to raise funds for the Denim Heart thrift store and food pantry. We will also have a table featuring the work of 2 female artists that are currently faced with severe health complications. You can purchase their art to support them or just give a donation. Women owned local businesses with handmade products will be featured throughout the hallway as well. Body Alchemy will be offering chair massages down the hall\, and One Human Band will be there to serenade us from 5-7pm. We look forward to a blessed evening of heartfelt connection and community love!\nAlso\, you can stop by Oddfellows next door for their event too! They will be offering food and drink specials starting at 4:30pm\, as well as live music from 7-9pm
URL:https://upbarreview.com/event/stardust-healing-center-girls-night-out-iron-mountain/
CATEGORIES:Ironmountain
END:VEVENT
BEGIN:VEVENT
DTSTART;TZID=UTC:20241114T170000
DTEND;TZID=UTC:20241114T210000
DTSTAMP:20260424T142740
CREATED:20241030T015059Z
LAST-MODIFIED:20241030T015059Z
UID:10002365-1731603600-1731618000@upbarreview.com
SUMMARY:Girls Night Out - Iron Mountain Downtown
DESCRIPTION:Thanks to the generous support from the DTE Energy Foundation\, Girls Night Out is returning to Downtown Iron Mountain!\nShop\, Dine\, and Socialize! Downtown Iron Mountain’s Girls Night Out is November 14th\, 2024! Gather your friends and explore the heart of our downtown community. Discover hidden gems at our beloved small businesses and boutiques\, while supporting your local community.\nEnjoy a cozy evening catching up with friends\, \, shopping at your favorite downtown businesses\, and ending the night at Oddfellows\, where you can listen to music from CJO & Trev from 7 PM to 9 PM. Girls Night Out After Party music is covered by Lume\, who is joining us on-site again this year!
URL:https://upbarreview.com/event/girls-night-out-iron-mountain-downtown/
LOCATION:Downtown Iron Mountain
CATEGORIES:Ironmountain
END:VEVENT
BEGIN:VEVENT
DTSTART;TZID=UTC:20241114T173000
DTEND;TZID=UTC:20241114T203000
DTSTAMP:20260424T142740
CREATED:20241029T123023Z
LAST-MODIFIED:20241029T123023Z
UID:10002095-1731605400-1731616200@upbarreview.com
SUMMARY:McCrafties - Silent Shadow Canvas Class - Menominee
DESCRIPTION:Join us for a relaxing and creative experience of painting the “Silent Shadow” on a 16×20 canvas. This step-by-step\, fully guided class will walk you through the process of creating a beautiful acrylic painting. We provide outlines to help you achieve the look of the original painting\, ensuring a stunning result for everyone\, regardless of your skill level.\nThis class is perfect for beginners and experienced painters alike. Let’s get creative together!\nPRE-PAYMENT of $40 is required to save your spot. Feel free to call the studio or stop in with payment.\n715-440-5959\nAll skill levels are welcome and yes you can achieve this! \nWe provide all the necessary supplies.\nWe look forward to crafting with you.\nCLASS REFUND POLICY\n-full in studio credit if cancellation is 1 week prior to the class-50% in studio credit up to 24 hours prior to class.-less than 24 hours notice\, no credit-NO SHOW/ NO CALL/NO CREDIT
URL:https://upbarreview.com/event/mccrafties-silent-shadow-canvas-class-menominee/
LOCATION:McCrafties\, 625 1st St\, Menominee\, MI\, 49858\, United States
CATEGORIES:Menominee
END:VEVENT
BEGIN:VEVENT
DTSTART;TZID=UTC:20241114T180000
DTEND;TZID=UTC:20241114T210000
DTSTAMP:20260424T142740
CREATED:20241001T040448Z
LAST-MODIFIED:20241001T040448Z
UID:10001860-1731607200-1731618000@upbarreview.com
SUMMARY:Spirit House -Trivia Night! - Menominee
DESCRIPTION:Trivia Night Thursday at Spirit House\, come check out this awesome event!!!!
URL:https://upbarreview.com/event/spirit-house-trivia-night-menominee/2024-11-14/
LOCATION:Spirit House\, 533 10th Ave\, Menominee\, MI 49858\, Menominee\, MI\, 49858\, United States
CATEGORIES:Menominee
END:VEVENT
BEGIN:VEVENT
DTSTART;TZID=UTC:20241114T180000
DTEND;TZID=UTC:20241114T210000
DTSTAMP:20260424T142740
CREATED:20241030T021051Z
LAST-MODIFIED:20241030T021051Z
UID:10002372-1731607200-1731618000@upbarreview.com
SUMMARY:Oak Crest Golf Course - Trivia Time - Norway
DESCRIPTION:It is back by popular demand. Oak Crest Golf Club Thursday Night Trivia. Trivia will start at 6pm sharp\, but come early and enjoy Happy Hour from 4-6pm with a $1.00 off all drinks. Bring your friends and family for a fun couple of hours of laughs and Trivia.
URL:https://upbarreview.com/event/oak-crest-golf-course-trivia-time-norway/2024-11-14/
LOCATION:Oak Crest Golf Course\, N1475 US-8\, Norway\, MI\, 49870
CATEGORIES:Ironmountain
END:VEVENT
BEGIN:VEVENT
DTSTART;TZID=UTC:20241114T190000
DTEND;TZID=UTC:20241114T210000
DTSTAMP:20260424T142740
CREATED:20240827T020238Z
LAST-MODIFIED:20240827T020238Z
UID:10001586-1731610800-1731618000@upbarreview.com
SUMMARY:Mos Pub - Family Feud Night - Escanaba
DESCRIPTION: From the (so-called) brains behind Quizmaster Trivia\, Feudmaster is the bar game where players are fighting the clock… and their friends. \n———–\nSPECIALS: $1.50 domestic pints $3 rail mixers $1-off Specialty Burgers $2-off Specialty Pizza\n———-\nPRIZES: $30 gift card $20 gift card $10 gift card\n———-\nGAME PLAY:\n Similar to Family Feud\, the goal is to guess the TOP answer to common survey questions…\n• “An athlete in what sport would be good at a game of Twister?”\n• “If you want to keep the romance ticking\, name something you should NOT have in your bedroom?”\n At the start of the game players are given a white board to write their answers on…\n Players can team up\, or play solo. Either way you’ll be fighting your friends for the top answer\, but you’ll only have 30 seconds to do so…\n———–\n Hold up your whiteboard after the time is up and the host will come around to mark your points.\n Players get 10 points for the top answer and 5 points for the second-top answer.\n———–\n The game is split into 3 rounds of five questions each\, with one Final Feud question at the end\, where players have to come up with five answers.\n Plus\, players will be given two pens for their white boards: a black one and a red one.\n ONCE per round\, teams can use their red pen to answer\, which will double their points for that question if they are correct.
URL:https://upbarreview.com/event/mos-pub-family-feud-night-escanaba/2024-11-14/
LOCATION:Mo’s Pub\, 2116 Ludington St\, Escanaba\, MI\, 49829
CATEGORIES:Menominee
END:VEVENT
BEGIN:VEVENT
DTSTART;TZID=UTC:20241115T080000
DTEND;TZID=UTC:20241115T090000
DTSTAMP:20260424T142740
CREATED:20241029T200811Z
LAST-MODIFIED:20241029T200811Z
UID:10002305-1731657600-1731661200@upbarreview.com
SUMMARY:NSRCC - Beginner Yoga - Pembine
DESCRIPTION:Join us for our beginner yoga class! Never tried yoga before? That’s okay! Learn about what yoga is and how it helps your body. If you have any questions\, contact your trainer\, Brenda Rosenstiel: (920) 327-9981 or brosenstiel@nsrccwi.com\nWe hope to see you there!
URL:https://upbarreview.com/event/nsrcc-beginner-yoga-pembine/2024-11-15/
LOCATION:NSRCC\, 17112 US-141\, Pembine\, WI\, 54156
CATEGORIES:Menominee
END:VEVENT
BEGIN:VEVENT
DTSTART;TZID=UTC:20241115T130000
DTEND;TZID=UTC:20241115T160000
DTSTAMP:20260424T142740
CREATED:20241030T023423Z
LAST-MODIFIED:20241030T023449Z
UID:10002429-1731675600-1731686400@upbarreview.com
SUMMARY:Forever Friendship Drop-in Center - Lego Building Group - Kingsford
DESCRIPTION:Come join other adults you enjoy using their creativity in building and creating their own designs. We have a variety of Lego colors\, parts\, people and accessories to make your creation come to life. If free creation isn’t your style\, we also have variety of kits available for assembly. Building is more fun with others!
URL:https://upbarreview.com/event/forever-friendship-drop-in-center-lego-building-group-kingsford/2024-11-15/
LOCATION:Forever Friendship Drop-in Center\, 501 S Carpenter Ave\, Kingsford\, MI
CATEGORIES:Ironmountain
END:VEVENT
BEGIN:VEVENT
DTSTART;TZID=UTC:20241115T150000
DTEND;TZID=UTC:20241115T180000
DTSTAMP:20260424T142740
CREATED:20241031T190727Z
LAST-MODIFIED:20241031T190727Z
UID:10002451-1731682800-1731693600@upbarreview.com
SUMMARY:Upper Hand Brewery - Lets Get Lit With Lumen! - Escanaba
DESCRIPTION:You’ve been patiently waiting\, and now the time has come! Join us for the re-release of our India Pale Lager\, Lumen. We will have it on draft and in 6-packs\, so you can enjoy a pint in the Taproom and buy some for later. This is a 21+ event\, so please leave the kids at home.
URL:https://upbarreview.com/event/upper-hand-brewery-lets-get-lit-with-lumen-escanaba/
LOCATION:Upper Hand Brewery\, 3525 Airport Rd\, Escanaba\, WI\, 49829
CATEGORIES:Menominee
END:VEVENT
BEGIN:VEVENT
DTSTART;TZID=UTC:20241115T173000
DTEND;TZID=UTC:20241115T203000
DTSTAMP:20260424T142740
CREATED:20240827T012633Z
LAST-MODIFIED:20240827T012633Z
UID:10001524-1731691800-1731702600@upbarreview.com
SUMMARY:NSRCC BINGO - Pembine
DESCRIPTION:Join us for a fun-filled evening of bingo!Doors open at 5:30pmGames start at 6:00pm\nFood\, drinks\, and daubers will be available for purchase.This event is fun for the whole family! – We look forward to seeing you soon!\nTHIS EVENT HAS FREE WIFI
URL:https://upbarreview.com/event/nsrcc-bingo-pembine/2024-11-15/
LOCATION:NSRCC\, 17112 US-141\, Pembine\, WI\, 54156
CATEGORIES:Menominee
END:VEVENT
BEGIN:VEVENT
DTSTART;TZID=UTC:20241115T180000
DTEND;TZID=UTC:20241115T200000
DTSTAMP:20260424T142740
CREATED:20241030T014450Z
LAST-MODIFIED:20241030T014450Z
UID:10002359-1731693600-1731700800@upbarreview.com
SUMMARY:D's Dreamations - Paint your own Christmas Ornament - Iron Mountain
DESCRIPTION:D’s Dreamations will be hosting an Ornament Paint Party!You will receive 5 ornaments\, the paint and instructions. Some ornaments contain layers that will be painted then glued together. There will also be an ornament that you will paint a full design on\, Don’t Worry\, it will be sketched out for you\, and I will guide you through the painting process.Bring your friends or family and be ready for some fun!Please plan to purchase your drinks and food at Round 2 Bar as they are allowing us to use their business as they support another small business.$35 per personWe will need to know how many will attend prior to the event so we can ensure there are enough supplies available to all attendees. To ensure you have your ornaments and space saved\, please make payment by:November 10Payment can be made:Pay Pal-deannajvn@gmail.comVenmo-@Deanna-Brown-201\nWe will not have extra supplies available.Thank you! We can’t wait to paint with you!
URL:https://upbarreview.com/event/ds-dreamations-paint-your-own-christmas-ornament-iron-mountain/
LOCATION:D’s Dreamations\, 407 S Stephenson Ave\, Iron Mountain\, MI
CATEGORIES:Ironmountain
END:VEVENT
BEGIN:VEVENT
DTSTART;TZID=UTC:20241115T180000
DTEND;TZID=UTC:20241115T210000
DTSTAMP:20260424T142740
CREATED:20240728T174323Z
LAST-MODIFIED:20240728T174323Z
UID:10001110-1731693600-1731704400@upbarreview.com
SUMMARY:Four Seasons Island Resort - Todd Wanger in The Lounge Bar - Pembine
DESCRIPTION:Todd Wangerin in The Lounge from 6:00 PM – 9:00 PM!\nTodd Wangerin is a singer/songwriter from Iron Mountain who performs indie and alternative pop/rock originals and covers. Heavily influenced by contemporary 90’s/00’s artists such as John Mayer\, Pearl Jam\, Matchbox Twenty\, Hootie & The Blowfish\, his performances usually feature bandmate Evan Blagec on percussion and create a great atmosphere for a night of great music and a lot of fun!
URL:https://upbarreview.com/event/four-seasons-island-resort-todd-wanger-in-the-lounge-bar-pembine/2024-11-15/
LOCATION:Four Seasons Island Resort\, 16800 Shoreline Dr\, Pembine\, WI\, 54156\, United States
CATEGORIES:Menominee
END:VEVENT
BEGIN:VEVENT
DTSTART;TZID=UTC:20241115T200000
DTEND;TZID=UTC:20241115T230000
DTSTAMP:20260424T142740
CREATED:20240626T193739Z
LAST-MODIFIED:20240626T193739Z
UID:10000850-1731700800-1731711600@upbarreview.com
SUMMARY:Island Resort & Casino - Connor Smith - Harris
DESCRIPTION:Conner Smith has emerged as one of Country’s most hotly-anticipated artists – his authentic storytelling and rich\, soulful voice resonating with audiences nationwide\, earning him a dedicated and passionate following.\nAt just 23 years old\, Smith is already a seasoned veteran of Nashville’s elite songwriting community – realizing the past can still inspire the present\, and that good things come to those who wait. The rising singer/songwriter has spent 15 years matching a honeyed vocal to propulsive hints of bluegrass and the warmth of ‘90s Country\, an instant-classic sound infused with riveting modern appeal.\nMoving Country music forward while remembering its all-natural roots\, Smith’s critically acclaimed full-length debut album SMOKY MOUNTAINS (The Valory Music Co.) is meant to stand the test of time. Featuring GOLD-certified “Take It Slow\,” viral hit “I Hate Alabama\,” multi-week UK chart-topper “Creek Will Rise” and new single “Roulette On The Heart” featuring Hailey Whitters\, his deeply personal 12-song project is one of classic style and contemporary spirit\, and a reflection of the artist himself. These songs\, among others\, laid an artistic foundation that earned Smith Artist to Watch status from Spotify\, Amazon Music and Opry NextStage\, while also making him the only Country artist on Pandora’s Ten List 2022 and secured 2023 recognition from MusicRow Next Big Thing and CMT Listen Up as well as joining the CRS New Faces Class of 2024. These milestones led Smith to earn his first-ever ACM Awards nomination for New Male Artist of the Year ahead of the 59th annual show.
URL:https://upbarreview.com/event/island-resort-casino-connor-smith-harris/2024-11-15/
LOCATION:Four Seasons Island Resort\, 16800 Shoreline Dr\, Pembine\, WI\, 54156\, United States
CATEGORIES:Menominee
END:VEVENT
BEGIN:VEVENT
DTSTART;TZID=UTC:20241116T080000
DTEND;TZID=UTC:20241116T140000
DTSTAMP:20260424T142740
CREATED:20240530T185958Z
LAST-MODIFIED:20240530T185958Z
UID:10000314-1731744000-1731765600@upbarreview.com
SUMMARY:Crivitz - Craft & Vendor Show\, Gun & Knife Show
DESCRIPTION:Shop a variety of Crafters & Vendors\nJAN 27\, FEB 24\, MAR 23\, SEPT 14\, OCT 26\, NOV 16\nAlso shop Crivitz American Legion 413/ VFW 2063 Rod\, Gun\, & Knife Shows ($5 Admission)\n8:00am – 2:00pm\nVFW/Am. Legion selling Breakfast & Lunch
URL:https://upbarreview.com/event/crivitz-craft-vendor-show-gun-knife-show/
LOCATION:Peshtigo River Center\, W7842 Airport Rd\, Crivitz\, WI\, 54114\, United States
CATEGORIES:Menominee
END:VEVENT
BEGIN:VEVENT
DTSTART;TZID=UTC:20241116T090000
DTEND;TZID=UTC:20241116T130000
DTSTAMP:20260424T142740
CREATED:20241029T200421Z
LAST-MODIFIED:20241029T200421Z
UID:10002301-1731747600-1731762000@upbarreview.com
SUMMARY:Pembine High - Fall Craft Fair
DESCRIPTION:The BDP Class of 2025 presents the Fall Craft Fair on 11/16/2024. PM me or email Sarah Eloranta at Seloranta@pembine.k12.wi.us.\nWe hope to see you there!!!
URL:https://upbarreview.com/event/pembine-high-fall-craft-fair/
LOCATION:Pembine High\, N18775 Sauld St\, Pembine\, WI
CATEGORIES:Menominee
END:VEVENT
BEGIN:VEVENT
DTSTART;TZID=UTC:20241116T090000
DTEND;TZID=UTC:20241116T140000
DTSTAMP:20260424T142740
CREATED:20241029T133727Z
LAST-MODIFIED:20241029T133727Z
UID:10002190-1731747600-1731765600@upbarreview.com
SUMMARY:TLH Basement Creations - Christmas Craft Open House - Pulaski
DESCRIPTION:Join me for my 4th Annual Christmas Craft Open House. The garage will be filled with a variety of handmade decor and great gift ideas
URL:https://upbarreview.com/event/tlh-basement-creations-christmas-craft-open-house-pulaski/
LOCATION:TLH Basement Creations\, W1863 Cty S\, Pulaski\, WI
CATEGORIES:Menominee
END:VEVENT
BEGIN:VEVENT
DTSTART;TZID=UTC:20241116T100000
DTEND;TZID=UTC:20241116T180000
DTSTAMP:20260424T142740
CREATED:20241029T131153Z
LAST-MODIFIED:20241029T131153Z
UID:10002151-1731751200-1731780000@upbarreview.com
SUMMARY:Pine Tree Mall - Craft & Vendor Show - Marinette
DESCRIPTION:Free AdmissionVendor Space Available – Please ShareVendor Registration WowSolutions4u.com – website only –**IMPORTANT**DO NOT SEND MONEY to People Commenting that they have spots or spaces available-check out their picture and their name-they are SCAMMERS! Dawn
URL:https://upbarreview.com/event/pine-tree-mall-craft-vendor-show-marinette/
LOCATION:Pine Tree Mall\, 2800 Roosevelt Rd\, Marinette\, WI\, 54143\, United States
CATEGORIES:Menominee
END:VEVENT
BEGIN:VEVENT
DTSTART;TZID=UTC:20241116T110000
DTEND;TZID=UTC:20241116T140000
DTSTAMP:20260424T142740
CREATED:20241030T013131Z
LAST-MODIFIED:20241030T013131Z
UID:10002349-1731754800-1731765600@upbarreview.com
SUMMARY:Bored Bard Games - Lorcana Sea Booster Draft Tournament - Iron Mountain
DESCRIPTION:Event: Lorcana Azurite Sea Release Weekend Booster Draft Tournament\n Date: Saturday\, November 16th Start Time: 11:00 AM Entry Fee: $29.95 plus tax per person\nJoin us for an exciting Booster Draft Tournament to celebrate the release of Lorcana: Azurite Sea! Each player will receive 4 booster packs to draft and build a 40-card deck\, using any colors they wish. This tournament features 3 Swiss rounds\, followed by a Top 4 cut.\n Prizes:\n1st Place: 3 booster packs2nd Place: 2 booster packs3rd Place: 1 booster pack Bonus: Extra booster pack raffles at the end of the tournament (based on attendance).\nDon’t miss this chance to draft the latest Lorcana set and compete with fellow players!
URL:https://upbarreview.com/event/bored-bard-games-lorcana-sea-booster-draft-tournament-iron-mountain/
LOCATION:Bored Bard Games\, 224 E Hughitt St\, Iron Mountain\, mi\, 49801
CATEGORIES:Ironmountain
END:VEVENT
BEGIN:VEVENT
DTSTART;TZID=UTC:20241116T110000
DTEND;TZID=UTC:20241116T163000
DTSTAMP:20260424T142740
CREATED:20241029T124116Z
LAST-MODIFIED:20241029T124116Z
UID:10002117-1731754800-1731774600@upbarreview.com
SUMMARY:CJ's Glass - Stained Glass Christmas Triangle - Marinette
DESCRIPTION:You choose between the pumpkin or the feather! An abundance of colors will be available.!$65 includes everythingages 12+. no prior experience neededPre-registration Required.call or msg Cj 608-354-2303class size 6Come learn something new today! You will have hands on teaching in the copper foil method of stained glass to create a beautiful Suncatcher. Participants will score and break glass\, grind\, foil and solder. please wear closed toed shoes.
URL:https://upbarreview.com/event/cjs-glass-stained-glass-christmas-triangle-marinette/
LOCATION:CJ’s Glass\, 802 Main St\, Marinette\, WI\, 54143
CATEGORIES:Menominee
END:VEVENT
BEGIN:VEVENT
DTSTART;TZID=UTC:20241116T130000
DTEND;TZID=UTC:20241116T150000
DTSTAMP:20260424T142740
CREATED:20241029T125203Z
LAST-MODIFIED:20241029T125203Z
UID:10002130-1731762000-1731769200@upbarreview.com
SUMMARY:The Craft Cave - Exploding Canvas - Marinette
DESCRIPTION:Santa is coming to town! You can use Santa or Snowman. Cost 20$ BYOB canvas 9×12. Call to pre pay and sign up at 715-587-4643
URL:https://upbarreview.com/event/the-craft-cave-exploding-canvas-marinette-2/
LOCATION:The Craft Cave\, 605 Main St.\, Marinette\, WI\, 54143\, United States
CATEGORIES:Menominee
END:VEVENT
END:VCALENDAR