BEGIN:VCALENDAR
VERSION:2.0
PRODID:-//UP BAR REVIEW - ECPv6.14.2//NONSGML v1.0//EN
CALSCALE:GREGORIAN
METHOD:PUBLISH
X-WR-CALNAME:UP BAR REVIEW
X-ORIGINAL-URL:https://upbarreview.com
X-WR-CALDESC:Events for UP BAR REVIEW
REFRESH-INTERVAL;VALUE=DURATION:PT1H
X-Robots-Tag:noindex
X-PUBLISHED-TTL:PT1H
BEGIN:VTIMEZONE
TZID:UTC
BEGIN:STANDARD
TZOFFSETFROM:+0000
TZOFFSETTO:+0000
TZNAME:UTC
DTSTART:20240101T000000
END:STANDARD
END:VTIMEZONE
BEGIN:VEVENT
DTSTART;TZID=UTC:20241001T110000
DTEND;TZID=UTC:20241001T120000
DTSTAMP:20260424T010707
CREATED:20240930T171436Z
LAST-MODIFIED:20240930T171436Z
UID:10001729-1727780400-1727784000@upbarreview.com
SUMMARY:The Craft Cave - Scarecrow - Marinette
DESCRIPTION:This is a wood kit. You paint and put together and decorate. This is a 25$ project. Adult class\, BYOB \, approx 17 in tall . You will need to sign up for class by Monday 9-23-24 these have to be ordered. Call to pre pay and sign up at 715-587-4643.
URL:https://upbarreview.com/event/the-craft-cave-scarecrow-marinette/
LOCATION:The Craft Cave\, 605 Main St.\, Marinette\, WI\, 54143\, United States
CATEGORIES:Menominee
END:VEVENT
BEGIN:VEVENT
DTSTART;TZID=UTC:20241001T120000
DTEND;TZID=UTC:20241001T193000
DTSTAMP:20260424T010707
CREATED:20241001T155828Z
LAST-MODIFIED:20241001T155828Z
UID:10001968-1727784000-1727811000@upbarreview.com
SUMMARY:Oak Crest Golf Course - Tuesday Mexican Nights - Norway
DESCRIPTION:It’s back by popular demand. Featuring items such as; tacos\, tostadas\, chimichangas\, taco salad\, quesadillas\, nachos\, and burritos. We will have some Mexican beers to wash it all down. Hope to see you.
URL:https://upbarreview.com/event/oak-crest-golf-course-tuesday-mexican-nights-norway/2024-10-01/
LOCATION:Oak Crest Golf Course\, N1475 US-8\, Norway\, MI\, 49870
CATEGORIES:Ironmountain
END:VEVENT
BEGIN:VEVENT
DTSTART;TZID=UTC:20241001T160000
DTEND;TZID=UTC:20241001T200000
DTSTAMP:20260424T010707
CREATED:20240729T151628Z
LAST-MODIFIED:20240729T151628Z
UID:10001334-1727798400-1727812800@upbarreview.com
SUMMARY:The Maxx Entertainment Center - Tuesday Open Jam - Iron Mountain
DESCRIPTION:Tuesdays are Open Jam Nights! 4pm-8pm. All ages and skill levels are welcome and encouraged to come and pick up an instrument\, sing\, and perform in the open jam. This is a free event.
URL:https://upbarreview.com/event/the-maxx-entertainment-center-tuesday-open-jam-iron-mountain/2024-10-01/
LOCATION:The Maxx Entertainment Center\, 2202 Aragon St\, Iron Mountain\, MI\, 49801
CATEGORIES:Ironmountain
END:VEVENT
BEGIN:VEVENT
DTSTART;TZID=UTC:20241001T170000
DTEND;TZID=UTC:20241001T180000
DTSTAMP:20260424T010707
CREATED:20241001T161107Z
LAST-MODIFIED:20241001T161107Z
UID:10001981-1727802000-1727805600@upbarreview.com
SUMMARY:VA Medical Center - Journey to Wellbriety Recovery Group - Iron Mountain
DESCRIPTION:Tuesdays at 5:00 p.m. CTOscar G. Johnson VAMC325 E H Street\, Iron Mountain\, MIRoom 2378 (2nd floor)\nQuestions may be directed to AJ Osickey at 906-774-3300 ext. 32776\nThis is a traditional recovery group for various forms of addiction and traumas. It is based upon spirituality teachings of the Native Peoples.
URL:https://upbarreview.com/event/va-medical-center-journey-to-wellbriety-recovery-group-iron-mountain/2024-10-01/
LOCATION:Iron Mountain VA Medical Center\, 325 E H St\, Iron Mountain\, MI\, 49801
CATEGORIES:Ironmountain
END:VEVENT
BEGIN:VEVENT
DTSTART;TZID=UTC:20241001T170000
DTEND;TZID=UTC:20241001T190000
DTSTAMP:20260424T010707
CREATED:20241001T164634Z
LAST-MODIFIED:20241001T164634Z
UID:10002012-1727802000-1727809200@upbarreview.com
SUMMARY:Forever Friendship Drop-in Center - Mindfulness\, Meditation\, & Mandalas - Kingsford
DESCRIPTION:Try an alternative to most mental health treatment by focusing on your imagination and creative skills to make functional art project.Each week the Peer Support will lead the group in an art project directly linked to a coping skill. All supplies are included. We do encourage independence\, but keep group work available.Our goal throughout the process is to practice mindfulness skills\, listen to meditation music\, and be surrounded by like-minded individuals.
URL:https://upbarreview.com/event/forever-friendship-drop-in-center-mindfulness-meditation-mandalas-kingsford/2024-10-01/
LOCATION:Forever Friendship Drop-in Center\, 501 S Carpenter Ave\, Kingsford\, MI
CATEGORIES:Ironmountain
END:VEVENT
BEGIN:VEVENT
DTSTART;TZID=UTC:20241001T173000
DTEND;TZID=UTC:20241001T180000
DTSTAMP:20260424T010707
CREATED:20241001T043859Z
LAST-MODIFIED:20241001T043859Z
UID:10001938-1727803800-1727805600@upbarreview.com
SUMMARY:Emmanuel Lutheran Church - Yoga - Menominee
DESCRIPTION:OCTOBER YOGA SCHEDULEYOGATINI Mondays…..5:30-6:15pm at The Blue RoomGENTLE Tuesdays….5:30-6:00pm at EMMANUEL LUTHERAN CHURCH MENOMINEE\,MICHIGAN ELCACHAIR Wednesdays…..5:30-5:00pm at The Cottages
URL:https://upbarreview.com/event/emmanuel-lutheran-church-yoga-menominee/2024-10-01/
LOCATION:Emmanual Lutheran Church\, 2901 13th St\, Menominee\, MI\, 49858
CATEGORIES:Menominee
END:VEVENT
BEGIN:VEVENT
DTSTART;TZID=UTC:20241001T180000
DTEND;TZID=UTC:20241001T200000
DTSTAMP:20260424T010707
CREATED:20241001T021333Z
LAST-MODIFIED:20241001T021333Z
UID:10001784-1727805600-1727812800@upbarreview.com
SUMMARY:Bay College Besse Theatre - Polar Blues Band - Escanaba
DESCRIPTION:We are excited to be back in Escanaba for a high energy blues performance at Bay College’s Besse Theater!Music starts at 7pm on October 1st!
URL:https://upbarreview.com/event/bay-college-besse-theatre-polar-blues-band-escanaba/
LOCATION:Besse Theatre\, 2001 N Lincoln Rd\, Escanaba\, MI\, 49829
CATEGORIES:Menominee
END:VEVENT
BEGIN:VEVENT
DTSTART;TZID=UTC:20241001T180000
DTEND;TZID=UTC:20241001T200000
DTSTAMP:20260424T010707
CREATED:20241001T153923Z
LAST-MODIFIED:20241001T153923Z
UID:10001949-1727805600-1727812800@upbarreview.com
SUMMARY:Crafters on Central - Paint Your Own Pot - Florence
DESCRIPTION:Come pick from a selection of ceramic pieces\, take a seat and paint away. Stacey will be there to socialize\, assist and offer up creative suggestions. If you don’t finish your project you can leave it with us until you return or take it home with you. Please note that this is NOT an instructor led class.This class is fun for all ages and great for kids looking for something to do after school! Please note\, however\, that each seated guest must have a paid project that they are working on. No loitering please. Children under 13 must be accompanied by an adult chaperone.
URL:https://upbarreview.com/event/crafters-on-central-paint-your-own-pot-florence/2024-10-01/
CATEGORIES:Ironmountain
END:VEVENT
BEGIN:VEVENT
DTSTART;TZID=UTC:20241002T130000
DTEND;TZID=UTC:20241002T150000
DTSTAMP:20260424T010707
CREATED:20241001T042703Z
LAST-MODIFIED:20241001T042703Z
UID:10001926-1727874000-1727881200@upbarreview.com
SUMMARY:Heritage Inn - Bingo! - Wausaukee
DESCRIPTION:October bingo
URL:https://upbarreview.com/event/heritage-inn-bingo-wausaukee/2024-10-02/
LOCATION:The Heritage Inn\, W2505 Co Rd JJ\, Wausaukee\, WI\, 54177
CATEGORIES:Menominee
END:VEVENT
BEGIN:VEVENT
DTSTART;TZID=UTC:20241002T150000
DTEND;TZID=UTC:20241002T180000
DTSTAMP:20260424T010707
CREATED:20240626T145913Z
LAST-MODIFIED:20240728T212922Z
UID:10000566-1727881200-1727892000@upbarreview.com
SUMMARY:Escanaba Farmers Market
DESCRIPTION:The Escanaba Farmers Market runs from 3 to 6 p.m. at the Marketplace on Wednesdays. Catch music from 11:30am-1:30pm beforehand. Come check it out!
URL:https://upbarreview.com/event/escanaba-farmers-market/2024-10-02/
LOCATION:Escanaba Marketplace\, 1501 Ludington St\, Escanaba\, MI\, 49829
CATEGORIES:Menominee
END:VEVENT
BEGIN:VEVENT
DTSTART;TZID=UTC:20241002T160000
DTEND;TZID=UTC:20241002T193000
DTSTAMP:20260424T010707
CREATED:20240827T133046Z
LAST-MODIFIED:20240827T133046Z
UID:10001692-1727884800-1727897400@upbarreview.com
SUMMARY:Knights of Columbus - Bingo Wednesday - Iron Mountain
DESCRIPTION:The Columbus Club operates the hall and hosts Charity Bingo every Wednesday night. \n\nDoors open at 4:00 PM\nBingo Games start at 6:30 PM.\nFood is available for purchase at the hall.\n\nThe Columbus Club uses all proceeds to maintain the building and support the good works of the council.  Bingo is operated under the regulations set by the State of Michigan Charitable Gaming.
URL:https://upbarreview.com/event/knights-of-columbus-bingo-wednesday-iron-mountain/2024-10-02/
LOCATION:Knights of Columbus Kingsford\, 520 West Breitung Ave\, Kingsford\, MI
CATEGORIES:Ironmountain
END:VEVENT
BEGIN:VEVENT
DTSTART;TZID=UTC:20241002T170000
DTEND;TZID=UTC:20241002T190000
DTSTAMP:20260424T010707
CREATED:20241001T043057Z
LAST-MODIFIED:20241001T043057Z
UID:10001932-1727888400-1727895600@upbarreview.com
SUMMARY:Gethsemane Lutheran Church - Abuse Prevention Training - Menominee/Marinette
DESCRIPTION:Don’t forget – we have a free community abuse prevention training coming up next week at Gethsemane Lutheran Church – ELCA! Get registered:https://d2l.coalitionmanager.org/…/traininge…/create/905
URL:https://upbarreview.com/event/gethsemane-lutheran-church-abuse-prevention-training-menominee-marinette/
LOCATION:CASA of Menominee/Marinette\, 915 14th Ave\, Menominee\, MI\, 49858
CATEGORIES:Menominee
END:VEVENT
BEGIN:VEVENT
DTSTART;TZID=UTC:20241002T170000
DTEND;TZID=UTC:20241002T190000
DTSTAMP:20260424T010707
CREATED:20241001T164937Z
LAST-MODIFIED:20241001T164937Z
UID:10002025-1727888400-1727895600@upbarreview.com
SUMMARY:Forever Friendship Drop-in Center - Vintage Video Game Night - Kingsford
DESCRIPTION:Step outside your modern box and have a fun flashback to a simpler time. Please bring vintage game consoles and games to share. Goal is to meet people outside our norm but have gaming and mental health similarities.
URL:https://upbarreview.com/event/forever-friendship-drop-in-center-vintage-video-game-night-kingsford/2024-10-02/
LOCATION:Forever Friendship Drop-in Center\, 501 S Carpenter Ave\, Kingsford\, MI
CATEGORIES:Ironmountain
END:VEVENT
BEGIN:VEVENT
DTSTART;TZID=UTC:20241002T173000
DTEND;TZID=UTC:20241002T180000
DTSTAMP:20260424T010707
CREATED:20241001T044029Z
LAST-MODIFIED:20241001T044029Z
UID:10001943-1727890200-1727892000@upbarreview.com
SUMMARY:The Cottages - Yoga - Menominee
DESCRIPTION:OCTOBER YOGA SCHEDULEYOGATINI Mondays…..5:30-6:15pm at The Blue RoomGENTLE Tuesdays….5:30-6:00pm at EMMANUEL LUTHERAN CHURCH MENOMINEE\,MICHIGAN ELCACHAIR Wednesdays…..5:30-5:00pm at The Cottages
URL:https://upbarreview.com/event/the-cottages-yoga-menominee/2024-10-02/
LOCATION:The Cottages\, 2006 Lake Park Dr\, Marinette\, WI
CATEGORIES:Menominee
END:VEVENT
BEGIN:VEVENT
DTSTART;TZID=UTC:20241002T180000
DTEND;TZID=UTC:20241002T210000
DTSTAMP:20260424T010708
CREATED:20241001T035116Z
LAST-MODIFIED:20241001T035116Z
UID:10001850-1727892000-1727902800@upbarreview.com
SUMMARY:Sandstone Terrace - Live Music - Iron Mountain
DESCRIPTION:October is just around the corner! Swing by the Terrace this week for some great live music. Check out the schedule below. See you on the Terrace!\n\n\nWednesday\, October 2nd: Money Shot Acoustic 6p-9p (open 4p-close)\nThursday\, October 3rd: Mark Young 6p-9p (open 4p-close)\nFriday\, October 4th: Norton and Chartier 6p-9p (open 4p-close)\nSaturday\, October 5th: Winnie Brave 6p-9p (open 4p-close)
URL:https://upbarreview.com/event/sandstone-terrace-live-music-iron-mountain/2024-10-02/
LOCATION:Sandstone Terrace Rooftop Bar\, 220 Iron Mountain St\, Iron Mountain\, MI\, 49801
CATEGORIES:Ironmountain
END:VEVENT
BEGIN:VEVENT
DTSTART;TZID=UTC:20241003T083000
DTEND;TZID=UTC:20241003T100000
DTSTAMP:20260424T010708
CREATED:20241001T032133Z
LAST-MODIFIED:20241001T032133Z
UID:10001835-1727944200-1727949600@upbarreview.com
SUMMARY:Downtown Holiday Opener Planning Meeting
DESCRIPTION:Join us for our next planning meeting for the Menominee Downtown Holiday Opener. We are looking to make this Christmas a “Magical Moment in Time” for our community. Any businesses and organizations that are interested in having a float in the parade the registration link is in the comments.
URL:https://upbarreview.com/event/downtown-holiday-opener-planning-meeting/
LOCATION:State Farm Office\, 909 1st St\, Menominee\, MI
CATEGORIES:Menominee
END:VEVENT
BEGIN:VEVENT
DTSTART;TZID=UTC:20241003T100000
DTEND;TZID=UTC:20241003T150000
DTSTAMP:20260424T010708
CREATED:20241001T161628Z
LAST-MODIFIED:20241001T161628Z
UID:10001996-1727949600-1727967600@upbarreview.com
SUMMARY:Echo Boutique - Semi Annual Color Tag Sale - Iron Mountain
DESCRIPTION:Join us at Echo Boutique for our Semi-Annual Color Tag Sale!Discover incredible discounts on a wide range of items!\nDon’t miss out on this exciting opportunity to refresh your wardrobe with fabulous deals! Hurry in while the colors last!\n**Thursday 10/3 take 40% off entire store**Friday 10/4 take 60% off entire store**Saturday 10/5 take 75% off entire store\n*Some exclusions may apply*[BLUE tags are excluded = NEW just in]
URL:https://upbarreview.com/event/echo-boutique-semi-annual-color-tag-sale-iron-mountain/2024-10-03/
LOCATION:Echo Boutique\, 408 S Stephenson Ave\, Iron Mountain\, MI\, 49801
CATEGORIES:Ironmountain
END:VEVENT
BEGIN:VEVENT
DTSTART;TZID=UTC:20241003T130000
DTEND;TZID=UTC:20241003T140000
DTSTAMP:20260424T010708
CREATED:20241001T021942Z
LAST-MODIFIED:20241001T021942Z
UID:10001789-1727960400-1727964000@upbarreview.com
SUMMARY:LakeHouse - Oktoberfest - Escanaba
DESCRIPTION:Join us for Oktoberfest at LakeHouse Escanaba.\nEnjoy a happy hour with delicious seasonal treats and beer. We’ll also have live music by Soundz of Time!\nWhile you’re here\, meet our fantastic team members and take a tour of our beautiful senior living community.\nNo RSVP Required.
URL:https://upbarreview.com/event/lakehouse-oktoberfest-escanaba/
LOCATION:LakeHouse Escanaba\, 501 S Lincoln Rd\, Escanaba\, MI\, 49829
CATEGORIES:Menominee
END:VEVENT
BEGIN:VEVENT
DTSTART;TZID=UTC:20241003T170000
DTEND;TZID=UTC:20241003T190000
DTSTAMP:20260424T010708
CREATED:20241001T165045Z
LAST-MODIFIED:20241001T165045Z
UID:10002037-1727974800-1727982000@upbarreview.com
SUMMARY:Forever Friendship Drop-in Center - Womens Discussion Group - Kingsford
DESCRIPTION:This a safe space where women with a mental health diagnosis can talk openly and freely about issues women face in our current society. The facilitator is also a peer and has access to multitude of resources to assist the group in topics\, goals and skill building.
URL:https://upbarreview.com/event/forever-friendship-drop-in-center-womens-discussion-group-kingsford/2024-10-03/
LOCATION:Forever Friendship Drop-in Center\, 501 S Carpenter Ave\, Kingsford\, MI
CATEGORIES:Ironmountain
END:VEVENT
BEGIN:VEVENT
DTSTART;TZID=UTC:20241003T173000
DTEND;TZID=UTC:20241003T190000
DTSTAMP:20260424T010708
CREATED:20241001T042551Z
LAST-MODIFIED:20241001T042551Z
UID:10001925-1727976600-1727982000@upbarreview.com
SUMMARY:DAR Boys & Girls Club - Video Game Tournament - Menominee
DESCRIPTION:Club members are invited to join us for a night of video games! Not a member but want to join the fun? No problem\, parents can register their kids for just $10! The deal is limited to this event. Once your child is registered they can come enjoy the night and the club anytime through December!!!
URL:https://upbarreview.com/event/dar-boys-girls-club-video-game-tournament-menominee/
LOCATION:DAR Boys & Girls Club\, 901 8th Ave\, Menominee\, WI\, 49858
CATEGORIES:Menominee
END:VEVENT
BEGIN:VEVENT
DTSTART;TZID=UTC:20241003T180000
DTEND;TZID=UTC:20241003T200000
DTSTAMP:20260424T010708
CREATED:20240729T151755Z
LAST-MODIFIED:20240729T151755Z
UID:10001344-1727978400-1727985600@upbarreview.com
SUMMARY:The Maxx Entertainment Center - Thursday Cornhole Night - Iron Mountain
DESCRIPTION:Cornhole Night every Thursday at 6pm! This is a family friendly environment. All skill levels are welcome and encouraged. This is a random\, mixed doubles format where we team beginners together with higher level players so it’s super even and super fun! $15 to play ($10 for the league\, $5 venue fee).
URL:https://upbarreview.com/event/the-maxx-entertainment-center-thursday-cornhole-night-iron-mountain/2024-10-03/
LOCATION:The Maxx Entertainment Center\, 2202 Aragon St\, Iron Mountain\, MI\, 49801
CATEGORIES:Ironmountain
END:VEVENT
BEGIN:VEVENT
DTSTART;TZID=UTC:20241003T180000
DTEND;TZID=UTC:20241003T200000
DTSTAMP:20260424T010708
CREATED:20241001T163505Z
LAST-MODIFIED:20241001T163505Z
UID:10002007-1727978400-1727985600@upbarreview.com
SUMMARY:Open Door Counsel - Expression Group Session - Iron Mountain
DESCRIPTION:An Expression Session is a one-on-one service offered\, but this GROUP version of it will include watercolor painting and/or drawing and we will take time to discuss topics heavy on our hearts and allow the art expression to help us understand our emotions surrounding our heavy topics.
URL:https://upbarreview.com/event/open-door-counsel-expression-group-session-iron-mountain/
LOCATION:Open Door Counsel & Life Coaching\, 503 West E St.\, Iron Mountain\, MI\, 49801
CATEGORIES:Ironmountain
END:VEVENT
BEGIN:VEVENT
DTSTART;TZID=UTC:20241003T180000
DTEND;TZID=UTC:20241003T210000
DTSTAMP:20260424T010708
CREATED:20241001T035116Z
LAST-MODIFIED:20241001T035116Z
UID:10001851-1727978400-1727989200@upbarreview.com
SUMMARY:Sandstone Terrace - Live Music - Iron Mountain
DESCRIPTION:October is just around the corner! Swing by the Terrace this week for some great live music. Check out the schedule below. See you on the Terrace!\n\n\nWednesday\, October 2nd: Money Shot Acoustic 6p-9p (open 4p-close)\nThursday\, October 3rd: Mark Young 6p-9p (open 4p-close)\nFriday\, October 4th: Norton and Chartier 6p-9p (open 4p-close)\nSaturday\, October 5th: Winnie Brave 6p-9p (open 4p-close)
URL:https://upbarreview.com/event/sandstone-terrace-live-music-iron-mountain/2024-10-03/
LOCATION:Sandstone Terrace Rooftop Bar\, 220 Iron Mountain St\, Iron Mountain\, MI\, 49801
CATEGORIES:Ironmountain
END:VEVENT
BEGIN:VEVENT
DTSTART;TZID=UTC:20241003T180000
DTEND;TZID=UTC:20241003T210000
DTSTAMP:20260424T010708
CREATED:20241001T040448Z
LAST-MODIFIED:20241001T040448Z
UID:10001854-1727978400-1727989200@upbarreview.com
SUMMARY:Spirit House -Trivia Night! - Menominee
DESCRIPTION:Trivia Night Thursday at Spirit House\, come check out this awesome event!!!!
URL:https://upbarreview.com/event/spirit-house-trivia-night-menominee/2024-10-03/
LOCATION:Spirit House\, 533 10th Ave\, Menominee\, MI 49858\, Menominee\, MI\, 49858\, United States
CATEGORIES:Menominee
END:VEVENT
BEGIN:VEVENT
DTSTART;TZID=UTC:20241003T183000
DTEND;TZID=UTC:20241003T193000
DTSTAMP:20260424T010708
CREATED:20240930T154050Z
LAST-MODIFIED:20240930T154050Z
UID:10001711-1727980200-1727983800@upbarreview.com
SUMMARY:Forgotten Fire Winery - Book Club Meeting - Peshtigo
DESCRIPTION:Fun and relaxing atmosphere with fellow book lovers!Meetings are the 1st Thursday of every month\, and the book to read is voted on during the previous meeting.\nOctober’s genre selection is- HORROR/THRILLER\nGet in the spooky mood and come dressed in your best Fall/Halloween attire!
URL:https://upbarreview.com/event/forgotten-fire-winery-book-club-meeting-peshtigo-2/
LOCATION:Forgotten Fire Winery\, N2393 Schacht Road\, Marinette\, WI\, 54143\, United States
CATEGORIES:Menominee
END:VEVENT
BEGIN:VEVENT
DTSTART;TZID=UTC:20241003T190000
DTEND;TZID=UTC:20241003T210000
DTSTAMP:20260424T010708
CREATED:20240827T020238Z
LAST-MODIFIED:20240827T020238Z
UID:10001580-1727982000-1727989200@upbarreview.com
SUMMARY:Mos Pub - Family Feud Night - Escanaba
DESCRIPTION: From the (so-called) brains behind Quizmaster Trivia\, Feudmaster is the bar game where players are fighting the clock… and their friends. \n———–\nSPECIALS: $1.50 domestic pints $3 rail mixers $1-off Specialty Burgers $2-off Specialty Pizza\n———-\nPRIZES: $30 gift card $20 gift card $10 gift card\n———-\nGAME PLAY:\n Similar to Family Feud\, the goal is to guess the TOP answer to common survey questions…\n• “An athlete in what sport would be good at a game of Twister?”\n• “If you want to keep the romance ticking\, name something you should NOT have in your bedroom?”\n At the start of the game players are given a white board to write their answers on…\n Players can team up\, or play solo. Either way you’ll be fighting your friends for the top answer\, but you’ll only have 30 seconds to do so…\n———–\n Hold up your whiteboard after the time is up and the host will come around to mark your points.\n Players get 10 points for the top answer and 5 points for the second-top answer.\n———–\n The game is split into 3 rounds of five questions each\, with one Final Feud question at the end\, where players have to come up with five answers.\n Plus\, players will be given two pens for their white boards: a black one and a red one.\n ONCE per round\, teams can use their red pen to answer\, which will double their points for that question if they are correct.
URL:https://upbarreview.com/event/mos-pub-family-feud-night-escanaba/2024-10-03/
LOCATION:Mo’s Pub\, 2116 Ludington St\, Escanaba\, MI\, 49829
CATEGORIES:Menominee
END:VEVENT
BEGIN:VEVENT
DTSTART;TZID=UTC:20241003T190000
DTEND;TZID=UTC:20241003T210000
DTSTAMP:20260424T010708
CREATED:20240930T174228Z
LAST-MODIFIED:20240930T174228Z
UID:10001744-1727982000-1727989200@upbarreview.com
SUMMARY:Bayshore Arts Center - James & The Giant Peach Jr - Marinette
DESCRIPTION:When James is sent by his conniving aunts to chop down their old fruit tree\, he discovers a magic potion that grows a tremendous peach\, rolls into the ocean and launches a journey of enormous proportions. James befriends a collection of singing insects that ride the giant piece of fruit across the ocean\, facing hunger\, sharks and plenty of disagreements along the way.\nRun time is 1 hour with a 15 minute intermission. Concessions and drinks available for purchase in our concessions lounge provided by Embers 1871.\nOctober 3 – 7pmOctober 4 – 7pmOctober 5 – 7pmOctober 6 – 2pm\n Buy online\, over the phone\, in person at the doors!\nBuy over the Phone:715-504-3351 (please leave a message if you get no answer. All messages will be returned)\nBuy at the Box Office:Box office opens 45 minutes before show time (Please note that we are CASHLESS for all ticket sales)\nBuy online: https://ticketstar.evenue.net/…/ncomm…/SEGetEventList…\nThis production is supported in part by a grant from the Wisconsin Arts Board with funds from the State of Wisconsin and the National Endowment for the Arts. James and the Giant Peach JR is also sponsored in part by PCM Credit Union.
URL:https://upbarreview.com/event/bayshore-arts-center-james-the-giant-peach-jr-marinette/
LOCATION:Bayshore Arts Center\, 750 W Bay Shore St\, Marinette\, WI\, 54143
CATEGORIES:Menominee
END:VEVENT
BEGIN:VEVENT
DTSTART;TZID=UTC:20241003T210000
DTEND;TZID=UTC:20241003T223000
DTSTAMP:20260424T010708
CREATED:20240628T235314Z
LAST-MODIFIED:20240826T231212Z
UID:10001449-1727989200-1727994600@upbarreview.com
SUMMARY:Cusacks - Karaoke - Marinette
DESCRIPTION:Karaoke at Cusaks every thursday 9PM!
URL:https://upbarreview.com/event/cusacks-karaoke-marinette/2024-10-03/
LOCATION:Cusack’s Pub\, 2206 Hall Ave\, Marinette\, WI\, 54143\, United States
CATEGORIES:Menominee
END:VEVENT
BEGIN:VEVENT
DTSTART;TZID=UTC:20241004T080000
DTEND;TZID=UTC:20241004T100000
DTSTAMP:20260424T010708
CREATED:20241001T160053Z
LAST-MODIFIED:20241001T160053Z
UID:10001974-1728028800-1728036000@upbarreview.com
SUMMARY:Mom to Mom Sale Fall 2024 - Iron Mountain
DESCRIPTION:Get ready for the next season! Baby/Kids clothes of all sizes.Mom to Mom tables all items $1 each.\n$2 Suggested admission. Children Free.\nProfits to benefit the MOM TO MOM of Dickinson county. The task of parenting is possible & it can be filled with joy. We come together as a faith-based community to seek authentic connections\, support in motherhood\, and growth in our faith walk. All moms are welcome to join us at our Monthly meeting!\nVendor tables are available for rent.Message us for details.\nWe are accepting gently used baby and kids clothes donations. Message us to coordinate.\nfccmomtomom.org
URL:https://upbarreview.com/event/mom-to-mom-sale-fall-2024-iron-mountain/
LOCATION:125 E H St\, Iron Mountain\, MI\, 49801
CATEGORIES:Ironmountain
END:VEVENT
BEGIN:VEVENT
DTSTART;TZID=UTC:20241004T100000
DTEND;TZID=UTC:20241004T150000
DTSTAMP:20260424T010708
CREATED:20241001T161628Z
LAST-MODIFIED:20241001T161628Z
UID:10001997-1728036000-1728054000@upbarreview.com
SUMMARY:Echo Boutique - Semi Annual Color Tag Sale - Iron Mountain
DESCRIPTION:Join us at Echo Boutique for our Semi-Annual Color Tag Sale!Discover incredible discounts on a wide range of items!\nDon’t miss out on this exciting opportunity to refresh your wardrobe with fabulous deals! Hurry in while the colors last!\n**Thursday 10/3 take 40% off entire store**Friday 10/4 take 60% off entire store**Saturday 10/5 take 75% off entire store\n*Some exclusions may apply*[BLUE tags are excluded = NEW just in]
URL:https://upbarreview.com/event/echo-boutique-semi-annual-color-tag-sale-iron-mountain/2024-10-04/
LOCATION:Echo Boutique\, 408 S Stephenson Ave\, Iron Mountain\, MI\, 49801
CATEGORIES:Ironmountain
END:VEVENT
END:VCALENDAR