BEGIN:VCALENDAR
VERSION:2.0
PRODID:-//UP BAR REVIEW - ECPv6.14.2//NONSGML v1.0//EN
CALSCALE:GREGORIAN
METHOD:PUBLISH
X-WR-CALNAME:UP BAR REVIEW
X-ORIGINAL-URL:https://upbarreview.com
X-WR-CALDESC:Events for UP BAR REVIEW
REFRESH-INTERVAL;VALUE=DURATION:PT1H
X-Robots-Tag:noindex
X-PUBLISHED-TTL:PT1H
BEGIN:VTIMEZONE
TZID:UTC
BEGIN:STANDARD
TZOFFSETFROM:+0000
TZOFFSETTO:+0000
TZNAME:UTC
DTSTART:20250101T000000
END:STANDARD
END:VTIMEZONE
BEGIN:VEVENT
DTSTART;TZID=UTC:20250620T210000
DTEND;TZID=UTC:20250620T233000
DTSTAMP:20260424T113402
CREATED:20250403T021054Z
LAST-MODIFIED:20250403T021054Z
UID:10003927-1750453200-1750462200@upbarreview.com
SUMMARY:Round 2 - Karaoke - Iron Mountain
DESCRIPTION:Karaoke Every Other Friday at Round 2 9pm to 1am
URL:https://upbarreview.com/event/round-2-karaoke-iron-mountain/2025-06-20/
LOCATION:Round 2\, 407 S Stephenson Ave\, Iron Mountain\, MI\, 49801
CATEGORIES:Ironmountain
END:VEVENT
BEGIN:VEVENT
DTSTART;TZID=UTC:20250620T200000
DTEND;TZID=UTC:20250620T230000
DTSTAMP:20260424T113402
CREATED:20250618T030017Z
LAST-MODIFIED:20250618T030017Z
UID:10004664-1750449600-1750460400@upbarreview.com
SUMMARY:The Lodge - The Bad Mother Truckers - Marinette
DESCRIPTION:The Bad Mother Truckers Live at The Lodge on Main!Get ready\, Marinette! The Bad Mother Truckers are back at The Lodge on Main\, and you already know it’s gonna be a packed house! Come out for a night of killer rock ‘n’ roll\, high-energy dancing with the best crowd around. With electrifying guitar riffs\, powerhouse vocals\, and non-stop energy\, this band always brings the party!Seats fill up fast\, so come early to grab a table\, enjoy some delicious food\, and get ready to rock! Let’s pack the place like we always do and make it a night to remember!See you at The Lodge on Main—let’s turn it up
URL:https://upbarreview.com/event/the-lodge-the-bad-mother-truckers-marinette-3/
LOCATION:The Lodge\, 1333 Main St\, Marinette\, WI
CATEGORIES:Menominee
END:VEVENT
BEGIN:VEVENT
DTSTART;TZID=UTC:20250620T200000
DTEND;TZID=UTC:20250620T230000
DTSTAMP:20260424T113402
CREATED:20250207T191746Z
LAST-MODIFIED:20250207T191746Z
UID:10002959-1750449600-1750460400@upbarreview.com
SUMMARY:The Granada - Karaoke Night - Escanaba
DESCRIPTION:Welcome to the Hottest Karaoke show in Town! Every Friday at The Granada in Escanaba\, MI Starts at 9:00 pm\nCreate your FREE Performer Account with Songbooks Online App to Browse the Karaoke song library\, keep a favorites list and submit your song requests remotely! Use Show ID: MSK23 after you create your account. You can also just tell me your name and the song you want if you don’t know how to install an app.
URL:https://upbarreview.com/event/the-granada-karaoke-night-escanaba/2025-06-20/
LOCATION:The Granada\, 330 S 10th St\, Escanaba\, MI
CATEGORIES:Menominee
END:VEVENT
BEGIN:VEVENT
DTSTART;TZID=UTC:20250620T200000
DTEND;TZID=UTC:20250620T220000
DTSTAMP:20260424T113402
CREATED:20250619T155054Z
LAST-MODIFIED:20250619T155054Z
UID:10004734-1750449600-1750456800@upbarreview.com
SUMMARY:Uncle Mikes Corner Pub - Friday Night w/ DJ Lance - Crivitz
DESCRIPTION:Dj Lance with all your favorites!Maybe a drink special or 2 
URL:https://upbarreview.com/event/uncle-mikes-corner-pub-friday-night-w-dj-lance-crivitz/
LOCATION:Uncle Mikes Corner Pub & Grill\, N9686 Co Hwy X\, Crivitz\, WI\, 54114
CATEGORIES:Menominee
END:VEVENT
BEGIN:VEVENT
DTSTART;TZID=UTC:20250620T173000
DTEND;TZID=UTC:20250620T200000
DTSTAMP:20260424T113402
CREATED:20250618T021759Z
LAST-MODIFIED:20250618T021759Z
UID:10004605-1750440600-1750449600@upbarreview.com
SUMMARY:McCrafties - Lighthouse Legacy - Menominee
DESCRIPTION: **Lighthouse Legacy – A Coastal Art Experience**  **Date & Time:** June at 20 **5:30 PM** **Location:** McCraftie’s **Cost:** $50 per person\nJoin us for **Lighthouse Legacy**\, where creativity meets coastal charm! In this hands-on workshop\, you’ll craft a **stunning 12” wood round featuring a lighthouse scene**\, complete with **epoxy water effects** for a beautiful\, dimensional finish.\nNo experience needed—just bring your love for artistry and the sea!\n **Reserve Your Spot:** Call us 715-440-5959 or book through our user friendly website\nhttps://mccraftiellc.square.site\nPRE-PAYMENT of $50 is required to save your spot.\n-All skill levels are welcome-We provide all the necessary suppliesWe look forward to making memories with you\nCLASS REFUND POLICY:\n-full in studio credit if cancellation is 1 week prior to the class-50% in studio credit up to 24 hours prior to the class-less than 24 hours’ notice\, no credit-NO SHOW/NO CALL/NO CREDIT
URL:https://upbarreview.com/event/mccrafties-lighthouse-legacy-menominee/
LOCATION:McCrafties\, 625 1st St\, Menominee\, MI\, 49858\, United States
CATEGORIES:Menominee
END:VEVENT
BEGIN:VEVENT
DTSTART;TZID=UTC:20250620T170000
DTEND;TZID=UTC:20250620T200000
DTSTAMP:20260424T113402
CREATED:20250620T153848Z
LAST-MODIFIED:20250620T153848Z
UID:10004986-1750438800-1750449600@upbarreview.com
SUMMARY:Linnea & Kristine - Midsummer Celebration - Iron Mountain
DESCRIPTION:Midsummer is a cultural celebration with friends and family for the summer solstice\, along with it being the midpoint between planting and harvesting. It’s the perfect opportunity for festivities with Jessica and Jeff purchasing the shop! We are excited to do a first ever mystery discount option\, have giveaways\, and of course offer a complimentary flower arrangement to one lucky winner! We even went a little wild and decided to give away two Jellycats!  We hope to see you there!!
URL:https://upbarreview.com/event/linnea-kristine-midsummer-celebration-iron-mountain/
LOCATION:Linnea & Kristine\, 313 S Stephenson Ave\, Iron Mountain\, MI
CATEGORIES:Ironmountain
END:VEVENT
BEGIN:VEVENT
DTSTART;TZID=UTC:20250620T170000
DTEND;TZID=UTC:20250620T190000
DTSTAMP:20260424T113403
CREATED:20250403T021557Z
LAST-MODIFIED:20250403T021615Z
UID:10003960-1750438800-1750446000@upbarreview.com
SUMMARY:Forever Friendship Drop-in Center - Mens Social Sober Club - Kingsford
DESCRIPTION:A safe and sober space for men to get together and hangout or talk about issues that affect men in our society. We have different games\, community outings and events depending on wether.
URL:https://upbarreview.com/event/forever-friendship-drop-in-center-mens-social-sober-club-iron-mountain/2025-06-20/
LOCATION:Forever Friendship Drop-in Center\, 501 S Carpenter Ave\, Kingsford\, MI
CATEGORIES:Ironmountain
END:VEVENT
BEGIN:VEVENT
DTSTART;TZID=UTC:20250620T163000
DTEND;TZID=UTC:20250620T190000
DTSTAMP:20260424T113403
CREATED:20250514T011823Z
LAST-MODIFIED:20250514T011823Z
UID:10004451-1750437000-1750446000@upbarreview.com
SUMMARY:New Life Church - Mega Sports Camp - Escanaba
DESCRIPTION:Sign up for the Mega Sports Camp today! This Camp is Monday – Friday. Early bird registration is open until May 19. It’s going to be a fun year\, and we have some exciting new offerings\, including an art camp. We have Cheer\, Basketball\, Soccer and Arts and Crafts teams click the link to get signed up today https://newlife906.churchcenter.com/regist…/events/2812463
URL:https://upbarreview.com/event/new-life-church-mega-sports-camp-escanaba/2025-06-20/
CATEGORIES:Menominee
END:VEVENT
BEGIN:VEVENT
DTSTART;TZID=UTC:20250620T160000
DTEND;TZID=UTC:20250620T183000
DTSTAMP:20260424T113403
CREATED:20250619T190133Z
LAST-MODIFIED:20250619T190133Z
UID:10004824-1750435200-1750444200@upbarreview.com
SUMMARY:Upper Hand Brewery - Jack Neumann - Escanaba
DESCRIPTION:Enjoy the sounds of Jack Neumann & your favorite Upper Hand Beer this Friday\, June 20th.* Music will be moved inside if it rains. *
URL:https://upbarreview.com/event/upper-hand-brewery-jack-neumann-escanaba/
LOCATION:Upper Hand Brewery\, 3525 Airport Rd\, Escanaba\, WI\, 49829
CATEGORIES:Menominee
END:VEVENT
BEGIN:VEVENT
DTSTART;TZID=UTC:20250620T160000
DTEND;TZID=UTC:20250620T183000
DTSTAMP:20260424T113403
CREATED:20250618T014248Z
LAST-MODIFIED:20250618T014248Z
UID:10004557-1750435200-1750444200@upbarreview.com
SUMMARY:Three Bridges Brewing - Beer Garden Summer Concert Series - Menominee
DESCRIPTION:Charlie Scoggins will be playing on the Higher Love Stage in our Beer Garden. Ti Sheps Layers of Flavor Food Truck will be onsite serving up soul food galore! 
URL:https://upbarreview.com/event/three-bridges-brewing-beer-garden-summer-concert-series-menominee/
LOCATION:Three Bridge Brewing Company\, 2221 13th St\, Menominee\, MI\, 49858\, United States
CATEGORIES:Menominee
END:VEVENT
BEGIN:VEVENT
DTSTART;TZID=UTC:20250620T150000
DTEND;TZID=UTC:20250620T170000
DTSTAMP:20260424T113403
CREATED:20250619T211717Z
LAST-MODIFIED:20250619T211717Z
UID:10004890-1750431600-1750438800@upbarreview.com
SUMMARY:Michigan DNR Pocket Park - Hook Line and Sinker - Escanaba
DESCRIPTION:Learn basic fishing techniques in this interactive and educational session. Perfect for beginners looking to get started in Michigan’s favorite pastime.
URL:https://upbarreview.com/event/michigan-dnr-pocket-park-hook-line-and-sinker-escanaba/2025-06-20/
LOCATION:Michigan DNR Pocket Park\, 2401 12th Avenue North\, Escanaba\, MI\, 49829
CATEGORIES:Menominee
END:VEVENT
BEGIN:VEVENT
DTSTART;TZID=UTC:20250620T130000
DTEND;TZID=UTC:20250620T160000
DTSTAMP:20260424T113403
CREATED:20250618T031458Z
LAST-MODIFIED:20250618T031458Z
UID:10004677-1750424400-1750435200@upbarreview.com
SUMMARY:CJ's Glass - Acrylic Floral Canvas - Marinette
DESCRIPTION:$45 cover all materials.PreRegistration Requiredcall or text CJ 608-354-23036 class size limitAges 12+Local artist\, Sherry Millard\, will lead and guide you with step by step instructions to complete this stunning 8×10 painting. You will learn various techniques including pallet knife applications to bring forth your unique style.Come learn something new today!
URL:https://upbarreview.com/event/cjs-glass-acrylic-floral-canvas-marinette/
LOCATION:CJ’s Glass\, 802 Main St\, Marinette\, WI\, 54143
CATEGORIES:Menominee
END:VEVENT
BEGIN:VEVENT
DTSTART;TZID=UTC:20250620T120000
DTEND;TZID=UTC:20250620T130000
DTSTAMP:20260424T113403
CREATED:20250619T201623Z
LAST-MODIFIED:20250619T201623Z
UID:10004856-1750420800-1750424400@upbarreview.com
SUMMARY:Michigan DNR Pocket Park - Michigan Bird Bingo - Escanaba
DESCRIPTION:Spot and match your way to bingo while learning about Michigan’s feathered friends. A great way to introduce kids to birdwatching and nature.
URL:https://upbarreview.com/event/michigan-dnr-pocket-park-michigan-bird-bingo-escanaba/
LOCATION:Michigan DNR Pocket Park\, 2401 12th Avenue North\, Escanaba\, MI\, 49829
CATEGORIES:Menominee
END:VEVENT
BEGIN:VEVENT
DTSTART;TZID=UTC:20250620T110000
DTEND;TZID=UTC:20250620T123000
DTSTAMP:20260424T113403
CREATED:20250619T181432Z
LAST-MODIFIED:20250619T181432Z
UID:10004783-1750417200-1750422600@upbarreview.com
SUMMARY:Peshtigo Library - Self Defense
DESCRIPTION:So good\, we’ll do it again!\nThis self-defense class is intended for high schoolers\, those heading off to college\, and adults of all ages. New to the topic or looking to brush up on your skills? Learn from by Trinity Cummings and others that have multiple years of martial arts experience. This class will focus on simple but effective steps to help keep yourself safe.\nAges 13 to adult
URL:https://upbarreview.com/event/peshtigo-library-self-defense/
LOCATION:Peshtigo Library\, 331 French St\, Peshtigo\, WI
CATEGORIES:Menominee
END:VEVENT
BEGIN:VEVENT
DTSTART;TZID=UTC:20250620T100000
DTEND;TZID=UTC:20250620T233000
DTSTAMP:20260424T113403
CREATED:20250620T140647Z
LAST-MODIFIED:20250620T140647Z
UID:10004964-1750413600-1750462200@upbarreview.com
SUMMARY:Gladstone Dairy Flo - Summer Solstice Event - Gladstone
DESCRIPTION: Join us for something brand new!Friday\, June 20th is the Summer Solstice- the longest day of the year! We decided why not make this day even LONGER by staying open for late night munchies and ice cream! That’s right! Our grill and huge ice cream menu will be available UNTIL MIDNIGHT on 6/20/25 only!\nFollow this event for more details\, including day-long Solstice Specials!
URL:https://upbarreview.com/event/gladstone-dairy-flo-summer-solstice-event-gladstone/
LOCATION:Gladstone Dairy Flo\, 924 Delta Ave\, Gladstone\, MI
CATEGORIES:Menominee
END:VEVENT
BEGIN:VEVENT
DTSTART;TZID=UTC:20250620T100000
DTEND;TZID=UTC:20250620T120000
DTSTAMP:20260424T113403
CREATED:20250619T212205Z
LAST-MODIFIED:20250619T212205Z
UID:10004908-1750413600-1750420800@upbarreview.com
SUMMARY:Michigan DNR Pocket Park - Open Archery - Escanaba
DESCRIPTION:Take aim and sharpen your skills at the Pocket Park Archery Range. This supervised open session is perfect for beginners and enthusiasts alike.\nWe have all the equipment necessary.
URL:https://upbarreview.com/event/michigan-dnr-pocket-park-open-archery-escanaba/2025-06-20/
LOCATION:Michigan DNR Pocket Park\, 2401 12th Avenue North\, Escanaba\, MI\, 49829
CATEGORIES:Menominee
END:VEVENT
BEGIN:VEVENT
DTSTART;TZID=UTC:20250620T090000
DTEND;TZID=UTC:20250620T100000
DTSTAMP:20260424T113403
CREATED:20250619T212004Z
LAST-MODIFIED:20250619T212004Z
UID:10004899-1750410000-1750413600@upbarreview.com
SUMMARY:Michigan DNR Pocket Park - Outdoor Yoga - Escanaba
DESCRIPTION:Unwind and reconnect with nature during gentle outdoor yoga sessions every Wednesday and Friday. Great for all ages and experience levels—just bring a mat or towel.
URL:https://upbarreview.com/event/michigan-dnr-pocket-park-outdoor-yoga-escanaba-2/2025-06-20/
LOCATION:Michigan DNR Pocket Park\, 2401 12th Avenue North\, Escanaba\, MI\, 49829
CATEGORIES:Menominee
END:VEVENT
BEGIN:VEVENT
DTSTART;TZID=UTC:20250620T080000
DTEND;TZID=UTC:20250620T170000
DTSTAMP:20260424T113403
CREATED:20250620T161256Z
LAST-MODIFIED:20250620T161256Z
UID:10005276-1750406400-1750438800@upbarreview.com
SUMMARY:Pine Grove Country Club - 43rds Annual UPAIIA Golf Outing - Iron Mountain
DESCRIPTION:Come join us for the 43rd Annual UPAIIA Golf Outing – a day filled with golf\, fun\, and camaraderie with fellow members!\nAgenda\n8:00 AM\nRegistration\, Light Breakfast\, Socializing\n8:30 AM\nTee Times Begin\n1:30 PM\nSocial Hour and Dinner\nAbout this event\nEvent lasts 7 hours 30 minutes\nWelcome to the 39th Annual UPAIIA Golf Outing! Join us for a day filled with golf\, fun\, and networking at the beautiful Pine Grove Country Club in Iron Mountain\, Michigan. Get ready to tee off and enjoy a day on the course with fellow industry professionals.\nWhether you’re a seasoned golfer or just starting out\, this event is perfect for all skill levels. Don’t miss out on this fantastic opportunity to connect with colleagues and have a great time on the green. We can’t wait to see you there!
URL:https://upbarreview.com/event/pine-grove-country-club-43rds-annual-upaiia-golf-outing-iron-mountain/
LOCATION:Pine Grove Country Club\, 1520 W Hughitt St\, Iron Mountain\, MI
CATEGORIES:Ironmountain
END:VEVENT
BEGIN:VEVENT
DTSTART;TZID=UTC:20250619T180000
DTEND;TZID=UTC:20250619T210000
DTSTAMP:20260424T113403
CREATED:20241001T040448Z
LAST-MODIFIED:20241001T040448Z
UID:10001891-1750356000-1750366800@upbarreview.com
SUMMARY:Spirit House -Trivia Night! - Menominee
DESCRIPTION:Trivia Night Thursday at Spirit House\, come check out this awesome event!!!!
URL:https://upbarreview.com/event/spirit-house-trivia-night-menominee/2025-06-19/
LOCATION:Spirit House\, 533 10th Ave\, Menominee\, MI 49858\, Menominee\, MI\, 49858\, United States
CATEGORIES:Menominee
END:VEVENT
BEGIN:VEVENT
DTSTART;TZID=UTC:20250619T180000
DTEND;TZID=UTC:20250619T200000
DTSTAMP:20260424T113403
CREATED:20250619T201330Z
LAST-MODIFIED:20250619T201330Z
UID:10004843-1750356000-1750363200@upbarreview.com
SUMMARY:Chenier's Reef - Thursday Night Bean Bags - Escanaba
DESCRIPTION:Bean Bag Tournament$5 EntryBlind Draw Partnerssign ups start @ 6:30pn and tournament starts at 7pm
URL:https://upbarreview.com/event/cheniers-reef-thursday-night-bean-bags-escanaba/2025-06-19/
LOCATION:Cheniers Reef\, 1629 Sheridan Rd\, Escanaba\, MI
CATEGORIES:Menominee
END:VEVENT
BEGIN:VEVENT
DTSTART;TZID=UTC:20250619T180000
DTEND;TZID=UTC:20250619T200000
DTSTAMP:20260424T113403
CREATED:20250619T181241Z
LAST-MODIFIED:20250619T181241Z
UID:10004777-1750356000-1750363200@upbarreview.com
SUMMARY:Harmony Arboretum - "Plein Air" Art Therapy Group - Peshtigo
DESCRIPTION: Experience Creativity in the Open Air! \nReady to embrace nature and creativity this summer? Join us for En Plein Air Art Therapy + Mindfulness at Harmony Arboretum in Peshtigo\, WI! This unique outdoor art therapy group blends:\n Eco art therapy – using natural inspiration to guide your creativity Mindfulness practices – deepen your connection to nature En plein air art-making – create surrounded by the beauty of the outdoors\n Dates: 1st & 3rd Thursdays (June through August) Time: 6:00 PM – 8:00 PM Location: Harmony Arboretum\, N3890 County Road E\, Peshtigo\, WI 54157 Cost: $20 per participant\n Reserve Your Spot!\nCome breathe in the fresh air\, immerse yourself in nature\, and create something beautiful! 
URL:https://upbarreview.com/event/harmony-arboretum-plein-air-art-therapy-group-peshtigo/2025-06-19/
LOCATION:Harmony Arboretum\, N3890 County E\, Peshtigo\, WI\, 54157\, United States
CATEGORIES:Menominee
END:VEVENT
BEGIN:VEVENT
DTSTART;TZID=UTC:20250619T180000
DTEND;TZID=UTC:20250619T200000
DTSTAMP:20260424T113403
CREATED:20250618T014943Z
LAST-MODIFIED:20250618T014943Z
UID:10004566-1750356000-1750363200@upbarreview.com
SUMMARY:McCrafties - Glaze & Glow - Menominee
DESCRIPTION: “Glaze & Grow Night” Join us on June 19 at 6:00 PMfor an evening of creativity and greenery!\n “Glaze a clay pot” to make it uniquely yours\n “Penny’s Pots and Plants” will have a beautiful selection of houseplants or succulent. The plants will be available to choose prior to glazing your pot. This will help give you inspiration for your designing process. Penny will also have potting soil and decorative small stones for sale that evening to make your potting easier. Payment (cash or card) for plants and accessories will required that evening.\nChoose your pot size: **6” pot** – $20 **4” pot** – $15‘Plant sales are separate’\n **Reserve Your Spot:** Call us at 715-440-5959 or book through our user friendly website\nhttps://mccraftiellc.square.site\nPRE-PAYMENT of $20 or $15 is required to save your spot.\n-All skill levels are welcome-We provide all the necessary suppliesWe look forward to making memories with you\nCLASS REFUND POLICY:\n-full in studio credit if cancellation is 1 week prior to the class-50% in studio credit up to 24 hours prior to the class-less than 24 hours’ notice\, no credit-NO SHOW/NO CALL/NO CREDIT
URL:https://upbarreview.com/event/mccrafties-glaze-glow-menominee/
LOCATION:McCrafties\, 625 1st St\, Menominee\, MI\, 49858\, United States
CATEGORIES:Menominee
END:VEVENT
BEGIN:VEVENT
DTSTART;TZID=UTC:20250619T180000
DTEND;TZID=UTC:20250619T200000
DTSTAMP:20260424T113403
CREATED:20250514T013631Z
LAST-MODIFIED:20250514T013631Z
UID:10004456-1750356000-1750363200@upbarreview.com
SUMMARY:Gladstone Beach - Summer Concert Series - Gladstone
DESCRIPTION:Summer concert every thursday night at gladstone beach
URL:https://upbarreview.com/event/gladstone-beach-summer-concert-series-gladstone/2025-06-19/
LOCATION:Gladstone Beach\, Gladstone\, MI
CATEGORIES:Menominee
END:VEVENT
BEGIN:VEVENT
DTSTART;TZID=UTC:20250619T180000
DTEND;TZID=UTC:20250619T200000
DTSTAMP:20260424T113403
CREATED:20250428T134637Z
LAST-MODIFIED:20250430T013053Z
UID:10004249-1750356000-1750363200@upbarreview.com
SUMMARY:Elks Lodge - Music Bingo - Marinette
DESCRIPTION:Join us on the 3rd Thursday of the month for Music Bingo!
URL:https://upbarreview.com/event/elks-lodge-music-bingo-marinette/2025-06-19/
LOCATION:Elks Lodge #1313\, 430 Bridge St\, Marinette\, WI\, 54143
CATEGORIES:Menominee
END:VEVENT
BEGIN:VEVENT
DTSTART;TZID=UTC:20250619T180000
DTEND;TZID=UTC:20250619T190000
DTSTAMP:20260424T113403
CREATED:20250618T021929Z
LAST-MODIFIED:20250618T021929Z
UID:10004606-1750356000-1750359600@upbarreview.com
SUMMARY:Glimmer Garden - Reclaiming Radiance Crystal Reiki Circle - Memoninee
DESCRIPTION: Reclaiming Radiance: Crystal Reiki Circle\n June 19th |  6:00 PM 2214 13th St\, Menominee\, MI\nJoin me\, Brittany Nielson — Certified Crystal & Chakra Energy Healer and Reiki Practitioner\, for an evening of radiant healing and soulful reflection.\nTogether\, we’ll gather in sacred circle for group energy healing with crystals\, followed by a soothing herbal tea offering\, and time for personal reflection and journaling to support integration and inner clarity.\nThis circle is a space to soften\, rise\, and reconnect with the light within — a celebration of freedom\, resilience\, and the sacred right to rest\, heal\, and shine.\n Come as you are. All are welcome.\n\n Offering-Based Exchange\nThis event is offered on a pay-what-you-can basis. Monetary donations or abundance exchanges — such as goods\, services\, or offerings for the space — are lovingly welcomed and received with gratitude.\nPlease bring a mat or cushion and blanket\, if desired\, to relax comfortably.
URL:https://upbarreview.com/event/glimmer-garden-reclaiming-radiance-crystal-reiki-circle-memoninee/
LOCATION:Glimmer Garden\, 2214 13th St\, Menominee\, MI
CATEGORIES:Menominee
END:VEVENT
BEGIN:VEVENT
DTSTART;TZID=UTC:20250619T170000
DTEND;TZID=UTC:20250619T190000
DTSTAMP:20260424T113403
CREATED:20250403T021855Z
LAST-MODIFIED:20250403T021855Z
UID:10004035-1750352400-1750359600@upbarreview.com
SUMMARY:Forever Friendship Drop-in Center - Womens Discussion Group- Kingsford
DESCRIPTION:Safe space for women with mental health diagnoses to discuss issues real women face in society.Play games\, enjoy community outings and events.
URL:https://upbarreview.com/event/forever-friendship-drop-in-center-womens-discussion-group-kingsford-2/2025-06-19/
LOCATION:Forever Friendship Drop-in Center\, 501 S Carpenter Ave\, Kingsford\, MI
CATEGORIES:Ironmountain
END:VEVENT
BEGIN:VEVENT
DTSTART;TZID=UTC:20250619T163000
DTEND;TZID=UTC:20250619T190000
DTSTAMP:20260424T113403
CREATED:20250514T011823Z
LAST-MODIFIED:20250514T011823Z
UID:10004450-1750350600-1750359600@upbarreview.com
SUMMARY:New Life Church - Mega Sports Camp - Escanaba
DESCRIPTION:Sign up for the Mega Sports Camp today! This Camp is Monday – Friday. Early bird registration is open until May 19. It’s going to be a fun year\, and we have some exciting new offerings\, including an art camp. We have Cheer\, Basketball\, Soccer and Arts and Crafts teams click the link to get signed up today https://newlife906.churchcenter.com/regist…/events/2812463
URL:https://upbarreview.com/event/new-life-church-mega-sports-camp-escanaba/2025-06-19/
CATEGORIES:Menominee
END:VEVENT
BEGIN:VEVENT
DTSTART;TZID=UTC:20250619T160000
DTEND;TZID=UTC:20250619T200000
DTSTAMP:20260424T113403
CREATED:20250514T023421Z
LAST-MODIFIED:20250514T023435Z
UID:10004524-1750348800-1750363200@upbarreview.com
SUMMARY:Car & Offroad Meet Up - Norway
DESCRIPTION:Rev it up—Thursday Nights at Norway Mountain are for the gearheads!\nGot a car\, side-by-side\, Jeep\, or off-road rig you love to show off? Or just want to hang with others who share your passion for horsepower and mud?\nJoin us every Thursday from 4–8 PM at Norway Mountain for an open\, no-entry-fee vehicle meetup!Cruise in\, park\, chat\, and check out some awesome rides—come and go as you please.\nAnd while you’re here\, head upstairs to Moosehead Bar & Restaurant for some great food\, cold drinks\, and unbeatable views.\nLet’s make Thursday nights the best pit stop of the week!
URL:https://upbarreview.com/event/car-offroad-meet-up-norway/2025-06-19/
CATEGORIES:Ironmountain
END:VEVENT
BEGIN:VEVENT
DTSTART;TZID=UTC:20250619T150000
DTEND;TZID=UTC:20250619T190000
DTSTAMP:20260424T113403
CREATED:20250428T124346Z
LAST-MODIFIED:20250428T124346Z
UID:10004217-1750345200-1750359600@upbarreview.com
SUMMARY:Menominee Waterfront Market
DESCRIPTION: Join us on Thursday\, May 29\, from 3 PM to 7 PM\, and every Thursday through August 28\, 2025.\nExplore a vibrant marketplace featuring farmers\, crafters\, artists\, food trucks\, and more! Leading up to the Grand Opening\, we’ll spotlight one of our returning vendors each week.\nThis week\, we’re highlighting Schwittay Farms—a long-standing name in the farming community and the founder of Harmony Market in 2021. Now\, you have the opportunity to experience their farm-fresh market at the Menominee Waterfront Market every Thursday! Come check out their meats\, eggs\, fruits\, vegetables\, seafood\, and more. Help us welcome them back at our Grand Opening!\nWe’re still looking for more vendors! If you’re a farmer\, crafter\, direct sales vendor\, nonprofit\, school\, or church group\, we’d love for you to join us at our Thursday Market.\nFind our application on our website: https://menomineefarmersmarket.com.\nSee you at the market!”
URL:https://upbarreview.com/event/menominee-waterfront-market/2025-06-19/
LOCATION:Downtown Menominee
CATEGORIES:Menominee
END:VEVENT
BEGIN:VEVENT
DTSTART;TZID=UTC:20250619T100000
DTEND;TZID=UTC:20250619T233000
DTSTAMP:20260424T113404
CREATED:20241029T145445Z
LAST-MODIFIED:20241029T145445Z
UID:10002251-1750327200-1750375800@upbarreview.com
SUMMARY:Alibi's - Free Pool Thursdays - Marinette
DESCRIPTION:Free Pool!!
URL:https://upbarreview.com/event/alibis-free-pool-thursdays-marinette/2025-06-19/
LOCATION:ALiBi Bar & Grill\, 829 Main St\, Marinette\, WI\, 54143\, United States
CATEGORIES:Menominee
END:VEVENT
END:VCALENDAR