BEGIN:VCALENDAR
VERSION:2.0
PRODID:-//UP BAR REVIEW - ECPv6.14.2//NONSGML v1.0//EN
CALSCALE:GREGORIAN
METHOD:PUBLISH
X-WR-CALNAME:UP BAR REVIEW
X-ORIGINAL-URL:https://upbarreview.com
X-WR-CALDESC:Events for UP BAR REVIEW
REFRESH-INTERVAL;VALUE=DURATION:PT1H
X-Robots-Tag:noindex
X-PUBLISHED-TTL:PT1H
BEGIN:VTIMEZONE
TZID:UTC
BEGIN:STANDARD
TZOFFSETFROM:+0000
TZOFFSETTO:+0000
TZNAME:UTC
DTSTART:20240101T000000
END:STANDARD
END:VTIMEZONE
BEGIN:VEVENT
DTSTART;TZID=UTC:20241017T210000
DTEND;TZID=UTC:20241017T223000
DTSTAMP:20260424T142946
CREATED:20240628T235314Z
LAST-MODIFIED:20240826T231212Z
UID:10001451-1729198800-1729204200@upbarreview.com
SUMMARY:Cusacks - Karaoke - Marinette
DESCRIPTION:Karaoke at Cusaks every thursday 9PM!
URL:https://upbarreview.com/event/cusacks-karaoke-marinette/2024-10-17/
LOCATION:Cusack’s Pub\, 2206 Hall Ave\, Marinette\, WI\, 54143\, United States
CATEGORIES:Menominee
END:VEVENT
BEGIN:VEVENT
DTSTART;TZID=UTC:20241017T203000
DTEND;TZID=UTC:20241017T223000
DTSTAMP:20260424T142946
CREATED:20241001T171307Z
LAST-MODIFIED:20241001T171307Z
UID:10002062-1729197000-1729204200@upbarreview.com
SUMMARY:Island Resort & Casino - Laurie and The Lefties - Harris
DESCRIPTION:live music!
URL:https://upbarreview.com/event/island-resort-casino-laurie-and-the-lefties-harris/
LOCATION:Island Resort & Casino\, W 399 US-2\, Harris\, MI\, 49845\, United States
CATEGORIES:Menominee
END:VEVENT
BEGIN:VEVENT
DTSTART;TZID=UTC:20241017T190000
DTEND;TZID=UTC:20241017T210000
DTSTAMP:20260424T142946
CREATED:20240827T020238Z
LAST-MODIFIED:20240827T020238Z
UID:10001582-1729191600-1729198800@upbarreview.com
SUMMARY:Mos Pub - Family Feud Night - Escanaba
DESCRIPTION: From the (so-called) brains behind Quizmaster Trivia\, Feudmaster is the bar game where players are fighting the clock… and their friends. \n———–\nSPECIALS: $1.50 domestic pints $3 rail mixers $1-off Specialty Burgers $2-off Specialty Pizza\n———-\nPRIZES: $30 gift card $20 gift card $10 gift card\n———-\nGAME PLAY:\n Similar to Family Feud\, the goal is to guess the TOP answer to common survey questions…\n• “An athlete in what sport would be good at a game of Twister?”\n• “If you want to keep the romance ticking\, name something you should NOT have in your bedroom?”\n At the start of the game players are given a white board to write their answers on…\n Players can team up\, or play solo. Either way you’ll be fighting your friends for the top answer\, but you’ll only have 30 seconds to do so…\n———–\n Hold up your whiteboard after the time is up and the host will come around to mark your points.\n Players get 10 points for the top answer and 5 points for the second-top answer.\n———–\n The game is split into 3 rounds of five questions each\, with one Final Feud question at the end\, where players have to come up with five answers.\n Plus\, players will be given two pens for their white boards: a black one and a red one.\n ONCE per round\, teams can use their red pen to answer\, which will double their points for that question if they are correct.
URL:https://upbarreview.com/event/mos-pub-family-feud-night-escanaba/2024-10-17/
LOCATION:Mo’s Pub\, 2116 Ludington St\, Escanaba\, MI\, 49829
CATEGORIES:Menominee
END:VEVENT
BEGIN:VEVENT
DTSTART;TZID=UTC:20241017T180000
DTEND;TZID=UTC:20241017T210000
DTSTAMP:20260424T142946
CREATED:20241001T040448Z
LAST-MODIFIED:20241001T040448Z
UID:10001856-1729188000-1729198800@upbarreview.com
SUMMARY:Spirit House -Trivia Night! - Menominee
DESCRIPTION:Trivia Night Thursday at Spirit House\, come check out this awesome event!!!!
URL:https://upbarreview.com/event/spirit-house-trivia-night-menominee/2024-10-17/
LOCATION:Spirit House\, 533 10th Ave\, Menominee\, MI 49858\, Menominee\, MI\, 49858\, United States
CATEGORIES:Menominee
END:VEVENT
BEGIN:VEVENT
DTSTART;TZID=UTC:20241017T180000
DTEND;TZID=UTC:20241017T200000
DTSTAMP:20260424T142946
CREATED:20241002T120849Z
LAST-MODIFIED:20241002T121216Z
UID:10002068-1729188000-1729195200@upbarreview.com
SUMMARY:Elks Lodge 1313 - Music Bingo!! - Marinette
DESCRIPTION:Grab your daubers & join us for music bingo! Halloween & 2000’s Country are the themes this month.Broasted chicken & full dinner menu too.See you there!!
URL:https://upbarreview.com/event/elks-lodge-1313-music-bingo-marinette/
LOCATION:Elks Lodge #1313\, 430 Bridge St\, Marinette\, WI\, 54143
CATEGORIES:Menominee
END:VEVENT
BEGIN:VEVENT
DTSTART;TZID=UTC:20241017T173000
DTEND;TZID=UTC:20241017T203000
DTSTAMP:20260424T142946
CREATED:20240930T164522Z
LAST-MODIFIED:20240930T164522Z
UID:10001721-1729186200-1729197000@upbarreview.com
SUMMARY:McCrafties - Harvest Moon Canvas Painting - Menominee
DESCRIPTION:Join us for a relaxing evening of creativity as we paint the majestic harvest moon on a 16×20 canvas.We will guide you through each step\, ensuring you create a beautiful and unique piece of art. No prior painting experience is necessary\, so all levels are welcome. Bring your friends and family for a fun and memorable night out. All materials are provided\, so just come ready to paint!\nPRE-PAYMENT of $40 is required to save your spot. Feel free to call the studio or stop in with payment.\n715-440-5959\n\nCLASS REFUND POLICY\n-full in studio credit if cancellation is 1 week prior to the class-50% in studio credit up to 24 hours prior to class.-less than 24 hours notice\, no credit-NO SHOW/ NO CALL/NO CREDIT
URL:https://upbarreview.com/event/mccrafties-harvest-moon-canvas-painting-menominee/
LOCATION:McCrafties\, 625 1st St\, Menominee\, MI\, 49858\, United States
CATEGORIES:Menominee
END:VEVENT
BEGIN:VEVENT
DTSTART;TZID=UTC:20241017T170000
DTEND;TZID=UTC:20241017T190000
DTSTAMP:20260424T142947
CREATED:20241001T165045Z
LAST-MODIFIED:20241001T165045Z
UID:10002039-1729184400-1729191600@upbarreview.com
SUMMARY:Forever Friendship Drop-in Center - Womens Discussion Group - Kingsford
DESCRIPTION:This a safe space where women with a mental health diagnosis can talk openly and freely about issues women face in our current society. The facilitator is also a peer and has access to multitude of resources to assist the group in topics\, goals and skill building.
URL:https://upbarreview.com/event/forever-friendship-drop-in-center-womens-discussion-group-kingsford/2024-10-17/
LOCATION:Forever Friendship Drop-in Center\, 501 S Carpenter Ave\, Kingsford\, MI
CATEGORIES:Ironmountain
END:VEVENT
BEGIN:VEVENT
DTSTART;TZID=UTC:20241017T170000
DTEND;TZID=UTC:20241017T183000
DTSTAMP:20260424T142947
CREATED:20241001T155510Z
LAST-MODIFIED:20241001T155510Z
UID:10001967-1729184400-1729189800@upbarreview.com
SUMMARY:Danielsons Greenhouse - Fall Plant Swap - Norway
DESCRIPTION:We’re doing it again folks…and with plenty of notice! Bring your besties and any pest free cuttings\, rooted propagations\, potted plants or freshly dug up perennials from your outdoor gardens to trade. Tables will be set up and this event is free and open to the public! Swap will promptly end at 6:20pm; as there will be a terrarium building class offered at 6:30 that same night.
URL:https://upbarreview.com/event/danielsons-greenhouse-fall-plant-swap-norway/
LOCATION:Danielsons Greenhouse & Floral\, 130 Brown St\, Norway\, MI\, 49870
CATEGORIES:Ironmountain
END:VEVENT
BEGIN:VEVENT
DTSTART;TZID=UTC:20241017T160000
DTEND;TZID=UTC:20241017T180000
DTSTAMP:20260424T142947
CREATED:20241001T034251Z
LAST-MODIFIED:20241001T034251Z
UID:10001846-1729180800-1729188000@upbarreview.com
SUMMARY:Bethel Lutheran Church - Octoberfest Dinner - Menominee
DESCRIPTION:drive thru pick up dinner featuring pork\, sauerkraut & spaetzle\, German potato salad\, creamy cucumber salad\, apple strudel
URL:https://upbarreview.com/event/bethel-lutheran-church-octoberfest-dinner-menominee/
LOCATION:Bethel Lutheran Church\, 1309 14th Ave\, Menominee\, MI\, 49858
CATEGORIES:Menominee
END:VEVENT
BEGIN:VEVENT
DTSTART;TZID=UTC:20241017T153000
DTEND;TZID=UTC:20241017T170000
DTSTAMP:20260424T142947
CREATED:20241001T015737Z
LAST-MODIFIED:20241001T015737Z
UID:10001773-1729179000-1729184400@upbarreview.com
SUMMARY:Farnsworth Public Library - Bingo for All - Oconto
DESCRIPTION:Happiness is yelling BINGO!! Come play Bingo with us and win some prizes!! This is a free event\, open to all. Come for a little bit or the full 1.5 hours.
URL:https://upbarreview.com/event/farnsworth-public-library-bingo-for-all-oconto/
LOCATION:Farnsworth Public Library\, 715 Main St\, Oconto\, WI
CATEGORIES:Menominee
END:VEVENT
BEGIN:VEVENT
DTSTART;TZID=UTC:20241017T133000
DTEND;TZID=UTC:20241017T153000
DTSTAMP:20260424T142947
CREATED:20241001T022316Z
LAST-MODIFIED:20241001T022316Z
UID:10001791-1729171800-1729179000@upbarreview.com
SUMMARY:LakeHouse - Monthly Education Event - Escanaba
DESCRIPTION:Join us for a presentation by George from Skradski Funeral Home.\nTaking the time to arrange your funeral now leaves one less thingyour loved ones will need to worry about once you’ve passed. Learn useful information about the benefits of pre-planning.\nRefreshments will be served.\nAll are invited!
URL:https://upbarreview.com/event/lakehouse-monthly-education-event-escanaba/
LOCATION:LakeHouse Escanaba\, 501 S Lincoln Rd\, Escanaba\, MI\, 49829
CATEGORIES:Menominee
END:VEVENT
BEGIN:VEVENT
DTSTART;TZID=UTC:20241016T180000
DTEND;TZID=UTC:20241016T200000
DTSTAMP:20260424T142947
CREATED:20241001T154504Z
LAST-MODIFIED:20241001T154517Z
UID:10001960-1729101600-1729108800@upbarreview.com
SUMMARY:Crafters On Central - Wooden Barn Quilt Workshop - Florence
DESCRIPTION:INSTRUCTOR: Kathy KCOST: $60SUGGESTED AGE: 18+CLASS MINIMUM: 5CLASS MAXIMUM: 10REGISTRATION DEADLINE: 10-01-24\nKathy was first introduced to Barn Quilts in 2015. As an avid quilter she wanted to begin a series of Barn Quilts to decorate their pole building facing US-2. Her first Barn Quilt was a result of doing research about both the design and painting as well as constructing the panel itself. Over the course of the next few years she and her husband have continuously improved and evolved the process.\nKathy was approached 5 years ago about doing a workshop to introduce others to barn quilting and has been conducting them ever since. It is a passion that she hopes you will come to enjoy and share and we are so excited to have her instruct at our studio!\nCome create your own piece of Americana folk art. These quilts are weather proof.\nHere is what is included with your workshopPrimed & Framed 2′ x 2′ Panel with Hanging Cleat and DirectionsStep-by-Step instructions to draft pattern.National & Regional Barn Quilt HistoryDrafting Techniques and using pattern instructions (choose pattern when registering)TapingDiscussion of barn quilt panels\nWhat you need to bring*Unlike most workshops at Crafters on Central\, we are asking our guests to please bring a few simple items with you to this class. While we do have some of these items in the studio\, our supply is limited and we want to make sure you have them with you at home when the class is done too!\n\nOne or more measuring rulers with one straightedge of at least 36″ long (1 yard)PencilsCompass and Protractor (if available)Frog tape (1″)Single edge razor bladesMagic EraserSoft art eraser\nAt the end of your workshop you will have drafted your pattern on the supplied 2′ x 2′ panel ready for painting. You can then determine the choice of colors and paint it AT HOME upon completion of this workshop. We will set a goal for completion date at the studio and those guests that have successfully finished their piece will be encouraged to bring it to the studio for a “show and tell” date to be determined.\nPlease be sure to select one pattern at checkout. Additional pattern instructions may be added for $5 per pattern. Additional panels may be purchased for $45.\nView Patterns Here\nThis class is scheduled for 2 hours. Please be on time. We spin a prize wheel to kick off the start of each class and you must be present to win
URL:https://upbarreview.com/event/crafters-on-central-wooden-barn-quilt-workshop-florence/
LOCATION:Crafters on Central\, 733 Central Ave\, Florence\, WI\, 54121
CATEGORIES:Ironmountain
END:VEVENT
BEGIN:VEVENT
DTSTART;TZID=UTC:20241016T180000
DTEND;TZID=UTC:20241016T200000
DTSTAMP:20260424T142947
CREATED:20241001T020253Z
LAST-MODIFIED:20241001T020253Z
UID:10001776-1729101600-1729108800@upbarreview.com
SUMMARY:Lavender Spirit Healing & Massage - Full Moon Meditation - Wausaukee
DESCRIPTION:Join us to work with the energy of the hunters moon!\n$15 (cash only)\nSign up:www.lavenderspiritwi.comOr Message me directly
URL:https://upbarreview.com/event/lavender-spirit-healing-massage-full-moon-meditation-wausaukee/
LOCATION:Lavender Spirit Healing & Massage\, 544 Van Buren St.\, Wausaukee\, WI
CATEGORIES:Menominee
END:VEVENT
BEGIN:VEVENT
DTSTART;TZID=UTC:20241016T173000
DTEND;TZID=UTC:20241016T180000
DTSTAMP:20260424T142947
CREATED:20241001T044029Z
LAST-MODIFIED:20241001T044029Z
UID:10001945-1729099800-1729101600@upbarreview.com
SUMMARY:The Cottages - Yoga - Menominee
DESCRIPTION:OCTOBER YOGA SCHEDULEYOGATINI Mondays…..5:30-6:15pm at The Blue RoomGENTLE Tuesdays….5:30-6:00pm at EMMANUEL LUTHERAN CHURCH MENOMINEE\,MICHIGAN ELCACHAIR Wednesdays…..5:30-5:00pm at The Cottages
URL:https://upbarreview.com/event/the-cottages-yoga-menominee/2024-10-16/
LOCATION:The Cottages\, 2006 Lake Park Dr\, Marinette\, WI
CATEGORIES:Menominee
END:VEVENT
BEGIN:VEVENT
DTSTART;TZID=UTC:20241016T170000
DTEND;TZID=UTC:20241016T190000
DTSTAMP:20260424T142947
CREATED:20241001T164937Z
LAST-MODIFIED:20241001T164937Z
UID:10002027-1729098000-1729105200@upbarreview.com
SUMMARY:Forever Friendship Drop-in Center - Vintage Video Game Night - Kingsford
DESCRIPTION:Step outside your modern box and have a fun flashback to a simpler time. Please bring vintage game consoles and games to share. Goal is to meet people outside our norm but have gaming and mental health similarities.
URL:https://upbarreview.com/event/forever-friendship-drop-in-center-vintage-video-game-night-kingsford/2024-10-16/
LOCATION:Forever Friendship Drop-in Center\, 501 S Carpenter Ave\, Kingsford\, MI
CATEGORIES:Ironmountain
END:VEVENT
BEGIN:VEVENT
DTSTART;TZID=UTC:20241016T160000
DTEND;TZID=UTC:20241016T210000
DTSTAMP:20260424T142947
CREATED:20241001T043225Z
LAST-MODIFIED:20241001T043225Z
UID:10001933-1729094400-1729112400@upbarreview.com
SUMMARY:Embers 1871 - Bras for a Cause - Peshtigo
DESCRIPTION:Please join us on Wednesday\, October 16th for the “Bras for A Cause” Fundraiser\nraising funds for Aurora Health Care Foundation 501C3.This is a national event held at different times and places all over\nthe country with the same goal—to help Breast Cancer patients. The bras that are created andauctioned are conversation pieces and are for entertainment\, not necessarily for use.\nI challenge everyone in the community to create and design the most beautiful and unique bras. Then\, submit it\nfor judging\, and to be auctioned off to the highest bidder.\nIndividual tickets are $35.00 per person—this will include Admission and Dinner!Couple Things to Know*Please deliver all masterpieces to Embers 1871.*Please have bras completed and brought to Embers 1871 by Sunday\, October 13th.*Net Proceeds will stay local and be used for Breast Cancer Patients. *There will be a linked Event Page on Embers1871’s Facebook for online viewing of bras.*Judging will start at 4:00 pm on Wednesday evening with dinner at 5:00 and the Live Auction to follow dinner.*The Facebook page is www.facebook.com/Embers1871BrasForACauseIf you and/or your employer are interested\, there are Sponsorships available for this event. Please contact Sherryat 715-923-1014.
URL:https://upbarreview.com/event/embers-1871-bras-for-a-cause-peshtigo/
LOCATION:Embers 1871\, W3529 Co Rd B\, Peshtigo\, WI\, 54157\, United States
CATEGORIES:Menominee
END:VEVENT
BEGIN:VEVENT
DTSTART;TZID=UTC:20241016T160000
DTEND;TZID=UTC:20241016T193000
DTSTAMP:20260424T142947
CREATED:20240827T133046Z
LAST-MODIFIED:20240827T133046Z
UID:10001694-1729094400-1729107000@upbarreview.com
SUMMARY:Knights of Columbus - Bingo Wednesday - Iron Mountain
DESCRIPTION:The Columbus Club operates the hall and hosts Charity Bingo every Wednesday night. \n\nDoors open at 4:00 PM\nBingo Games start at 6:30 PM.\nFood is available for purchase at the hall.\n\nThe Columbus Club uses all proceeds to maintain the building and support the good works of the council.  Bingo is operated under the regulations set by the State of Michigan Charitable Gaming.
URL:https://upbarreview.com/event/knights-of-columbus-bingo-wednesday-iron-mountain/2024-10-16/
LOCATION:Knights of Columbus Kingsford\, 520 West Breitung Ave\, Kingsford\, MI
CATEGORIES:Ironmountain
END:VEVENT
BEGIN:VEVENT
DTSTART;TZID=UTC:20241016T150000
DTEND;TZID=UTC:20241016T180000
DTSTAMP:20260424T142947
CREATED:20240626T145913Z
LAST-MODIFIED:20240728T212922Z
UID:10000568-1729090800-1729101600@upbarreview.com
SUMMARY:Escanaba Farmers Market
DESCRIPTION:The Escanaba Farmers Market runs from 3 to 6 p.m. at the Marketplace on Wednesdays. Catch music from 11:30am-1:30pm beforehand. Come check it out!
URL:https://upbarreview.com/event/escanaba-farmers-market/2024-10-16/
LOCATION:Escanaba Marketplace\, 1501 Ludington St\, Escanaba\, MI\, 49829
CATEGORIES:Menominee
END:VEVENT
BEGIN:VEVENT
DTSTART;TZID=UTC:20241016T140000
DTEND;TZID=UTC:20241016T160000
DTSTAMP:20260424T142947
CREATED:20241001T023514Z
LAST-MODIFIED:20241001T023514Z
UID:10001799-1729087200-1729094400@upbarreview.com
SUMMARY:Rennes Health & Rehab - Fall Prevention - Peshtigo
DESCRIPTION:THE CDC REPORTS THAT 1 IN 5 FALLS RESULTS IN A SERIOUS INJURY SUCH AS A BROKEN BONE OR HEAD INJURY.JOIN THE EXPERTS FROM OUR PHYSICAL AND OCCUPATIONAL THERAPY TEAMS TO LEARN MORE ABOUT THE IMPORTANCE OF FALL PREVENTION. LEARN IMPORTANT TIPS FOR MAINTAINING YOUR MOBILITY\, SAFETY & INDEPENDENCE.\nFREE TO THE PUBLICREGISTER AT 715.582.3906LOCATION: RENNES HEALTH & REHAB CENTER-PESHTIGO WEST501 N LAKE STREET PESHTIGO
URL:https://upbarreview.com/event/rennes-health-rehab-fall-prevention-peshtigo/
LOCATION:501 N Lake St\, Peshtigo\, WI\, 54157
CATEGORIES:Menominee
END:VEVENT
BEGIN:VEVENT
DTSTART;TZID=UTC:20241016T130000
DTEND;TZID=UTC:20241016T150000
DTSTAMP:20260424T142947
CREATED:20241001T042703Z
LAST-MODIFIED:20241001T042703Z
UID:10001928-1729083600-1729090800@upbarreview.com
SUMMARY:Heritage Inn - Bingo! - Wausaukee
DESCRIPTION:October bingo
URL:https://upbarreview.com/event/heritage-inn-bingo-wausaukee/2024-10-16/
LOCATION:The Heritage Inn\, W2505 Co Rd JJ\, Wausaukee\, WI\, 54177
CATEGORIES:Menominee
END:VEVENT
BEGIN:VEVENT
DTSTART;TZID=UTC:20241016T080000
DTEND;TZID=UTC:20241016T170000
DTSTAMP:20260424T142947
CREATED:20241001T162533Z
LAST-MODIFIED:20241001T162601Z
UID:10002006-1729065600-1729098000@upbarreview.com
SUMMARY:Systems Control - Production Job Fair - Iron Mountain
DESCRIPTION:Join us for an exciting opportunity to explore a future with Systems Control at our Production Job Fair! \nHelp us spread the word and share this with others you know that might be interested in attending!\nWe very much look forward to meeting you all!
URL:https://upbarreview.com/event/systems-control-production-job-fair-iron-mountain/
LOCATION:Systems Control\, 133 Traders Mine Rd\, Iron Mountain\, MI\, 49801
CATEGORIES:Ironmountain
END:VEVENT
BEGIN:VEVENT
DTSTART;TZID=UTC:20241015T190000
DTEND;TZID=UTC:20241015T210000
DTSTAMP:20260424T142947
CREATED:20241001T155215Z
LAST-MODIFIED:20241001T155215Z
UID:10001965-1729018800-1729026000@upbarreview.com
SUMMARY:Big 10 Sports Bar & Grill - Uproar Monthly Meeting - Quinnesec
DESCRIPTION:Join us for our monthly meeting. We will provide updates on projects\, talk trails and plan events.\nBig 10 in Quinnesec 7pm. Stop down early to grab some food and hangout before meeting.\nHope to see you there!
URL:https://upbarreview.com/event/big-10-sports-bar-grill-uproar-monthly-meeting-quinnesec/
LOCATION:The Big 10 Sports Bar & Grill\, 1272 Quinnesec Ave\, Quinnesec\, MI\, 49876
CATEGORIES:Ironmountain
END:VEVENT
BEGIN:VEVENT
DTSTART;TZID=UTC:20241015T180000
DTEND;TZID=UTC:20241015T200000
DTSTAMP:20260424T142947
CREATED:20241005T132349Z
LAST-MODIFIED:20241005T132349Z
UID:10002071-1729015200-1729022400@upbarreview.com
SUMMARY:Small Business Meeting - October Meeting
DESCRIPTION:You are INVITED to Join us for the October Networking Meeting on Tuesday October 15th from 6p-8p at our October Venue- Memories Studios in Menominee\, MI. in addition we will have our October Monthly Featured Business Ti Shep’s Layers of Flavor.\nANY & ALL Local Small Business Owners and/or Managers are INVITED. Learn more about our October Venue & Featured Business. Followed by some good old fashion networking with a fun group of businesses. This is a Casual Meeting and you truly are only a stranger once with our group.
URL:https://upbarreview.com/event/small-business-meeting-october-meeting/
LOCATION:Memories Studios\, 2433 13th Ave\, Menominee\, MI\, 49858
CATEGORIES:Menominee
END:VEVENT
BEGIN:VEVENT
DTSTART;TZID=UTC:20241015T173000
DTEND;TZID=UTC:20241015T180000
DTSTAMP:20260424T142947
CREATED:20241001T043859Z
LAST-MODIFIED:20241001T043859Z
UID:10001940-1729013400-1729015200@upbarreview.com
SUMMARY:Emmanuel Lutheran Church - Yoga - Menominee
DESCRIPTION:OCTOBER YOGA SCHEDULEYOGATINI Mondays…..5:30-6:15pm at The Blue RoomGENTLE Tuesdays….5:30-6:00pm at EMMANUEL LUTHERAN CHURCH MENOMINEE\,MICHIGAN ELCACHAIR Wednesdays…..5:30-5:00pm at The Cottages
URL:https://upbarreview.com/event/emmanuel-lutheran-church-yoga-menominee/2024-10-15/
LOCATION:Emmanual Lutheran Church\, 2901 13th St\, Menominee\, MI\, 49858
CATEGORIES:Menominee
END:VEVENT
BEGIN:VEVENT
DTSTART;TZID=UTC:20241015T170000
DTEND;TZID=UTC:20241015T190000
DTSTAMP:20260424T142947
CREATED:20241001T164634Z
LAST-MODIFIED:20241001T164634Z
UID:10002014-1729011600-1729018800@upbarreview.com
SUMMARY:Forever Friendship Drop-in Center - Mindfulness\, Meditation\, & Mandalas - Kingsford
DESCRIPTION:Try an alternative to most mental health treatment by focusing on your imagination and creative skills to make functional art project.Each week the Peer Support will lead the group in an art project directly linked to a coping skill. All supplies are included. We do encourage independence\, but keep group work available.Our goal throughout the process is to practice mindfulness skills\, listen to meditation music\, and be surrounded by like-minded individuals.
URL:https://upbarreview.com/event/forever-friendship-drop-in-center-mindfulness-meditation-mandalas-kingsford/2024-10-15/
LOCATION:Forever Friendship Drop-in Center\, 501 S Carpenter Ave\, Kingsford\, MI
CATEGORIES:Ironmountain
END:VEVENT
BEGIN:VEVENT
DTSTART;TZID=UTC:20241015T170000
DTEND;TZID=UTC:20241015T180000
DTSTAMP:20260424T142947
CREATED:20241001T161107Z
LAST-MODIFIED:20241001T161107Z
UID:10001983-1729011600-1729015200@upbarreview.com
SUMMARY:VA Medical Center - Journey to Wellbriety Recovery Group - Iron Mountain
DESCRIPTION:Tuesdays at 5:00 p.m. CTOscar G. Johnson VAMC325 E H Street\, Iron Mountain\, MIRoom 2378 (2nd floor)\nQuestions may be directed to AJ Osickey at 906-774-3300 ext. 32776\nThis is a traditional recovery group for various forms of addiction and traumas. It is based upon spirituality teachings of the Native Peoples.
URL:https://upbarreview.com/event/va-medical-center-journey-to-wellbriety-recovery-group-iron-mountain/2024-10-15/
LOCATION:Iron Mountain VA Medical Center\, 325 E H St\, Iron Mountain\, MI\, 49801
CATEGORIES:Ironmountain
END:VEVENT
BEGIN:VEVENT
DTSTART;TZID=UTC:20241015T163000
DTEND;TZID=UTC:20241015T180000
DTSTAMP:20260424T142947
CREATED:20241001T020900Z
LAST-MODIFIED:20241001T020900Z
UID:10001781-1729009800-1729015200@upbarreview.com
SUMMARY:Escanaba Public Library - Fiber Artists Meeting
DESCRIPTION:Calling all Fiber Artists!\nThe Escanaba Public Library is holding an organizational meeting to determine interest in a low-key\, low-stress community group that would meet at the library once a month. Knitters\, crocheters\, hand quilters\, weavers\, and more are welcome to bring input!\nIf you have an interest and/or ideas\, please come to the library on Tuesday\, October 15 at 5:30 p.m. You can also email Jane Lynch at jlynch@escanabalibrary.org with your questions\, input\, and ideas.
URL:https://upbarreview.com/event/escanaba-public-library-fiber-artists-meeting/
LOCATION:Escanaba Public Library\, 400 Ludington St\, Escanaba\, WI\, 49829
CATEGORIES:Menominee
END:VEVENT
BEGIN:VEVENT
DTSTART;TZID=UTC:20241015T120000
DTEND;TZID=UTC:20241015T193000
DTSTAMP:20260424T142947
CREATED:20241001T155828Z
LAST-MODIFIED:20241001T155828Z
UID:10001970-1728993600-1729020600@upbarreview.com
SUMMARY:Oak Crest Golf Course - Tuesday Mexican Nights - Norway
DESCRIPTION:It’s back by popular demand. Featuring items such as; tacos\, tostadas\, chimichangas\, taco salad\, quesadillas\, nachos\, and burritos. We will have some Mexican beers to wash it all down. Hope to see you.
URL:https://upbarreview.com/event/oak-crest-golf-course-tuesday-mexican-nights-norway/2024-10-15/
LOCATION:Oak Crest Golf Course\, N1475 US-8\, Norway\, MI\, 49870
CATEGORIES:Ironmountain
END:VEVENT
BEGIN:VEVENT
DTSTART;TZID=UTC:20241015T103000
DTEND;TZID=UTC:20241015T113000
DTSTAMP:20260424T142947
CREATED:20240930T164308Z
LAST-MODIFIED:20240930T164308Z
UID:10001717-1728988200-1728991800@upbarreview.com
SUMMARY:Spies Public Library - Family Coalition Meeting - Menominee
DESCRIPTION:Come join the Great Start Collaborative’s Family Coalition Meetings at Spies Public Library every third tuesday of the month following our Parent/Child Coffee Chats! This group plans events and parent education for our community!
URL:https://upbarreview.com/event/spies-public-library-family-coalition-meeting-menominee/2024-10-15/
LOCATION:Spies Public Library\, 940 1st St.\, Menominee\, MI\, 49858
CATEGORIES:Menominee
END:VEVENT
BEGIN:VEVENT
DTSTART;TZID=UTC:20241014T173000
DTEND;TZID=UTC:20241014T183000
DTSTAMP:20260424T142947
CREATED:20241001T032452Z
LAST-MODIFIED:20241001T032507Z
UID:10001837-1728927000-1728930600@upbarreview.com
SUMMARY:The Blue Room - Yogatini - Marinette
DESCRIPTION:YOGATINI STARTS NEXT WEEK! \n\n\nAdult Yoga classes with cocktails included!\nJoin Yoga With Sally on Mondays this October to beat those Monday blues!\n\n\nEvery Monday in October – 7\, 14\, 21 and 28\n5:30 – 6:15 pm\nDrinks to follow class\n$25 Per class or $80 for the entire month! (Venmo: Sally-VanEyck)\n\n\nRegister via Sally’s facebook DMs – Yoga With Sally or via email at yogawithsally@gmail.com\n\n\nSee you on the Mat!
URL:https://upbarreview.com/event/the-blue-room-yogatini-marinete/2024-10-14/
LOCATION:The Blue Room\, 1975 Riverside Ave\, Marinette\, WI
CATEGORIES:Menominee
END:VEVENT
END:VCALENDAR