BEGIN:VCALENDAR
VERSION:2.0
PRODID:-//UP BAR REVIEW - ECPv6.14.2//NONSGML v1.0//EN
CALSCALE:GREGORIAN
METHOD:PUBLISH
X-ORIGINAL-URL:https://upbarreview.com
X-WR-CALDESC:Events for UP BAR REVIEW
REFRESH-INTERVAL;VALUE=DURATION:PT1H
X-Robots-Tag:noindex
X-PUBLISHED-TTL:PT1H
BEGIN:VTIMEZONE
TZID:UTC
BEGIN:STANDARD
TZOFFSETFROM:+0000
TZOFFSETTO:+0000
TZNAME:UTC
DTSTART:20250101T000000
END:STANDARD
END:VTIMEZONE
BEGIN:VEVENT
DTSTART;TZID=UTC:20251017T200000
DTEND;TZID=UTC:20251017T230000
DTSTAMP:20260424T112955
CREATED:20250207T191746Z
LAST-MODIFIED:20250207T191746Z
UID:10002976-1760731200-1760742000@upbarreview.com
SUMMARY:The Granada - Karaoke Night - Escanaba
DESCRIPTION:Welcome to the Hottest Karaoke show in Town! Every Friday at The Granada in Escanaba\, MI Starts at 9:00 pm\nCreate your FREE Performer Account with Songbooks Online App to Browse the Karaoke song library\, keep a favorites list and submit your song requests remotely! Use Show ID: MSK23 after you create your account. You can also just tell me your name and the song you want if you don’t know how to install an app.
URL:https://upbarreview.com/event/the-granada-karaoke-night-escanaba/2025-10-17/
LOCATION:The Granada\, 330 S 10th St\, Escanaba\, MI
CATEGORIES:Menominee
END:VEVENT
BEGIN:VEVENT
DTSTART;TZID=UTC:20251017T200000
DTEND;TZID=UTC:20251018T000000
DTSTAMP:20260424T112955
CREATED:20251003T180309Z
LAST-MODIFIED:20251003T180309Z
UID:10006361-1760731200-1760745600@upbarreview.com
SUMMARY:Menominee Casino & Resort\, Keshena WI\, 8pm-Midnight
DESCRIPTION:Let’s get lucky at Menominee Casino & Resort\, Keshena WI! Join us Friday October 17th and Saturday October 18th\, 2025!\nMusic from 8pm-Midnight!
URL:https://upbarreview.com/event/menominee-casino-resort-keshena-wi-8pm-midnight/
CATEGORIES:Menominee
END:VEVENT
BEGIN:VEVENT
DTSTART;TZID=UTC:20251018T080000
DTEND;TZID=UTC:20251018T110000
DTSTAMP:20260424T112955
CREATED:20250724T002033Z
LAST-MODIFIED:20250724T002033Z
UID:10005553-1760774400-1760785200@upbarreview.com
SUMMARY:Escanaba Farmers Market
DESCRIPTION:Open 9am to Noon every Saturday through the end of October.
URL:https://upbarreview.com/event/escanaba-farmers-market-3/2025-10-18/
LOCATION:1501 Ludington St\, Escanaba\, MI
CATEGORIES:Menominee
END:VEVENT
BEGIN:VEVENT
DTSTART;TZID=UTC:20251018T120000
DTEND;TZID=UTC:20251018T130000
DTSTAMP:20260424T112955
CREATED:20251006T160515Z
LAST-MODIFIED:20251006T160515Z
UID:10006780-1760788800-1760792400@upbarreview.com
SUMMARY:Trick Dog Class -Mighty Pet
DESCRIPTION:Our Trick Dog Class teaches fun skills like spin\, shake\, bow\, and hoop jump while boosting your dog’s confidence and creativity. By the end\, you’ll have a routine of tricks and the option to test for an AKC Novice Trick Dog title.Prerequisite: Foundation\, CGC\, or private trainingCost $165Sign up:New clients → https://form.jotform.com/202575559999175Current/former clients → Call/text Meghan at 906-424-0356
URL:https://upbarreview.com/event/trick-dog-class-mighty-pet/2025-10-18/
LOCATION:Mighty Pet\, 1207 8th Ave\, Menominee\, MI\, 49858
CATEGORIES:Menominee
END:VEVENT
BEGIN:VEVENT
DTSTART;TZID=UTC:20251018T120000
DTEND;TZID=UTC:20251018T160000
DTSTAMP:20260424T112955
CREATED:20251006T162749Z
LAST-MODIFIED:20251006T162749Z
UID:10006800-1760788800-1760803200@upbarreview.com
SUMMARY:3rd Annual Small Business and Community Meet-n-Treat!! - Best Western
DESCRIPTION:Join us with #LWYL Menominee\, MI for a Halloween Themed Event for the Community to allow Families and their Kiddos to come learn more about our Local Small Business Community. We will be adding a little fun to it by including “Trick-or-Treating” to our Event. So please plan to bring candy or trinkets for your table to hand out.During this event there will be NO SALES\, this is a Meet-n-Greet ONLY event. Get creative with your marketing and promoting of your business.Raffles\, Door Prizes\, Etc. at your table. I encourage “out-of-the-box” ideas!Costumes are ENCOURAGED as there will be a COSTUME CONTEST amongst both the Businesses and the Attendees. In addition to the HALLOWEEN FUN there will be Door Prizes and other prizes for games. I am currently still accepting Donations for Door Prizes and Game Prizes\, please contact me if you are willing to donate.There is a $20 Refundable Registration Fee\, that will be returned to each business before the end of the event. If the Business is interested in donating the deposit again as it was done for the last event. I am encouraging any deposits that you would like to donate from this event be donated to the Menominee MidCounty Ministerium Pantry in Stephenson\, MI.For any Local Small Businesses interested in joining us\, please register soon as there are limited spots available. Registration Link- https://docs.google.com/…/1FAIpQLSdC2FLZXsfaGP…/viewform\nRegistration is open through October 1st\, or until spots are filled. Our spot limit is 25/30 depending how many tables are needed by individual businesses. We will be discussing further details at our Monthly Networking Meeting in October before the event. We would love for you to attend and be part of your networking group. The October Networking Meeting will be held at the Best Western prior to the event..Thank you for your participation in Building the Bridge between Small Businesses & the Community.I am looking forward to working with everyone. Please contact me directly with any questions.Reach out to me with any questions or concerns through my Facebook group https://www.facebook.com/groups/lwylmenomineemi or via email at wkphotographymi@gmail.com
URL:https://upbarreview.com/event/3rd-annual-small-business-and-community-meet-n-treat-best-western/
LOCATION:Best Western\, 1821 Riverside Ave\, Marinette\, WI\, 54143
CATEGORIES:Menominee
END:VEVENT
BEGIN:VEVENT
DTSTART;TZID=UTC:20251018T130000
DTEND;TZID=UTC:20251018T160000
DTSTAMP:20260424T112955
CREATED:20251015T135105Z
LAST-MODIFIED:20251015T135105Z
UID:10006839-1760792400-1760803200@upbarreview.com
SUMMARY:Sip & Paint - Beaver Saloon
DESCRIPTION:$40 per person includes a 16×20 canvas and paint.
URL:https://upbarreview.com/event/sip-paint-beaver-saloon/
LOCATION:Beaver Saloon\, N4918 US Highway 141\, Beaver\, WI
CATEGORIES:Menominee
END:VEVENT
BEGIN:VEVENT
DTSTART;TZID=UTC:20251018T140000
DTEND;TZID=UTC:20251018T160000
DTSTAMP:20260424T112955
CREATED:20251006T161551Z
LAST-MODIFIED:20251006T161551Z
UID:10006790-1760796000-1760803200@upbarreview.com
SUMMARY:Pop up Jewelery Class - McCrafties
DESCRIPTION:Going to be doing a pop up Permanent Jewelry Station Saturday October 18th at McCrafties!\nShe has a beautiful shop on First Street in Menominee\, MI. She specializes in custom apparel\, paint your own pottery\, awesome group painting events\, and much more.\nI have known Stefanie for close to 20 years & am excited to have this event with her!
URL:https://upbarreview.com/event/pop-up-jewelery-class-mccrafties/
LOCATION:McCrafties\, 625 1st St\, Menominee\, MI\, 49858\, United States
CATEGORIES:Menominee
END:VEVENT
BEGIN:VEVENT
DTSTART;TZID=UTC:20251018T140000
DTEND;TZID=UTC:20251018T170000
DTSTAMP:20260424T112955
CREATED:20251006T161824Z
LAST-MODIFIED:20251006T161824Z
UID:10006793-1760796000-1760806800@upbarreview.com
SUMMARY:Hat or Tote Burning Workshop - Spirit House
DESCRIPTION:Let’s Burn!\nClass- Location- Spirit House Distillery\, 533 10th Avenue\, Menominee\, MIClass Time- Sat Oct 18 2-5pmClass Instructor- Angie\nLearn how to burn your own hat or tote bag! All levels of skill welcome- if you’re not comfortable drawing\, that’s ok\, all you have to do is trace your design!Start off by listening to an instructor led tutorial on different ways to burn your project. Multiple techniques will be demonstrated\, from free-hand drawing to transferring a pre-made design template.Finish up at the hat bar where you can choose ribbons and embellishments to create a coordinating hat band or accessorize your bag!You will receive your hat of choice\, use of a woodburning tool and supplies\, and unlimited amount of ribbons and embellishments to create your hat band!Hats are one size fits most with adjustable straps for snug\, comfortable fit
URL:https://upbarreview.com/event/hat-or-tote-burning-workshop-spirit-house/
LOCATION:Spirit House\, 533 10th Ave\, Menominee\, MI 49858\, Menominee\, MI\, 49858\, United States
CATEGORIES:Menominee
END:VEVENT
BEGIN:VEVENT
DTSTART;TZID=UTC:20251018T180000
DTEND;TZID=UTC:20251018T200000
DTSTAMP:20260424T112956
CREATED:20251006T175003Z
LAST-MODIFIED:20251006T175003Z
UID:10006808-1760810400-1760817600@upbarreview.com
SUMMARY:Abigail Nygren - EnJoy Gifts & Gathering
DESCRIPTION:Looking forward to spending an evening at EnJoy Gifts & Gathering again! But this time\, it’s extra special… I’m planning for another album but I need YOUR help! Come to the concert to VOTE for which songs will be on my next album! I’ll be playing a whole bunch of new original songs at this concert and I cannot wait to hear which ones you love most. Come to the concert to vote on your favorites to help decide which ones get recorded…. See you there!!https://www.abigailnygren.com/…/abigail-nygren-at-enjoy…
URL:https://upbarreview.com/event/abigail-nygren-enjoy-gifts-gathering/
LOCATION:EnJoy Gifts & Gathering\, 1713 Main St\, Marinette\, WI\, 54143
CATEGORIES:Menominee
END:VEVENT
BEGIN:VEVENT
DTSTART;TZID=UTC:20251018T180000
DTEND;TZID=UTC:20251018T210000
DTSTAMP:20260424T112956
CREATED:20251003T203528Z
LAST-MODIFIED:20251003T203528Z
UID:10006485-1760810400-1760821200@upbarreview.com
SUMMARY:Bobby Darren and Sheila
DESCRIPTION:Come enjoy the classic songs
URL:https://upbarreview.com/event/bobby-darren-and-sheila/
CATEGORIES:Menominee
END:VEVENT
BEGIN:VEVENT
DTSTART;TZID=UTC:20251018T190000
DTEND;TZID=UTC:20251018T220000
DTSTAMP:20260424T112956
CREATED:20251003T175246Z
LAST-MODIFIED:20251003T175246Z
UID:10006330-1760814000-1760824800@upbarreview.com
SUMMARY:Elvis & Oldies Show!!
DESCRIPTION:He’s back!!  Elvis will be here singing his favorites along with some oldies hits!  This is a show you don’t want to miss! $20 per ticket.\nLight menu will also be served.
URL:https://upbarreview.com/event/elvis-oldies-show/
CATEGORIES:Menominee
END:VEVENT
BEGIN:VEVENT
DTSTART;TZID=UTC:20251018T190000
DTEND;TZID=UTC:20251018T223000
DTSTAMP:20260424T112956
CREATED:20251015T133216Z
LAST-MODIFIED:20251015T133216Z
UID:10006822-1760814000-1760826600@upbarreview.com
SUMMARY:UTL Comedy Night - Belgiumtown Bar & Restaurant
DESCRIPTION:This Saturday! Limited amount of tickets left. Get your tickets at Belgiumtown Bar & Restaurant in Stephenson\, MI. Comedy starts at 7pm central time.
URL:https://upbarreview.com/event/utl-comedy-night-belgiumtown-bar-restaurant/
LOCATION:Belgiumtown Bar & Restaurant\, W4346 Belgiumtown Rd\, Stephenson\, MI
CATEGORIES:Menominee
END:VEVENT
BEGIN:VEVENT
DTSTART;TZID=UTC:20251018T200000
DTEND;TZID=UTC:20251018T220000
DTSTAMP:20260424T112956
CREATED:20251015T135256Z
LAST-MODIFIED:20251015T135256Z
UID:10006841-1760817600-1760824800@upbarreview.com
SUMMARY:Anthony Lindsey Performance - The Boulevard
DESCRIPTION:Stop on in to see Anthony perform.
URL:https://upbarreview.com/event/anthony-lindsey-performance-the-boulevard/
LOCATION:The Boulevard\, 117 Railroad Ave\, Daggett\, MI
CATEGORIES:Menominee
END:VEVENT
BEGIN:VEVENT
DTSTART;TZID=UTC:20251018T200000
DTEND;TZID=UTC:20251019T000000
DTSTAMP:20260424T112956
CREATED:20251003T180315Z
LAST-MODIFIED:20251003T180315Z
UID:10006366-1760817600-1760832000@upbarreview.com
SUMMARY:Menominee Casino & Resort\, Keshena WI\, 8pm-Midnight
DESCRIPTION:Let’s get lucky at Menominee Casino & Resort\, Keshena WI! Join us Friday October 17th and Saturday October 18th\, 2025!\nMusic from 8pm-Midnight!
URL:https://upbarreview.com/event/menominee-casino-resort-keshena-wi-8pm-midnight-2/
CATEGORIES:Menominee
END:VEVENT
BEGIN:VEVENT
DTSTART;TZID=UTC:20251018T200000
DTEND;TZID=UTC:20251019T000000
DTSTAMP:20260424T112956
CREATED:20251003T181020Z
LAST-MODIFIED:20251003T181020Z
UID:10006382-1760817600-1760832000@upbarreview.com
SUMMARY:Oconto Karaoke Idol Contest! - Finale Night
DESCRIPTION:🌟🎤 OCONTO KARAOKE IDOL FINALE! 🎤🌟\nIt all comes down to THIS! The best of the best will take the stage at Boo’s II to battle it out for the title of Oconto Karaoke Idol Champion! \n🏆 Finale Prizes \n🥇 1st Place – $100 Cash + $100 Boo’s II Bar Tab\n🥈 2nd Place – $100 Boo’s II Bar Tab\n🥉 3rd Place – $50 Boo’s II Bar Tab \n🎶 Each finalist will sing 2 songs before our panel of judges\, who will score on: \nVocal Ability 🎵 \nStage Presence / Showmanship 🎭 \nTechnical Skill 🎚 \nSound Similarity to the Original Artist 🎤 \nThis is the grand finale — where all the summer qualifiers come together for one unforgettable night of music\, fun\, and karaoke glory! \n🔥 Bring your friends\, cheer on your favorites\, and be part of the biggest karaoke night in Oconto!
URL:https://upbarreview.com/event/oconto-karaoke-idol-contest-finale-night/
LOCATION:Boo’s II\, 914 Main St\, Oconto\, WI
CATEGORIES:Menominee
END:VEVENT
BEGIN:VEVENT
DTSTART;TZID=UTC:20251019T120000
DTEND;TZID=UTC:20251019T150000
DTSTAMP:20260424T112956
CREATED:20251003T183259Z
LAST-MODIFIED:20251003T183259Z
UID:10006406-1760875200-1760886000@upbarreview.com
SUMMARY:Pumpkin Carving
DESCRIPTION:Bring your pumpkin and creativity to the park for a festive carving session. Tools and patterns will be available\, and families can take home their spooky or silly masterpieces.
URL:https://upbarreview.com/event/pumpkin-carving/
CATEGORIES:Menominee
END:VEVENT
BEGIN:VEVENT
DTSTART;TZID=UTC:20251019T120000
DTEND;TZID=UTC:20251019T163000
DTSTAMP:20260424T112956
CREATED:20251006T181837Z
LAST-MODIFIED:20251006T181837Z
UID:10006811-1760875200-1760891400@upbarreview.com
SUMMARY:Turkey Shoot 4-Person Scramble - Little River Country Club
DESCRIPTION:Sign up in Pro Shop or by calling 715-735-7234
URL:https://upbarreview.com/event/turkey-shoot-4-person-scramble-little-river-country-club/
LOCATION:Little River Country Club\, N2235 Shore Dr\, Marinette\, WI\, 54143
CATEGORIES:Menominee
END:VEVENT
BEGIN:VEVENT
DTSTART;TZID=UTC:20251019T130000
DTEND;TZID=UTC:20251019T150000
DTSTAMP:20260424T112956
CREATED:20251015T135148Z
LAST-MODIFIED:20251015T135148Z
UID:10006840-1760878800-1760886000@upbarreview.com
SUMMARY:Sip & Paint - The Boulevard
DESCRIPTION:$40 per person includes a 16×20 canvas and paint.
URL:https://upbarreview.com/event/sip-paint-the-boulevard/
LOCATION:The Boulevard\, 117 Railroad Ave\, Daggett\, MI
CATEGORIES:Menominee
END:VEVENT
BEGIN:VEVENT
DTSTART;TZID=UTC:20251019T150000
DTEND;TZID=UTC:20251019T163000
DTSTAMP:20260424T112956
CREATED:20251006T160607Z
LAST-MODIFIED:20251006T160607Z
UID:10006782-1760886000-1760891400@upbarreview.com
SUMMARY:Wumpa Fall Rules Meeting - Pullman House
DESCRIPTION:If you have any 2026 rule changes or discussions that need to be discussed you need to get it to a board member ahead of time
URL:https://upbarreview.com/event/wumpa-fall-rules-meeting-pullman-house/
LOCATION:Pullman House\, N2190 US 41\, Menominee\, MI
CATEGORIES:Menominee
END:VEVENT
BEGIN:VEVENT
DTSTART;TZID=UTC:20251019T150000
DTEND;TZID=UTC:20251019T180000
DTSTAMP:20260424T112956
CREATED:20251003T183239Z
LAST-MODIFIED:20251003T183239Z
UID:10006398-1760886000-1760896800@upbarreview.com
SUMMARY:Escanaba Spooktacular Trunk-or-Treat
DESCRIPTION:Get your costumes ready for the Escanaba Spooktacular Trunk-or-Treat! A ghouling good time in Escanaba’s downtown.\nLOOKING FOR GHOSTS AND GOBLINS\nThe Escanaba Spooktacular Trunk-or-Treat is a Halloween event where children and families gather to collect candy and non-candy items from decorated trucks of cars.  Instead of going door-to-door\, kids move from car to car\, and trusted adults at each vehicle hand out treats. The event offers a safe\, controlled environment for Halloween activities\, with participants decorating their car trunks to create a festive atmosphere with various themes. \nThis Trunk or Treat is a Teal Pumpkin Project event. The Teal Pumpkin Project is a food allergy awareness initiative that makes Halloween more inclusive by encouraging participants to offer non-food items such as stickers\, bubbles or small toys to trick-or-treaters with food allergies of other dietary restrictions. The project was launched by Food Allergy Research & Education (FARE) to create a happier and safer Halloween for children who cannot safely eat candy. You will find the children without food allergies are also interested in receiving non-food items during the event. \nLOOKING FOR TRUNKS\nWe are looking for businesses\, organizations and individuals to register a trunk for the event. Your vehicle will be parked on Ludington or 11th Street.  \nRegister at escanabadowntown/trunk.
URL:https://upbarreview.com/event/escanaba-spooktacular-trunk-or-treat/
CATEGORIES:Menominee
END:VEVENT
BEGIN:VEVENT
DTSTART;TZID=UTC:20251020T090000
DTEND;TZID=UTC:20251020T170000
DTSTAMP:20260424T112956
CREATED:20251003T193356Z
LAST-MODIFIED:20251003T193356Z
UID:10006445-1760950800-1760979600@upbarreview.com
SUMMARY:Coleman Library: Stuffy Sleepover
DESCRIPTION:
URL:https://upbarreview.com/event/coleman-library-stuffy-sleepover/
CATEGORIES:Menominee
END:VEVENT
BEGIN:VEVENT
DTSTART;TZID=UTC:20251020T133000
DTEND;TZID=UTC:20251020T163000
DTSTAMP:20260424T112956
CREATED:20251003T195838Z
LAST-MODIFIED:20251003T202840Z
UID:10006464-1760967000-1760977800@upbarreview.com
SUMMARY:Crivitz Library: Diamond Art and Craft Club
DESCRIPTION:Curious about “Diamond Art Painting?” We have a few kits for individuals to work on or feel free to bring your kit from home. Visit with others who have a passion for the craft. You can also bring any other crafty items you are currently working on!\nAdults
URL:https://upbarreview.com/event/crivitz-library-diamond-art-and-craft-club/
CATEGORIES:Menominee
END:VEVENT
BEGIN:VEVENT
DTSTART;TZID=UTC:20251020T153000
DTEND;TZID=UTC:20251020T183000
DTSTAMP:20260424T112956
CREATED:20251003T203528Z
LAST-MODIFIED:20251003T203528Z
UID:10006484-1760974200-1760985000@upbarreview.com
SUMMARY:Peshtigo Library: T.O.A.D Skins and Skulls
DESCRIPTION:Get in the mood for Halloween! Join us for an after school TOAD Program about skins and skulls with Anne Bartels.\nAll ages
URL:https://upbarreview.com/event/peshtigo-library-t-o-a-d-skins-and-skulls/
CATEGORIES:Menominee
END:VEVENT
BEGIN:VEVENT
DTSTART;TZID=UTC:20251020T170000
DTEND;TZID=UTC:20251020T180000
DTSTAMP:20260424T112956
CREATED:20250618T020304Z
LAST-MODIFIED:20250618T020304Z
UID:10004590-1760979600-1760983200@upbarreview.com
SUMMARY:Mighty Pet - Monday Night Foundation Obedience - Menominee
DESCRIPTION: Foundation Obedience Class – Monday Nights at 5 PM!Location: Mighty Pet\, Menominee MIInstructor: Meghan Smith\, CPDT-KACost: $150 per dog\nLooking to build a better-behaved dog? Join our Foundation Obedience Class — perfect for dogs over 4 months old who need to learn (or brush up on) the basics!\nWe’ll cover essential skills like: Polite leash walking Sit\, down\, and stay Coming when called Focus around distractions Real-life manners you can use every day!\nYour enrollment includes:• New Students: One 60-minute private orientation session + 5 group classes• Returning Students: 6 weekly group classes• Weekly homework and ongoing trainer support\n This flexible open enrollment format means you can jump in when you’re ready—no need to wait for a new session to start!\n To Register:• New clients/dogs: Fill out the training form here: https://form.jotform.com/230665154822151• Returning clients: Message Meghan directly or text 906-424-0356\nLet’s turn your good dog into a great one!
URL:https://upbarreview.com/event/mighty-pet-monday-night-foundation-obedience-menominee/2025-10-20/
LOCATION:Mighty Pet\, 1207 8th Ave\, Menominee\, MI\, 49858
CATEGORIES:Menominee
END:VEVENT
BEGIN:VEVENT
DTSTART;TZID=UTC:20251021T100000
DTEND;TZID=UTC:20251021T130000
DTSTAMP:20260424T112956
CREATED:20250207T193742Z
LAST-MODIFIED:20250207T193742Z
UID:10003046-1761040800-1761051600@upbarreview.com
SUMMARY:Escanaba Public Library - Tech Help Tuesdays - Escanaba
DESCRIPTION:Need help printing from your phone? Setting up Libby on your personal device? Using Zoom? How about getting started on your Chromebook or iPad? Using a Wi-Fi hotspot? Creating an email address? Google searches? or how to use the library’s online catalog?\nWe have the answers and assistance you need! Make an appointment or stop in at the circulation desk. Appointments are one hour (maximum).\nThe Escanaba Public Library staff do not repair computers/devices. The library assumes no liability for personal patron devices.
URL:https://upbarreview.com/event/escanaba-public-library-tech-help-tuesdays-escanaba/2025-10-21/
LOCATION:Escanaba Public Library\, 400 Ludington St\, Escanaba\, WI\, 49829
CATEGORIES:Menominee
END:VEVENT
BEGIN:VEVENT
DTSTART;TZID=UTC:20251021T120000
DTEND;TZID=UTC:20251021T140000
DTSTAMP:20260424T112956
CREATED:20250430T024053Z
LAST-MODIFIED:20250430T024053Z
UID:10004308-1761048000-1761055200@upbarreview.com
SUMMARY:Pelkins Smokey Meats - Knife Sharpening - Crivitz
DESCRIPTION:I will be sharpening at Pelkin’s Smokey Meat Market in Crivits on the 3rd Tuesday of each month from 12:00pm-2:00pm! Items include knives\, scissors\, garden tools and much more! Sharpening is done while you wait on a first come\, first served basis!\nMay 20thJune 17thJuly 15thAugust 19thSeptember 16thOctober 21st\n600 S US Hwy 141\, Crivits
URL:https://upbarreview.com/event/pelkins-smokey-meats-knife-sharpening-crivitz/2025-10-21/
LOCATION:Pelkins Smokey Meat Market\, 600 S US Highway 141\, Crivitz\, WI
CATEGORIES:Menominee
END:VEVENT
BEGIN:VEVENT
DTSTART;TZID=UTC:20251021T180000
DTEND;TZID=UTC:20251021T200000
DTSTAMP:20260424T112956
CREATED:20250402T234345Z
LAST-MODIFIED:20250402T234345Z
UID:10003376-1761069600-1761076800@upbarreview.com
SUMMARY:Mo's Pub - Trivia Night - Escanaba
DESCRIPTION:Join us for our Tuesday Trivia!!!! We will start at 7pm and we’ll be in the back room of the pub. TRIVIA TIME!!!! Trivia starts at 7pm!!!!6 Prizes given out.1st place $50 Mos Card 2nd place $25 Mos Card 3rd place $15 Mos Card 4th\, 5th and last place a free appetizer. $2 domestic beer. $3.50 rail\, $2.00 off Specialty Pizza\, $1.00 off specialty burger. We are looking forward to spending the time with you!!!
URL:https://upbarreview.com/event/mos-pub-trivia-night-escanaba/2025-10-21/
LOCATION:Mo’s Pub\, 2116 Ludington St\, Escanaba\, MI\, 49829
CATEGORIES:Menominee
END:VEVENT
BEGIN:VEVENT
DTSTART;TZID=UTC:20251022T110000
DTEND;TZID=UTC:20251022T150000
DTSTAMP:20260424T112956
CREATED:20251015T134916Z
LAST-MODIFIED:20251015T134916Z
UID:10006828-1761130800-1761145200@upbarreview.com
SUMMARY:Heritage Inn - BINGO!
DESCRIPTION:Every Wednesday!!
URL:https://upbarreview.com/event/heritage-inn-bingo/2025-10-22/
LOCATION:The Heritage Inn\, W2505 Co Rd JJ\, Wausaukee\, WI\, 54177
CATEGORIES:Menominee
END:VEVENT
BEGIN:VEVENT
DTSTART;TZID=UTC:20251022T170000
DTEND;TZID=UTC:20251022T190000
DTSTAMP:20260424T112956
CREATED:20251006T160847Z
LAST-MODIFIED:20251006T160847Z
UID:10006785-1761152400-1761159600@upbarreview.com
SUMMARY:Speed Puzzling - Spirit House
DESCRIPTION:Wednesday\, October 22 | Registration at 5 PM | Game Time 6 PM\nThink you’ve got what it takes to puzzle under pressure? Grab a partner and join us for a night of fast-paced fun at Spirit House! Each team will race to complete a 300-piece puzzle — the first to finish takes the glory (and bragging rights).\nDetails:\nTeams of 2 players\n$10 per team\nRegistration opens at 5 PM\nPuzzle challenge begins at 6 PM sharp\nAll puzzles provided\nPair up\, grab a cocktail\, and put your puzzling skills to the test. Whether you’re in it to win it or just for the fun\, this night is guaranteed to be a good time. 
URL:https://upbarreview.com/event/speed-puzzling-spirit-house/
LOCATION:Spirit House\, 533 10th Ave\, Menominee\, MI 49858\, Menominee\, MI\, 49858\, United States
CATEGORIES:Menominee
END:VEVENT
BEGIN:VEVENT
DTSTART;TZID=UTC:20251022T173000
DTEND;TZID=UTC:20251022T193000
DTSTAMP:20260424T112956
CREATED:20251006T173746Z
LAST-MODIFIED:20251006T173746Z
UID:10006805-1761154200-1761161400@upbarreview.com
SUMMARY:Resin Ghosts - The Craft Cave
DESCRIPTION:It’s Halloween season ! Come make a resin ghost to set on your table/counter top. Fast dry resin used to make your ghost. Approx 5-6 inches tall. You choose the color and it drys quick to take it home. Adult class\, BYOB\, cost $ 20. Call to pre pay and sign up at 715-587-4643.
URL:https://upbarreview.com/event/resin-ghosts-the-craft-cave/2025-10-22/
LOCATION:The Craft Cave\, 605 Main St.\, Marinette\, WI\, 54143\, United States
CATEGORIES:Menominee
END:VEVENT
END:VCALENDAR