BEGIN:VCALENDAR
VERSION:2.0
PRODID:-//UP BAR REVIEW - ECPv6.14.2//NONSGML v1.0//EN
CALSCALE:GREGORIAN
METHOD:PUBLISH
X-WR-CALNAME:UP BAR REVIEW
X-ORIGINAL-URL:https://upbarreview.com
X-WR-CALDESC:Events for UP BAR REVIEW
REFRESH-INTERVAL;VALUE=DURATION:PT1H
X-Robots-Tag:noindex
X-PUBLISHED-TTL:PT1H
BEGIN:VTIMEZONE
TZID:UTC
BEGIN:STANDARD
TZOFFSETFROM:+0000
TZOFFSETTO:+0000
TZNAME:UTC
DTSTART:20250101T000000
END:STANDARD
END:VTIMEZONE
BEGIN:VEVENT
DTSTART;TZID=UTC:20251118T170000
DTEND;TZID=UTC:20251118T190000
DTSTAMP:20260424T145526
CREATED:20251107T141337Z
LAST-MODIFIED:20251107T141337Z
UID:10007219-1763485200-1763492400@upbarreview.com
SUMMARY:Upper Hand Brewery - Open Mic Night - Escanaba
DESCRIPTION: It’s your chance to show off your skills!\nTuesdays are locals’ night @ Upper Hand Brewery. Enjoy 25% off your tab and celebrate the musical talent of Delta County! \nHosted by local band members Steve Braun from Sit Down Francis and Mike Canull from Stonewall!
URL:https://upbarreview.com/event/upper-hand-brewery-open-mic-night-escanaba-2/2025-11-18/
LOCATION:Upper Hand Brewery\, 3525 Airport Rd\, Escanaba\, WI\, 49829
CATEGORIES:Menominee
END:VEVENT
BEGIN:VEVENT
DTSTART;TZID=UTC:20251118T173000
DTEND;TZID=UTC:20251118T203000
DTSTAMP:20260424T145526
CREATED:20251103T171255Z
LAST-MODIFIED:20251103T171255Z
UID:10006929-1763487000-1763497800@upbarreview.com
SUMMARY:November Book Club!
DESCRIPTION:Join us for a casual full of laughs Book Talk!\n Please let me know if you plan on attending!
URL:https://upbarreview.com/event/november-book-club/
CATEGORIES:Menominee
END:VEVENT
BEGIN:VEVENT
DTSTART;TZID=UTC:20251118T180000
DTEND;TZID=UTC:20251118T200000
DTSTAMP:20260424T145526
CREATED:20250402T234345Z
LAST-MODIFIED:20250402T234345Z
UID:10003380-1763488800-1763496000@upbarreview.com
SUMMARY:Mo's Pub - Trivia Night - Escanaba
DESCRIPTION:Join us for our Tuesday Trivia!!!! We will start at 7pm and we’ll be in the back room of the pub. TRIVIA TIME!!!! Trivia starts at 7pm!!!!6 Prizes given out.1st place $50 Mos Card 2nd place $25 Mos Card 3rd place $15 Mos Card 4th\, 5th and last place a free appetizer. $2 domestic beer. $3.50 rail\, $2.00 off Specialty Pizza\, $1.00 off specialty burger. We are looking forward to spending the time with you!!!
URL:https://upbarreview.com/event/mos-pub-trivia-night-escanaba/2025-11-18/
LOCATION:Mo’s Pub\, 2116 Ludington St\, Escanaba\, MI\, 49829
CATEGORIES:Menominee
END:VEVENT
BEGIN:VEVENT
DTSTART;TZID=UTC:20251118T180000
DTEND;TZID=UTC:20251118T200000
DTSTAMP:20260424T145526
CREATED:20251107T155946Z
LAST-MODIFIED:20251107T155946Z
UID:10007338-1763488800-1763496000@upbarreview.com
SUMMARY:The Good Place - Tuesday Night Community Group - Oconto
DESCRIPTION:If you’ve ever wondered what the Bible really says\, how it applies to your life\, or how to build a relationship with God — this is the place for you.\nNo pressure. No prerequisites. Just a safe\, welcoming place to learn and grow.\nSnacks will be provided. Come as often or as little as your schedule allows! (We do not meet the last Tuesday of the month)
URL:https://upbarreview.com/event/the-good-place-tuesday-night-community-group-oconto/2025-11-18/
LOCATION:The Good Place\, 1128 Main St\, Oconto
CATEGORIES:Menominee
END:VEVENT
BEGIN:VEVENT
DTSTART;TZID=UTC:20251118T180000
DTEND;TZID=UTC:20251118T210000
DTSTAMP:20260424T145526
CREATED:20251015T134036Z
LAST-MODIFIED:20251015T134036Z
UID:10006825-1763488800-1763499600@upbarreview.com
SUMMARY:November Small Business Organization Meeting - Bagel Shoppe - All Are Invited!!
DESCRIPTION:Anyone is welcome\, whether its a brick and mortar or not!!
URL:https://upbarreview.com/event/november-small-business-organization-meeting-bagel-shoppe-all-are-invited/
LOCATION:Bagel Shoppe\, Menominee\, 49858
CATEGORIES:Menominee
END:VEVENT
BEGIN:VEVENT
DTSTART;TZID=UTC:20251119T083000
DTEND;TZID=UTC:20251119T100000
DTSTAMP:20260424T145527
CREATED:20250402T230155Z
LAST-MODIFIED:20250402T230234Z
UID:10003300-1763541000-1763546400@upbarreview.com
SUMMARY:Monthly CBA Meeting - Crivitz
DESCRIPTION:Join us the 3rd Wednesday of every month for the CBA Meeting!Discussion topics such as\, business involvement\, village events\, village improvements and so much more!Current\, New and Old Business Welcome!
URL:https://upbarreview.com/event/monthly-cba-meeting-crivitz/2025-11-19/
LOCATION:800 Henriette Ave\, Crivitz\, WI
CATEGORIES:Menominee
END:VEVENT
BEGIN:VEVENT
DTSTART;TZID=UTC:20251119T110000
DTEND;TZID=UTC:20251119T130000
DTSTAMP:20260424T145527
CREATED:20251117T154831Z
LAST-MODIFIED:20251117T154856Z
UID:10007404-1763550000-1763557200@upbarreview.com
SUMMARY:A Place for Coffee - Coffee & Convo - Marientte
DESCRIPTION: Hey friends! Come hang out with me TODAY at A Place for Coffee from 11 AM – 1 PM for  Coffee & Convo!\nLet’s chat\, laugh\, and talk about what’s happening around our community — real talk\, real people\, real connection.\n A Place for Coffee11 AM – 1 PM — see you there!\n#CoffeeAndConvo #MelissaEbschNews #BayCitiesConnect #APlaceForCoffee #KleginInsurance #RealTalkRealPeopleRealCommunity
URL:https://upbarreview.com/event/a-place-for-coffee-coffee-convo-marientte/2025-11-19/
LOCATION:A Place For Coffee\, 1059 Marinette Ave\, Marinette\, WI
CATEGORIES:Menominee
END:VEVENT
BEGIN:VEVENT
DTSTART;TZID=UTC:20251119T110000
DTEND;TZID=UTC:20251119T150000
DTSTAMP:20260424T145527
CREATED:20251015T134916Z
LAST-MODIFIED:20251015T134916Z
UID:10006832-1763550000-1763564400@upbarreview.com
SUMMARY:Heritage Inn - BINGO!
DESCRIPTION:Every Wednesday!!
URL:https://upbarreview.com/event/heritage-inn-bingo/2025-11-19/
LOCATION:The Heritage Inn\, W2505 Co Rd JJ\, Wausaukee\, WI\, 54177
CATEGORIES:Menominee
END:VEVENT
BEGIN:VEVENT
DTSTART;TZID=UTC:20251119T130000
DTEND;TZID=UTC:20251119T173000
DTSTAMP:20260424T145527
CREATED:20251117T154701Z
LAST-MODIFIED:20251117T154701Z
UID:10007403-1763557200-1763573400@upbarreview.com
SUMMARY:CJ's Glass - Angel Stained Glass Ornament - Marinette
DESCRIPTION:Call or msg to register 608-354-2303(This class is available for your individual or small group custom date/time)$65Class size is 6Ages 12+PreRegistration required by call or msg toCJ 608-354-2303Choose any color you would like to create your unique Suncatcher. Each person chooses one design. You will be instructed in the copper foil method of stained glass (patterning\, score\, break\, grind\, foil\, solder\, finish).Call or msg with questions or to schedule your custom individual or small group.
URL:https://upbarreview.com/event/cjs-glass-angel-stained-glass-ornament-marinette/
LOCATION:CJ’s Glass\, 802 Main St\, Marinette\, WI\, 54143
CATEGORIES:Menominee
END:VEVENT
BEGIN:VEVENT
DTSTART;TZID=UTC:20251119T170000
DTEND;TZID=UTC:20251119T183000
DTSTAMP:20260424T145527
CREATED:20251107T144727Z
LAST-MODIFIED:20251107T144727Z
UID:10007243-1763571600-1763577000@upbarreview.com
SUMMARY:Leigh's Garden Winery - Fabulously Fall Cookie Class - Escanaba
DESCRIPTION:�� Get ready for a sweet time! Join me on Wednesday November 19th @ 6pm @ Leigh’s Garden Winery for a fun\, hands-on cookie decorating class — perfect for all ages!No experience needed — just bring your creativity (and your sweet tooth �). I’ll provide everything you need to design and decorate your own delicious cookies.Grab your friends\, kids\, or come solo for a relaxing night out. Spots are limited\, so save yours now! ��� Date: November 19 6:00-8:00PM� Location: Leigh’s Garden Winery 904 Ludington St Escanaba� Click the link below to register!#CookieDecorating #FallFun #FamilyFriendly #SweetEvent #CommunityEvent #BakingFun #LeighsGardenWinery
URL:https://upbarreview.com/event/leighs-garden-winery-fabulously-fall-cookie-class-escanaba/
LOCATION:Leigh’s Garden Winery\, 904 Ludington St\, Escanaba\, MI
CATEGORIES:Menominee
END:VEVENT
BEGIN:VEVENT
DTSTART;TZID=UTC:20251119T170000
DTEND;TZID=UTC:20251119T183000
DTSTAMP:20260424T145527
CREATED:20251107T145232Z
LAST-MODIFIED:20251107T145232Z
UID:10007246-1763571600-1763577000@upbarreview.com
SUMMARY:Upper Hand Brewery - Hatha Yoga - Escanaba
DESCRIPTION: Join us for a 1-hour Hatha yoga class taught by Martina!\nThis slower-paced class focuses on body alignment and holding poses for several breaths. Perfect for all levels. \n Includes 2 drink tokens. BYOYM (Bring Your Own Yoga Mat)! Limited spots available. Get grab your ticket now!
URL:https://upbarreview.com/event/upper-hand-brewery-hatha-yoga-escanaba-2/
LOCATION:Upper Hand Brewery\, 3525 Airport Rd\, Escanaba\, WI\, 49829
CATEGORIES:Menominee
END:VEVENT
BEGIN:VEVENT
DTSTART;TZID=UTC:20251119T170000
DTEND;TZID=UTC:20251119T190000
DTSTAMP:20260424T145527
CREATED:20251117T161100Z
LAST-MODIFIED:20251117T161100Z
UID:10007472-1763571600-1763578800@upbarreview.com
SUMMARY:Leighs Garden Winery - Fabulously Fall Cookie Class - Escanaba
DESCRIPTION:Get ready for a sweet time! Join me on Wednesday November 19th @ 6pm @ Leigh’s Garden Winery for a fun\, hands-on cookie decorating class — perfect for all ages!No experience needed — just bring your creativity (and your sweet tooth ). I’ll provide everything you need to design and decorate your own delicious cookies.Grab your friends\, kids\, or come solo for a relaxing night out. Spots are limited\, so save yours now! Date: November 19 6:00-8:00PM Location: Leigh’s Garden Winery 904 Ludington St Escanaba Click the link below to register!
URL:https://upbarreview.com/event/leighs-garden-winery-fabulously-fall-cookie-class-escanaba-2/
LOCATION:Leigh’s Garden Winery\, 904 Ludington St\, Escanaba\, MI
CATEGORIES:Menominee
END:VEVENT
BEGIN:VEVENT
DTSTART;TZID=UTC:20251119T173000
DTEND;TZID=UTC:20251119T210000
DTSTAMP:20260424T145527
CREATED:20251117T171233Z
LAST-MODIFIED:20251117T171233Z
UID:10007481-1763573400-1763586000@upbarreview.com
SUMMARY:Saunders Point Brewing - Cornhole Night - Escanaba
DESCRIPTION:Tournament format with randomly chosen teams\, $10 buy-in\, and payouts determined by number of teams entered. Bring your A-game\, friends\, and love of great beer!
URL:https://upbarreview.com/event/saunders-point-brewing-cornhole-night-escanaba/2025-11-19/
LOCATION:Saunders Point Brewing\, 8199 M-35\, Gladstone\, MI
CATEGORIES:Menominee
END:VEVENT
BEGIN:VEVENT
DTSTART;TZID=UTC:20251119T180000
DTEND;TZID=UTC:20251119T190000
DTSTAMP:20260424T145527
CREATED:20251107T153729Z
LAST-MODIFIED:20251107T153729Z
UID:10007287-1763575200-1763578800@upbarreview.com
SUMMARY:The Argonaut - Tai-Chi Classes - Menominee
DESCRIPTION:Discover the harmony of body\, mind\, and spirit through the gentle\, flowing art of Tai Chi. Each class guides you through meditative movement\, mindful breathing\, and energy alignment to restore balance and inner strength.First class free – $10per class after. BenefitsImproves balance\, posture\, and focusReduces stress and tensionEnhances energy flow and mindfulnessBuilds strength and mobility at your pace What to BringComfortable clothingWater bottleOpen heart and presence
URL:https://upbarreview.com/event/the-argonaut-tai-chi-classes-menominee/2025-11-19/
LOCATION:The Argonaut\, 432 10th Ave\, Menominee\, MI
CATEGORIES:Menominee
END:VEVENT
BEGIN:VEVENT
DTSTART;TZID=UTC:20251119T190000
DTEND;TZID=UTC:20251119T200000
DTSTAMP:20260424T145527
CREATED:20251103T170646Z
LAST-MODIFIED:20251103T170646Z
UID:10006916-1763578800-1763582400@upbarreview.com
SUMMARY:American Legion Post 413 - Crivitz Monthly Meeting
DESCRIPTION:This is our monthly meeting which we try to keep to 1 hour. If you are not a member and are a veteran\, you are welcome. All members are encouraged to consider attending as it is your post.
URL:https://upbarreview.com/event/american-legion-post-413-crivitz-monthly-meeting-3/
CATEGORIES:Menominee
END:VEVENT
BEGIN:VEVENT
DTSTART;TZID=UTC:20251120T080000
DTEND;TZID=UTC:20251120T170000
DTSTAMP:20260424T145527
CREATED:20241202T212718Z
LAST-MODIFIED:20241202T212718Z
UID:10002574-1763625600-1763658000@upbarreview.com
SUMMARY:Biehl Bridges to Recovery - Overeaters Anonymous - Marinette
DESCRIPTION:A new year! A new you! Want to know if you’re an overeater? Struggling to find support? Wanting support? Come join us on Thursday evenings from 5:30pm-6:30pm.
URL:https://upbarreview.com/event/biehl-bridges-to-recovery-overeaters-anonymous-marinette/2025-11-20/
LOCATION:Biehl Bridge To Recovery\, 3123 Shore Dr\, Marinette\, WI\, 54143
CATEGORIES:Menominee
END:VEVENT
BEGIN:VEVENT
DTSTART;TZID=UTC:20251120T090000
DTEND;TZID=UTC:20251120T190000
DTSTAMP:20260424T145527
CREATED:20251103T170648Z
LAST-MODIFIED:20251103T170648Z
UID:10006919-1763629200-1763665200@upbarreview.com
SUMMARY:Crivitz Grand Opening!
DESCRIPTION:We are now open everyday except Wednesday. 9am to 5pm. We will adjust the hours for winter and summer so keep an eye out for that. We plan to have a Grand Opening on November 20th. Stop in for some drawings and some light snacks!
URL:https://upbarreview.com/event/crivitz-grand-opening/
CATEGORIES:Menominee
END:VEVENT
BEGIN:VEVENT
DTSTART;TZID=UTC:20251120T150000
DTEND;TZID=UTC:20251120T163000
DTSTAMP:20260424T145527
CREATED:20251103T170648Z
LAST-MODIFIED:20251103T170648Z
UID:10006917-1763650800-1763656200@upbarreview.com
SUMMARY:Crivitz Public Library LEGO Club
DESCRIPTION:LEGO Club at the Crivitz Library is a chance for you to surprise us with your creations. Drop-in during the times listed to build using our bricks. We can’t wait to see what you make. All agesNext Club: December 18
URL:https://upbarreview.com/event/crivitz-public-library-lego-club/
CATEGORIES:Menominee
END:VEVENT
BEGIN:VEVENT
DTSTART;TZID=UTC:20251120T150000
DTEND;TZID=UTC:20251120T180000
DTSTAMP:20260424T145527
CREATED:20251103T185253Z
LAST-MODIFIED:20251103T185253Z
UID:10007032-1763650800-1763661600@upbarreview.com
SUMMARY:Ladies Night @ Richardson Jewelers Escanaba
DESCRIPTION:
URL:https://upbarreview.com/event/ladies-night-richardson-jewelers-escanaba/
CATEGORIES:Menominee
END:VEVENT
BEGIN:VEVENT
DTSTART;TZID=UTC:20251120T170000
DTEND;TZID=UTC:20251120T200000
DTSTAMP:20260424T145527
CREATED:20251103T161513Z
LAST-MODIFIED:20251103T161513Z
UID:10006857-1763658000-1763668800@upbarreview.com
SUMMARY:PUMPKINS
DESCRIPTION:Decoupaged pumpkins! You will do 2 pumpkins either the same or 2 different. Pumpkins are approximately 6 inches. Adult class\, BYOB\,cost $20. Call to prepay and sign up at 715-587-4643.
URL:https://upbarreview.com/event/pumpkins/
CATEGORIES:Menominee
ORGANIZER;CN="The Craft Cave":MAILTO:Foou7@yahoo.com
END:VEVENT
BEGIN:VEVENT
DTSTART;TZID=UTC:20251120T173000
DTEND;TZID=UTC:20251120T193000
DTSTAMP:20260424T145527
CREATED:20250723T204712Z
LAST-MODIFIED:20251107T152937Z
UID:10007284-1763659800-1763667000@upbarreview.com
SUMMARY:The Argonaut - Blue Collar Yoga - Menominee
DESCRIPTION:Join us for Yoga with CiCi at The Argonaut Studio!  Led by the wonderful instructor\, Cionarah Oliveira Courinho (CiCi)\, this class is $20 per person\, welcomes all levels\, and please bring your own mat. Come unwind\, connect with your breath\, and find your inner peace in a supportive community. We can’t wait to see you there!
URL:https://upbarreview.com/event/the-argonaut-yoga-w-cici-menominee/2025-11-20/
LOCATION:The Argonaut\, 432 10th Ave\, Menominee\, MI
CATEGORIES:Menominee
END:VEVENT
BEGIN:VEVENT
DTSTART;TZID=UTC:20251120T180000
DTEND;TZID=UTC:20251120T193000
DTSTAMP:20260424T145527
CREATED:20251107T142954Z
LAST-MODIFIED:20251107T142954Z
UID:10007236-1763661600-1763667000@upbarreview.com
SUMMARY:Upper Hand Brewery - Trivia Night - Escanaba
DESCRIPTION:Join us every Thursday from 7-8:30p for brain teasers\, awesome prizes\, and of course\, great beer!\n Signup starts at 6:30p Free to Play Teams of 5 Prizes for top 3\, round winners\, and best team name
URL:https://upbarreview.com/event/upper-hand-brewery-trivia-night-escanaba/2025-11-20/
LOCATION:Upper Hand Brewery\, 3525 Airport Rd\, Escanaba\, WI\, 49829
CATEGORIES:Menominee
END:VEVENT
BEGIN:VEVENT
DTSTART;TZID=UTC:20251120T180000
DTEND;TZID=UTC:20251120T200000
DTSTAMP:20260424T145527
CREATED:20250428T134637Z
LAST-MODIFIED:20250430T013053Z
UID:10004254-1763661600-1763668800@upbarreview.com
SUMMARY:Elks Lodge - Music Bingo - Marinette
DESCRIPTION:Join us on the 3rd Thursday of the month for Music Bingo!
URL:https://upbarreview.com/event/elks-lodge-music-bingo-marinette/2025-11-20/
LOCATION:Elks Lodge #1313\, 430 Bridge St\, Marinette\, WI\, 54143
CATEGORIES:Menominee
END:VEVENT
BEGIN:VEVENT
DTSTART;TZID=UTC:20251120T180000
DTEND;TZID=UTC:20251120T210000
DTSTAMP:20260424T145527
CREATED:20241001T040448Z
LAST-MODIFIED:20241001T040448Z
UID:10001913-1763661600-1763672400@upbarreview.com
SUMMARY:Spirit House -Trivia Night! - Menominee
DESCRIPTION:Trivia Night Thursday at Spirit House\, come check out this awesome event!!!!
URL:https://upbarreview.com/event/spirit-house-trivia-night-menominee/2025-11-20/
LOCATION:Spirit House\, 533 10th Ave\, Menominee\, MI 49858\, Menominee\, MI\, 49858\, United States
CATEGORIES:Menominee
END:VEVENT
BEGIN:VEVENT
DTSTART;TZID=UTC:20251121T110000
DTEND;TZID=UTC:20251121T123000
DTSTAMP:20260424T145527
CREATED:20251107T155234Z
LAST-MODIFIED:20251107T155234Z
UID:10007331-1763722800-1763728200@upbarreview.com
SUMMARY:Menards - Fresh Florida Citrus Stop - Marinette
DESCRIPTION:Florida Citrus is back! Fresh Florida grapefruit\, satsumas and more! This year we’re encouraging customers to use our new fruit reservation system to ensure you get the fruit you want. Enjoy peace of mind knowing your box of fresh citrus is set aside just for you — no stress\, no sell-outs\, just sunshine. Skip the stress this year and place your reservation today: tree-ripe.com/reserve\nHow Fruit Reservations Work1. Choose your Fruit Stop location\, date\, and time at tree-ripe.com/reserve.2. Fill out the form to reserve your order of satsumas\, grapefruit\, pistachios\, or pecans — no payment required until pickup.3. Pick up your order at the event! You can still add to or adjust your order at the truck.~This is a brand-new process for all of us\, but don’t worry — you can still shop at the truck like always. The reservation system simply helps us plan what to bring and lets our partner farms know what to harvest.\nWhat’s AvailableFlorida Satsuma Oranges – 20 lb box\, $42Florida Ruby Red Grapefruit- 16-18 lb box\, $42Georgia Pecans – Raw & Flavored\, $14New Mexico Pistachios – 1 lb bag\, $14Tree-Ripe Maple Syrup & Jam – Available at select locations while supplies last!\nCan’t make it in person?We ship nationwide (except CA\, AZ\, AK and HI)\, with FREE SHIPPING for WI\, IL\, IA & MN. Order here: www.tree-ripe.com/shop\nPLEASE NOTE: This event is from 11:00 AM – 12:30 PM CENTRAL TIME. Facebook may show a different time depending on the settings on your device.
URL:https://upbarreview.com/event/menards-fresh-florida-citrus-stop-marinette/
LOCATION:Menards Marinette\, 2080 Old Peshtigo Rd\, Marinette\, WI
CATEGORIES:Menominee
END:VEVENT
BEGIN:VEVENT
DTSTART;TZID=UTC:20251121T140000
DTEND;TZID=UTC:20251121T170000
DTSTAMP:20260424T145527
CREATED:20251103T170640Z
LAST-MODIFIED:20251103T170640Z
UID:10006908-1763733600-1763744400@upbarreview.com
SUMMARY:Hunters Paddle Raffle with DJ Lance
DESCRIPTION:Hunter’s Paddle Raffle and UP North tradition continues here at Uncle Mike’s! The raffle begins at 2pm with pre opening weekend party at 8pm!
URL:https://upbarreview.com/event/hunters-paddle-raffle-with-dj-lance/
CATEGORIES:Menominee
END:VEVENT
BEGIN:VEVENT
DTSTART;TZID=UTC:20251121T140000
DTEND;TZID=UTC:20251121T190000
DTSTAMP:20260424T145527
CREATED:20251107T151306Z
LAST-MODIFIED:20251107T151306Z
UID:10007255-1763733600-1763751600@upbarreview.com
SUMMARY:Spirit House - Ladies Nite Out - Menominee
DESCRIPTION:How it works: Stop in at any participating location to pick up your free poker run card. Get your card signed at each stop as you shop\, sip\, and explore. Pull all your cards at Spirit House Distillery when you’re done! The best poker hand wins the Grand Prize Basket — packed with goodies from all 7 stops! Complete all 7 stops and you’ll be entered into a bonus prize drawing!\n Visit these stops:• Julie Huebner Pottery & Art Studio• Mikutowski Woodworking• Forgotten Fire Winery• Marinette Farm & Garden• Klema’s Cheese & Gifts• Simply Charming Boutique• Spirit House Distillery\nGrab your girlfriends\, throw on your blaze orange and camo\, and make a night of it!
URL:https://upbarreview.com/event/spirit-house-ladies-nite-out-menominee/
LOCATION:Spirit House\, 533 10th Ave\, Menominee\, MI 49858\, Menominee\, MI\, 49858\, United States
CATEGORIES:Menominee
END:VEVENT
BEGIN:VEVENT
DTSTART;TZID=UTC:20251121T160000
DTEND;TZID=UTC:20251121T190000
DTSTAMP:20260424T145527
CREATED:20251117T145107Z
LAST-MODIFIED:20251117T145107Z
UID:10007396-1763740800-1763751600@upbarreview.com
SUMMARY:Sip & Shop Holiday Night Market - Menominee
DESCRIPTION:Friday\, November 21st | 4–7 PMGet in the spirit at our Holiday Night Market! Join us for a cozy evening of local shopping\, handcrafted cocktails\, and holiday cheer.\n Vibe Salon will bring the fun with a custom hat bar and permanent jewelry — the perfect way to accessorize for the season. Discover your best seasonal shades with a color analysis by Lauren Williams\, House of Colour. Enjoy artisan sourdough from The Flower Bar\, baked fresh for the occasion. Explore The Style Garage’s curated haircare and styling bundles for effortless gifting (or treating yourself!). Indulge in Desserted by Cheryl’s decadent homemade treats. Elevated Play Company by Janet Van will offer a collection of elevated women’s products designed to inspire confidence\, connection\, and self-care. KP Aspire will feature customized creations — from tumblers and keychains to cozy drinkware\, perfect for thoughtful\, one-of-a-kind gifts. Grab dinner from Whitefish on Wheels\, serving up lightly breaded whitefish\, shrimp\, and perch — caught fresh that morning for the FRESHEST catch in the U.P.\nSip Spirit House’s handcrafted cocktails\, cozy seasonal drinks\, and locally distilled favorites while you shop.Celebrate the season\, support local makers\, and toast to a night of festive fun.\nFree to attend | 21+ event
URL:https://upbarreview.com/event/sip-shop-holiday-night-market-menominee/
LOCATION:Downtown Menominee
CATEGORIES:Menominee
END:VEVENT
BEGIN:VEVENT
DTSTART;TZID=UTC:20251121T160000
DTEND;TZID=UTC:20251121T190000
DTSTAMP:20260424T145527
CREATED:20251117T155448Z
LAST-MODIFIED:20251117T155448Z
UID:10007467-1763740800-1763751600@upbarreview.com
SUMMARY:Doe's Night Out - Briars & Brambles - Crivitz
DESCRIPTION:Join us for Snacks\, Sips\, & Specials at Briars & Brambles. We will be joined by French Street Floral who will be providing a Fall Flower Bar for you to create a beautiful bouquet. Whiskey In A Teacup will have their Permanent Jewelry Bar available for you to create the perfect bracelet\, necklace\, or anklet. And Mother Hen’s Roost & Rise will have a delicious display of sourdough goodness!!!
URL:https://upbarreview.com/event/does-night-out-briars-brambles-crivitz/
LOCATION:Briars & Brambles\, 519 Henriette Ave\, Crivitz\, WI
CATEGORIES:Menominee
END:VEVENT
BEGIN:VEVENT
DTSTART;TZID=UTC:20251121T170000
DTEND;TZID=UTC:20251121T180000
DTSTAMP:20260424T145527
CREATED:20251107T152248Z
LAST-MODIFIED:20251107T152248Z
UID:10007264-1763744400-1763748000@upbarreview.com
SUMMARY:Mighty Pet - Rally Obedience Workshop - Menominee
DESCRIPTION: Friday\, November 21st  5:00–7:00 PM Mighty Pet – M&M Plaza\, Menominee $40 per team\nWhat will be covered:-Introduction to Rally Novice signs (exercises)-Building communication & teamwork with your dog-Navigating transitions between signs smoothly-Understanding common judge deductions-Practicing stationary\, moving\, and transition exercises\nSusan Cota is a 26-year obedience and rally instructor\, retired from Tri-County Dog Training Academy. She began competing in Rally in 2005 with her Cocker Spaniel Charley—one of the first five Cockers in the U.S. to earn a Rally Excellent title. Susan has titled dogs in AKC and UKC Obedience\, Rally\, and Conformation\, co-led the Marinette County 4-H Dog Project for 10 years\, and now serves as a county fair judge. She’s an AKC-approved CGC\, CGCA\, and Trick Dog judge\, and a Therapy Dogs International evaluator who has trained and certified four therapy dogs of her own.\nTo sign up contact Meghan at 906-424-0356 or mightypet.meghan@outlook.com
URL:https://upbarreview.com/event/mighty-pet-rally-obedience-workshop-menominee/
LOCATION:Mighty Pet\, 1207 8th Ave\, Menominee\, MI\, 49858
CATEGORIES:Menominee
END:VEVENT
END:VCALENDAR