BEGIN:VCALENDAR
VERSION:2.0
PRODID:-//UP BAR REVIEW - ECPv6.14.2//NONSGML v1.0//EN
CALSCALE:GREGORIAN
METHOD:PUBLISH
X-WR-CALNAME:UP BAR REVIEW
X-ORIGINAL-URL:https://upbarreview.com
X-WR-CALDESC:Events for UP BAR REVIEW
REFRESH-INTERVAL;VALUE=DURATION:PT1H
X-Robots-Tag:noindex
X-PUBLISHED-TTL:PT1H
BEGIN:VTIMEZONE
TZID:UTC
BEGIN:STANDARD
TZOFFSETFROM:+0000
TZOFFSETTO:+0000
TZNAME:UTC
DTSTART:20250101T000000
END:STANDARD
END:VTIMEZONE
BEGIN:VEVENT
DTSTART;TZID=UTC:20250826T130000
DTEND;TZID=UTC:20250826T150000
DTSTAMP:20260424T095657
CREATED:20250513T233410Z
LAST-MODIFIED:20250513T233410Z
UID:10004346-1756213200-1756220400@upbarreview.com
SUMMARY:Farnsworth Public Library - Girls Therapeutic Art Club - Oconto
DESCRIPTION:About the Group:Hey changemakers\, creators\, and future leaders! Ready to tap into your strength and shine? Join us for Girls Art Club – a FREE weekly therapeutic art group designed to empower girls and women (ages 9 and up) through creativity\, connection\, and self-expression.\nLed by a licensed art therapist\, each session includes guided art activities that foster confidence\, leadership skills\, and emotional well-being. Whether you’re here to make art\, make friends\, or just take a break – this space is for you._____________________________________\nWhat to Expect: All art supplies and materials provided Reflective and empowering art directives Supportive group conversations A final art exhibition to celebrate your work\n_____________________________________\nWho Can Join: Girls and women ages 9+ All identities and experience levels welcome FREE to attend – but signed consent forms are required\nPlease contact us at 906.330.0082 or info@creativeroutes.org for more info and consent forms!_____________________________________\nSpecial Thanks:This program is made possible through generous support from local partners and funders who believe in the power of creativity and community. Huge thanks to Women’s Fund\, the Greater Green Bay Community Foundation\, and other generous supporters for helping make this safe and inspiring space a reality. \nTogether\, we’re empowering the next generation of artists\, leaders\, and changemakers.
URL:https://upbarreview.com/event/farnsworth-public-library-girls-therapeutic-art-club-oconto/2025-08-26/
LOCATION:Farnsworth Public Library\, 715 Main St\, Oconto\, WI
CATEGORIES:Menominee
END:VEVENT
BEGIN:VEVENT
DTSTART;TZID=UTC:20250826T170000
DTEND;TZID=UTC:20250826T200000
DTSTAMP:20260424T095657
CREATED:20250514T011428Z
LAST-MODIFIED:20250514T011428Z
UID:10004443-1756227600-1756238400@upbarreview.com
SUMMARY:Mr Bike & Ski - Tuesday Road Ride - Escanaba
DESCRIPTION:This is an unofficial Mr. Bike and Ski group ride\, meaning there isn’t always a shop crew member in the pack. Riders should be comfortable with group dynamics\, pacing\, and route navigation.\nAll groups require a road bike—if you’re unsure what that means\, you probably don’t have one! Road bikes are built for speed and efficiency on pavement\, designed to take you as far and as fast as your legs can push. Curious about road cycling? Swing by the shop—we’re happy to help get you rolling.\nRide Season:These rides roll out as soon as the weather allows\, so keep an eye out for early-season meetups. Plan on riding every Tuesday from the week after Memorial Day through Labor Day.\nPro Tip:Got pre-ride jitters? Channel that energy into your legs and send it! Show up early\, introduce yourself\, and chat with the group about your riding experience. They’ll help you find the right pack. Not sure where you fit? Ask! Or\, if you’re feeling strong\, jump in\, hammer the pedals\, and drop some watts.\n22-Mile C Group – M35/Hyde Cut Across RouteThe C Group is ideal for newer riders looking to build endurance and confidence in a group setting. Expect a 15 mph average over 22 miles. Be ready to roll at 6:00 PM—arrive early to check your gear and meet the crew. A helmet and road bike are required.\n30-Mile B Group – M35+ RouteThe B Group is for intermediate riders looking for a solid\, steady ride. Expect a 15-19 mph average over 30 miles. This group focuses on smooth pacing and efficient drafting. Arrive at 6:00 PM to meet the group and check your setup. A helmet and road bike are required.\n40+ Mile A Group – Advanced RideThe A Group is for experienced riders who thrive on high-speed\, long-distance efforts. Expect a 20+ mph pace over 40+ miles. Routes vary weekly\, and the ride is often a drop ride—come prepared to hold the pace and work with the pack. A helmet and road bike are required
URL:https://upbarreview.com/event/mr-bike-ski-tuesday-road-ride-escanaba/2025-08-26/
CATEGORIES:Menominee
END:VEVENT
BEGIN:VEVENT
DTSTART;TZID=UTC:20250826T180000
DTEND;TZID=UTC:20250826T190000
DTSTAMP:20260424T095657
CREATED:20250618T032016Z
LAST-MODIFIED:20250618T032016Z
UID:10004690-1756231200-1756234800@upbarreview.com
SUMMARY:SMART Recovery Family & Friends - Marinette
DESCRIPTION:https://teams.microsoft.com/l/meetup-join/19%3ameeting_OWQ5MjVkZDEtNTZjNC00YTgzLWFkOWEtMjQ4OTlhMGYzZTE4%40thread.v2/0?context=%7b%22Tid%22%3a%222edf2a13-d3ff-43fd-b41d-0035b01a1b27%22%2c%22Oid%22%3a%22931785d2-5592-4dd0-9e72-0dc35feb55e4%22%7d\nDo you have a loved one with addictive behaviors? Need help coping and someone who understands the challenges you face?\nIn person or online\, get together with other family and friends of people with problem behaviors to learn more about how you can stay sane and healthy while offering support to your loved one.\nAll meetings facilitated by a certified SMART Recovery Family & Friends Facilitator.\n\n\nMessage us here or call 906-399-6662 for more information!
URL:https://upbarreview.com/event/smart-recovery-family-friends-marinette/2025-08-26/
LOCATION:Biehl Bridge To Recovery\, 3123 Shore Dr\, Marinette\, WI\, 54143
CATEGORIES:Menominee
END:VEVENT
BEGIN:VEVENT
DTSTART;TZID=UTC:20250826T180000
DTEND;TZID=UTC:20250826T200000
DTSTAMP:20260424T095657
CREATED:20250402T234345Z
LAST-MODIFIED:20250402T234345Z
UID:10003368-1756231200-1756238400@upbarreview.com
SUMMARY:Mo's Pub - Trivia Night - Escanaba
DESCRIPTION:Join us for our Tuesday Trivia!!!! We will start at 7pm and we’ll be in the back room of the pub. TRIVIA TIME!!!! Trivia starts at 7pm!!!!6 Prizes given out.1st place $50 Mos Card 2nd place $25 Mos Card 3rd place $15 Mos Card 4th\, 5th and last place a free appetizer. $2 domestic beer. $3.50 rail\, $2.00 off Specialty Pizza\, $1.00 off specialty burger. We are looking forward to spending the time with you!!!
URL:https://upbarreview.com/event/mos-pub-trivia-night-escanaba/2025-08-26/
LOCATION:Mo’s Pub\, 2116 Ludington St\, Escanaba\, MI\, 49829
CATEGORIES:Menominee
END:VEVENT
BEGIN:VEVENT
DTSTART;TZID=UTC:20250827T180000
DTEND;TZID=UTC:20250827T190000
DTSTAMP:20260424T095657
CREATED:20250723T193556Z
LAST-MODIFIED:20250723T193556Z
UID:10005428-1756317600-1756321200@upbarreview.com
SUMMARY:The Argonaut - Book Club - Menominee
DESCRIPTION:Join us for an intro to how quantum physics\, the mind\, and healing intertwine! We are reading Dr. Joe Dispenza’s “You are the Placebo” to unravel how we can be the best we can be. This is a free event
URL:https://upbarreview.com/event/the-argonaut-book-club-menominee/2025-08-27/
LOCATION:The Argonaut\, 432 10th Ave\, Menominee\, MI
CATEGORIES:Menominee
END:VEVENT
BEGIN:VEVENT
DTSTART;TZID=UTC:20250828T080000
DTEND;TZID=UTC:20250828T170000
DTSTAMP:20260424T095657
CREATED:20241202T212718Z
LAST-MODIFIED:20241202T212718Z
UID:10002562-1756368000-1756400400@upbarreview.com
SUMMARY:Biehl Bridges to Recovery - Overeaters Anonymous - Marinette
DESCRIPTION:A new year! A new you! Want to know if you’re an overeater? Struggling to find support? Wanting support? Come join us on Thursday evenings from 5:30pm-6:30pm.
URL:https://upbarreview.com/event/biehl-bridges-to-recovery-overeaters-anonymous-marinette/2025-08-28/
LOCATION:Biehl Bridge To Recovery\, 3123 Shore Dr\, Marinette\, WI\, 54143
CATEGORIES:Menominee
END:VEVENT
BEGIN:VEVENT
DTSTART;TZID=UTC:20250828T090000
DTEND;TZID=UTC:20250828T140000
DTSTAMP:20260424T095657
CREATED:20250619T154258Z
LAST-MODIFIED:20250619T154258Z
UID:10004727-1756371600-1756389600@upbarreview.com
SUMMARY:Crivitz Flea & Farmers Market
DESCRIPTION:Hand made crafts\, glassware\, clothing\, books\, collectibles\, soaps\, household items\, jewelry\, home decor\, seasonal items\, food\, beverages\, baked goods\, and so much more!
URL:https://upbarreview.com/event/crivitz-flea-farmers-market-2/2025-08-28/
LOCATION:800 Henriette Ave\, Crivitz\, WI
CATEGORIES:Menominee
END:VEVENT
BEGIN:VEVENT
DTSTART;TZID=UTC:20250828T100000
DTEND;TZID=UTC:20250828T233000
DTSTAMP:20260424T095657
CREATED:20241029T145445Z
LAST-MODIFIED:20241029T145445Z
UID:10002261-1756375200-1756423800@upbarreview.com
SUMMARY:Alibi's - Free Pool Thursdays - Marinette
DESCRIPTION:Free Pool!!
URL:https://upbarreview.com/event/alibis-free-pool-thursdays-marinette/2025-08-28/
LOCATION:ALiBi Bar & Grill\, 829 Main St\, Marinette\, WI\, 54143\, United States
CATEGORIES:Menominee
END:VEVENT
BEGIN:VEVENT
DTSTART;TZID=UTC:20250828T150000
DTEND;TZID=UTC:20250828T190000
DTSTAMP:20260424T095657
CREATED:20250428T124346Z
LAST-MODIFIED:20250428T124346Z
UID:10004227-1756393200-1756407600@upbarreview.com
SUMMARY:Menominee Waterfront Market
DESCRIPTION: Join us on Thursday\, May 29\, from 3 PM to 7 PM\, and every Thursday through August 28\, 2025.\nExplore a vibrant marketplace featuring farmers\, crafters\, artists\, food trucks\, and more! Leading up to the Grand Opening\, we’ll spotlight one of our returning vendors each week.\nThis week\, we’re highlighting Schwittay Farms—a long-standing name in the farming community and the founder of Harmony Market in 2021. Now\, you have the opportunity to experience their farm-fresh market at the Menominee Waterfront Market every Thursday! Come check out their meats\, eggs\, fruits\, vegetables\, seafood\, and more. Help us welcome them back at our Grand Opening!\nWe’re still looking for more vendors! If you’re a farmer\, crafter\, direct sales vendor\, nonprofit\, school\, or church group\, we’d love for you to join us at our Thursday Market.\nFind our application on our website: https://menomineefarmersmarket.com.\nSee you at the market!”
URL:https://upbarreview.com/event/menominee-waterfront-market/2025-08-28/
LOCATION:Downtown Menominee
CATEGORIES:Menominee
END:VEVENT
BEGIN:VEVENT
DTSTART;TZID=UTC:20250828T173000
DTEND;TZID=UTC:20250828T193000
DTSTAMP:20260424T095657
CREATED:20250723T204712Z
LAST-MODIFIED:20251107T152937Z
UID:10007272-1756402200-1756409400@upbarreview.com
SUMMARY:The Argonaut - Blue Collar Yoga - Menominee
DESCRIPTION:Join us for Yoga with CiCi at The Argonaut Studio!  Led by the wonderful instructor\, Cionarah Oliveira Courinho (CiCi)\, this class is $20 per person\, welcomes all levels\, and please bring your own mat. Come unwind\, connect with your breath\, and find your inner peace in a supportive community. We can’t wait to see you there!
URL:https://upbarreview.com/event/the-argonaut-yoga-w-cici-menominee/2025-08-28/
LOCATION:The Argonaut\, 432 10th Ave\, Menominee\, MI
CATEGORIES:Menominee
END:VEVENT
BEGIN:VEVENT
DTSTART;TZID=UTC:20250828T180000
DTEND;TZID=UTC:20250828T200000
DTSTAMP:20260424T095657
CREATED:20250619T201330Z
LAST-MODIFIED:20250619T201330Z
UID:10004853-1756404000-1756411200@upbarreview.com
SUMMARY:Chenier's Reef - Thursday Night Bean Bags - Escanaba
DESCRIPTION:Bean Bag Tournament$5 EntryBlind Draw Partnerssign ups start @ 6:30pn and tournament starts at 7pm
URL:https://upbarreview.com/event/cheniers-reef-thursday-night-bean-bags-escanaba/2025-08-28/
LOCATION:Cheniers Reef\, 1629 Sheridan Rd\, Escanaba\, MI
CATEGORIES:Menominee
END:VEVENT
BEGIN:VEVENT
DTSTART;TZID=UTC:20250828T180000
DTEND;TZID=UTC:20250828T210000
DTSTAMP:20260424T095657
CREATED:20241001T040448Z
LAST-MODIFIED:20241001T040448Z
UID:10001901-1756404000-1756414800@upbarreview.com
SUMMARY:Spirit House -Trivia Night! - Menominee
DESCRIPTION:Trivia Night Thursday at Spirit House\, come check out this awesome event!!!!
URL:https://upbarreview.com/event/spirit-house-trivia-night-menominee/2025-08-28/
LOCATION:Spirit House\, 533 10th Ave\, Menominee\, MI 49858\, Menominee\, MI\, 49858\, United States
CATEGORIES:Menominee
END:VEVENT
BEGIN:VEVENT
DTSTART;TZID=UTC:20250829T080000
DTEND;TZID=UTC:20250829T090000
DTSTAMP:20260424T095657
CREATED:20250723T204444Z
LAST-MODIFIED:20250723T204444Z
UID:10005444-1756454400-1756458000@upbarreview.com
SUMMARY:The Argonaut - Sunrise Flow Yoga w/ Mary - Menominee
DESCRIPTION:Start your day grounded\, energized\, and inspired! Join Mary every Thursday and Friday morning at 8:00 AM for Sunrise Flow Yoga—a rejuvenating class designed for all levels. Whether you’re new to yoga or deepening your practice\, Mary’s welcoming guidance will help you stretch\, strengthen\, and center your mind. Expect gentle movement\, mindful breathing\, and a supportive community vibe. Bring your mat\, an open heart\, and let’s greet the day together!
URL:https://upbarreview.com/event/the-argonaut-sunrise-flow-yoga-w-mary-menominee/2025-08-29/
LOCATION:The Argonaut\, 432 10th Ave\, Menominee\, MI
CATEGORIES:Menominee
END:VEVENT
BEGIN:VEVENT
DTSTART;TZID=UTC:20250829T080000
DTEND;TZID=UTC:20250829T090000
DTSTAMP:20260424T095657
CREATED:20250904T021924Z
LAST-MODIFIED:20250904T021924Z
UID:10005863-1756454400-1756458000@upbarreview.com
SUMMARY:Sunrise Flow Yoga with Mary
DESCRIPTION:Start your day grounded\, energized\, and inspired! Join Mary every Thursday and Friday morning at 8:00 AM for Sunrise Flow Yoga—a rejuvenating class designed for all levels. Whether you’re new to yoga or deepening your practice\, Mary’s welcoming guidance will help you stretch\, strengthen\, and center your mind. Expect gentle movement\, mindful breathing\, and a supportive community vibe. Bring your mat\, an open heart\, and let’s greet the day together!
URL:https://upbarreview.com/event/sunrise-flow-yoga-with-mary/
CATEGORIES:Menominee
END:VEVENT
BEGIN:VEVENT
DTSTART;TZID=UTC:20250829T080000
DTEND;TZID=UTC:20250829T130000
DTSTAMP:20260424T095657
CREATED:20250904T021810Z
LAST-MODIFIED:20250904T021810Z
UID:10005841-1756454400-1756472400@upbarreview.com
SUMMARY:Garage Sale at 1808 30th Avenue/Menominee\, MI
DESCRIPTION:Clearing out a home … there might be something that has your name on it (?)!
URL:https://upbarreview.com/event/garage-sale-at-1808-30th-avenue-menominee-mi/
CATEGORIES:Menominee
END:VEVENT
BEGIN:VEVENT
DTSTART;TZID=UTC:20250829T080000
DTEND;TZID=UTC:20250829T170000
DTSTAMP:20260424T095657
CREATED:20250904T022052Z
LAST-MODIFIED:20250904T022052Z
UID:10005879-1756454400-1756486800@upbarreview.com
SUMMARY:Rummage Sale
DESCRIPTION:Multi Family Rummage Sale
URL:https://upbarreview.com/event/rummage-sale-2/
CATEGORIES:Menominee
END:VEVENT
BEGIN:VEVENT
DTSTART;TZID=UTC:20250829T080000
DTEND;TZID=UTC:20250829T200000
DTSTAMP:20260424T095657
CREATED:20250904T022806Z
LAST-MODIFIED:20250904T022806Z
UID:10005961-1756454400-1756497600@upbarreview.com
SUMMARY:Nine and Dine
DESCRIPTION:Friday Nights = Nine & Dine!Make it a perfect evening with your partner — enjoy golf and a delicious dinner! \n🏌️‍♂️ 9 Holes + $25 Dinner Credit – Only $50\n🏌️‍♀️ 18 Holes + $25 Dinner Credit – Just $60 \nEach package includes a $25 voucher to use at Mulligan’s Food & Spirits that evening! \n🍽️ Great food\, scenic golf\, and a fun night out — what more could you want? \nFriday night only!\nOpen to the public!\n📞 Call the Pro Shop at 906-786-4430 to book this great special! \nAt the Escanaba Country Club — we’re ready to welcome you!
URL:https://upbarreview.com/event/nine-and-dine/
CATEGORIES:Menominee
END:VEVENT
BEGIN:VEVENT
DTSTART;TZID=UTC:20250829T080000
DTEND;TZID=UTC:20250901T170000
DTSTAMP:20260424T095657
CREATED:20250904T022438Z
LAST-MODIFIED:20250904T022438Z
UID:10005912-1756454400-1756746000@upbarreview.com
SUMMARY:Multi Family Rummage Sale
DESCRIPTION:‼️Multi Family Rummage Sale‼️Books\, Puzzles\, Womens Clothing X-Small-2X\, Mens S-L\, Handmade Crafts\, Households\, Antiques\, Decor\, and more…  \n‼️ Friday\, August 29 thru Monday\, Sept 1  \n❗️7854 County Road B Coleman\, WI 54112 (next to Yoap’s Cow)🐄❗️ \n❗️Stop in tomorrow morning at 8 to beat the Labor Day rush ❗️
URL:https://upbarreview.com/event/multi-family-rummage-sale/
CATEGORIES:Menominee
END:VEVENT
BEGIN:VEVENT
DTSTART;TZID=UTC:20250829T090000
DTEND;TZID=UTC:20250831T170000
DTSTAMP:20260424T095657
CREATED:20250904T025614Z
LAST-MODIFIED:20250904T025614Z
UID:10006187-1756458000-1756659600@upbarreview.com
SUMMARY:Picker's Sale in Oconto!
DESCRIPTION:Get ready for another picker’s sale! You’ll find lots of tools\, quality kitchenware\, Disney collectible figurines\, a few musical instruments\, furniture\, and a wide variety of household items tucked throughout the property.﻿\nThis is a picker’s style sale\, which means you’ll explore the home\, garage\, and shed to uncover the items you want\, bring them to the checkout\, and we’ll price them on the spot. Every corner has something unique—perfect for collectors\, resellers\, or anyone hunting for a bargain. \nDon’t miss this fun and treasure-filled event—come dig\, discover\, and deal! \nNo sign up at this sale.  \nLine up at end of driveway. The garage will be the entrance.  \nPlease park on side streets\, not on Smith Ave.  \n418 Smith Ave. Oconto\, WI ﻿54153 \nFRI 8/29 9AM-3PM                                   \nSAT 8/30 9AM-3PM                                \n﻿SUN 8/31 9AM-12PM
URL:https://upbarreview.com/event/pickers-sale-in-oconto/
CATEGORIES:Menominee
END:VEVENT
BEGIN:VEVENT
DTSTART;TZID=UTC:20250829T090000
DTEND;TZID=UTC:20250901T170000
DTSTAMP:20260424T095657
CREATED:20250904T022417Z
LAST-MODIFIED:20250904T022417Z
UID:10005904-1756458000-1756746000@upbarreview.com
SUMMARY:Downsizing
DESCRIPTION:
URL:https://upbarreview.com/event/downsizing/
CATEGORIES:Menominee
END:VEVENT
BEGIN:VEVENT
DTSTART;TZID=UTC:20250829T103000
DTEND;TZID=UTC:20250829T113000
DTSTAMP:20260424T095657
CREATED:20250904T025650Z
LAST-MODIFIED:20250904T025650Z
UID:10006203-1756463400-1756467000@upbarreview.com
SUMMARY:Storytime
DESCRIPTION:Join Miss Amanda in the Children’s area to listen to stories and make a project.  Storytime is a great way to introduce children to the Library and encourage their love of reading.  Storytime is every Friday at 10:30 AM.  Children must be accompanied by a caregiver.
URL:https://upbarreview.com/event/storytime/
CATEGORIES:Menominee
END:VEVENT
BEGIN:VEVENT
DTSTART;TZID=UTC:20250829T170000
DTEND;TZID=UTC:20250829T200000
DTSTAMP:20260424T095658
CREATED:20250619T192236Z
LAST-MODIFIED:20250619T192236Z
UID:10004835-1756486800-1756497600@upbarreview.com
SUMMARY:Upperhand Brewery - Friday Live Music - Escanaba
DESCRIPTION:Join us for live music every Sunday 2-5p and Friday 5-8p. Beginning June 1st through August 31st.
URL:https://upbarreview.com/event/upperhand-brewery-friday-live-music-escanaba/2025-08-29/
LOCATION:Upper Hand Brewery\, 3525 Airport Rd\, Escanaba\, WI\, 49829
CATEGORIES:Menominee
END:VEVENT
BEGIN:VEVENT
DTSTART;TZID=UTC:20250829T190000
DTEND;TZID=UTC:20250829T230000
DTSTAMP:20260424T095658
CREATED:20250904T022931Z
LAST-MODIFIED:20250904T022931Z
UID:10005977-1756494000-1756508400@upbarreview.com
SUMMARY:FRI 8.29.25 the 4onthefloor @ GLADSTONE\, MI (Wally's)
DESCRIPTION:The 4onthefloor are returning to Wally’s for a night of rock’n’roll! Multiple sets\, let’s party!!
URL:https://upbarreview.com/event/fri-8-29-25-the-4onthefloor-gladstone-mi-wallys/
CATEGORIES:Menominee
END:VEVENT
BEGIN:VEVENT
DTSTART;TZID=UTC:20250829T190000
DTEND;TZID=UTC:20250829T230000
DTSTAMP:20260424T095658
CREATED:20250904T025615Z
LAST-MODIFIED:20250904T025620Z
UID:10006189-1756494000-1756508400@upbarreview.com
SUMMARY:Oconto Falls vs. St. Mary's Springs | High-School Football
DESCRIPTION:Oconto Falls vs St. Mary’s Springs | High-School Football\n🔴 𝐖𝐀𝐓𝐂𝐇 𝐋𝐈𝐕𝐄 : https://faiz.usaenginesports.com/hs-football.php\nThe St. Mary’s Springs (Fond du Lac\, WI) varsity football team has a home non-conference game vs. Oconto Falls (WI) on Friday\, August 29 @ 7p. \nPlease Like And Share This Event\, Thank You\nHave a good time watching…! \n#hsfootball #football
URL:https://upbarreview.com/event/oconto-falls-vs-st-marys-springs-high-school-football/
CATEGORIES:Menominee
END:VEVENT
BEGIN:VEVENT
DTSTART;TZID=UTC:20250829T190000
DTEND;TZID=UTC:20250830T000000
DTSTAMP:20260424T095658
CREATED:20250904T022021Z
LAST-MODIFIED:20250904T022021Z
UID:10005872-1756494000-1756512000@upbarreview.com
SUMMARY:Menominee v. Marinette Hs*(Football)
DESCRIPTION:Menominee vs. Marinette Hs*(Football)playfootball.highschoolive.com\nThe Marinette (WI) varsity football team has a home non-conference game vs. Menominee (MI) on Friday\, August 29 @ 7p. \nWe present online services For high school sports new season\nIn the form of live streaming with the best quality full HD quality\nenjoy your favorite Sports! \nMenominee vs Marinette\nMenominee vs. Marinette\nMenominee @ Marinette\nMenominee v Marinette\nMenominee – Marinette\nMenominee Marinette\nMarinette vs Menominee\nMarinette vs. Menominee\nMarinette @ Menominee\nMarinette v Menominee\nMarinette – Menominee\nMarinette Menominee
URL:https://upbarreview.com/event/menominee-v-marinette-hsfootball/
CATEGORIES:Menominee
END:VEVENT
BEGIN:VEVENT
DTSTART;TZID=UTC:20250829T190000
DTEND;TZID=UTC:20250830T000000
DTSTAMP:20260424T095658
CREATED:20250904T022107Z
LAST-MODIFIED:20250904T022107Z
UID:10005886-1756494000-1756512000@upbarreview.com
SUMMARY:Menominee V-s Marinette H*S_Football
DESCRIPTION:Menominee vs. Marinette H*S_Footballhtb.highschoolive.com\nThe Marinette (WI) varsity football team has a home non-conference game vs. Menominee (MI) on Friday\, August 29 @ 7p. \nWe present online services For high school sports new season\nIn the form of live streaming with the best quality full HD quality\nenjoy your favorite Sports! \nMenominee vs Marinette\nMenominee vs. Marinette\nMenominee @ Marinette\nMenominee v Marinette\nMenominee – Marinette\nMenominee Marinette\nMarinette vs Menominee\nMarinette vs. Menominee\nMarinette @ Menominee\nMarinette v Menominee\nMarinette – Menominee\nMarinette Menominee
URL:https://upbarreview.com/event/menominee-v-s-marinette-hs_football/
CATEGORIES:Menominee
END:VEVENT
BEGIN:VEVENT
DTSTART;TZID=UTC:20250829T190000
DTEND;TZID=UTC:20250830T000000
DTSTAMP:20260424T095658
CREATED:20250904T022108Z
LAST-MODIFIED:20250904T022108Z
UID:10005887-1756494000-1756512000@upbarreview.com
SUMMARY:Menominee V𝐒. Marinette Live_Football_2025
DESCRIPTION:Menominee vs. Marinette Live_Football_2025stream.sporthighschool.com\nThe Marinette (WI) varsity football team has a home non-conference game vs. Menominee (MI) on Friday\, August 29 @ 7p. \nMenominee vs Marinette\nMenominee vs. Marinette\nMenominee @ Marinette\nMenominee v Marinette\nMenominee – Marinette\nMenominee Marinette\nMarinette vs Menominee\nMarinette vs. Menominee\nMarinette @ Menominee\nMarinette v Menominee\nMarinette – Menominee\nMarinette Menominee
URL:https://upbarreview.com/event/menominee-v%f0%9d%90%92-marinette-live_football_2025/
CATEGORIES:Menominee
END:VEVENT
BEGIN:VEVENT
DTSTART;TZID=UTC:20250829T200000
DTEND;TZID=UTC:20250829T230000
DTSTAMP:20260424T095658
CREATED:20250207T191746Z
LAST-MODIFIED:20250207T191746Z
UID:10002969-1756497600-1756508400@upbarreview.com
SUMMARY:The Granada - Karaoke Night - Escanaba
DESCRIPTION:Welcome to the Hottest Karaoke show in Town! Every Friday at The Granada in Escanaba\, MI Starts at 9:00 pm\nCreate your FREE Performer Account with Songbooks Online App to Browse the Karaoke song library\, keep a favorites list and submit your song requests remotely! Use Show ID: MSK23 after you create your account. You can also just tell me your name and the song you want if you don’t know how to install an app.
URL:https://upbarreview.com/event/the-granada-karaoke-night-escanaba/2025-08-29/
LOCATION:The Granada\, 330 S 10th St\, Escanaba\, MI
CATEGORIES:Menominee
END:VEVENT
BEGIN:VEVENT
DTSTART;TZID=UTC:20250829T200000
DTEND;TZID=UTC:20250829T230000
DTSTAMP:20260424T095658
CREATED:20250904T022716Z
LAST-MODIFIED:20250904T022716Z
UID:10005945-1756497600-1756508400@upbarreview.com
SUMMARY:Karaoke at The Granada in Escanaba\, MI \, Every Friday
DESCRIPTION:Welcome to the Hottest Karaoke show in Town! Every Friday at The Granada in Escanaba\, MI Starts at 9:00 pm\nCreate your FREE Performer Account with Songbooks Online App to Browse the Karaoke song library\, keep a favorites list and submit your song requests remotely! Use Show ID: MSK23 after you create your account. You can also just tell me your name and the song you want if you don’t know how to install an app.
URL:https://upbarreview.com/event/karaoke-at-the-granada-in-escanaba-mi-every-friday/
LOCATION:The Granada\, 330 S 10th St\, Escanaba\, MI
CATEGORIES:Menominee
END:VEVENT
BEGIN:VEVENT
DTSTART;TZID=UTC:20250829T220000
DTEND;TZID=UTC:20250830T010000
DTSTAMP:20260424T095658
CREATED:20250904T022626Z
LAST-MODIFIED:20250904T022626Z
UID:10005937-1756504800-1756515600@upbarreview.com
SUMMARY:Late night with Lance
DESCRIPTION:Dancing the night away!
URL:https://upbarreview.com/event/late-night-with-lance/
CATEGORIES:Menominee
END:VEVENT
END:VCALENDAR