BEGIN:VCALENDAR
VERSION:2.0
PRODID:-//UP BAR REVIEW - ECPv6.14.2//NONSGML v1.0//EN
CALSCALE:GREGORIAN
METHOD:PUBLISH
X-ORIGINAL-URL:https://upbarreview.com
X-WR-CALDESC:Events for UP BAR REVIEW
REFRESH-INTERVAL;VALUE=DURATION:PT1H
X-Robots-Tag:noindex
X-PUBLISHED-TTL:PT1H
BEGIN:VTIMEZONE
TZID:UTC
BEGIN:STANDARD
TZOFFSETFROM:+0000
TZOFFSETTO:+0000
TZNAME:UTC
DTSTART:20250101T000000
END:STANDARD
END:VTIMEZONE
BEGIN:VEVENT
DTSTART;TZID=UTC:20250920T180000
DTEND;TZID=UTC:20250920T220000
DTSTAMP:20260423T114717
CREATED:20250904T025741Z
LAST-MODIFIED:20250904T025741Z
UID:10006209-1758391200-1758405600@upbarreview.com
SUMMARY:25 year class reunion\, Class of 2000 joined by 1999 & 2001
DESCRIPTION:the details are on our class page.
URL:https://upbarreview.com/event/25-year-class-reunion-class-of-2000-joined-by-1999-2001/
CATEGORIES:Menominee
END:VEVENT
BEGIN:VEVENT
DTSTART;TZID=UTC:20250920T190000
DTEND;TZID=UTC:20250920T220000
DTSTAMP:20260423T114717
CREATED:20250904T022053Z
LAST-MODIFIED:20250904T022053Z
UID:10005881-1758394800-1758405600@upbarreview.com
SUMMARY:LIVE Music - SAFE SAX @ The Lodge on Main (formerly Ironworks)
DESCRIPTION:We’re thrilled to welcome Michael back to the stage! This multi-talented performer brings the energy\, the vocals\, and the songs we all know and love. If you’ve seen him before\, you already know it’s a night you don’t want to miss. If you haven’t—now’s the time!\nCome early\, grab a bite\, and settle in for an unforgettable evening.\nLet’s pack the house and show Michael the love!
URL:https://upbarreview.com/event/live-music-safe-sax-the-lodge-on-main-formerly-ironworks/
CATEGORIES:Menominee
END:VEVENT
BEGIN:VEVENT
DTSTART;TZID=UTC:20250920T190000
DTEND;TZID=UTC:20250920T220000
DTSTAMP:20260423T114717
CREATED:20250904T022837Z
LAST-MODIFIED:20250904T022837Z
UID:10005972-1758394800-1758405600@upbarreview.com
SUMMARY:Dust Bunnies\, Pickstop\, Odium and Croven LIVE
DESCRIPTION:Join us at The Delft while we showcase great local bands!  4 bands – Dust Bunnies\, Pickstop\, Odium and Croven take the stage and rock the house system.\n$10 suggested donation at the door to cover hall\, sound\, band payments and gas money…however\, no one will be turned away.  This is a tight\, creative community effort and we know folks who are able to will donate to support the bands\, crew and venue.   \nCome together to support your local music scene…all these bands welcome you to a great night of live music at The Delft.
URL:https://upbarreview.com/event/dust-bunnies-pickstop-odium-and-croven-live/
CATEGORIES:Menominee
END:VEVENT
BEGIN:VEVENT
DTSTART;TZID=UTC:20250921T100000
DTEND;TZID=UTC:20250925T170000
DTSTAMP:20260423T114717
CREATED:20250904T021801Z
LAST-MODIFIED:20250904T021801Z
UID:10005836-1758448800-1758819600@upbarreview.com
SUMMARY:YMCA Corporate Challenge
DESCRIPTION:Corporate Challenge is officially BACK for 2025!\n15 events\, 4 days\, and all proceeds support your community through the YMCA’s Annual Campaign.  \nIt’s all about community\, health\, wellness\, and of course\, competition. So grab your coworkers\, make a team\, and challenge other area businesses to claim ultimate bragging rights.  \nSupporting community through programs that change lives. \nLearn more\, see the events\, and read about how you and your team can participate in Corporate Challenge: https://mmymca.org/corporate-challenge-compete-for-a-cause/ \nTo register your team\, please contact\nMichell | michell@mmymca.org | 906.863.9983 ext. 104
URL:https://upbarreview.com/event/ymca-corporate-challenge/
CATEGORIES:Menominee
END:VEVENT
BEGIN:VEVENT
DTSTART;TZID=UTC:20250921T110000
DTEND;TZID=UTC:20250921T140000
DTSTAMP:20260423T114717
CREATED:20250904T021809Z
LAST-MODIFIED:20250904T021809Z
UID:10005838-1758452400-1758463200@upbarreview.com
SUMMARY:Embrace Life Family Fun Walk 2025
DESCRIPTION:September 21st\, 2025 Event & Check – in begins at 11:00 am.\nOpening Ceremony at 1:00p.m.\nWalk to start immediately follow. \nWalk is 4.5 Mile (The “Short Loop”) Menominee American Legion to Menekaunee bridge\, Water Street to Main Street\, then over Interstate Bridge (10th Ave)\, back to the American Legion on 1st street. \nWater & ride pick up stations are available throughout walk route. \n•A memorial reading of names will be part of our open ceremony\, please submit “In Loving Memory Names” prior and up to day of walk to Gail Schick at 906-290-2727 or at top of registration form. \n•Additional prizes will be rewarded the day of walk\, for the person raising most donations. We will have basket raffles drawings & 50/50 ticket sales. \n•Colored Beads\, temporary tattoo booth & rubber ducks – kid friendly \n•The American Legion will have the snack shack open the day of the walk 🍔 🍟
URL:https://upbarreview.com/event/embrace-life-family-fun-walk-2025/
CATEGORIES:Menominee
END:VEVENT
BEGIN:VEVENT
DTSTART;TZID=UTC:20250921T160000
DTEND;TZID=UTC:20250921T180000
DTSTAMP:20260423T114717
CREATED:20250904T022824Z
LAST-MODIFIED:20250904T022824Z
UID:10005969-1758470400-1758477600@upbarreview.com
SUMMARY:The Joy and Wonder of Christmas
DESCRIPTION:Meet Santa Claus and enjoy story time\, hot chocolate\, home baked cookies\, a live Nativity\, and Christmas music.
URL:https://upbarreview.com/event/the-joy-and-wonder-of-christmas/
CATEGORIES:Menominee
END:VEVENT
BEGIN:VEVENT
DTSTART;TZID=UTC:20250921T163000
DTEND;TZID=UTC:20250921T193000
DTSTAMP:20260423T114717
CREATED:20250904T025746Z
LAST-MODIFIED:20250904T025746Z
UID:10006210-1758472200-1758483000@upbarreview.com
SUMMARY:Sunday Funday with Josh Friedland
DESCRIPTION:Come in for the game and stick around to listen to the talented Josh Friedland
URL:https://upbarreview.com/event/sunday-funday-with-josh-friedland/
CATEGORIES:Menominee
END:VEVENT
BEGIN:VEVENT
DTSTART;TZID=UTC:20250922T090000
DTEND;TZID=UTC:20250922T120000
DTSTAMP:20260423T114717
CREATED:20250904T022721Z
LAST-MODIFIED:20250904T022721Z
UID:10005947-1758531600-1758542400@upbarreview.com
SUMMARY:ResilieNt Training in Escanaba\, Michigan!
DESCRIPTION:MoxieMoms is proud to announce another ResilieNt training coming to Bay College in #escanabamichigan\nRegistration is now OPEN!
URL:https://upbarreview.com/event/resilient-training-in-escanaba-michigan/
CATEGORIES:Menominee
END:VEVENT
BEGIN:VEVENT
DTSTART;TZID=UTC:20250922T150000
DTEND;TZID=UTC:20250922T180000
DTSTAMP:20260423T114717
CREATED:20250514T013812Z
LAST-MODIFIED:20250514T013812Z
UID:10004481-1758553200-1758564000@upbarreview.com
SUMMARY:Gladstone Farmers Market
DESCRIPTION:Join us every Monday from June through September at the Gladstone Farmers Market—where community\, creativity\, and fresh local flavor come together!\nLocated at the Market Square (907 Delta Ave) in the heart of downtown\, our market is more than just a place to shop—it’s an experience. Stroll through a vibrant selection of locally grown produce\, mouthwatering baked goods\, and one-of-a-kind artisan creations while enjoying the sounds of live music from talented local bands.\nWhether you’re a market regular or visiting for the first time\, we invite you to make Mondays in Gladstone a tradition! Come for the goods\, stay for the music\, and connect with friends and neighbors in a welcoming\, lively atmosphere.\nWe can’t wait to see you there!\nhttps://www.gladstonemi.gov/dda/page/farmers-market
URL:https://upbarreview.com/event/gladstone-farmers-market/2025-09-22/
CATEGORIES:Menominee
END:VEVENT
BEGIN:VEVENT
DTSTART;TZID=UTC:20250922T170000
DTEND;TZID=UTC:20250922T180000
DTSTAMP:20260423T114717
CREATED:20250618T020304Z
LAST-MODIFIED:20250618T020304Z
UID:10004586-1758560400-1758564000@upbarreview.com
SUMMARY:Mighty Pet - Monday Night Foundation Obedience - Menominee
DESCRIPTION: Foundation Obedience Class – Monday Nights at 5 PM!Location: Mighty Pet\, Menominee MIInstructor: Meghan Smith\, CPDT-KACost: $150 per dog\nLooking to build a better-behaved dog? Join our Foundation Obedience Class — perfect for dogs over 4 months old who need to learn (or brush up on) the basics!\nWe’ll cover essential skills like: Polite leash walking Sit\, down\, and stay Coming when called Focus around distractions Real-life manners you can use every day!\nYour enrollment includes:• New Students: One 60-minute private orientation session + 5 group classes• Returning Students: 6 weekly group classes• Weekly homework and ongoing trainer support\n This flexible open enrollment format means you can jump in when you’re ready—no need to wait for a new session to start!\n To Register:• New clients/dogs: Fill out the training form here: https://form.jotform.com/230665154822151• Returning clients: Message Meghan directly or text 906-424-0356\nLet’s turn your good dog into a great one!
URL:https://upbarreview.com/event/mighty-pet-monday-night-foundation-obedience-menominee/2025-09-22/
LOCATION:Mighty Pet\, 1207 8th Ave\, Menominee\, MI\, 49858
CATEGORIES:Menominee
END:VEVENT
BEGIN:VEVENT
DTSTART;TZID=UTC:20250922T180000
DTEND;TZID=UTC:20250922T190000
DTSTAMP:20260423T114717
CREATED:20241029T123253Z
LAST-MODIFIED:20241029T123253Z
UID:10002106-1758564000-1758567600@upbarreview.com
SUMMARY:Military 20 Year Club - Monthly Meeting - Menominee
DESCRIPTION:Open to any honor discharged Veteran. Meeting at Menominee American Legion. New members are always welcome.
URL:https://upbarreview.com/event/military-20-year-club-monthly-meeting-menominee/2025-09-22/
LOCATION:American Legion Post 146\, 818 1st St\, Menominee\, MI\, 49858
CATEGORIES:Menominee
END:VEVENT
BEGIN:VEVENT
DTSTART;TZID=UTC:20250923T100000
DTEND;TZID=UTC:20250923T130000
DTSTAMP:20260423T114717
CREATED:20250207T193742Z
LAST-MODIFIED:20250207T193742Z
UID:10003042-1758621600-1758632400@upbarreview.com
SUMMARY:Escanaba Public Library - Tech Help Tuesdays - Escanaba
DESCRIPTION:Need help printing from your phone? Setting up Libby on your personal device? Using Zoom? How about getting started on your Chromebook or iPad? Using a Wi-Fi hotspot? Creating an email address? Google searches? or how to use the library’s online catalog?\nWe have the answers and assistance you need! Make an appointment or stop in at the circulation desk. Appointments are one hour (maximum).\nThe Escanaba Public Library staff do not repair computers/devices. The library assumes no liability for personal patron devices.
URL:https://upbarreview.com/event/escanaba-public-library-tech-help-tuesdays-escanaba/2025-09-23/
LOCATION:Escanaba Public Library\, 400 Ludington St\, Escanaba\, WI\, 49829
CATEGORIES:Menominee
END:VEVENT
BEGIN:VEVENT
DTSTART;TZID=UTC:20250923T100000
DTEND;TZID=UTC:20250923T140000
DTSTAMP:20260423T114717
CREATED:20250723T180240Z
LAST-MODIFIED:20250724T182805Z
UID:10005617-1758621600-1758636000@upbarreview.com
SUMMARY:Rec Center - Farmers Market (This & That) - Marinette
DESCRIPTION:Do you have things that you would like to sell but you don’t have the space or you aren’t up for cleaning your garage etc.Here is your opportunity-This will be Farmers Market and (This & That- Avon\, crafts\, new items\, promoting your business or hobbyWe will have a weekly drawing- Stop in & get registered for drawingRegistration available online www.wowsolutions4u.comPlease Share!**IMPORTANT**DO NOT SEND MONEY to People Commenting that they have spots or spaces available-check out their picture and their name-they are SCAMMERS! Dawn
URL:https://upbarreview.com/event/rec-center-farmers-market-this-that-marinette/2025-09-23/
LOCATION:Marinette Recreation Center\, 2501 Pierce Avenue\, Marinette\, WI\, 54143\, United States
CATEGORIES:Menominee
END:VEVENT
BEGIN:VEVENT
DTSTART;TZID=UTC:20250923T100000
DTEND;TZID=UTC:20250925T170000
DTSTAMP:20260423T114717
CREATED:20250904T022751Z
LAST-MODIFIED:20250904T022751Z
UID:10005958-1758621600-1758819600@upbarreview.com
SUMMARY:Buying Event
DESCRIPTION:Join us for a Buying Event from National Rarities. Bring in your gold\, silver\, diamonds and more for immediate payment! Plus receive 20% MORE when you opt for store credit.*
URL:https://upbarreview.com/event/buying-event/
CATEGORIES:Menominee
END:VEVENT
BEGIN:VEVENT
DTSTART;TZID=UTC:20250923T170000
DTEND;TZID=UTC:20250923T200000
DTSTAMP:20260423T114717
CREATED:20250904T022137Z
LAST-MODIFIED:20250904T022137Z
UID:10005896-1758646800-1758657600@upbarreview.com
SUMMARY:Boo !
DESCRIPTION:Painted 8×8 standing sign. Spackled with Ghosts or Pumpkins\, your choice. Adult class\, BYOB. Cost$20. Sooo cute ! Call or stop to pre pay at 715-587-4643
URL:https://upbarreview.com/event/boo-2/
CATEGORIES:Menominee
ORGANIZER;CN="The Craft Cave":MAILTO:Foou7@yahoo.com
END:VEVENT
BEGIN:VEVENT
DTSTART;TZID=UTC:20250923T180000
DTEND;TZID=UTC:20250923T200000
DTSTAMP:20260423T114717
CREATED:20250402T234345Z
LAST-MODIFIED:20250402T234345Z
UID:10003372-1758650400-1758657600@upbarreview.com
SUMMARY:Mo's Pub - Trivia Night - Escanaba
DESCRIPTION:Join us for our Tuesday Trivia!!!! We will start at 7pm and we’ll be in the back room of the pub. TRIVIA TIME!!!! Trivia starts at 7pm!!!!6 Prizes given out.1st place $50 Mos Card 2nd place $25 Mos Card 3rd place $15 Mos Card 4th\, 5th and last place a free appetizer. $2 domestic beer. $3.50 rail\, $2.00 off Specialty Pizza\, $1.00 off specialty burger. We are looking forward to spending the time with you!!!
URL:https://upbarreview.com/event/mos-pub-trivia-night-escanaba/2025-09-23/
LOCATION:Mo’s Pub\, 2116 Ludington St\, Escanaba\, MI\, 49829
CATEGORIES:Menominee
END:VEVENT
BEGIN:VEVENT
DTSTART;TZID=UTC:20250924T173000
DTEND;TZID=UTC:20250924T203000
DTSTAMP:20260423T114717
CREATED:20250904T022137Z
LAST-MODIFIED:20250904T022137Z
UID:10005897-1758735000-1758745800@upbarreview.com
SUMMARY:Boo!
DESCRIPTION:Spackled Ghosts or Pumpkins \, your choice. Painted 8×8 stand up. Sits well on counter. Adult class\, BYOB\, cost $20. Call or stop in to pre pay for class at 715-587-4643.
URL:https://upbarreview.com/event/boo-3/
CATEGORIES:Menominee
ORGANIZER;CN="The Craft Cave":MAILTO:Foou7@yahoo.com
END:VEVENT
BEGIN:VEVENT
DTSTART;TZID=UTC:20250924T180000
DTEND;TZID=UTC:20250924T190000
DTSTAMP:20260423T114717
CREATED:20250723T193556Z
LAST-MODIFIED:20250723T193556Z
UID:10005432-1758736800-1758740400@upbarreview.com
SUMMARY:The Argonaut - Book Club - Menominee
DESCRIPTION:Join us for an intro to how quantum physics\, the mind\, and healing intertwine! We are reading Dr. Joe Dispenza’s “You are the Placebo” to unravel how we can be the best we can be. This is a free event
URL:https://upbarreview.com/event/the-argonaut-book-club-menominee/2025-09-24/
LOCATION:The Argonaut\, 432 10th Ave\, Menominee\, MI
CATEGORIES:Menominee
END:VEVENT
BEGIN:VEVENT
DTSTART;TZID=UTC:20250925T080000
DTEND;TZID=UTC:20250925T170000
DTSTAMP:20260423T114717
CREATED:20241202T212718Z
LAST-MODIFIED:20241202T212718Z
UID:10002566-1758787200-1758819600@upbarreview.com
SUMMARY:Biehl Bridges to Recovery - Overeaters Anonymous - Marinette
DESCRIPTION:A new year! A new you! Want to know if you’re an overeater? Struggling to find support? Wanting support? Come join us on Thursday evenings from 5:30pm-6:30pm.
URL:https://upbarreview.com/event/biehl-bridges-to-recovery-overeaters-anonymous-marinette/2025-09-25/
LOCATION:Biehl Bridge To Recovery\, 3123 Shore Dr\, Marinette\, WI\, 54143
CATEGORIES:Menominee
END:VEVENT
BEGIN:VEVENT
DTSTART;TZID=UTC:20250925T100000
DTEND;TZID=UTC:20250925T233000
DTSTAMP:20260423T114717
CREATED:20241029T145445Z
LAST-MODIFIED:20241029T145445Z
UID:10002265-1758794400-1758843000@upbarreview.com
SUMMARY:Alibi's - Free Pool Thursdays - Marinette
DESCRIPTION:Free Pool!!
URL:https://upbarreview.com/event/alibis-free-pool-thursdays-marinette/2025-09-25/
LOCATION:ALiBi Bar & Grill\, 829 Main St\, Marinette\, WI\, 54143\, United States
CATEGORIES:Menominee
END:VEVENT
BEGIN:VEVENT
DTSTART;TZID=UTC:20250925T130000
DTEND;TZID=UTC:20250925T160000
DTSTAMP:20260423T114717
CREATED:20250904T021855Z
LAST-MODIFIED:20250904T021855Z
UID:10005855-1758805200-1758816000@upbarreview.com
SUMMARY:Gourd-geous Autumn
DESCRIPTION:Join us for the “Gourd-geous Autumn” walk-in class from 1 PM to 6 PM! This is a fantastic opportunity to create the perfect fall centerpiece using medium to large pumpkins. You’ll learn about layering glazes to achieve a stunning vine look. \nCome on down for cozy afternoon designed for creativity and fun with friends\, so don’t forget to bring your own coffee to sip while you craft. Come and celebrate the season with us! \nWhere: Mccraftie’s 625 1st St\, Menominee\, MI  \nDate: September 25\, 2025
URL:https://upbarreview.com/event/gourd-geous-autumn/
CATEGORIES:Menominee
END:VEVENT
BEGIN:VEVENT
DTSTART;TZID=UTC:20250925T150000
DTEND;TZID=UTC:20250925T180000
DTSTAMP:20260423T114717
CREATED:20250904T022107Z
LAST-MODIFIED:20250904T022107Z
UID:10005885-1758812400-1758823200@upbarreview.com
SUMMARY:NWTC Open House-Fall 2025
DESCRIPTION:Join us Thursday\, September 25\, 2025\, to see all the ways to SOAR HIGHER at NWTC!\nNo need to register – just stop in! Bring a friend or family member. \nAt open house\, you can:\n– Apply for free!\n– Get information about admission tests.\n– See labs\, equipment\, and classrooms in your academic area of interest.\n– Talk with specialists to learn about careers and how to get started at NWTC.\n– Learn about our many Student Services available.\n– Enjoy free refreshments and giveaways. \nGet more details:\nhttps://www.nwtc.edu/openhouse
URL:https://upbarreview.com/event/nwtc-open-house-fall-2025/
CATEGORIES:Menominee
END:VEVENT
BEGIN:VEVENT
DTSTART;TZID=UTC:20250925T160000
DTEND;TZID=UTC:20250925T170000
DTSTAMP:20260423T114717
CREATED:20250904T025801Z
LAST-MODIFIED:20250904T025801Z
UID:10006215-1758816000-1758819600@upbarreview.com
SUMMARY:MEDICAID 101 WITH ADRC AT RENNES HEALTH & REHAB CENTER-PESHTIGO WEST
DESCRIPTION:Join us for a helpful overview of Medicaid basics WITH THE ADRC! This class will cover who qualifies\, what services are included\, and how the program works. Whether you’re just getting started or want to better understand the benefits available\, this session will provide clear\, easy-to-follow information to guide you.\nYou’ll also have the opportunity to tour the beautiful\, newly renovated Rennes Health & Rehab Center-Peshtigo West. \nThis event is free and open to the public. Register at the link below.
URL:https://upbarreview.com/event/medicaid-101-with-adrc-at-rennes-health-rehab-center-peshtigo-west/
CATEGORIES:Menominee
END:VEVENT
BEGIN:VEVENT
DTSTART;TZID=UTC:20250925T173000
DTEND;TZID=UTC:20250925T193000
DTSTAMP:20260423T114717
CREATED:20250723T204712Z
LAST-MODIFIED:20251107T152937Z
UID:10007276-1758821400-1758828600@upbarreview.com
SUMMARY:The Argonaut - Blue Collar Yoga - Menominee
DESCRIPTION:Join us for Yoga with CiCi at The Argonaut Studio!  Led by the wonderful instructor\, Cionarah Oliveira Courinho (CiCi)\, this class is $20 per person\, welcomes all levels\, and please bring your own mat. Come unwind\, connect with your breath\, and find your inner peace in a supportive community. We can’t wait to see you there!
URL:https://upbarreview.com/event/the-argonaut-yoga-w-cici-menominee/2025-09-25/
LOCATION:The Argonaut\, 432 10th Ave\, Menominee\, MI
CATEGORIES:Menominee
END:VEVENT
BEGIN:VEVENT
DTSTART;TZID=UTC:20250925T173000
DTEND;TZID=UTC:20250925T203000
DTSTAMP:20260423T114717
CREATED:20250904T025950Z
LAST-MODIFIED:20250904T025950Z
UID:10006223-1758821400-1758832200@upbarreview.com
SUMMARY:September Book Club!
DESCRIPTION:Join us for Book talk over dinner!  More details to come!
URL:https://upbarreview.com/event/september-book-club/
CATEGORIES:Menominee
END:VEVENT
BEGIN:VEVENT
DTSTART;TZID=UTC:20250925T180000
DTEND;TZID=UTC:20250925T210000
DTSTAMP:20260423T114717
CREATED:20241001T040448Z
LAST-MODIFIED:20241001T040448Z
UID:10001905-1758823200-1758834000@upbarreview.com
SUMMARY:Spirit House -Trivia Night! - Menominee
DESCRIPTION:Trivia Night Thursday at Spirit House\, come check out this awesome event!!!!
URL:https://upbarreview.com/event/spirit-house-trivia-night-menominee/2025-09-25/
LOCATION:Spirit House\, 533 10th Ave\, Menominee\, MI 49858\, Menominee\, MI\, 49858\, United States
CATEGORIES:Menominee
END:VEVENT
BEGIN:VEVENT
DTSTART;TZID=UTC:20250926T100000
DTEND;TZID=UTC:20250926T160000
DTSTAMP:20260423T114717
CREATED:20250905T192739Z
LAST-MODIFIED:20250905T192739Z
UID:10006302-1758880800-1758902400@upbarreview.com
SUMMARY:Wausaukee Farmers Market
DESCRIPTION:Wausaukee Farmers Flea market every friday from 10-4 @ Eden Restored Health\n536 Kenny Dr. Corner of Hwy 141 & Kenny Dr.\n\n\nVendors may vary from week to week-\n\n\nTibets Organic Produce- Cabbage\, garlic\, zucchini (yellow & green)\, patty pan squash\, kale\, honey & more\nVicki’s crafts- towels\, washcloths\, scrubbies and more\nTeresa’s bric-a-brac\nJacob’s wood crafts\nPoppy’s Sourdough\nDiane’s crafts\nAnd so much more\n\n\nVendor set up is free\, so bring your tables and goods and come on over
URL:https://upbarreview.com/event/wausaukee-farmers-market/2025-09-26/
CATEGORIES:Menominee
END:VEVENT
BEGIN:VEVENT
DTSTART;TZID=UTC:20250926T120000
DTEND;TZID=UTC:20250926T170000
DTSTAMP:20260423T114717
CREATED:20250905T191542Z
LAST-MODIFIED:20250905T191542Z
UID:10006292-1758888000-1758906000@upbarreview.com
SUMMARY:Haunted House - Moose Lodge
DESCRIPTION:
URL:https://upbarreview.com/event/haunted-house-moose-lodge/2025-09-26/
LOCATION:Marinette Moose Lodge\, N5233 E. Nettleton Road\, Marinette\, WI\, 54143
CATEGORIES:Menominee
END:VEVENT
BEGIN:VEVENT
DTSTART;TZID=UTC:20250926T140000
DTEND;TZID=UTC:20250927T170000
DTSTAMP:20260423T114717
CREATED:20250904T022607Z
LAST-MODIFIED:20250904T022607Z
UID:10005927-1758895200-1758992400@upbarreview.com
SUMMARY:Sylvan Sounds
DESCRIPTION:The 2nd annual Sylvan Sounds\nBrought to you by:\nNuclei Productions\nChrome Future\nChunesday Collective  \nA Bass music retreat hosted on family land.\n100 acres of private forest with a 10 acre private lake  \n🌲Sylvan Sounds Camping + Venue Info 🌲 \nWe’re keeping it cozy this year\, only 100 tickets are available since space is very limited\, and camping is set inside the venue itself. Here’s what to know before you pack your bags: \nLOCATION 🌎\none hour north of Green Bay\nEmail will be sent out to ticket purchasers via email with directions and exact address.\nIf you didn’t get directions\, please send us a message 🫶🏻 \nPRODUCTION 🍿\nFull sound and visual experience 🎶 🔈💡\nSound: Chrome Paraflex Sound\nVisuals: FREAKuency  \nWAIVER 🪧\nEach person that plans to attend the event must sign a waiver upon arrival per the land owners rules.\nThis was also attached to your ticket as term of service\, but we want to ensure everyone on the property is covered 👌🏻\nParty responsibly 🎉 \nTICKETS 🎫\nTicket link on event page! Thru our friends at Chrome Future\n2 day pass is $80\nParking pass is $10 per car to help encourage car pooling given the limited parking space.  \nPSA 🚨\nThis is 21+ event   \nGATE’s: 🏰\nGates will be closing at 10 pm sharp nightly to avoid unwanted visitors. If you need to show up later contact one of the hosts and pre arrange it.  \nFOOD 🍱\nWe are bringing in two food trucks\nBuddy’s Breakfast burgers and burritos-\n https://www.facebook.com/share/1BAJqgpsrQ/?mibextid=wwXIfr \nand his good friend with a taco truck bringing the tacos 🤌🏻 \n🏕 Camping Setup\n		Tent-only camping (no car camping this year\, we’re hoping to offer limited car camping in future years).\n		Campsites max out at 10×10. Please avoid extra-large tents unless you’re sharing with a group. \n🚗 Parking\n	•	Designated parking will be located further up from the venue and potentially along the path leading in.\n	•	If you need to leave before Saturday\, please try to park along the path rather than the main road to make exits easier. \n📵 Signal & Disconnecting\nExpect little to no service on site. It’s the perfect opportunity to unplug\, connect with each other\, and let the bass guide you. \n💧 Water\nWe’ll provide a limited amount\, but there’s no running water on the property. Please bring plenty of your own! \n🔥 Fire\nA communal fire will be lit each evening at dusk.\n		Please be mindful the wood provided needs to last both nights. If you’d like\, feel free to bring extra wood for earlier fires or to keep the flame strong. \nLEAVE NO TRACE ♻️\nThis means leave with everything you came with. We want to preserve this land and give it the utmost respect.\nPlease bring garbage bags for yourselves!\nWe will bring some cans to have around the camp but ideally we should all be cleaning up after ourselves 🙏🏻 \nNO GLASS 🛑\nThis will help prevent unwanted injury and clean up. (Will be some exceptions) \nNO WEAPONS/FIREWORKS 🛑\nFor obvious reasons  \nNO VIOLENCE/DISRESPECT 🛑\nIf you start a fight with anyone\, get out of control\, or make anyone feel unsafe\, you will be removed swiftly.  \nLAKE ETIQUETTE 🎣\nFishing will not be permitted by guests to help preserve the lake and avoid unwanted injuries.\nthe water will be fenced off near the stage so we don’t have people taking a dip.  \nMUSIC HOURS ⏰\nMusic will be running from 11:30 am Friday and Saturday until 4am! With a quite time after sets to catch some  💤’s\nExact hours tbd  \nOTHER INFO ℹ️  \nARTIST ROSTER 👾\nAlphabetical order: \n210 –\nhttps://on.soundcloud.com/eq1FNf5nRseyEVM84w \nATOMICK –  \n\nBOUG –  \n\nCapsoulz –  \n\nCntrlla –\nhttps://on.soundcloud.com/RjRpJHYKLMyftrduML \nContrband – https://on.soundcloud.com/PNfufow9yZ7LEioQ7 \nCurzen –  \n\ncode –\nhttps://on.soundcloud.com/hCdkrARtGMEsjRTR6 \nDJ Deemos –  \n\nEye Trip –\nhttps://on.soundcloud.com/EhSYJjVB78y5sQhkZD \nFEED THE STRAY –\nhttps://on.soundcloud.com/VbxuCMFm57VOdbUFwi \nFossils –\nhttps://on.soundcloud.com/V5l0iYYBNXia65gbPm \nGarbo –\nhttps://on.soundcloud.com/Mh1u9cD8f9oymqd68 \nJake The Dawg –\nhttps://on.soundcloud.com/7czfchrOgQgntFTAnd \nhenlo yuri –  \n\nKrug The Wizard –  \n\nLudafist – \n\nMessin –\nhttps://on.soundcloud.com/SHHo5XENx2cUMCof6 \nMurkury –\nhttps://on.soundcloud.com/Vba4jXnvZF6SgsDtF0 \nRusker –\nhttps://on.soundcloud.com/9qv3TxxDDyn0db7AZM \nSigh Gremlin – \nShawn Who –\nhttps://on.soundcloud.com/chdxNUhasFuVKs2C9d \nSmigonaut –\nhttps://on.soundcloud.com/vKlffUxEPSItCnSEZC \nStatik Flow –\nhttps://on.soundcloud.com/iawSxVGgCM1aYiWDuL \nUnknown Prophet – \nUNKNWN –\nhttps://m.soundcloud.com/unknwn-official \nwobblebot –  \n\nwxstedfxntxsy –  \nYUGEN – \n\nZEEG. –  \n\nMORE TBA \nSET TIMES 🕰️\nTBA
URL:https://upbarreview.com/event/sylvan-sounds/
CATEGORIES:Menominee
END:VEVENT
BEGIN:VEVENT
DTSTART;TZID=UTC:20250926T160000
DTEND;TZID=UTC:20250926T190000
DTSTAMP:20260423T114717
CREATED:20250904T022416Z
LAST-MODIFIED:20250904T022416Z
UID:10005900-1758902400-1758913200@upbarreview.com
SUMMARY:Coleman’s 13th Annual Tackle Cancer Game
DESCRIPTION:Please join us under the Friday night lights on September 26\, 2025 as the Oconto Falls Panthers join our Coleman Cougars battling both on and off the field in their fight against Breast Cancer. In the past 12 years\, we have raised over $235\,000   to help 47 local ladies battle Breast Cancer. In the past\, we have had over 120 raffle items. Two different raffles\, our End Zone raffle with larger items and our Tackle Cancer raffle with some amazing items! People get so creative and i absolutely love watching the donations come in!! Raffle ticket sales start at 4pm. Last call for ticket purchases are at  halftime. We will “start” to draw winners at the beginning of the second half. Please be patient\, and if you don’t want to stick around\, the school will contact you with your winnings at their convenience. There will be Homecoming festivities\, End Zone & Tackle Cancer raffles\, Mini Football Toss and prior to the game\, introduction of this year’s recipients. KICK-OFF at 7pm. If you or your business would like to contribute to this event\, there is a few fun ways! for $50 you can be a Firstdown sponsor\, and for $100 you can be a touchdown sponsor. This means your name or business will be announced at a firstdown or touchdown. Please contact me or Coleman High School for details. you can also donate to either of our raffles. Raffle items will be dropped off at either Coleman school offices. Pre-order your Tackle cancer T-shirts by September 4th. That is the deadline to ensure we receive them on time. Money is due at the time of order. Send to Coleman High School. Adult sizes S-3X pink sleeves and the Youth sizes S-L only come in black sleeves.  It’s an event that keeps growing every year and we can’t wait to see what 2025 brings!🩷🧡🐾🖤🏈🖤🐾💚🩷 please stay tuned as we will post the T-shirt order form and prices of our raffle tickets or any updates. Thank you\, Oconto Falls Panthers for joining us in our fight against Breast Cancer. ￼
URL:https://upbarreview.com/event/colemans-13th-annual-tackle-cancer-game/
CATEGORIES:Menominee
END:VEVENT
END:VCALENDAR