BEGIN:VCALENDAR
VERSION:2.0
PRODID:-//UP BAR REVIEW - ECPv6.14.2//NONSGML v1.0//EN
CALSCALE:GREGORIAN
METHOD:PUBLISH
X-ORIGINAL-URL:https://upbarreview.com
X-WR-CALDESC:Events for UP BAR REVIEW
REFRESH-INTERVAL;VALUE=DURATION:PT1H
X-Robots-Tag:noindex
X-PUBLISHED-TTL:PT1H
BEGIN:VTIMEZONE
TZID:UTC
BEGIN:STANDARD
TZOFFSETFROM:+0000
TZOFFSETTO:+0000
TZNAME:UTC
DTSTART:20250101T000000
END:STANDARD
END:VTIMEZONE
BEGIN:VEVENT
DTSTART;TZID=UTC:20250717T173000
DTEND;TZID=UTC:20250717T190000
DTSTAMP:20260424T083408
CREATED:20250618T020427Z
LAST-MODIFIED:20250618T020427Z
UID:10004599-1752773400-1752778800@upbarreview.com
SUMMARY:McCrafties - Sweet Succulent - Menominee
DESCRIPTION:“Sweet Succulent\,” the perfect succulent! Easy to keep alive – NO light or water requirements!\nWhether you’re a plant novice or a seasoned green thumb\, this event is perfect for anyone looking to add a touch of greenery to their space without the stress of upkeep. Our instructor will provide step-by-step instructions\, ensuring you leave with a thriving plant that’s practically impossible to kill!\n**What to Expect:**• Comprehensive instructions to craft your own succulent.• A stencil provided to help you design and inspire your unique creation.• Tips on plant care\, so your new companion thrives for years to come.  Hint: It only needs a wall to hang on.• An opportunity to relaxe in fun environment with new and old friends.\nBring your creativity and an eagerness to learn\, and let’s paint some sweet succulents together! Don’t miss out on this chance to green up your life\, reserve your spot today!\nGet ready to unleash your inner plant artist!**When:** July 17\, 2025**Where:** Mccraftie’s 625 1st St\, Menominee\, MI**Cost:** $40\nPAYMENT IN ADVANCE OF $40 IS REQUIRED.\nCall 715-440-5959 orSign-up onlinehttps://mccraftiellc.square.site/\n\nCLASS REFUND POLICY:\n-full in studio credit if cancellation is 1 week prior to the class-50% in studio credit up to 24 hours prior to class.-less than 24 hours notice\, no credit-NO SHOW/ NO CALL/NO CREDIT
URL:https://upbarreview.com/event/mccrafties-sweet-succulent-menominee-2/
LOCATION:McCrafties\, 625 1st St\, Menominee\, MI\, 49858\, United States
CATEGORIES:Menominee
END:VEVENT
BEGIN:VEVENT
DTSTART;TZID=UTC:20250717T180000
DTEND;TZID=UTC:20250717T200000
DTSTAMP:20260424T083408
CREATED:20250428T134637Z
LAST-MODIFIED:20250430T013053Z
UID:10004250-1752775200-1752782400@upbarreview.com
SUMMARY:Elks Lodge - Music Bingo - Marinette
DESCRIPTION:Join us on the 3rd Thursday of the month for Music Bingo!
URL:https://upbarreview.com/event/elks-lodge-music-bingo-marinette/2025-07-17/
LOCATION:Elks Lodge #1313\, 430 Bridge St\, Marinette\, WI\, 54143
CATEGORIES:Menominee
END:VEVENT
BEGIN:VEVENT
DTSTART;TZID=UTC:20250717T180000
DTEND;TZID=UTC:20250717T200000
DTSTAMP:20260424T083408
CREATED:20250514T013631Z
LAST-MODIFIED:20250514T013631Z
UID:10004460-1752775200-1752782400@upbarreview.com
SUMMARY:Gladstone Beach - Summer Concert Series - Gladstone
DESCRIPTION:Summer concert every thursday night at gladstone beach
URL:https://upbarreview.com/event/gladstone-beach-summer-concert-series-gladstone/2025-07-17/
LOCATION:Gladstone Beach\, Gladstone\, MI
CATEGORIES:Menominee
END:VEVENT
BEGIN:VEVENT
DTSTART;TZID=UTC:20250717T180000
DTEND;TZID=UTC:20250717T200000
DTSTAMP:20260424T083408
CREATED:20250618T033352Z
LAST-MODIFIED:20250618T033352Z
UID:10004710-1752775200-1752782400@upbarreview.com
SUMMARY:Stephenson Island - Concert in the Park - Marinette
DESCRIPTION:Free Community Concert
URL:https://upbarreview.com/event/stephenson-island-concert-in-the-park-marinette/
LOCATION:Stephenson Island\, Marinette\, WI\, 54143
CATEGORIES:Menominee
END:VEVENT
BEGIN:VEVENT
DTSTART;TZID=UTC:20250717T180000
DTEND;TZID=UTC:20250717T200000
DTSTAMP:20260424T083408
CREATED:20250619T201330Z
LAST-MODIFIED:20250619T201330Z
UID:10004847-1752775200-1752782400@upbarreview.com
SUMMARY:Chenier's Reef - Thursday Night Bean Bags - Escanaba
DESCRIPTION:Bean Bag Tournament$5 EntryBlind Draw Partnerssign ups start @ 6:30pn and tournament starts at 7pm
URL:https://upbarreview.com/event/cheniers-reef-thursday-night-bean-bags-escanaba/2025-07-17/
LOCATION:Cheniers Reef\, 1629 Sheridan Rd\, Escanaba\, MI
CATEGORIES:Menominee
END:VEVENT
BEGIN:VEVENT
DTSTART;TZID=UTC:20250717T180000
DTEND;TZID=UTC:20250717T200000
DTSTAMP:20260424T083408
CREATED:20250620T143128Z
LAST-MODIFIED:20250620T143128Z
UID:10004976-1752775200-1752782400@upbarreview.com
SUMMARY:Gladstone Beach - Summer Concert Series
DESCRIPTION:Bring lawn chairs\, blankets\, coolers\, friends\, dogs (on a 6′ leash)\, and your dance moves!\nhttps://www.gladstonemi.gov/…/summer-concert-series…
URL:https://upbarreview.com/event/gladstone-beach-summer-concert-series-3/
LOCATION:Gladstone Beach\, Gladstone\, MI
CATEGORIES:Menominee
END:VEVENT
BEGIN:VEVENT
DTSTART;TZID=UTC:20250717T180000
DTEND;TZID=UTC:20250717T210000
DTSTAMP:20260424T083408
CREATED:20241001T040448Z
LAST-MODIFIED:20241001T040448Z
UID:10001895-1752775200-1752786000@upbarreview.com
SUMMARY:Spirit House -Trivia Night! - Menominee
DESCRIPTION:Trivia Night Thursday at Spirit House\, come check out this awesome event!!!!
URL:https://upbarreview.com/event/spirit-house-trivia-night-menominee/2025-07-17/
LOCATION:Spirit House\, 533 10th Ave\, Menominee\, MI 49858\, Menominee\, MI\, 49858\, United States
CATEGORIES:Menominee
END:VEVENT
BEGIN:VEVENT
DTSTART;TZID=UTC:20250717T180000
DTEND;TZID=UTC:20250717T210000
DTSTAMP:20260424T083408
CREATED:20250619T181241Z
LAST-MODIFIED:20250619T181241Z
UID:10004779-1752775200-1752786000@upbarreview.com
SUMMARY:Harmony Arboretum - "Plein Air" Art Therapy Group - Peshtigo
DESCRIPTION: Experience Creativity in the Open Air! \nReady to embrace nature and creativity this summer? Join us for En Plein Air Art Therapy + Mindfulness at Harmony Arboretum in Peshtigo\, WI! This unique outdoor art therapy group blends:\n Eco art therapy – using natural inspiration to guide your creativity Mindfulness practices – deepen your connection to nature En plein air art-making – create surrounded by the beauty of the outdoors\n Dates: 1st & 3rd Thursdays (June through August) Time: 6:00 PM – 8:00 PM Location: Harmony Arboretum\, N3890 County Road E\, Peshtigo\, WI 54157 Cost: $20 per participant\n Reserve Your Spot!\nCome breathe in the fresh air\, immerse yourself in nature\, and create something beautiful! 
URL:https://upbarreview.com/event/harmony-arboretum-plein-air-art-therapy-group-peshtigo/2025-07-17/
LOCATION:Harmony Arboretum\, N3890 County E\, Peshtigo\, WI\, 54157\, United States
CATEGORIES:Menominee
END:VEVENT
BEGIN:VEVENT
DTSTART;TZID=UTC:20250718T000000
DTEND;TZID=UTC:20250718T233000
DTSTAMP:20260424T083408
CREATED:20250618T030721Z
LAST-MODIFIED:20250618T030721Z
UID:10004669-1752796800-1752881400@upbarreview.com
SUMMARY:Green Acres Campground - 23rd Annual Cruisin Oldies Festival - Porterfield
DESCRIPTION:A three-day festival featuring live music\, classic cars\, tractors\, and motorbikes\, and a vibrant atmosphere.
URL:https://upbarreview.com/event/green-acres-campground-23rd-annual-cruisin-oldies-festival-porterfield/2025-07-18/
LOCATION:Green Acres Campground\, W3525 Peters Rd.\, Marinette\, WI
CATEGORIES:Menominee
END:VEVENT
BEGIN:VEVENT
DTSTART;TZID=UTC:20250718T083000
DTEND;TZID=UTC:20250718T120000
DTSTAMP:20260424T083408
CREATED:20250618T033011Z
LAST-MODIFIED:20250618T033011Z
UID:10004703-1752827400-1752840000@upbarreview.com
SUMMARY:NWTC Marinette - Trades & Engineering Exploration - Marinette
DESCRIPTION:Join us for a week-long Trades & Engineering Exploration this Summer!\nREGISTRATION IS NOW OPEN!Space is Limited! Be sure to secure your spot today!\nJuly 14-July 18\, 2025Monday-Thursday: 8:30a-3:30pFriday: 8:30a-12Noon\nSummer Camp Features:~Automation Engineering~Electro-Mechanical Technology~Welding~CNC/Machining\nCamp Open to those ages 12-16Camp Fee of ONLY $99 for the week.\nFee includes:-Breakfast\, Lunch\, Snacks-Breaktime activities-Interactive & Hands-On Manufacturing Activities-T-Shirt Giveaway-Activity Prizes/Campus Giveaways-Campus Tour-All created projects go home!\nRegistration: www.nwtc.edu/manufacturingcampFor Questions\, Call: 715-735-9361
URL:https://upbarreview.com/event/nwtc-marinette-trades-engineering-exploration-marinette/2025-07-18/
LOCATION:NWTC\, 1601 University Dr\, Marinette\, WI\, 54143
CATEGORIES:Menominee
END:VEVENT
BEGIN:VEVENT
DTSTART;TZID=UTC:20250718T090000
DTEND;TZID=UTC:20250718T100000
DTSTAMP:20260424T083408
CREATED:20250619T212004Z
LAST-MODIFIED:20250619T212004Z
UID:10004903-1752829200-1752832800@upbarreview.com
SUMMARY:Michigan DNR Pocket Park - Outdoor Yoga - Escanaba
DESCRIPTION:Unwind and reconnect with nature during gentle outdoor yoga sessions every Wednesday and Friday. Great for all ages and experience levels—just bring a mat or towel.
URL:https://upbarreview.com/event/michigan-dnr-pocket-park-outdoor-yoga-escanaba-2/2025-07-18/
LOCATION:Michigan DNR Pocket Park\, 2401 12th Avenue North\, Escanaba\, MI\, 49829
CATEGORIES:Menominee
END:VEVENT
BEGIN:VEVENT
DTSTART;TZID=UTC:20250718T100000
DTEND;TZID=UTC:20250718T120000
DTSTAMP:20260424T083408
CREATED:20250619T212205Z
LAST-MODIFIED:20250619T212205Z
UID:10004928-1752832800-1752840000@upbarreview.com
SUMMARY:Michigan DNR Pocket Park - Open Archery - Escanaba
DESCRIPTION:Take aim and sharpen your skills at the Pocket Park Archery Range. This supervised open session is perfect for beginners and enthusiasts alike.\nWe have all the equipment necessary.
URL:https://upbarreview.com/event/michigan-dnr-pocket-park-open-archery-escanaba/2025-07-18/
LOCATION:Michigan DNR Pocket Park\, 2401 12th Avenue North\, Escanaba\, MI\, 49829
CATEGORIES:Menominee
END:VEVENT
BEGIN:VEVENT
DTSTART;TZID=UTC:20250718T120000
DTEND;TZID=UTC:20250718T160000
DTSTAMP:20260424T083408
CREATED:20250620T135743Z
LAST-MODIFIED:20250620T135743Z
UID:10004953-1752840000-1752854400@upbarreview.com
SUMMARY:Shakey Lakes - Tickler Farm & Forest Products Petting Zoo - Stephenson
DESCRIPTION:Tickler Farm & Forest Products Petting Zoo is coming to the Menominee County Fair — and it’s FREE for everyone to enjoy!\nGet up close and personal with friendly farm animals in this hands-on\, interactive petting zoo. It’s the perfect stop for kids and animal lovers of all ages. Come meet the animals\, smiles and giggles guaranteed!\nDon’t miss this fun\, free experience at the fair!
URL:https://upbarreview.com/event/shakey-lakes-tickler-farm-forest-products-petting-zoo-stephenson/2025-07-18/
LOCATION:Shakey Lakes County Park\, N-8390 County Park Road\, Stephenson\, MI\, 49887
CATEGORIES:Menominee
END:VEVENT
BEGIN:VEVENT
DTSTART;TZID=UTC:20250718T120000
DTEND;TZID=UTC:20250718T160000
DTSTAMP:20260424T083408
CREATED:20250620T140229Z
LAST-MODIFIED:20250620T140229Z
UID:10004959-1752840000-1752854400@upbarreview.com
SUMMARY:Shakey Lakes - Mobil Escape Room - Stephenson
DESCRIPTION: Back by popular demand!Escape From Within Mobile Escape Room is returning to the Menominee County Fair — and it’s completely FREE!\nStep inside the mobile escape room and test your problem-solving skills with friends or family. Can you beat the clock and escape in time?\n Appointments fill up fast\, so be sure to schedule your spot early!\nDon’t miss this exciting\, mind-challenging adventure at the fair!
URL:https://upbarreview.com/event/shakey-lakes-mobil-escape-room-stephenson/2025-07-18/
CATEGORIES:Menominee
END:VEVENT
BEGIN:VEVENT
DTSTART;TZID=UTC:20250718T150000
DTEND;TZID=UTC:20250718T170000
DTSTAMP:20260424T083409
CREATED:20250619T211717Z
LAST-MODIFIED:20250619T211717Z
UID:10004894-1752850800-1752858000@upbarreview.com
SUMMARY:Michigan DNR Pocket Park - Hook Line and Sinker - Escanaba
DESCRIPTION:Learn basic fishing techniques in this interactive and educational session. Perfect for beginners looking to get started in Michigan’s favorite pastime.
URL:https://upbarreview.com/event/michigan-dnr-pocket-park-hook-line-and-sinker-escanaba/2025-07-18/
LOCATION:Michigan DNR Pocket Park\, 2401 12th Avenue North\, Escanaba\, MI\, 49829
CATEGORIES:Menominee
END:VEVENT
BEGIN:VEVENT
DTSTART;TZID=UTC:20250718T170000
DTEND;TZID=UTC:20250718T200000
DTSTAMP:20260424T083409
CREATED:20250619T192236Z
LAST-MODIFIED:20250619T192236Z
UID:10004829-1752858000-1752868800@upbarreview.com
SUMMARY:Upperhand Brewery - Friday Live Music - Escanaba
DESCRIPTION:Join us for live music every Sunday 2-5p and Friday 5-8p. Beginning June 1st through August 31st.
URL:https://upbarreview.com/event/upperhand-brewery-friday-live-music-escanaba/2025-07-18/
LOCATION:Upper Hand Brewery\, 3525 Airport Rd\, Escanaba\, WI\, 49829
CATEGORIES:Menominee
END:VEVENT
BEGIN:VEVENT
DTSTART;TZID=UTC:20250718T190000
DTEND;TZID=UTC:20250718T230000
DTSTAMP:20260424T083409
CREATED:20250619T164636Z
LAST-MODIFIED:20250619T164636Z
UID:10004774-1752865200-1752879600@upbarreview.com
SUMMARY:The Rustic - Just About Right - Athelstane
DESCRIPTION:
URL:https://upbarreview.com/event/the-rustic-just-about-right-athelstane/
LOCATION:The Rustic\, W14030 HWY C\, Athelstane\, WI
CATEGORIES:Menominee
END:VEVENT
BEGIN:VEVENT
DTSTART;TZID=UTC:20250718T193000
DTEND;TZID=UTC:20250718T210000
DTSTAMP:20260424T083409
CREATED:20250619T192524Z
LAST-MODIFIED:20250619T192524Z
UID:10004837-1752867000-1752872400@upbarreview.com
SUMMARY:Ludington Park - 7th Annual GLOW Run/Walk - Escanaba
DESCRIPTION: IT’S BACK — and brighter than ever! \n The 7th Annual GLOW RUN/WALK is lighting up Ludington Park once again!\n Ludington Park – Bandshell FRIDAY\, JULY 18 |  Glow kicks off at sunset ENTRY? Just 1 NEW pair of gym shoes (Sz 1–10) for school-aged kids! TWO PAIRS covers your whole household!\nThis isn’t just a run—it’s a NEON-FUELED NIGHT OF IMPACT.Every step helps us get NEW shoes on REAL kids heading back to school this Fall.Every laugh\, every glow stick\, every pair of sneakers you bring brings hope.\n Dance. Run. Walk. SHINE. Come glow with us for a cause that matters.\n Wear your wildest NEON. Bring your best crew. Show up. Light it up. Change lives.\nALL ARE WELCOME.NO REGISTRATION.JUST SHOES + HOPE + FUN.\nAll shoes are given away at the Annual Mission of HOPE event!Sunday July 27 from 3-5pm inside the Ruth Butler Building at the U.P. State Fairgrounds
URL:https://upbarreview.com/event/ludington-park-7th-annual-glow-run-walk-escanaba/
LOCATION:Ludington Park\, Es
CATEGORIES:Menominee
END:VEVENT
BEGIN:VEVENT
DTSTART;TZID=UTC:20250718T200000
DTEND;TZID=UTC:20250718T230000
DTSTAMP:20260424T083409
CREATED:20250207T191746Z
LAST-MODIFIED:20250207T191746Z
UID:10002963-1752868800-1752879600@upbarreview.com
SUMMARY:The Granada - Karaoke Night - Escanaba
DESCRIPTION:Welcome to the Hottest Karaoke show in Town! Every Friday at The Granada in Escanaba\, MI Starts at 9:00 pm\nCreate your FREE Performer Account with Songbooks Online App to Browse the Karaoke song library\, keep a favorites list and submit your song requests remotely! Use Show ID: MSK23 after you create your account. You can also just tell me your name and the song you want if you don’t know how to install an app.
URL:https://upbarreview.com/event/the-granada-karaoke-night-escanaba/2025-07-18/
LOCATION:The Granada\, 330 S 10th St\, Escanaba\, MI
CATEGORIES:Menominee
END:VEVENT
BEGIN:VEVENT
DTSTART;TZID=UTC:20250718T200000
DTEND;TZID=UTC:20250718T233000
DTSTAMP:20260424T083409
CREATED:20250619T162735Z
LAST-MODIFIED:20250619T162735Z
UID:10004760-1752868800-1752881400@upbarreview.com
SUMMARY:Boo's II - Karaoke Idol Contest - Oconto
DESCRIPTION: Round 2 – Let’s turn up the heat!Missed your shot in June? This is your next chance to qualify for the Oconto Karaoke Idol Finale!\n Top 5 singers earn a spot in the Finals Best of the night wins a $25 bar tab\nEven if you’ve already qualified — come out\, sing for fun\, or cheer on your friends! It’s going to be a night full of talent and energy.\n Sign-ups at 8 PM — arrive early and bring the vibe!
URL:https://upbarreview.com/event/boos-ii-karaoke-idol-contest-oconto/
LOCATION:Boo’s II\, 914 Main St\, Oconto\, WI
CATEGORIES:Menominee
END:VEVENT
BEGIN:VEVENT
DTSTART;TZID=UTC:20250719T000000
DTEND;TZID=UTC:20250719T233000
DTSTAMP:20260424T083409
CREATED:20250618T030721Z
LAST-MODIFIED:20250618T030721Z
UID:10004670-1752883200-1752967800@upbarreview.com
SUMMARY:Green Acres Campground - 23rd Annual Cruisin Oldies Festival - Porterfield
DESCRIPTION:A three-day festival featuring live music\, classic cars\, tractors\, and motorbikes\, and a vibrant atmosphere.
URL:https://upbarreview.com/event/green-acres-campground-23rd-annual-cruisin-oldies-festival-porterfield/2025-07-19/
LOCATION:Green Acres Campground\, W3525 Peters Rd.\, Marinette\, WI
CATEGORIES:Menominee
END:VEVENT
BEGIN:VEVENT
DTSTART;TZID=UTC:20250719T080000
DTEND;TZID=UTC:20250719T090000
DTSTAMP:20260424T083409
CREATED:20250618T014719Z
LAST-MODIFIED:20250618T014719Z
UID:10004563-1752912000-1752915600@upbarreview.com
SUMMARY:Free Yoga in The Park - Menominee Bandshell
DESCRIPTION:Join us for a peaceful start to your Saturday with FREE yoga by the water! Breathe\, stretch\, and relax with us in the park- Its the perfect way to welcome the weekend!\nBring a yoga mat\, water\, and a friend! Beginners welcome
URL:https://upbarreview.com/event/free-yoga-in-the-park-menominee-bandshell/2025-07-19/
LOCATION:Menominee Bandshell\, 1000 1st St\, Menominee\, MI\, 49858
CATEGORIES:Menominee
END:VEVENT
BEGIN:VEVENT
DTSTART;TZID=UTC:20250719T090000
DTEND;TZID=UTC:20250719T120000
DTSTAMP:20260424T083409
CREATED:20250428T124102Z
LAST-MODIFIED:20250428T124921Z
UID:10004208-1752915600-1752926400@upbarreview.com
SUMMARY:Menominee Historic Downtown Farmers Market
DESCRIPTION:The countdown is on! Join us at Spies Public Library Parking Lot on May 24\, 2025\, from 9 AM to 12 PM for the grand opening of the Menominee Historic Downtown Farmers Market—and don’t forget\, we’ll be here every Saturday after that!\nEach week\, we’ll spotlight one of our amazing returning vendors\, and this week\, we’re thrilled to feature Rabbitry & Yarn LLC! ��\nGet ready for a stunning selection of: � Handspun yarn & handmade knitwear/crochet items\, designed and created with love � Naturally dyed mill-spun wool yarns using plants and insects for a truly one-of-a-kind touch � A special mill-spun blend of local sheep & angora fiber (if the mill finishes it in time!) � Beautiful handmade wood items—bowls\, honey dippers\, toys\, all crafted from local woods � A custom-designed organic cotton tote bag (because\, of course\, it features an adorable rabbit!)\nDon’t miss out on this fantastic opportunity to shop local\, support artisans\, and be part of something special. Mark your calendars and we’ll see you there!\n#FarmersMarket #ShopLocal #HandmadeGoods #RabbitryAndYarn #MenomineeMarket
URL:https://upbarreview.com/event/menominee-historic-downtown-farmers-market-5/2025-07-19/
LOCATION:Spies Public Library\, 940 1st St.\, Menominee\, MI\, 49858
CATEGORIES:Menominee
END:VEVENT
BEGIN:VEVENT
DTSTART;TZID=UTC:20250719T100000
DTEND;TZID=UTC:20250719T110000
DTSTAMP:20260424T083409
CREATED:20250618T023538Z
LAST-MODIFIED:20250618T023618Z
UID:10004617-1752919200-1752922800@upbarreview.com
SUMMARY:Spies Library - Magic The Gathering Club - Menominee
DESCRIPTION:Are you a planeswalker in the making? Ready to cast spells\, summon creatures\, and battle for glory?\nCome join our Magic: The Gathering Club — a fun\, casual meet-up for ages 13 and up! Whether you’re a seasoned player or totally new to the game\, all are welcome.\nNo cards? No problem! We can provide all the supplies you need!
URL:https://upbarreview.com/event/spies-library-magic-the-gathering-club-menominee/2025-07-19/
LOCATION:Spies Public Library\, 940 1st St.\, Menominee\, MI\, 49858
CATEGORIES:Menominee
END:VEVENT
BEGIN:VEVENT
DTSTART;TZID=UTC:20250719T100000
DTEND;TZID=UTC:20250719T120000
DTSTAMP:20260424T083409
CREATED:20250619T212205Z
LAST-MODIFIED:20250619T212205Z
UID:10004929-1752919200-1752926400@upbarreview.com
SUMMARY:Michigan DNR Pocket Park - Open Archery - Escanaba
DESCRIPTION:Take aim and sharpen your skills at the Pocket Park Archery Range. This supervised open session is perfect for beginners and enthusiasts alike.\nWe have all the equipment necessary.
URL:https://upbarreview.com/event/michigan-dnr-pocket-park-open-archery-escanaba/2025-07-19/
LOCATION:Michigan DNR Pocket Park\, 2401 12th Avenue North\, Escanaba\, MI\, 49829
CATEGORIES:Menominee
END:VEVENT
BEGIN:VEVENT
DTSTART;TZID=UTC:20250719T100000
DTEND;TZID=UTC:20250719T140000
DTSTAMP:20260424T083409
CREATED:20250207T201054Z
LAST-MODIFIED:20250207T201054Z
UID:10003122-1752919200-1752933600@upbarreview.com
SUMMARY:Blazing Bear Homestead - Baby Goat Cuddle Sessions - Peshtigo
DESCRIPTION:Tiny hooves\, big hearts: Get your cuddles & giggles in with our baby goats!\nBlazing Bear Homestead is excited to offer Baby Goat Cuddle Sessions again in 2025! Immerse yourself in a world of cuddly goats\, where soft fur\, warm snuggles\, and contagious laughter await. Bring your loved ones or come solo – our friendly goats are here to make your heart happy. Casi will be there to answer any questions you have\, help you get some great pictures\, and tell you all about our little herd.\nPrice is per person participating\, maximum of 6 per time slot. Each person will get a small cup of grain to feed to the goats that are old enough to have them. We provide benches for you to sit on and each guest gets a complimentary beverage to enjoy.\nIf you would like a private session\, you are welcome to buy out all tickets for that time slot\, or contact us to set up a special session time. Please arrive 5 minutes early to sign waivers. Adults MUST accompany children 12 years of age and under at all times. Children 24 months and under get in free. Human attendees only\, no dogs/pets/outside animals of any kind.\nNOTE: These tickets are non-refundable. Baby Goat Cuddle Sessions are held in our detached garage\, rain or shine. The room is not climate controlled so please dress for the weather. We do not yet have a public restroom\, so please plan accordingly.\nSaturdaysMarch-July30 minute sessions starting at 10am\, 10:40am\, 11:20am\, 12pm\, 12:40pm\, 1:20pm\, and 2pm.\nBuy tickets here: https://www.blazingbearhomestead.net/goatevents
URL:https://upbarreview.com/event/blazing-bear-homestead-baby-goat-cuddle-sessions-peshtigo/2025-07-19/
LOCATION:Blazing Bear Homestead\, W3070 Hale School Rd\, Peshtigo\, WI\, 54157
CATEGORIES:Menominee
END:VEVENT
BEGIN:VEVENT
DTSTART;TZID=UTC:20250719T103000
DTEND;TZID=UTC:20250719T230000
DTSTAMP:20260424T083409
CREATED:20250619T184250Z
LAST-MODIFIED:20250619T184250Z
UID:10004804-1752921000-1752966000@upbarreview.com
SUMMARY:Coleman Fire Dept 30th Annual Picnic
DESCRIPTION:Friday\, July 18th•Youth Baseball•Leather and Lace Entertainement 6pm to 9pm\nSaturday\, July 19th•Parade 10:30 am•Youth Baseball•Volleyball Tournament•Cornhole Tournament•Many Raffles\nAll proceeds go towards equiptment purchases.
URL:https://upbarreview.com/event/coleman-fire-dept-30th-annual-picnic/
CATEGORIES:Menominee
END:VEVENT
BEGIN:VEVENT
DTSTART;TZID=UTC:20250719T120000
DTEND;TZID=UTC:20250719T160000
DTSTAMP:20260424T083409
CREATED:20250620T135743Z
LAST-MODIFIED:20250620T135743Z
UID:10004954-1752926400-1752940800@upbarreview.com
SUMMARY:Shakey Lakes - Tickler Farm & Forest Products Petting Zoo - Stephenson
DESCRIPTION:Tickler Farm & Forest Products Petting Zoo is coming to the Menominee County Fair — and it’s FREE for everyone to enjoy!\nGet up close and personal with friendly farm animals in this hands-on\, interactive petting zoo. It’s the perfect stop for kids and animal lovers of all ages. Come meet the animals\, smiles and giggles guaranteed!\nDon’t miss this fun\, free experience at the fair!
URL:https://upbarreview.com/event/shakey-lakes-tickler-farm-forest-products-petting-zoo-stephenson/2025-07-19/
LOCATION:Shakey Lakes County Park\, N-8390 County Park Road\, Stephenson\, MI\, 49887
CATEGORIES:Menominee
END:VEVENT
BEGIN:VEVENT
DTSTART;TZID=UTC:20250719T120000
DTEND;TZID=UTC:20250719T160000
DTSTAMP:20260424T083409
CREATED:20250620T140229Z
LAST-MODIFIED:20250620T140229Z
UID:10004960-1752926400-1752940800@upbarreview.com
SUMMARY:Shakey Lakes - Mobil Escape Room - Stephenson
DESCRIPTION: Back by popular demand!Escape From Within Mobile Escape Room is returning to the Menominee County Fair — and it’s completely FREE!\nStep inside the mobile escape room and test your problem-solving skills with friends or family. Can you beat the clock and escape in time?\n Appointments fill up fast\, so be sure to schedule your spot early!\nDon’t miss this exciting\, mind-challenging adventure at the fair!
URL:https://upbarreview.com/event/shakey-lakes-mobil-escape-room-stephenson/2025-07-19/
CATEGORIES:Menominee
END:VEVENT
BEGIN:VEVENT
DTSTART;TZID=UTC:20250719T130000
DTEND;TZID=UTC:20250719T160000
DTSTAMP:20260424T083409
CREATED:20250619T182253Z
LAST-MODIFIED:20250619T182253Z
UID:10004788-1752930000-1752940800@upbarreview.com
SUMMARY:Forgotten Fire Winery - Kevin Murphy - Peshtigo
DESCRIPTION:Food grilled and served by the Town of Peshtigo Fire Department!\nLawn chairs are welcome\, as picnic table space fills up quick! Enjoy live music outside\, featuring Campfire Kevin Murphy\, with a glass of your favorite Forgotten Fire wine or hard cider! Don’t forget to grab lunch from the Town of Peshtigo Fire Department!\n*Friendly reminder\, alcoholic carry ins are prohibited per state law! **Well behaved and leashed dogs are welcome!
URL:https://upbarreview.com/event/forgotten-fire-winery-kevin-murphy-peshtigo/
LOCATION:Forgotten Fire Winery\, N2393 Schacht Road\, Marinette\, WI\, 54143\, United States
CATEGORIES:Menominee
END:VEVENT
END:VCALENDAR