BEGIN:VCALENDAR
VERSION:2.0
PRODID:-//UP BAR REVIEW - ECPv6.14.2//NONSGML v1.0//EN
CALSCALE:GREGORIAN
METHOD:PUBLISH
X-WR-CALNAME:UP BAR REVIEW
X-ORIGINAL-URL:https://upbarreview.com
X-WR-CALDESC:Events for UP BAR REVIEW
REFRESH-INTERVAL;VALUE=DURATION:PT1H
X-Robots-Tag:noindex
X-PUBLISHED-TTL:PT1H
BEGIN:VTIMEZONE
TZID:UTC
BEGIN:STANDARD
TZOFFSETFROM:+0000
TZOFFSETTO:+0000
TZNAME:UTC
DTSTART:20250101T000000
END:STANDARD
END:VTIMEZONE
BEGIN:VEVENT
DTSTART;TZID=UTC:20250703T080000
DTEND;TZID=UTC:20250703T170000
DTSTAMP:20260424T145420
CREATED:20241202T212718Z
LAST-MODIFIED:20241202T212718Z
UID:10002554-1751529600-1751562000@upbarreview.com
SUMMARY:Biehl Bridges to Recovery - Overeaters Anonymous - Marinette
DESCRIPTION:A new year! A new you! Want to know if you’re an overeater? Struggling to find support? Wanting support? Come join us on Thursday evenings from 5:30pm-6:30pm.
URL:https://upbarreview.com/event/biehl-bridges-to-recovery-overeaters-anonymous-marinette/2025-07-03/
LOCATION:Biehl Bridge To Recovery\, 3123 Shore Dr\, Marinette\, WI\, 54143
CATEGORIES:Menominee
END:VEVENT
BEGIN:VEVENT
DTSTART;TZID=UTC:20250703T090000
DTEND;TZID=UTC:20250703T140000
DTSTAMP:20260424T145420
CREATED:20250619T154258Z
LAST-MODIFIED:20250619T154258Z
UID:10004719-1751533200-1751551200@upbarreview.com
SUMMARY:Crivitz Flea & Farmers Market
DESCRIPTION:Hand made crafts\, glassware\, clothing\, books\, collectibles\, soaps\, household items\, jewelry\, home decor\, seasonal items\, food\, beverages\, baked goods\, and so much more!
URL:https://upbarreview.com/event/crivitz-flea-farmers-market-2/2025-07-03/
LOCATION:800 Henriette Ave\, Crivitz\, WI
CATEGORIES:Menominee
END:VEVENT
BEGIN:VEVENT
DTSTART;TZID=UTC:20250703T100000
DTEND;TZID=UTC:20250703T120000
DTSTAMP:20260424T145420
CREATED:20250619T212205Z
LAST-MODIFIED:20250619T212205Z
UID:10004917-1751536800-1751544000@upbarreview.com
SUMMARY:Michigan DNR Pocket Park - Open Archery - Escanaba
DESCRIPTION:Take aim and sharpen your skills at the Pocket Park Archery Range. This supervised open session is perfect for beginners and enthusiasts alike.\nWe have all the equipment necessary.
URL:https://upbarreview.com/event/michigan-dnr-pocket-park-open-archery-escanaba/2025-07-03/
LOCATION:Michigan DNR Pocket Park\, 2401 12th Avenue North\, Escanaba\, MI\, 49829
CATEGORIES:Menominee
END:VEVENT
BEGIN:VEVENT
DTSTART;TZID=UTC:20250703T100000
DTEND;TZID=UTC:20250703T233000
DTSTAMP:20260424T145420
CREATED:20241029T145445Z
LAST-MODIFIED:20241029T145445Z
UID:10002253-1751536800-1751585400@upbarreview.com
SUMMARY:Alibi's - Free Pool Thursdays - Marinette
DESCRIPTION:Free Pool!!
URL:https://upbarreview.com/event/alibis-free-pool-thursdays-marinette/2025-07-03/
LOCATION:ALiBi Bar & Grill\, 829 Main St\, Marinette\, WI\, 54143\, United States
CATEGORIES:Menominee
END:VEVENT
BEGIN:VEVENT
DTSTART;TZID=UTC:20250703T103000
DTEND;TZID=UTC:20250703T120000
DTSTAMP:20260424T145420
CREATED:20250619T200541Z
LAST-MODIFIED:20250619T200541Z
UID:10004841-1751538600-1751544000@upbarreview.com
SUMMARY:Escanaba Public Library - Live on the Lawn at Lunch - Escanaba
DESCRIPTION:The Cloverland Band hails from Michigan’s Upper Peninsula\, a landscape that’s been cutover and cultivated\, regrown and regenerated. Cloverland charts a distinctive musical topography by blending driving bluegrass\, old-time melodies\, soulful harmonies\, classic country\, and the timeless energy of rock. Combining their own original compositions with traditional American music\, Cloverland’s sound pays homage to the past while growing something fresh\, vibrant\, and uniquely theirs.\nBring your chair or blanket\, pack a picnic lunch\, or stop by Bobaloon’s Food Truck or Main Squeeze Lemonade and enjoy the library’s second concert of the 2025 Live on the Lawn at Lunch series.\nThis series is funded in part by a Michigan Arts & Culture Council grant (www.michiganbusiness.org/industries/macc/) and the Friends of the Escanaba Public Library.
URL:https://upbarreview.com/event/escanaba-public-library-live-on-the-lawn-at-lunch-escanaba/
LOCATION:Escanaba Public Library\, 400 Ludington St\, Escanaba\, WI\, 49829
CATEGORIES:Menominee
END:VEVENT
BEGIN:VEVENT
DTSTART;TZID=UTC:20250703T110000
DTEND;TZID=UTC:20250703T193000
DTSTAMP:20260424T145420
CREATED:20250619T185358Z
LAST-MODIFIED:20250619T185358Z
UID:10004811-1751540400-1751571000@upbarreview.com
SUMMARY:Upper Hand Brewery - Red\, White\, & Beer - Escanaba
DESCRIPTION:Start your holiday weekend off right with sunshine\, tunes\, & brews!The Pierogi Rig will be on site @ 12pm.Anna p.s. is taking the stage @ 5pm.
URL:https://upbarreview.com/event/upper-hand-brewery-red-white-beer-escanaba/
LOCATION:Upper Hand Brewery\, 3525 Airport Rd\, Escanaba\, WI\, 49829
CATEGORIES:Menominee
END:VEVENT
BEGIN:VEVENT
DTSTART;TZID=UTC:20250703T130000
DTEND;TZID=UTC:20250703T180000
DTSTAMP:20260424T145420
CREATED:20250619T161501Z
LAST-MODIFIED:20250619T161501Z
UID:10004749-1751547600-1751565600@upbarreview.com
SUMMARY:Farnsworth Public Library - Bingo For All - Oconto
DESCRIPTION:Happiness is yelling BINGO!! Come play Bingo with us and win some prizes!! This is a free event\, open to all. Come for a little bit or the full 2 hours.
URL:https://upbarreview.com/event/farnsworth-public-library-bingo-for-all-oconto-3/
LOCATION:Farnsworth Public Library\, 715 Main St\, Oconto\, WI
CATEGORIES:Menominee
END:VEVENT
BEGIN:VEVENT
DTSTART;TZID=UTC:20250703T150000
DTEND;TZID=UTC:20250703T190000
DTSTAMP:20260424T145420
CREATED:20250428T124346Z
LAST-MODIFIED:20250428T124346Z
UID:10004219-1751554800-1751569200@upbarreview.com
SUMMARY:Menominee Waterfront Market
DESCRIPTION: Join us on Thursday\, May 29\, from 3 PM to 7 PM\, and every Thursday through August 28\, 2025.\nExplore a vibrant marketplace featuring farmers\, crafters\, artists\, food trucks\, and more! Leading up to the Grand Opening\, we’ll spotlight one of our returning vendors each week.\nThis week\, we’re highlighting Schwittay Farms—a long-standing name in the farming community and the founder of Harmony Market in 2021. Now\, you have the opportunity to experience their farm-fresh market at the Menominee Waterfront Market every Thursday! Come check out their meats\, eggs\, fruits\, vegetables\, seafood\, and more. Help us welcome them back at our Grand Opening!\nWe’re still looking for more vendors! If you’re a farmer\, crafter\, direct sales vendor\, nonprofit\, school\, or church group\, we’d love for you to join us at our Thursday Market.\nFind our application on our website: https://menomineefarmersmarket.com.\nSee you at the market!”
URL:https://upbarreview.com/event/menominee-waterfront-market/2025-07-03/
LOCATION:Downtown Menominee
CATEGORIES:Menominee
END:VEVENT
BEGIN:VEVENT
DTSTART;TZID=UTC:20250703T170000
DTEND;TZID=UTC:20250703T200000
DTSTAMP:20260424T145420
CREATED:20250619T181330Z
LAST-MODIFIED:20250619T181330Z
UID:10004782-1751562000-1751572800@upbarreview.com
SUMMARY:The Outback - Josh Friedland - Peshtigo
DESCRIPTION:Stop in and check out Josh play some of your favorite songs
URL:https://upbarreview.com/event/the-outback-josh-friedland-peshtigo/
LOCATION:The Outback\, 1997 Old Peshtigo Rd\, Marinette\, WI\, 54143\, United States
CATEGORIES:Menominee
END:VEVENT
BEGIN:VEVENT
DTSTART;TZID=UTC:20250703T180000
DTEND;TZID=UTC:20250703T200000
DTSTAMP:20260424T145420
CREATED:20250514T013631Z
LAST-MODIFIED:20250514T013631Z
UID:10004458-1751565600-1751572800@upbarreview.com
SUMMARY:Gladstone Beach - Summer Concert Series - Gladstone
DESCRIPTION:Summer concert every thursday night at gladstone beach
URL:https://upbarreview.com/event/gladstone-beach-summer-concert-series-gladstone/2025-07-03/
LOCATION:Gladstone Beach\, Gladstone\, MI
CATEGORIES:Menominee
END:VEVENT
BEGIN:VEVENT
DTSTART;TZID=UTC:20250703T180000
DTEND;TZID=UTC:20250703T200000
DTSTAMP:20260424T145420
CREATED:20250619T201330Z
LAST-MODIFIED:20250619T201330Z
UID:10004845-1751565600-1751572800@upbarreview.com
SUMMARY:Chenier's Reef - Thursday Night Bean Bags - Escanaba
DESCRIPTION:Bean Bag Tournament$5 EntryBlind Draw Partnerssign ups start @ 6:30pn and tournament starts at 7pm
URL:https://upbarreview.com/event/cheniers-reef-thursday-night-bean-bags-escanaba/2025-07-03/
LOCATION:Cheniers Reef\, 1629 Sheridan Rd\, Escanaba\, MI
CATEGORIES:Menominee
END:VEVENT
BEGIN:VEVENT
DTSTART;TZID=UTC:20250703T180000
DTEND;TZID=UTC:20250703T210000
DTSTAMP:20260424T145420
CREATED:20241001T040448Z
LAST-MODIFIED:20241001T040448Z
UID:10001893-1751565600-1751576400@upbarreview.com
SUMMARY:Spirit House -Trivia Night! - Menominee
DESCRIPTION:Trivia Night Thursday at Spirit House\, come check out this awesome event!!!!
URL:https://upbarreview.com/event/spirit-house-trivia-night-menominee/2025-07-03/
LOCATION:Spirit House\, 533 10th Ave\, Menominee\, MI 49858\, Menominee\, MI\, 49858\, United States
CATEGORIES:Menominee
END:VEVENT
BEGIN:VEVENT
DTSTART;TZID=UTC:20250703T183000
DTEND;TZID=UTC:20250703T200000
DTSTAMP:20260424T145420
CREATED:20250619T182902Z
LAST-MODIFIED:20250619T182902Z
UID:10004793-1751567400-1751572800@upbarreview.com
SUMMARY:Forgotten Fire Winery - Book Club Meeting Young Adult - Peshtigo
DESCRIPTION:Meet new friends\, find book recommendations\, and vote for our next book to read!Each month offers a different genre or theme to help expand your TBR! Attending members on meeting nights\, vote from a selection of 6 books in the next month’s genre\, (January’s meeting we will vote for February’s book selection) and the most voted book is what we read!\nAll are welcome to join! Request a membership to our Facebook page to stay in the know!\nhttps://www.facebook.com/share/g/19oS5S7ncC/
URL:https://upbarreview.com/event/forgotten-fire-winery-book-club-meeting-young-adult-peshtigo/
LOCATION:Forgotten Fire Winery\, N2393 Schacht Road\, Marinette\, WI\, 54143\, United States
CATEGORIES:Menominee
END:VEVENT
BEGIN:VEVENT
DTSTART;TZID=UTC:20250703T190000
DTEND;TZID=UTC:20250703T230000
DTSTAMP:20260424T145420
CREATED:20250618T032525Z
LAST-MODIFIED:20250618T032525Z
UID:10004697-1751569200-1751583600@upbarreview.com
SUMMARY:The Lodge - Hale & Hall - Marinette
DESCRIPTION:For the past 3 years\, Hale & Hall has been turning what everyone thinks acoustic music is on its side and serving it up in a brand new way. Spanning almost 100 years of musical history\, this duo has found a way to bring the best of every sound in music to their community. They have aptly chosen the slogan\, “every genre\, every decade\, every time\,” to represent everything they are. Come experience the new side of acoustic music with Aviva and Ron of Hale & Hall.
URL:https://upbarreview.com/event/the-lodge-hale-hall-marinette/
LOCATION:The Lodge\, 1333 Main St\, Marinette\, WI
CATEGORIES:Menominee
END:VEVENT
BEGIN:VEVENT
DTSTART;TZID=UTC:20250704T070000
DTEND;TZID=UTC:20250704T103000
DTSTAMP:20260424T145420
CREATED:20250620T143808Z
LAST-MODIFIED:20250620T143808Z
UID:10004978-1751612400-1751625000@upbarreview.com
SUMMARY:Gladstone Large Pavillion - Fran Cannon Firecracker Run/Walk
DESCRIPTION:All age groups are encouraged to enter and the race fee includes a T-Shirt for all runners and walkers while supplies last. Trophies will be awarded to the overall female and male runners with medals going to 1st\, 2nd\, and 3rd place finishers in the various age categories. Cost for Runners is $35. Ages 12 and under is $20. Cost for Walkers is $20. Cost for the Kids Fun Run is $15.\nPre-registers may pick up race material on July 2nd\, between 4pm and 6pm (EST) at the large pavilion located across from the Gladstone State Police Post on 9th Street and Minneapolis Ave.\nOSF Kid’s Fun Run will start at 8:00am followed by the 5 mile run and the 2.5 mile walk.\nRegister using the link below! https://www.gladstonemi.gov/…/firecracker-and-one-mile…
URL:https://upbarreview.com/event/gladstone-large-pavillion-fran-cannon-firecracker-run-walk/
CATEGORIES:Menominee
END:VEVENT
BEGIN:VEVENT
DTSTART;TZID=UTC:20250704T090000
DTEND;TZID=UTC:20250704T100000
DTSTAMP:20260424T145420
CREATED:20250619T212004Z
LAST-MODIFIED:20250619T212004Z
UID:10004901-1751619600-1751623200@upbarreview.com
SUMMARY:Michigan DNR Pocket Park - Outdoor Yoga - Escanaba
DESCRIPTION:Unwind and reconnect with nature during gentle outdoor yoga sessions every Wednesday and Friday. Great for all ages and experience levels—just bring a mat or towel.
URL:https://upbarreview.com/event/michigan-dnr-pocket-park-outdoor-yoga-escanaba-2/2025-07-04/
LOCATION:Michigan DNR Pocket Park\, 2401 12th Avenue North\, Escanaba\, MI\, 49829
CATEGORIES:Menominee
END:VEVENT
BEGIN:VEVENT
DTSTART;TZID=UTC:20250704T090000
DTEND;TZID=UTC:20250704T213000
DTSTAMP:20260424T145420
CREATED:20250619T154351Z
LAST-MODIFIED:20250619T154351Z
UID:10004728-1751619600-1751664600@upbarreview.com
SUMMARY:Crivitz 4th of July
DESCRIPTION:Flea and Farmers Market in downtown Crivitz 9-2Parade begins at 11amDJ at the Crivitz Community Veterans Park noon-6pmFood and beverages served all day in the ParkUNTIL DAWN THE BAND 6-9pmMassive Fireworks Display at 9:30pmVisit villageofcrivitz.com for full details
URL:https://upbarreview.com/event/crivitz-4th-of-july/
LOCATION:800 Henriette Ave\, Crivitz\, WI
CATEGORIES:Menominee
END:VEVENT
BEGIN:VEVENT
DTSTART;TZID=UTC:20250704T100000
DTEND;TZID=UTC:20250704T120000
DTSTAMP:20260424T145420
CREATED:20250619T212205Z
LAST-MODIFIED:20250619T212205Z
UID:10004918-1751623200-1751630400@upbarreview.com
SUMMARY:Michigan DNR Pocket Park - Open Archery - Escanaba
DESCRIPTION:Take aim and sharpen your skills at the Pocket Park Archery Range. This supervised open session is perfect for beginners and enthusiasts alike.\nWe have all the equipment necessary.
URL:https://upbarreview.com/event/michigan-dnr-pocket-park-open-archery-escanaba/2025-07-04/
LOCATION:Michigan DNR Pocket Park\, 2401 12th Avenue North\, Escanaba\, MI\, 49829
CATEGORIES:Menominee
END:VEVENT
BEGIN:VEVENT
DTSTART;TZID=UTC:20250704T100000
DTEND;TZID=UTC:20250704T120000
DTSTAMP:20260424T145420
CREATED:20250620T144212Z
LAST-MODIFIED:20250620T144212Z
UID:10004981-1751623200-1751630400@upbarreview.com
SUMMARY:Van Cleve Park - US Professional Log Rolling Open - Gladstone
DESCRIPTION:For the seventh consecutive year\, Gladstone’s Annual 4th of July Festival will include the US Log Rolling Open\, now in its 9th Annual competition. Returning to Gladstone this year will be the Boom Running competition to immediately follow Log Rolling contests.\nThroughout the 1980’s and 90’s\, Gladstone hosted several pro log rolling events\, including the 1999 Log Rolling World Championships. US Log Rolling Open is proud to add to that legacy.
URL:https://upbarreview.com/event/van-cleve-park-us-professional-log-rolling-open-gladstone/
LOCATION:Van Cleve Park\, Gladstone\, MI
CATEGORIES:Menominee
END:VEVENT
BEGIN:VEVENT
DTSTART;TZID=UTC:20250704T100000
DTEND;TZID=UTC:20250704T210000
DTSTAMP:20260424T145420
CREATED:20250620T141837Z
LAST-MODIFIED:20250620T141837Z
UID:10004968-1751623200-1751662800@upbarreview.com
SUMMARY:Gladstone 4th of July
DESCRIPTION:Van Cleve Park promises to be packed with all of the events\, activities\, and vendors you’ve grown to expect and love!\n11:00 AM – Log Rolling Competitions Begin (This will take place throughout the day)\n Music at the Ballfield Band Stand:1:00 PM – Chad Borgen & the Collective4:00 PM – Tim Hirn & Co7:00 PM – Big Al & The Tomata’s\nFireworks at Dusk! \nCheck out our webpage for more information on the day!https://www.gladstonemi.gov/par…/page/4th-july-celebration
URL:https://upbarreview.com/event/gladstone-4th-of-july/
LOCATION:Van Cleve Park\, Gladstone\, MI
CATEGORIES:Menominee
END:VEVENT
BEGIN:VEVENT
DTSTART;TZID=UTC:20250704T120000
DTEND;TZID=UTC:20250704T213000
DTSTAMP:20260424T145420
CREATED:20250618T013321Z
LAST-MODIFIED:20250618T013321Z
UID:10004551-1751630400-1751664600@upbarreview.com
SUMMARY:Menominee 2025 4TH OF JULY
DESCRIPTION:Let’s celebrate the 249th year of our country’s independence! Festivities will be on Friday\, July 4th\, starting at 12pm. We will see you there!
URL:https://upbarreview.com/event/menominee-2025-4th-of-july/
LOCATION:Downtown Menominee
CATEGORIES:Menominee
END:VEVENT
BEGIN:VEVENT
DTSTART;TZID=UTC:20250704T140000
DTEND;TZID=UTC:20250704T180000
DTSTAMP:20260424T145420
CREATED:20250619T160847Z
LAST-MODIFIED:20250619T160847Z
UID:10004744-1751637600-1751652000@upbarreview.com
SUMMARY:Gateway Bar & Grill - Make it a Double - Crivitz
DESCRIPTION:Happy Independence Day!
URL:https://upbarreview.com/event/gateway-bar-grill-make-it-a-double-crivitz/
LOCATION:Gateway Bar & Grill\, 706 N U.S. Hwy 141\, Crivitz\, WI\, 54114
CATEGORIES:Menominee
END:VEVENT
BEGIN:VEVENT
DTSTART;TZID=UTC:20250704T140000
DTEND;TZID=UTC:20250704T180000
DTSTAMP:20260424T145421
CREATED:20250620T140034Z
LAST-MODIFIED:20250620T140034Z
UID:10004957-1751637600-1751652000@upbarreview.com
SUMMARY:Erickson Park - 4th of July Music - Stephenson
DESCRIPTION:Entertainment\, Games\, Food and Drink at the Park and Pavilion in Stephenson Michigan.We play 2-6BE THERE
URL:https://upbarreview.com/event/erickson-park-4th-of-july-music-stephenson/
LOCATION:Erickson Park\, Stephenson\, MI
CATEGORIES:Menominee
END:VEVENT
BEGIN:VEVENT
DTSTART;TZID=UTC:20250704T150000
DTEND;TZID=UTC:20250704T170000
DTSTAMP:20260424T145421
CREATED:20250619T211717Z
LAST-MODIFIED:20250619T211717Z
UID:10004892-1751641200-1751648400@upbarreview.com
SUMMARY:Michigan DNR Pocket Park - Hook Line and Sinker - Escanaba
DESCRIPTION:Learn basic fishing techniques in this interactive and educational session. Perfect for beginners looking to get started in Michigan’s favorite pastime.
URL:https://upbarreview.com/event/michigan-dnr-pocket-park-hook-line-and-sinker-escanaba/2025-07-04/
LOCATION:Michigan DNR Pocket Park\, 2401 12th Avenue North\, Escanaba\, MI\, 49829
CATEGORIES:Menominee
END:VEVENT
BEGIN:VEVENT
DTSTART;TZID=UTC:20250704T170000
DTEND;TZID=UTC:20250704T200000
DTSTAMP:20260424T145421
CREATED:20250619T192236Z
LAST-MODIFIED:20250619T192236Z
UID:10004827-1751648400-1751659200@upbarreview.com
SUMMARY:Upperhand Brewery - Friday Live Music - Escanaba
DESCRIPTION:Join us for live music every Sunday 2-5p and Friday 5-8p. Beginning June 1st through August 31st.
URL:https://upbarreview.com/event/upperhand-brewery-friday-live-music-escanaba/2025-07-04/
LOCATION:Upper Hand Brewery\, 3525 Airport Rd\, Escanaba\, WI\, 49829
CATEGORIES:Menominee
END:VEVENT
BEGIN:VEVENT
DTSTART;TZID=UTC:20250704T180000
DTEND;TZID=UTC:20250704T213000
DTSTAMP:20260424T145421
CREATED:20250619T154619Z
LAST-MODIFIED:20250619T154619Z
UID:10004730-1751652000-1751664600@upbarreview.com
SUMMARY:Trail Side Bar & Grill - The Cougars - Crivitz
DESCRIPTION:Spend the Fourth of July up north with The Cougars. We played this show last year and it was SO MUCH FUN. We can’t wait to do it all over again. These people know how to have a good time. Join us and bring your dancing shoes
URL:https://upbarreview.com/event/trail-side-bar-grill-the-cougars-crivitz/
LOCATION:Trailside Bar & Grill\, 15506 County Rd W\, Crivitz\, 54114
CATEGORIES:Menominee
END:VEVENT
BEGIN:VEVENT
DTSTART;TZID=UTC:20250704T200000
DTEND;TZID=UTC:20250704T230000
DTSTAMP:20260424T145421
CREATED:20250207T191746Z
LAST-MODIFIED:20250207T191746Z
UID:10002961-1751659200-1751670000@upbarreview.com
SUMMARY:The Granada - Karaoke Night - Escanaba
DESCRIPTION:Welcome to the Hottest Karaoke show in Town! Every Friday at The Granada in Escanaba\, MI Starts at 9:00 pm\nCreate your FREE Performer Account with Songbooks Online App to Browse the Karaoke song library\, keep a favorites list and submit your song requests remotely! Use Show ID: MSK23 after you create your account. You can also just tell me your name and the song you want if you don’t know how to install an app.
URL:https://upbarreview.com/event/the-granada-karaoke-night-escanaba/2025-07-04/
LOCATION:The Granada\, 330 S 10th St\, Escanaba\, MI
CATEGORIES:Menominee
END:VEVENT
BEGIN:VEVENT
DTSTART;TZID=UTC:20250705T080000
DTEND;TZID=UTC:20250705T090000
DTSTAMP:20260424T145421
CREATED:20250618T014719Z
LAST-MODIFIED:20250618T014719Z
UID:10004561-1751702400-1751706000@upbarreview.com
SUMMARY:Free Yoga in The Park - Menominee Bandshell
DESCRIPTION:Join us for a peaceful start to your Saturday with FREE yoga by the water! Breathe\, stretch\, and relax with us in the park- Its the perfect way to welcome the weekend!\nBring a yoga mat\, water\, and a friend! Beginners welcome
URL:https://upbarreview.com/event/free-yoga-in-the-park-menominee-bandshell/2025-07-05/
LOCATION:Menominee Bandshell\, 1000 1st St\, Menominee\, MI\, 49858
CATEGORIES:Menominee
END:VEVENT
BEGIN:VEVENT
DTSTART;TZID=UTC:20250705T090000
DTEND;TZID=UTC:20250705T100000
DTSTAMP:20260424T145421
CREATED:20250618T033452Z
LAST-MODIFIED:20250618T033452Z
UID:10004711-1751706000-1751709600@upbarreview.com
SUMMARY:Mindful Mornings - Marinette
DESCRIPTION:Start your day off with some mindful practice! We will meet monthly (the first Saturday of each month) so if you can’t make this event\, plan to come to a future one!\nYou can bring your journal and a blanket or whatever to make you comfy in the space. There are some mats and blankets available in the room for use as well.\nIf you have questions\, feel free to reach out to me via messenger or phone 262-490-4864.\nCost: $10
URL:https://upbarreview.com/event/mindful-mornings-marinette/
CATEGORIES:Menominee
END:VEVENT
BEGIN:VEVENT
DTSTART;TZID=UTC:20250705T090000
DTEND;TZID=UTC:20250705T120000
DTSTAMP:20260424T145421
CREATED:20250428T124102Z
LAST-MODIFIED:20250428T124921Z
UID:10004206-1751706000-1751716800@upbarreview.com
SUMMARY:Menominee Historic Downtown Farmers Market
DESCRIPTION:The countdown is on! Join us at Spies Public Library Parking Lot on May 24\, 2025\, from 9 AM to 12 PM for the grand opening of the Menominee Historic Downtown Farmers Market—and don’t forget\, we’ll be here every Saturday after that!\nEach week\, we’ll spotlight one of our amazing returning vendors\, and this week\, we’re thrilled to feature Rabbitry & Yarn LLC! ��\nGet ready for a stunning selection of: � Handspun yarn & handmade knitwear/crochet items\, designed and created with love � Naturally dyed mill-spun wool yarns using plants and insects for a truly one-of-a-kind touch � A special mill-spun blend of local sheep & angora fiber (if the mill finishes it in time!) � Beautiful handmade wood items—bowls\, honey dippers\, toys\, all crafted from local woods � A custom-designed organic cotton tote bag (because\, of course\, it features an adorable rabbit!)\nDon’t miss out on this fantastic opportunity to shop local\, support artisans\, and be part of something special. Mark your calendars and we’ll see you there!\n#FarmersMarket #ShopLocal #HandmadeGoods #RabbitryAndYarn #MenomineeMarket
URL:https://upbarreview.com/event/menominee-historic-downtown-farmers-market-5/2025-07-05/
LOCATION:Spies Public Library\, 940 1st St.\, Menominee\, MI\, 49858
CATEGORIES:Menominee
END:VEVENT
END:VCALENDAR