BEGIN:VCALENDAR
VERSION:2.0
PRODID:-//UP BAR REVIEW - ECPv6.14.2//NONSGML v1.0//EN
CALSCALE:GREGORIAN
METHOD:PUBLISH
X-WR-CALNAME:UP BAR REVIEW
X-ORIGINAL-URL:https://upbarreview.com
X-WR-CALDESC:Events for UP BAR REVIEW
REFRESH-INTERVAL;VALUE=DURATION:PT1H
X-Robots-Tag:noindex
X-PUBLISHED-TTL:PT1H
BEGIN:VTIMEZONE
TZID:UTC
BEGIN:STANDARD
TZOFFSETFROM:+0000
TZOFFSETTO:+0000
TZNAME:UTC
DTSTART:20250101T000000
END:STANDARD
END:VTIMEZONE
BEGIN:VEVENT
DTSTART;TZID=UTC:20250503T110000
DTEND;TZID=UTC:20250503T160000
DTSTAMP:20260422T113112
CREATED:20250402T233908Z
LAST-MODIFIED:20250402T233908Z
UID:10003345-1746270000-1746288000@upbarreview.com
SUMMARY:GreenTree Auto - 2025 Season Opener Car Show - Escanaba
DESCRIPTION:*We are in the early stages of planning this event so\, please stay tuned for updates!*\nBack again for another year\, GreenTree Auto Styling invites all gear heads to our Season Opener Car Show on May 3rd\, 2025! This event will be a great way to kick off to the 2025 car show season in Delta County and will also provide a way for us to celebrate the 6th Anniversary of our company. We welcome you to join us during this gathering of like-minded people!\nSeeing cool cars and spending time with the community not enough? How about a delicious meal from Bobaloon’s of Escanaba; our sole vendor for this event!?
URL:https://upbarreview.com/event/greentree-auto-2025-season-opener-car-show-escanaba/
LOCATION:GreenTree Auto Styling\, 3705 19th Ave North\, Escanaba\, WI
CATEGORIES:Menominee
END:VEVENT
BEGIN:VEVENT
DTSTART;TZID=UTC:20250503T130000
DTEND;TZID=UTC:20250503T160000
DTSTAMP:20260422T113112
CREATED:20250402T210737Z
LAST-MODIFIED:20250402T210737Z
UID:10003221-1746277200-1746288000@upbarreview.com
SUMMARY:The Craft Cave - Boho Wind Chime - Marinette
DESCRIPTION:12 inch dowel wind chime. You pick your beads and bells and assemble your own. Makes a great sound! Cost 20$ BYOB. Call to pre pay and sign up at 715-587-4643
URL:https://upbarreview.com/event/the-craft-cave-boho-wind-chime-marinette/2025-05-03/
CATEGORIES:Menominee
END:VEVENT
BEGIN:VEVENT
DTSTART;TZID=UTC:20250503T153000
DTEND;TZID=UTC:20250503T180000
DTSTAMP:20260422T113112
CREATED:20250403T005204Z
LAST-MODIFIED:20250403T005215Z
UID:10003775-1746286200-1746295200@upbarreview.com
SUMMARY:Wallys Bar - 2nd Annual Kentucky Derby Party - Gladstone
DESCRIPTION:Snacks\, Hats\, & Horses!!Prizes Baskets for Best Hats!Derby Drink Specials!!
URL:https://upbarreview.com/event/wallys-bar-2ns-annual-kentucky-derby-party-gladstone/
LOCATION:Wallys Bar\, 917 Delta Ave\, Gladstone\, MI
CATEGORIES:Menominee
END:VEVENT
BEGIN:VEVENT
DTSTART;TZID=UTC:20250503T180000
DTEND;TZID=UTC:20250503T210000
DTSTAMP:20260422T113112
CREATED:20250403T005933Z
LAST-MODIFIED:20250403T005933Z
UID:10003781-1746295200-1746306000@upbarreview.com
SUMMARY:Terrace Bluff Golf & Country Club - Annual Spring Fundraiser - Gladstone
DESCRIPTION:Join us for Live Music\, Silent Auction\, Raffles and more!\nAll proceeds will benefit the Gladstone First Responder Drone Fund.
URL:https://upbarreview.com/event/terrace-bluff-golf-country-club-annual-spring-fundraiser-gladstone/
LOCATION:Terrace Bluff Golf & Country Club\, 7527 Lake Bluff 19.4 Rd\, Gladstone\, MI
CATEGORIES:Menominee
END:VEVENT
BEGIN:VEVENT
DTSTART;TZID=UTC:20250503T190000
DTEND;TZID=UTC:20250503T210000
DTSTAMP:20260422T113112
CREATED:20250428T125705Z
LAST-MODIFIED:20250428T125705Z
UID:10004238-1746298800-1746306000@upbarreview.com
SUMMARY:Elks Lodge - Elvis Tribute! - Menominee
DESCRIPTION:Elvis Tribute!!!Doors open at 5pmShow 7-10pmTickets available now only at the lodge. $15 general admission $20 for limited table seatingDon’t miss this show!!!!
URL:https://upbarreview.com/event/elks-lodge-elvis-tribute-menominee/
LOCATION:Elks Lodge #1313\, 430 Bridge St\, Marinette\, WI\, 54143
CATEGORIES:Menominee
END:VEVENT
BEGIN:VEVENT
DTSTART;TZID=UTC:20250503T190000
DTEND;TZID=UTC:20250503T220000
DTSTAMP:20260422T113112
CREATED:20250402T201909Z
LAST-MODIFIED:20250402T201909Z
UID:10003192-1746298800-1746309600@upbarreview.com
SUMMARY:The Lodge - Dueling Pianos - Marinette
DESCRIPTION:Dueling Pianos at the Lodge on Main!Don’t miss out\, two fabulous entertainers will be taking your requests all night long! From 7-10pm our entertainers will sing your favorite tunes\, while you sing\, clap\, and dance along come on out to the Lodge On Main in Marinette\, WI May 3\, 2025 from 7-10pm.
URL:https://upbarreview.com/event/the-lodge-dueling-pianos-marinette/
LOCATION:Ironworks\, 1333 Main St.\, Marinette\, WI\, 54143\, United States
CATEGORIES:Menominee
END:VEVENT
BEGIN:VEVENT
DTSTART;TZID=UTC:20250503T200000
DTEND;TZID=UTC:20250503T230000
DTSTAMP:20260422T113112
CREATED:20250402T233423Z
LAST-MODIFIED:20250402T233423Z
UID:10003342-1746302400-1746313200@upbarreview.com
SUMMARY:Holy Name Spring Fling - Escanaba
DESCRIPTION:Hey All\,Come on out on Saturday\, May 3rd and Help Support the Holy Name School. This is going to be an amazing night. The Theme this year is Monte Carlo Night. There will be a Silent Auction / Bucket Raffles / Games and 50/50. A Fantastic Meal\, Drinks and Live Music. We will be playing all your Favorites from Country\, Classic Rock and 50 and 60′ Oldies. We start playing for you at Nine
URL:https://upbarreview.com/event/holy-name-spring-fling-escanaba/
LOCATION:Hot Name Catholic School\, 433 S 22nd St\, Escanaba\, MI
CATEGORIES:Menominee
END:VEVENT
BEGIN:VEVENT
DTSTART;TZID=UTC:20250504T090000
DTEND;TZID=UTC:20250504T103000
DTSTAMP:20260422T113112
CREATED:20250403T010304Z
LAST-MODIFIED:20250403T010304Z
UID:10003786-1746349200-1746354600@upbarreview.com
SUMMARY:Adopt a Highway Clean Up - Pembine
DESCRIPTION:Annual Adopt a Highway Cleanup! Meet at the BP on Hwy 8 at 9 am and we will divide and conquer from there! Depending on the number of helpers\, this usually only takes us a couple hours! Come on out and help clean up our roadways!
URL:https://upbarreview.com/event/adopt-a-highway-clean-up-pembine/
CATEGORIES:Menominee
END:VEVENT
BEGIN:VEVENT
DTSTART;TZID=UTC:20250504T090000
DTEND;TZID=UTC:20250504T110000
DTSTAMP:20260422T113112
CREATED:20250403T004622Z
LAST-MODIFIED:20250403T004622Z
UID:10003770-1746349200-1746356400@upbarreview.com
SUMMARY:Saunders Point Brewing - Bereaved Mothers Day - Gladstone
DESCRIPTION:Bereaved Mother’s Day Brunch & Bouquets\nJoin us for a special gathering in honor of National Bereaved Mother’s Day on May 4th. This day recognizes mothers who carry their babies in their hearts rather than in their arms. It is a time for reflection\, support\, and community.\nThis free event is open to bereaved mothers\, as well as their support people. We will share food and drinks\, connect with others who understand this journey\, and take part in a build-your-own bouquet bar to create something meaningful in remembrance.\nWe will be holding this event in both Marquette and Gladstone. Please RSVP by May 1st.\n Gladstone EventLocation: Saunders Point BrewingTime: 10 AM – NoonCOST: FREERSVP HERE: https://forms.gle/f2mzJB7i7ucmibVg9\n\nSpecial thank you to Saunders Point Brewing for generously allowing us to hold this event in their beautiful space and In Trotter’s Floral Touch for partnering with us to provide flowers.
URL:https://upbarreview.com/event/saunders-point-brewing-bereaved-mothers-day-gladstone/
LOCATION:Saunders Point Brewing\, 8199 M-35\, Gladstone\, MI
CATEGORIES:Menominee
END:VEVENT
BEGIN:VEVENT
DTSTART;TZID=UTC:20250504T090000
DTEND;TZID=UTC:20250504T120000
DTSTAMP:20260422T113112
CREATED:20250403T001727Z
LAST-MODIFIED:20250403T001727Z
UID:10003727-1746349200-1746360000@upbarreview.com
SUMMARY:Lavender Spirit Healing - Reiki 2 - Wausaukee
DESCRIPTION:Reiki II is the second step in learning energy and it is the ability and learning how to apply it to another person without being physically there to do so.\nIn Reiki I training\, you learned advanced techniques and concepts\, such as the use of symbols\, distance healing\, and the treatment of specific physical and emotional conditions.Students also learn how to increase the strength and effectiveness of their Reiki energy\, and how to use Reiki for self-healing and personal growth.\nIncludes Reiki Share Starting at Noon!\n$111 per person\nDirect Sign Up:\nhttps://www.vagaro.com/…/w8uTOPyody73E6X2AcU3Dge0SfBjaE…
URL:https://upbarreview.com/event/lavender-spirit-healing-reiki-2-wausaukee/
LOCATION:544 Van Buren Ave\, Wausaukee\, WI\, 54177
CATEGORIES:Menominee
END:VEVENT
BEGIN:VEVENT
DTSTART;TZID=UTC:20250504T100000
DTEND;TZID=UTC:20250504T150000
DTSTAMP:20260422T113112
CREATED:20250430T005247Z
LAST-MODIFIED:20250430T005247Z
UID:10004260-1746352800-1746370800@upbarreview.com
SUMMARY:Julie Huebner Pottery & Art Studio - Spring Mothers Day Open Studio - Marinette
DESCRIPTION:My backyard studio will be open Friday\, May 2nd\, Saturday\, May 3rd and Sunday May 4th from 10:00 am till 3pm. Located in our backyard at W758 Edwards Ave. Out Shore Drive just before Little River Country Club. Stop out and see the colorful new pottery and art pieces I’ve been working on for spring and Mother’s Day . Enjoy a glass of lemonade while you shop for that perfect gift for Mom and sign up to win a gift basket. Hope to see you
URL:https://upbarreview.com/event/julie-huebner-pottery-art-studio-spring-mothers-day-open-studio-marinette/2025-05-04/
LOCATION:Julie Huebner Pottery & Art Studio\, W758 Edwards Ave\, Marinette\, WI
CATEGORIES:Menominee
END:VEVENT
BEGIN:VEVENT
DTSTART;TZID=UTC:20250504T120000
DTEND;TZID=UTC:20250504T150000
DTSTAMP:20260422T113112
CREATED:20250403T001524Z
LAST-MODIFIED:20250403T001524Z
UID:10003725-1746360000-1746370800@upbarreview.com
SUMMARY:Lavender Spirit Healing - Reiki Share - Wausaukee
DESCRIPTION:Join Reiki Share!\nGive a Session – Get a Session\nAn Opportunity to Share Your Reiki Gifts\, Receive Healing and Connect!\nDirect Sign Up:\nhttps://www.vagaro.com/…/oRaahO1Cf4ZyP3JZTamY5GfMx5SZBO…
URL:https://upbarreview.com/event/lavender-spirit-healing-reiki-share-wausaukee/
LOCATION:544 Van Buren Ave\, Wausaukee\, WI\, 54177
CATEGORIES:Menominee
END:VEVENT
BEGIN:VEVENT
DTSTART;TZID=UTC:20250504T130000
DTEND;TZID=UTC:20250504T150000
DTSTAMP:20260422T113112
CREATED:20250403T001956Z
LAST-MODIFIED:20250403T001956Z
UID:10003733-1746363600-1746370800@upbarreview.com
SUMMARY:Country Roads Bar & Grill - Bingo Sunday - Wausaukee
DESCRIPTION:Sunday Funday Bingo! $1/game per board. Come for all the games or jump in whenever!
URL:https://upbarreview.com/event/country-roads-bar-grill-bingo-sunday-wausaukee/2025-05-04/
LOCATION:Country Roads Bar & Grill\, W8901 Co Rd C\, Wausaukee\, WI
CATEGORIES:Menominee
END:VEVENT
BEGIN:VEVENT
DTSTART;TZID=UTC:20250505T120000
DTEND;TZID=UTC:20250505T180000
DTSTAMP:20260422T113112
CREATED:20250402T213959Z
LAST-MODIFIED:20250402T213959Z
UID:10003255-1746446400-1746468000@upbarreview.com
SUMMARY:McCrafties - Brush & Burritos - Menominee
DESCRIPTION:Join us May 5th for our  “Brush & Burritos” for Cinco de Mayo\nWe’ve partnered with the amazing food truck “La Catrina”\, serving up delicious food from 12:00-6:00 pm while you paint and create.\n **Special Offer:**Enjoy **25% off all Mexican pottery** from **12:00 PM to 6:00 PM**. (all pottery is available to paint but the Mexican pottery is on sale)\nTo reserve your spot\, a **$10 deposit** is required\, which will be applied to the price of the pottery piece you choose.\nDon’t miss out on great food\, festive vibes\, and a creative experience!\nPRE-PAYMENT of $10 is required to save your spot. Feel free to call the studio with any questions or to sign up. 715-440-5959\nOr use our easy to navigate website.\nhttps://mccraftiellc.square.site/\n-All skill levels are welcome-We provide all the necessary suppliesWe look forward to crafting with you\nCLASS REFUND POLICY:\n-full in studio credit if cancellation is 1 week prior to the class-50% in studio credit up to 24 hours prior to the class-less than 24 hours’ notice\, no credit-NO SHOW/NO CALL/NO CREDIT
URL:https://upbarreview.com/event/mccrafties-brush-burritos-menominee/
LOCATION:McCrafties\, 625 1st St\, Menominee\, MI\, 49858\, United States
CATEGORIES:Menominee
END:VEVENT
BEGIN:VEVENT
DTSTART;TZID=UTC:20250505T170000
DTEND;TZID=UTC:20250505T180000
DTSTAMP:20260422T113112
CREATED:20250402T212658Z
LAST-MODIFIED:20250402T212658Z
UID:10003243-1746464400-1746468000@upbarreview.com
SUMMARY:Sno-Haven Pottery - Adult Watercolor Painting Class - Marinette
DESCRIPTION:This Watercolor class is for Adults. Learning Watercolor can be very rewarding once you gain your skill set. We cover all the basics and then cover some more advanced techniques. This is just in time before summer\, and is a great medium to take on the go. we cover color mixing and value studies and a variety of subject matters\, from painting water to florals\, landscapes and people. You will be able to choose your own subjects as well. All materials are included in the price of the class which is $125.00 Plus tax. Class meets on Monday for an hour from 5:00 pm to 6:00 pm for 5 sessions. Call 715-587-2163 to register.
URL:https://upbarreview.com/event/sno-haven-pottery-adult-watercolor-painting-class-marinette/2025-05-05/
LOCATION:Sno Haven Pottery\, 1215 9th St\, Marinette\, WI\, 54143
CATEGORIES:Menominee
END:VEVENT
BEGIN:VEVENT
DTSTART;TZID=UTC:20250505T170000
DTEND;TZID=UTC:20250505T183000
DTSTAMP:20260422T113112
CREATED:20250207T193539Z
LAST-MODIFIED:20250207T193614Z
UID:10003006-1746464400-1746469800@upbarreview.com
SUMMARY:Kush and Pronk Farm - Learn How to Cloth Diaper Class - Escanaba
DESCRIPTION:Did you know that every disposable diaper that has ever been used is still sitting in a landfill\, not decomposing? Every. Single. One.\nCloth diapering of today is NOT the cloth diapering of the past. Gone are the dangerous pokey pins and difficult cleaning methods. Modern laundry machines and facilities make cloth diapering SO easy\, and we’ll teach you how in just 90 minutes! Hands-on classes (with dolls) allow partners to test out the different types of modern cloth diapers available to see which types may work best for you.\nMonthly 90 minute classes will be taught by Jennifer and/or Dominic Guzzetta of Kush & Pronk Farm at Kiddo’s Korner Boutique in Escanaba. Due to location size\, classes are limited to 4 partners. Partnerships cost $30\, can be paid via Venmo\, Cash or Check in store\, and must be paid to reserve your spot. Contact Kush & Pronk Farm to inquire about class availability.
URL:https://upbarreview.com/event/kush-and-pronk-farm-learn-how-to-cloth-diaper-class-escanaba/2025-05-05/
LOCATION:Kiddos Korner Boutique\, 1610 Ludington Ave\, Escanaba\, MI
CATEGORIES:Menominee
END:VEVENT
BEGIN:VEVENT
DTSTART;TZID=UTC:20250506T100000
DTEND;TZID=UTC:20250506T130000
DTSTAMP:20260422T113112
CREATED:20250207T193742Z
LAST-MODIFIED:20250207T193742Z
UID:10003022-1746525600-1746536400@upbarreview.com
SUMMARY:Escanaba Public Library - Tech Help Tuesdays - Escanaba
DESCRIPTION:Need help printing from your phone? Setting up Libby on your personal device? Using Zoom? How about getting started on your Chromebook or iPad? Using a Wi-Fi hotspot? Creating an email address? Google searches? or how to use the library’s online catalog?\nWe have the answers and assistance you need! Make an appointment or stop in at the circulation desk. Appointments are one hour (maximum).\nThe Escanaba Public Library staff do not repair computers/devices. The library assumes no liability for personal patron devices.
URL:https://upbarreview.com/event/escanaba-public-library-tech-help-tuesdays-escanaba/2025-05-06/
LOCATION:Escanaba Public Library\, 400 Ludington St\, Escanaba\, WI\, 49829
CATEGORIES:Menominee
END:VEVENT
BEGIN:VEVENT
DTSTART;TZID=UTC:20250506T180000
DTEND;TZID=UTC:20250506T200000
DTSTAMP:20260422T113112
CREATED:20250402T234345Z
LAST-MODIFIED:20250402T234345Z
UID:10003352-1746554400-1746561600@upbarreview.com
SUMMARY:Mo's Pub - Trivia Night - Escanaba
DESCRIPTION:Join us for our Tuesday Trivia!!!! We will start at 7pm and we’ll be in the back room of the pub. TRIVIA TIME!!!! Trivia starts at 7pm!!!!6 Prizes given out.1st place $50 Mos Card 2nd place $25 Mos Card 3rd place $15 Mos Card 4th\, 5th and last place a free appetizer. $2 domestic beer. $3.50 rail\, $2.00 off Specialty Pizza\, $1.00 off specialty burger. We are looking forward to spending the time with you!!!
URL:https://upbarreview.com/event/mos-pub-trivia-night-escanaba/2025-05-06/
LOCATION:Mo’s Pub\, 2116 Ludington St\, Escanaba\, MI\, 49829
CATEGORIES:Menominee
END:VEVENT
BEGIN:VEVENT
DTSTART;TZID=UTC:20250506T180000
DTEND;TZID=UTC:20250506T210000
DTSTAMP:20260422T113112
CREATED:20250430T024426Z
LAST-MODIFIED:20250430T024426Z
UID:10004311-1746554400-1746565200@upbarreview.com
SUMMARY:Lavender Spirit Healing & Massage - May Book Club - Crivitz
DESCRIPTION:May Book Club! RSVP through the book club app and bring a snack/drink to share!\nhttps://bookclubs.com/clubs/6043098/join/193bfc?
URL:https://upbarreview.com/event/lavender-spirit-healing-massage-may-book-club-crivitz/
LOCATION:Lavender Spirit Healing & Massage\, 544 Van Buren St.\, Wausaukee\, WI
CATEGORIES:Menominee
END:VEVENT
BEGIN:VEVENT
DTSTART;TZID=UTC:20250507T153000
DTEND;TZID=UTC:20250507T173000
DTSTAMP:20260422T113112
CREATED:20250430T011040Z
LAST-MODIFIED:20250430T011040Z
UID:10004274-1746631800-1746639000@upbarreview.com
SUMMARY:NWTC - Bike Rodeo - Marinette
DESCRIPTION:Get Summer Safe with this FREE Community Event.Wednesday May 7th\, from 3:30p-5:30p\, join us at NWTC Marinette for an afternoon full of FUN Summer Safety activities.\nGET YOUR KIDS READY FOR SUMMER!-Free Youth Helmets & Fittings (Helmet Quantity Limited–First Come\, First Served)-Bike Safety Tips & Obstacle Course-Water Safety Tips-Car Seat Information\nNo Registration Needed! All children MUST be accompanied by an adult to participate. Release of liability will be required prior to participation.\nParticipate with or without your bike!ALL KIDS WELCOME!\n**Rain Date is set for May 14th\, from 3:30p-5:30p & will be announced via the NWTC Marinette Campus Facebook Page if applicable!
URL:https://upbarreview.com/event/nwtc-bike-rodeo-marinette/
LOCATION:NWTC\, 1601 University Dr\, Marinette\, WI\, 54143
CATEGORIES:Menominee
END:VEVENT
BEGIN:VEVENT
DTSTART;TZID=UTC:20250507T173000
DTEND;TZID=UTC:20250507T190000
DTSTAMP:20260422T113112
CREATED:20250428T122648Z
LAST-MODIFIED:20250428T122648Z
UID:10004195-1746639000-1746644400@upbarreview.com
SUMMARY:Spirit House - Hands-on Sushi Making Class - Menominee
DESCRIPTION:Let’s Roll… Again!Chef Ace Champion is rollin’ back into Spirit House!He had such a blast teaching sushi last month\, he personally reached out and asked if he could do it again—turns out you all are his favorite crowd to roll with.\nSushi Night is back on Wednesday\, May 7! If you missed it in the past\, now’s your chance to soy you were there! And if you did attend\, you already know—these tickets fly off the plate. \nDon’t wait—spots are limited\, and this class always sells out fast!
URL:https://upbarreview.com/event/spirit-house-hands-on-sushi-making-class-menominee/
LOCATION:Spirit House\, 533 10th Ave\, Menominee\, MI 49858\, Menominee\, MI\, 49858\, United States
CATEGORIES:Menominee
END:VEVENT
BEGIN:VEVENT
DTSTART;TZID=UTC:20250507T180000
DTEND;TZID=UTC:20250507T200000
DTSTAMP:20260422T113112
CREATED:20250402T210921Z
LAST-MODIFIED:20250402T210921Z
UID:10003222-1746640800-1746648000@upbarreview.com
SUMMARY:River Cities Community Pool - Sound and Float - Marinette
DESCRIPTION:A sound bath in a pool is a unique and immersive experience that combines the calming effects of sound therapy with the soothing properties of water.\nDuring this sound bath\, you will lie down or float in a pool while I use various instruments like singing bowls and chimes to create vibrational frequencies that promote relaxation and healing. The water amplifies and carries these vibrations\, enhancing the overall experience.\nThe combination of sound and water can help release stress\, promote deep relaxation\, and restore a sense of balance. Floating in water allows the body to relax more fully\, while the sound vibrations can deeply penetrate the body\, fostering a sense of calm and clarity.\nPreregistration is required. Pool noodles are available. For the most relaxing experience\, a pool float is ideal which you will need to bring.\nBring a float\, towel\, and a smile for a relaxing night.
URL:https://upbarreview.com/event/river-cities-community-pool-sound-and-float-marinette/
LOCATION:River Cities Community Pool\, 1125 University Dr\, Marinette\, WI
CATEGORIES:Menominee
END:VEVENT
BEGIN:VEVENT
DTSTART;TZID=UTC:20250508T080000
DTEND;TZID=UTC:20250508T170000
DTSTAMP:20260422T113112
CREATED:20241202T212718Z
LAST-MODIFIED:20241202T212718Z
UID:10002546-1746691200-1746723600@upbarreview.com
SUMMARY:Biehl Bridges to Recovery - Overeaters Anonymous - Marinette
DESCRIPTION:A new year! A new you! Want to know if you’re an overeater? Struggling to find support? Wanting support? Come join us on Thursday evenings from 5:30pm-6:30pm.
URL:https://upbarreview.com/event/biehl-bridges-to-recovery-overeaters-anonymous-marinette/2025-05-08/
LOCATION:Biehl Bridge To Recovery\, 3123 Shore Dr\, Marinette\, WI\, 54143
CATEGORIES:Menominee
END:VEVENT
BEGIN:VEVENT
DTSTART;TZID=UTC:20250508T100000
DTEND;TZID=UTC:20250508T233000
DTSTAMP:20260422T113112
CREATED:20241029T145445Z
LAST-MODIFIED:20241029T145445Z
UID:10002245-1746698400-1746747000@upbarreview.com
SUMMARY:Alibi's - Free Pool Thursdays - Marinette
DESCRIPTION:Free Pool!!
URL:https://upbarreview.com/event/alibis-free-pool-thursdays-marinette/2025-05-08/
LOCATION:ALiBi Bar & Grill\, 829 Main St\, Marinette\, WI\, 54143\, United States
CATEGORIES:Menominee
END:VEVENT
BEGIN:VEVENT
DTSTART;TZID=UTC:20250508T140000
DTEND;TZID=UTC:20250508T153000
DTSTAMP:20260422T113112
CREATED:20250207T202405Z
LAST-MODIFIED:20250207T202405Z
UID:10003149-1746712800-1746718200@upbarreview.com
SUMMARY:Farnsworth Public Library - 2nd Thursday Book Club - Oconto
DESCRIPTION:Participants share and discuss books they are reading from all genres and authors. There is no assigned reading – just a great discussion each month about any and all types of books. Join us!
URL:https://upbarreview.com/event/farnsworth-public-library-2nd-thursday-book-club-oconto/2025-05-08/
LOCATION:Farnsworth Public Library\, 715 Main St\, Oconto\, WI
CATEGORIES:Menominee
END:VEVENT
BEGIN:VEVENT
DTSTART;TZID=UTC:20250508T153000
DTEND;TZID=UTC:20250508T183000
DTSTAMP:20260422T113112
CREATED:20250402T212824Z
LAST-MODIFIED:20250402T212824Z
UID:10003247-1746718200-1746729000@upbarreview.com
SUMMARY:Sno-Haven Pottery - Youth Acrylic Painting Class - Marinette
DESCRIPTION:Youths will learn a many techniques of the how to’s in Acrylic Painting. We will explore values and a some color theory\, in addition to what makes a great composition\, color mixing. We will explore a wide variety of subjects matters\, from adding people\, painting florals\, landscapes\, sunsets\, clouds\, painting water and more. This class is open for ages 10 and up. The class is 5 sessions that meets for 1 hour a week on Thursdays at 3:30 pm to 4:30 pm. the cost of the class is $125.00 plus tax\, all materials are included. Call 715-587-2163 to register
URL:https://upbarreview.com/event/sno-haven-pottery-youth-acrylic-painting-class-marinette/2025-05-08/
LOCATION:Sno Haven Pottery\, 1215 9th St\, Marinette\, WI\, 54143
CATEGORIES:Menominee
END:VEVENT
BEGIN:VEVENT
DTSTART;TZID=UTC:20250508T160000
DTEND;TZID=UTC:20250508T180000
DTSTAMP:20260422T113112
CREATED:20250207T193316Z
LAST-MODIFIED:20250207T193355Z
UID:10002996-1746720000-1746727200@upbarreview.com
SUMMARY:Escanaba Public Library - Fiber Arts a la Carte - Escanaba
DESCRIPTION:Fiber Arts a la Carte\, a social gathering for fiber artists ages 16+\, meets at the Escanaba Public Library on the second Thursday of each month.\nIf you crochet\, embroider\, knit\, quilt\, sew\, weave\, or do any other craft that does not involve a machine\, you are welcome! From beginners to the most experienced fiber worker\, join us for a time of socializing\, learning\, and teaching.\nIf you have extra craft materials\, feel free to bring them to swap and share
URL:https://upbarreview.com/event/escanaba-public-library-fiber-arts-a-la-carte-escanaba/2025-05-08/
LOCATION:Escanaba Public Library\, 400 Ludington St\, Escanaba\, WI\, 49829
CATEGORIES:Menominee
END:VEVENT
BEGIN:VEVENT
DTSTART;TZID=UTC:20250508T170000
DTEND;TZID=UTC:20250508T190000
DTSTAMP:20260422T113112
CREATED:20250402T212045Z
LAST-MODIFIED:20250402T212045Z
UID:10003233-1746723600-1746730800@upbarreview.com
SUMMARY:Rec Center - Queer Craft: Open Art Studio - Marinette
DESCRIPTION: Queer Craft: A Monthly LGBTQ+ Open Art Studio & Support Group \nLooking for a space to get creative\, connect with community\, and just be yourself? Queer Craft is a relaxed\, welcoming monthly open art studio for LGBTQ+ folks and allies. Whether you’re here to express yourself through art\, process big feelings\, or simply enjoy a chill creative night with like-minded people\, you’re in the right place!\n No art experience? No worries! We’ve got a diverse selection of materials—paint\, markers\, collage supplies\, and more—so you can create however you like. Each month\, we’ll offer an optional creative prompt for inspiration\, but you’re always free to do your own thing.\n Facilitated by a Licensed Art Therapist – Queer Craft is led by a licensed art therapist\, ensuring a supportive\, affirming space for creative self-expression and connection. Whether you’re making art for fun\, self-care\, or personal exploration\, you’ll have guidance from a professional who understands the power of creative expression.\n Pay What You Can – We want Queer Craft to be accessible to everyone\, no matter their financial situation. A suggested donation of $10 helps cover the cost of art supplies\, utility fees\, and facilitation. If you can give more\, your generosity helps keep this space open for others! If funds are tight\, no worries—pay what you can\, and come create with us. No one will be turned away for lack of funds.\n Where: Marinette Community REC Center (Room 124) When:2nd Thursdays Each Month from 5-7 PM Who: Open to all LGBTQ+ individuals and allies Cost: Suggested $10 Donation\nCome craft\, connect\, and celebrate community with us!
URL:https://upbarreview.com/event/rec-center-queer-craft-open-art-studio-marinette/2025-05-08/
LOCATION:Marinette Recreation Center\, 2501 Pierce Avenue\, Marinette\, WI\, 54143\, United States
CATEGORIES:Menominee
END:VEVENT
BEGIN:VEVENT
DTSTART;TZID=UTC:20250508T180000
DTEND;TZID=UTC:20250508T210000
DTSTAMP:20260422T113112
CREATED:20241001T040448Z
LAST-MODIFIED:20241001T040448Z
UID:10001885-1746727200-1746738000@upbarreview.com
SUMMARY:Spirit House -Trivia Night! - Menominee
DESCRIPTION:Trivia Night Thursday at Spirit House\, come check out this awesome event!!!!
URL:https://upbarreview.com/event/spirit-house-trivia-night-menominee/2025-05-08/
LOCATION:Spirit House\, 533 10th Ave\, Menominee\, MI 49858\, Menominee\, MI\, 49858\, United States
CATEGORIES:Menominee
END:VEVENT
BEGIN:VEVENT
DTSTART;TZID=UTC:20250508T190000
DTEND;TZID=UTC:20250508T213000
DTSTAMP:20260422T113112
CREATED:20250402T203708Z
LAST-MODIFIED:20250402T203708Z
UID:10003206-1746730800-1746739800@upbarreview.com
SUMMARY:Bayshore Arts Center - Davey & The Midnights - Marinette
DESCRIPTION:Join us for the second FREE concert of our BAC concert series. This time\, we are joined by Davey & the Midnights.\nEmbers 1871 will be on site to provide drinks and concessions.\nDavey Allen is a versatile songwriter\, musician and artist. His work is deeply rooted in the vast American songbook. Allen has played music professionally for the past 20 years\, the last 6 with Davey and The Midnights. The band formed on the west-side of Los Angeles\, California in 2017. The group immediately set out to establish themselves as one of the hardest working Americana bands in Southern California. They’ve toured up and down the Western US coast\, the deserts of the Southwest\, the Rocky Mountains\, the cornfields of the Midwest and through the musical heartland of the US South. Since 2021\, the band has called Indianapolis\, Indiana home.\nDavey and the Midnights have shared the stage with acts such as Kelsey Waldon\, Dale Watson\, Jesse Daniel\, Nikki Lane\, TK and the Holy Know-Nothings\, the Cordovas\, Cristina Vane\, Chris Pierce\, Rob Leines and Izaak Opatz. Their emotionally charged\, high energy performances are not to be missed. Davey has also toured extensively as a solo artist and as keyboardist for rock hall of famer Eric Burdon. In addition\, he has toured as a member of the San Francisco rock band The Stone Foxes. Davey is an advocate of many social causes and has previously donated a portion of his album sales to the Dolores Huerta Foundation and the Citizen Potawatomi Nation Cultural Center. Free Admission
URL:https://upbarreview.com/event/bayshore-arts-center-davey-the-midnights-marinette/
LOCATION:Bayshore Arts Center\, 750 W Bay Shore St\, Marinette\, WI\, 54143
CATEGORIES:Menominee
END:VEVENT
END:VCALENDAR