BEGIN:VCALENDAR
VERSION:2.0
PRODID:-//UP BAR REVIEW - ECPv6.14.2//NONSGML v1.0//EN
CALSCALE:GREGORIAN
METHOD:PUBLISH
X-WR-CALNAME:UP BAR REVIEW
X-ORIGINAL-URL:https://upbarreview.com
X-WR-CALDESC:Events for UP BAR REVIEW
REFRESH-INTERVAL;VALUE=DURATION:PT1H
X-Robots-Tag:noindex
X-PUBLISHED-TTL:PT1H
BEGIN:VTIMEZONE
TZID:UTC
BEGIN:STANDARD
TZOFFSETFROM:+0000
TZOFFSETTO:+0000
TZNAME:UTC
DTSTART:20240101T000000
END:STANDARD
END:VTIMEZONE
BEGIN:VEVENT
DTSTART;TZID=UTC:20241231T080000
DTEND;TZID=UTC:20241231T090000
DTSTAMP:20260420T111435
CREATED:20241203T003336Z
LAST-MODIFIED:20241203T003336Z
UID:10002614-1735632000-1735635600@upbarreview.com
SUMMARY:NSRCC - Cardio & Strength - Pembine
DESCRIPTION:Join us for a cardio-based workout to start the day off strong! This 45-minute class will help keep you “healthy for life.” Contact your trainer\, Brenda Rosenstiel for more information: (920) 327-9981 or brosenstiel@nsrccwi.com\nWe hope to see you there!
URL:https://upbarreview.com/event/nsrcc-cardio-strength-pembine/2024-12-31/
LOCATION:NSRCC\, 17112 US-141\, Pembine\, WI\, 54156
CATEGORIES:Menominee
END:VEVENT
BEGIN:VEVENT
DTSTART;TZID=UTC:20241231T100000
DTEND;TZID=UTC:20241231T120000
DTSTAMP:20260420T111435
CREATED:20241203T015216Z
LAST-MODIFIED:20241203T015216Z
UID:10002689-1735639200-1735646400@upbarreview.com
SUMMARY:Escanaba Public Library - Tech Tuesday Tech Help - Escanaba
DESCRIPTION:Need help printing from your phone? Setting up Libby on your personal device? Using Zoom?\nHow about getting started on your Chromebook or iPad? Using a Wi-Fi hotspot? Creating an email address? Google searches? or how to use the library’s online catalog?\nWe have the answers and assistance you need! Make an appointment or stop in at the circulation desk. Appointments are one hour (maximum).\nThe Escanaba Public Library staff do not repair computers/devices. The library assumes no liability for personal patron devices.
URL:https://upbarreview.com/event/escanaba-public-library-tech-tuesday-tech-help-escanaba/2024-12-31/
LOCATION:Escanaba Public Library\, 400 Ludington St\, Escanaba\, WI\, 49829
CATEGORIES:Menominee
END:VEVENT
BEGIN:VEVENT
DTSTART;TZID=UTC:20241231T170000
DTEND;TZID=UTC:20241231T200000
DTSTAMP:20260420T111435
CREATED:20241029T131610Z
LAST-MODIFIED:20241029T131610Z
UID:10002161-1735664400-1735675200@upbarreview.com
SUMMARY:Biehl Bridges to Recovery - All Recovery Meeting - Marinette
DESCRIPTION:This is a meeting for anyone in recovery to talk about Recovery!
URL:https://upbarreview.com/event/biehl-bridges-to-recovery-all-recovery-meeting-marinette/2024-12-31/
LOCATION:Biehl Bridge To Recovery\, 3123 Shore Dr\, Marinette\, WI\, 54143
CATEGORIES:Menominee
END:VEVENT
BEGIN:VEVENT
DTSTART;TZID=UTC:20241231T180000
DTEND;TZID=UTC:20241231T200000
DTSTAMP:20260420T111435
CREATED:20241203T014422Z
LAST-MODIFIED:20241203T014512Z
UID:10002679-1735668000-1735675200@upbarreview.com
SUMMARY:Mo's Pub -Trivia - Escanaba
DESCRIPTION:Join us every Tuesday night at 7pm for our Trivia nights!!! Teams of up to 8 people can play. There are 7 rounds\, 5 of which are questions one roun of music and a picture round. Food and drink specials are available!!!! 1st place get $50\, 2nd Place gets $25 3rd place gets $15 4th and 5th and last place get free app coupon. Looking forward to seeing you!!!!
URL:https://upbarreview.com/event/mos-pub-trivia-escanaba/2024-12-31/
LOCATION:Mo’s Pub\, 2116 Ludington St\, Escanaba\, MI\, 49829
CATEGORIES:Menominee
END:VEVENT
BEGIN:VEVENT
DTSTART;TZID=UTC:20241231T190000
DTEND;TZID=UTC:20241231T233000
DTSTAMP:20260420T111435
CREATED:20241202T195605Z
LAST-MODIFIED:20241202T195605Z
UID:10002458-1735671600-1735687800@upbarreview.com
SUMMARY:Riverside Country Club - Josh White New Years Eve - Menominee
DESCRIPTION:Get dressed up in your finest black tie attire and ring in the new year with style! Enjoy exquisite dinner features\, live music from 7-11pm\, photobooth\, champagne toast\, and dance the night away with our DJ from 11pm-12:30AM!\n**If you choose to have dinner with us reservations are required! Seating is available from 4:30pm-9pm**\nCall 906-290-3777 for reservations\n*There will be a $10 cover charge. Cover charge is waived if you are dining with us.*\nMore about the music:Josh White is an American singer/songwriter\, multi-instrumentalist\, and music producer born and raised in Louisiana but now calls Duluth\, MN home. He’s been singing since probably before he was born but he officially wrote his first a Capella song at just 8 years old\, started playing the drums at 10 and got his first guitar at the age of 15.\nAs the front man for the Duluth rock group “Malec”\, Josh spent 7 years singing rock/metal music before he later formed Brown & White\, an alt country trio and The Josh White Ban. Today\, his solo performances are his main project.\nHis range of music spans from Garth Brooks to\, Kenny Wayne Shepard to Alice in Chains and Nirvana. As a solo artist with the ability to sing songs from a variety of genres; he performs the music that the audience in front of him wants to hear.\nhttps://www.facebook.com/joshwhitemusician/
URL:https://upbarreview.com/event/riverside-country-club-josh-white-new-years-eve-menominee/
LOCATION:Riverside Country Club\, 3459 14th Ave\, Menominee\, MI\, 49585
CATEGORIES:Menominee
END:VEVENT
BEGIN:VEVENT
DTSTART;TZID=UTC:20241231T190000
DTEND;TZID=UTC:20241231T233000
DTSTAMP:20260420T111435
CREATED:20241203T005831Z
LAST-MODIFIED:20241203T005831Z
UID:10002631-1735671600-1735687800@upbarreview.com
SUMMARY:Embers 1871 - New Years Eve - Peshtigo
DESCRIPTION:New Year’s Eve at Embers 1871Featuring Neon Detour & The StehlemanTuesday\, December 31\, 2024Doors open at 7:00 pmShow starts 8:00pmFront Row Tickets $20General Tickets $15https://events.eventgroove.com/…/New-Years-Eve-At…$20.00 at the DoorTickets Non-Refundable\nChampagne Toast at MidnightSnacksParty Favors
URL:https://upbarreview.com/event/embers-1871-new-years-eve-peshtigo/
LOCATION:Embers 1871\, W3529 Co Rd B\, Peshtigo\, WI\, 54157\, United States
CATEGORIES:Menominee
END:VEVENT
BEGIN:VEVENT
DTSTART;TZID=UTC:20241231T200000
DTEND;TZID=UTC:20241231T233000
DTSTAMP:20260420T111435
CREATED:20241202T204729Z
LAST-MODIFIED:20241202T204729Z
UID:10002498-1735675200-1735687800@upbarreview.com
SUMMARY:AliBi's - New Years Eve - Marinette
DESCRIPTION:Featuring Michael Prusinsky on Vocals & Saxophones playing a variety of genres 8-12 and then providing DJ services 12-2am!Champagne will be flowing at midnight and free pizza courtesy of Dustin Downs at 12:30!Let’s have a BLAST together!!
URL:https://upbarreview.com/event/alibis-new-years-eve-marinette/
LOCATION:ALiBi Bar & Grill\, 829 Main St\, Marinette\, WI\, 54143\, United States
CATEGORIES:Menominee
END:VEVENT
BEGIN:VEVENT
DTSTART;TZID=UTC:20241231T203000
DTEND;TZID=UTC:20241231T233000
DTSTAMP:20260420T111435
CREATED:20241203T001931Z
LAST-MODIFIED:20241203T001931Z
UID:10002596-1735677000-1735687800@upbarreview.com
SUMMARY:Country Roads Bar & Grill - New Years Eve w/ Victorious - Wausaukee
DESCRIPTION:Say goodbye to 2024 with music by Victorious! Ring in 2025 with your friends at Country Roads Bar and Grill!
URL:https://upbarreview.com/event/country-roads-bar-grill-new-years-eve-w-victorious-wausaukee/
LOCATION:Country Roads Bar & Grill\, W8901 Co Rd C\, Wausaukee\, WI
CATEGORIES:Menominee
END:VEVENT
END:VCALENDAR