BEGIN:VCALENDAR
VERSION:2.0
PRODID:-//UP BAR REVIEW - ECPv6.14.2//NONSGML v1.0//EN
CALSCALE:GREGORIAN
METHOD:PUBLISH
X-ORIGINAL-URL:https://upbarreview.com
X-WR-CALDESC:Events for UP BAR REVIEW
REFRESH-INTERVAL;VALUE=DURATION:PT1H
X-Robots-Tag:noindex
X-PUBLISHED-TTL:PT1H
BEGIN:VTIMEZONE
TZID:UTC
BEGIN:STANDARD
TZOFFSETFROM:+0000
TZOFFSETTO:+0000
TZNAME:UTC
DTSTART:20240101T000000
END:STANDARD
END:VTIMEZONE
BEGIN:VEVENT
DTSTART;TZID=UTC:20241224T080000
DTEND;TZID=UTC:20241224T090000
DTSTAMP:20260420T125828
CREATED:20241203T003336Z
LAST-MODIFIED:20241203T003336Z
UID:10002612-1735027200-1735030800@upbarreview.com
SUMMARY:NSRCC - Cardio & Strength - Pembine
DESCRIPTION:Join us for a cardio-based workout to start the day off strong! This 45-minute class will help keep you “healthy for life.” Contact your trainer\, Brenda Rosenstiel for more information: (920) 327-9981 or brosenstiel@nsrccwi.com\nWe hope to see you there!
URL:https://upbarreview.com/event/nsrcc-cardio-strength-pembine/2024-12-24/
LOCATION:NSRCC\, 17112 US-141\, Pembine\, WI\, 54156
CATEGORIES:Menominee
END:VEVENT
BEGIN:VEVENT
DTSTART;TZID=UTC:20241224T100000
DTEND;TZID=UTC:20241224T120000
DTSTAMP:20260420T125828
CREATED:20241203T015216Z
LAST-MODIFIED:20241203T015216Z
UID:10002688-1735034400-1735041600@upbarreview.com
SUMMARY:Escanaba Public Library - Tech Tuesday Tech Help - Escanaba
DESCRIPTION:Need help printing from your phone? Setting up Libby on your personal device? Using Zoom?\nHow about getting started on your Chromebook or iPad? Using a Wi-Fi hotspot? Creating an email address? Google searches? or how to use the library’s online catalog?\nWe have the answers and assistance you need! Make an appointment or stop in at the circulation desk. Appointments are one hour (maximum).\nThe Escanaba Public Library staff do not repair computers/devices. The library assumes no liability for personal patron devices.
URL:https://upbarreview.com/event/escanaba-public-library-tech-tuesday-tech-help-escanaba/2024-12-24/
LOCATION:Escanaba Public Library\, 400 Ludington St\, Escanaba\, WI\, 49829
CATEGORIES:Menominee
END:VEVENT
BEGIN:VEVENT
DTSTART;TZID=UTC:20241224T160000
DTEND;TZID=UTC:20241224T180000
DTSTAMP:20260420T125828
CREATED:20241203T020245Z
LAST-MODIFIED:20241203T020245Z
UID:10002697-1735056000-1735063200@upbarreview.com
SUMMARY:Oconto Gospel Chapel - Christmas Eve Service - Oconto
DESCRIPTION:The True Christmas Message through Music and Scripture. Bring your family and friends to a special service to remember the birth of our Savior\, Jesus. What a moving night it will be.
URL:https://upbarreview.com/event/oconto-gospel-chapel-christmas-eve-service-oconto/
LOCATION:Oconto Gospel Chapel\, 251 Michigan Ave\, Oconto
CATEGORIES:Menominee
END:VEVENT
BEGIN:VEVENT
DTSTART;TZID=UTC:20241224T170000
DTEND;TZID=UTC:20241224T200000
DTSTAMP:20260420T125828
CREATED:20241029T131610Z
LAST-MODIFIED:20241029T131610Z
UID:10002160-1735059600-1735070400@upbarreview.com
SUMMARY:Biehl Bridges to Recovery - All Recovery Meeting - Marinette
DESCRIPTION:This is a meeting for anyone in recovery to talk about Recovery!
URL:https://upbarreview.com/event/biehl-bridges-to-recovery-all-recovery-meeting-marinette/2024-12-24/
LOCATION:Biehl Bridge To Recovery\, 3123 Shore Dr\, Marinette\, WI\, 54143
CATEGORIES:Menominee
END:VEVENT
BEGIN:VEVENT
DTSTART;TZID=UTC:20241224T180000
DTEND;TZID=UTC:20241224T200000
DTSTAMP:20260420T125828
CREATED:20241202T211840Z
LAST-MODIFIED:20241202T211840Z
UID:10002518-1735063200-1735070400@upbarreview.com
SUMMARY:Calvary Church - Christmas Eve Candlelight and Communion - Marinette
DESCRIPTION:Join us for a special 30-minute candlelight and communion service that will add to your family’s Christmas traditions.
URL:https://upbarreview.com/event/calvary-church-christmas-eve-candlelight-and-communion-marinette/
LOCATION:Calvary Church\, W1498 State Highway 64\, Marinette\, WI
CATEGORIES:Menominee
END:VEVENT
BEGIN:VEVENT
DTSTART;TZID=UTC:20241224T180000
DTEND;TZID=UTC:20241224T200000
DTSTAMP:20260420T125828
CREATED:20241203T014422Z
LAST-MODIFIED:20241203T014512Z
UID:10002678-1735063200-1735070400@upbarreview.com
SUMMARY:Mo's Pub -Trivia - Escanaba
DESCRIPTION:Join us every Tuesday night at 7pm for our Trivia nights!!! Teams of up to 8 people can play. There are 7 rounds\, 5 of which are questions one roun of music and a picture round. Food and drink specials are available!!!! 1st place get $50\, 2nd Place gets $25 3rd place gets $15 4th and 5th and last place get free app coupon. Looking forward to seeing you!!!!
URL:https://upbarreview.com/event/mos-pub-trivia-escanaba/2024-12-24/
LOCATION:Mo’s Pub\, 2116 Ludington St\, Escanaba\, MI\, 49829
CATEGORIES:Menominee
END:VEVENT
END:VCALENDAR